{"text_format":"1","workbook":"xlsx","n_sheets":34,"sheets":["Auswertung","Auslosung Verteilung","Die Besten","Tagesliste","Spiel_Team","Teamwahl","Spielauswahl","Grafikauswertung","Auswertung AoE II","Auswertung AoE III","Auswertung AoM","Auswertung RA","Auswertung Yuri","Auswertung Generals","Spielreihenfolge","Bestenliste AoE II","Bestenliste AoE III","Bestenliste AoM","Bestenliste RA","Bestenliste Yuri","Bestenliste Generals","Abschusstagesliste","Wer-mit-Wem","Kartenauswahl Generals","Kartenauswahl Yuri","Kartenauswahl AoE II","Kartenauswahl AoM","Kartenauswahl RA","Kartenauswahl AoE III","Sort","TWahl","GSort","Modul Spiel-, Karten-Teamwahl","Spielwahl"],"not_rendered":{"charts":1,"images":2,"macros":1,"external_links":0,"defined_names":40,"comments":0,"pivot_tables":0},"unopened":[{"sheet":"Sort","index":29,"reason":"part_missing"},{"sheet":"TWahl","index":30,"reason":"part_missing"},{"sheet":"GSort","index":31,"reason":"part_missing"},{"sheet":"Modul Spiel-, Karten-Teamwahl","index":32,"reason":"part_missing"},{"sheet":"Spielwahl","index":33,"reason":"part_missing"}],"bounds":{"document_bytes":16777216,"sheet_cells":100000,"rows_first":2000,"rows_last":500,"rows_between":2000,"halvings":0,"cell_chars":16384,"cell_head_chars":4096},"cells_cut":0,"cells_raw":0,"read":"whole","date_system":"1900"}

{"sheet":"Auswertung","index":0,"n_rows":51,"n_cols":30,"rows_kept":51,"cut":false,"hidden":false,"merged":[]}
[]
[]
[]
[]
[]
[null,null,null,null,null,null,null,null,null,"The Wolf","Mike","Big Boss","Zorro",null,null,"AoE II",{"$f":"+AC6+AC18+AC30+AC42","v":70},null,null,null,null,null,null,"The Wolf","Mike","Big Boss","Zorro",null,19,"AoE II"]
[null,null,null,null,null,null,null,null,null,null,null,null,null,null,null,"RA",{"$f":"+AC11+AC23+AC35+AC47","v":69},null,null,null,null,null,null,null,null,null,null,null,16,"AoE III"]
[null,"The Wolf","Mike","Big Boss","Zorro",null,{"$f":"+COUNTIF('Auslosung Verteilung'!A1:A$300,\"AoE II\")","v":16},"AoE II",null,"mit Mike","mit The Wolf","mit The Wolf","mit The Wolf",null,null,"Generals",{"$f":"+AC9+AC21+AC33+AC45","v":68},null,null,null,null,null,null,"mit Mike","mit The Wolf","mit The Wolf","mit The Wolf",null,17,"AoM"]
[null,null,null,null,null,null,{"$f":"+COUNTIF('Auslosung Verteilung'!A1:A$300,\"AoE III\")","v":18},"AoE III",null,{"$f":"+X9+X21+X33+X45","v":136},{"$f":"+Y45","v":36},{"$f":"+Z9+Z21+Z33+Z45","v":133},{"$f":"+AA9+AA21+AA33+AA45","v":131},null,null,"AoE III",{"$f":"+AC7+AC19+AC31+AC43","v":67},null,null,null,null,null,null,33,33,30,37,null,16,"Generals"]
[null,"mit Mike","mit The Wolf","mit The Wolf","mit The Wolf",null,{"$f":"+COUNTIF('Auslosung Verteilung'!A1:A$300,\"AoM\")","v":16},"AoM",null,null,null,null,null,null,null,"AoM",{"$f":"+AC8+AC20+AC32+AC44","v":66},null,null,null,null,null,null,null,null,null,null,null,14,"Yuri"]
[null,{"$f":"SUMPRODUCT(--('Auslosung Verteilung'!B$1:B$300='Auslosung Verteilung'!C$1:C$300)*--('Auslosung Verteilung'!B$1:B$300=\"Team A\"))+SUMPRODUCT(--('Auslosung Verteilung'!B$1:B$300='Auslosung Verteilung'!C$1:C$300)*--('Auslosung Verteilung'!B$1:B$300=\"Team B\"))","v":36},{"$f":"+B$11","v":36},{"$f":"+B$14","v":35},{"$f":"+B$17","v":29},null,{"$f":"+COUNTIF('Auslosung Verteilung'!A1:A$300,\"Generals\")","v":19},"Generals",null,"mit Big Boss","mit Big Boss","mit Mike","mit Big Boss",null,null,"Yuri",{"$f":"+AC10+AC22+AC34+AC46","v":60},null,null,null,null,null,null,"mit Big Boss","mit Big Boss","mit Mike","mit Big Boss",null,18,"RA"]
[null,null,null,null,null,null,{"$f":"+COUNTIF('Auslosung Verteilung'!A1:A$300,\"Yuri\")","v":14},"Yuri",null,{"$f":"+X12+X24+X36+X48","v":133},{"$f":"+Y12+Y24+Y36+Y48","v":131},{"$f":"+Z12+Z24+Z36+Z48","v":131},{"$f":"+AA12+AA24+AA36+AA48","v":136},null,null,null,null,null,null,null,null,null,null,30,37,37,33]
[null,"mit Big Boss","mit Big Boss","mit Mike","mit Big Boss",null,{"$f":"+COUNTIF('Auslosung Verteilung'!A1:A$300,\"RA\")","v":17},"RA"]
[null,{"$f":"SUMPRODUCT(--('Auslosung Verteilung'!B$1:B$300='Auslosung Verteilung'!D$1:D$300)*--('Auslosung Verteilung'!B$1:B$300=\"Team A\"))+SUMPRODUCT(--('Auslosung Verteilung'!B$1:B$300='Auslosung Verteilung'!D$1:D$300)*--('Auslosung Verteilung'!B$1:B$300=\"Team B\"))","v":35},{"$f":"SUMPRODUCT(--('Auslosung Verteilung'!C$1:C$300='Auslosung Verteilung'!D$1:D$300)*--('Auslosung Verteilung'!C$1:C$300=\"Team A\"))+SUMPRODUCT(--('Auslosung Verteilung'!C$1:C$300='Auslosung Verteilung'!D$1:D$300)*--('Auslosung Verteilung'!C$1:C$300=\"Team B\"))","v":29},{"$f":"+C$14","v":29},{"$f":"+D$17","v":36},null,null,null,null,"mit Zorro","mit Zorro","mit Zorro","mit Mike",null,null,null,null,null,null,null,null,null,null,"mit Zorro","mit Zorro","mit Zorro","mit Mike"]
[null,null,null,null,null,null,null,null,null,{"$f":"+X15+X27+X39+X51","v":131},{"$f":"+Y15+Y27+Y39+Y51","v":133},{"$f":"+Z15+Z27+Z39+Z51","v":136},{"$f":"+AA15+AA27+AA39+AA51","v":133},null,null,null,null,null,null,null,null,null,null,37,30,33,30]
[null,"mit Zorro","mit Zorro","mit Zorro","mit Mike"]
[null,{"$f":"SUMPRODUCT(--('Auslosung Verteilung'!B$1:B$300='Auslosung Verteilung'!E$1:E$300)*--('Auslosung Verteilung'!B$1:B$300=\"Team A\"))+SUMPRODUCT(--('Auslosung Verteilung'!B$1:B$300='Auslosung Verteilung'!E$1:E$300)*--('Auslosung Verteilung'!B$1:B$300=\"Team B\"))","v":29},{"$f":"SUMPRODUCT(--('Auslosung Verteilung'!C$1:C$300='Auslosung Verteilung'!E$1:E$300)*--('Auslosung Verteilung'!C$1:C$300=\"Team A\"))+SUMPRODUCT(--('Auslosung Verteilung'!C$1:C$300='Auslosung Verteilung'!E$1:E$300)*--('Auslosung Verteilung'!C$1:C$300=\"Team B\"))","v":35},{"$f":"SUMPRODUCT(--('Auslosung Verteilung'!D$1:D$300='Auslosung Verteilung'!E$1:E$300)*--('Auslosung Verteilung'!D$1:D$300=\"Team A\"))+SUMPRODUCT(--('Auslosung Verteilung'!D$1:D$300='Auslosung Verteilung'!E$1:E$300)*--('Auslosung Verteilung'!D$1:D$300=\"Team B\"))","v":36},{"$f":"+C$17","v":35}]
[null,null,null,null,null,null,null,null,null,null,null,null,null,null,null,null,null,null,null,null,null,null,null,"The Wolf","Mike","Big Boss","Zorro",null,19,"AoE II"]
[null,null,null,null,null,null,null,null,null,null,null,null,null,null,null,null,null,null,null,null,null,null,null,null,null,null,null,null,15,"AoE III"]
[null,null,null,null,null,null,null,null,null,null,null,null,null,null,null,null,null,null,null,null,null,null,null,"mit Mike","mit The Wolf","mit The Wolf","mit The Wolf",null,17,"AoM"]
[null,null,null,null,null,null,null,null,null,null,null,null,null,null,null,null,null,null,null,null,null,null,null,31,31,33,36,null,14,"Generals"]
[null,null,null,null,null,null,null,null,null,null,null,null,null,null,null,null,null,null,null,null,null,null,null,null,null,null,null,null,18,"Yuri"]
[null,null,null,null,null,null,null,null,null,null,null,null,null,null,null,null,null,null,null,null,null,null,null,"mit Big Boss","mit Big Boss","mit Mike","mit Big Boss",null,17,"RA"]
[null,null,null,null,null,null,null,null,null,null,null,null,null,null,null,null,null,null,null,null,null,null,null,33,36,36,31]
[]
[null,null,null,null,null,null,null,null,null,null,null,null,null,null,null,null,null,null,null,null,null,null,null,"mit Zorro","mit Zorro","mit Zorro","mit Mike"]
[null,null,null,null,null,null,null,null,null,null,null,null,null,null,null,null,null,null,null,null,null,null,null,36,33,31,33]
[]
[]
[null,null,null,null,null,null,null,null,null,null,null,null,null,null,null,null,null,null,null,null,null,null,null,"The Wolf","Mike","Big Boss","Zorro",null,16,"AoE II"]
[null,null,null,null,null,null,null,null,null,null,null,null,null,null,null,null,null,null,null,null,null,null,null,null,null,null,null,null,18,"AoE III"]
[null,null,null,null,null,null,null,null,null,null,null,null,null,null,null,null,null,null,null,null,null,null,null,"mit Mike","mit The Wolf","mit The Wolf","mit The Wolf",null,16,"AoM"]
[null,null,null,null,null,null,null,null,null,null,null,null,null,null,null,null,null,null,null,null,null,null,null,36,36,35,29,null,19,"Generals"]
[null,null,null,null,null,null,null,null,null,null,null,null,null,null,null,null,null,null,null,null,null,null,null,null,null,null,null,null,14,"Yuri"]
[null,null,null,null,null,null,null,null,null,null,null,null,null,null,null,null,null,null,null,null,null,null,null,"mit Big Boss","mit Big Boss","mit Mike","mit Big Boss",null,17,"RA"]
[null,null,null,null,null,null,null,null,null,null,null,null,null,null,null,null,null,null,null,null,null,null,null,35,29,29,36]
[]
[null,null,null,null,null,null,null,null,null,null,null,null,null,null,null,null,null,null,null,null,null,null,null,"mit Zorro","mit Zorro","mit Zorro","mit Mike"]
[null,null,null,null,null,null,null,null,null,null,null,null,null,null,null,null,null,null,null,null,null,null,null,29,35,36,35]
[]
[]
[null,null,null,null,null,null,null,null,null,null,null,null,null,null,null,null,null,null,null,null,null,null,null,"The Wolf","Mike","Big Boss","Zorro",null,16,"AoE II"]
[null,null,null,null,null,null,null,null,null,null,null,null,null,null,null,null,null,null,null,null,null,null,null,null,null,null,null,null,18,"AoE III"]
[null,null,null,null,null,null,null,null,null,null,null,null,null,null,null,null,null,null,null,null,null,null,null,"mit Mike","mit The Wolf","mit The Wolf","mit The Wolf",null,16,"AoM"]
[null,null,null,null,null,null,null,null,null,null,null,null,null,null,null,null,null,null,null,null,null,null,null,36,36,35,29,null,19,"Generals"]
[null,null,null,null,null,null,null,null,null,null,null,null,null,null,null,null,null,null,null,null,null,null,null,null,null,null,null,null,14,"Yuri"]
[null,null,null,null,null,null,null,null,null,null,null,null,null,null,null,null,null,null,null,null,null,null,null,"mit Big Boss","mit Big Boss","mit Mike","mit Big Boss",null,17,"RA"]
[null,null,null,null,null,null,null,null,null,null,null,null,null,null,null,null,null,null,null,null,null,null,null,35,29,29,36]
[]
[null,null,null,null,null,null,null,null,null,null,null,null,null,null,null,null,null,null,null,null,null,null,null,"mit Zorro","mit Zorro","mit Zorro","mit Mike"]
[null,null,null,null,null,null,null,null,null,null,null,null,null,null,null,null,null,null,null,null,null,null,null,29,35,36,35]

{"sheet":"Auslosung Verteilung","index":1,"n_rows":600,"n_cols":5,"rows_kept":600,"cut":false,"hidden":false,"merged":[]}
["RA","The Wolf","Mike","Big Boss","Zorro"]
[null,"Team A","Team B","Team A","Team B"]
[null,"Allianz","Allianz","Allianz","Allianz"]
["AoE III","The Wolf","Mike","Big Boss","Zorro"]
[null,"Team B","Team A","Team B","Team A"]
[null,"Deutsche","Holländer ","Holländer ","Deutsche"]
["AoM","The Wolf","Mike","Big Boss","Zorro"]
[null,"Team A","Team A","Team B","Team B"]
[null,"Wikinger: Loki","Wikinger: Odin","Wikinger: Loki","Wikinger: Odin"]
["Generals","The Wolf","Mike","Big Boss","Zorro"]
[null,"Team A","Team B","Team A","Team B"]
[null,"AP","AP","AP","AP"]
["RA","The Wolf","Mike","Big Boss","Zorro"]
[null,"Team B","Team B","Team A","Team A"]
[null,"Soviets","Soviets","Soviets","Soviets"]
["Yuri","The Wolf","Mike","Big Boss","Zorro"]
[null,"Team A","Team B","Team A","Team B"]
[null,"Amerika","Amerika","Korea","Korea"]
["AoE II","The Wolf","Mike","Big Boss","Zorro"]
[null,"Team A","Team B","Team B","Team A"]
[null,"Slawen","Goten","Slawen","Goten"]
["Generals","The Wolf","Mike","Big Boss","Zorro"]
[null,"Team A","Team A","Team B","Team B"]
[null,"AP","AP","AP","AP"]
["AoM","The Wolf","Mike","Big Boss","Zorro"]
[null,"Team A","Team A","Team B","Team B"]
[null,"Wikinger: Loki","Griechen: Poseidon","Wikinger: Loki","Griechen: Poseidon"]
["Yuri","The Wolf","Mike","Big Boss","Zorro"]
[null,"Team B","Team A","Team A","Team B"]
[null,"Korea","Korea","Irak","Irak"]
["AoE III","The Wolf","Mike","Big Boss","Zorro"]
[null,"Team B","Team A","Team A","Team B"]
[null,"Osmanen","Osmanen","Deutsche","Deutsche"]
["AoE II","The Wolf","Mike","Big Boss","Zorro"]
[null,"Team A","Team B","Team B","Team A"]
[null,"Hunnen","Kelten","Hunnen","Kelten"]
["RA","The Wolf","Mike","Big Boss","Zorro"]
[null,"Team A","Team A","Team B","Team B"]
[null,"Soviets","Soviets","Soviets","Soviets"]
["Generals","The Wolf","Mike","Big Boss","Zorro"]
[null,"Team B","Team A","Team B","Team A"]
[null,"IBG","IBG","WA","WA"]
["AoE III","The Wolf","Mike","Big Boss","Zorro"]
[null,"Team A","Team A","Team B","Team B"]
[null,"Holländer ","Briten","Briten","Holländer "]
["AoM","The Wolf","Mike","Big Boss","Zorro"]
[null,"Team B","Team A","Team A","Team B"]
[null,"Ägypter: Isis","Ägypter: Isis","Ägypter: Re","Ägypter: Re"]
["Yuri","The Wolf","Mike","Big Boss","Zorro"]
[null,"Team A","Team B","Team A","Team B"]
[null,"Great Britain","Great Britain","Lybien","Lybien"]
["Generals","The Wolf","Mike","Big Boss","Zorro"]
[null,"Team B","Team B","Team A","Team A"]
[null,"IBG","AP","AP","IBG"]
["AoE III","The Wolf","Mike","Big Boss","Zorro"]
[null,"Team B","Team A","Team B","Team A"]
[null,"Irokesen","Sioux","Sioux","Irokesen"]
["RA","The Wolf","Mike","Big Boss","Zorro"]
[null,"Team B","Team B","Team A","Team A"]
[null,"Soviets","Soviets","Soviets","Soviets"]
["AoM","The Wolf","Mike","Big Boss","Zorro"]
[null,"Team A","Team B","Team A","Team B"]
[null,"Ägypter: Re","Wikinger: Odin","Wikinger: Odin","Ägypter: Re"]
["Generals","The Wolf","Mike","Big Boss","Zorro"]
[null,"Team B","Team B","Team A","Team A"]
[null,"AP","WA","AP","WA"]
["AoE II","The Wolf","Mike","Big Boss","Zorro"]
[null,"Team A","Team A","Team B","Team B"]
[null,"Hindustanis","Azteken","Azteken","Hindustanis"]
["AoE III","The Wolf","Mike","Big Boss","Zorro"]
[null,"Team B","Team B","Team A","Team A"]
[null,"Sioux","Osmanen","Osmanen","Sioux"]
["RA","The Wolf","Mike","Big Boss","Zorro"]
[null,"Team A","Team B","Team B","Team A"]
[null,"Allianz","Allianz","Soviets","Soviets"]
["Generals","The Wolf","Mike","Big Boss","Zorro"]
[null,"Team A","Team A","Team B","Team B"]
[null,"IBG","IBG","IBG","IBG"]
["AoM","The Wolf","Mike","Big Boss","Zorro"]
[null,"Team B","Team B","Team A","Team A"]
[null,"Wikinger: Loki","Ägypter: Seth","Wikinger: Loki","Ägypter: Seth"]
["AoE III","The Wolf","Mike","Big Boss","Zorro"]
[null,"Team A","Team A","Team B","Team B"]
[null,"China","Briten","China","Briten"]
["AoE II","The Wolf","Mike","Big Boss","Zorro"]
[null,"Team A","Team B","Team A","Team B"]
[null,"Burmese","Burmese","Chinesen","Chinesen"]
["Yuri","The Wolf","Mike","Big Boss","Zorro"]
[null,"Team A","Team A","Team B","Team B"]
[null,"Yuri","Great Britain","Yuri","Great Britain"]
["RA","The Wolf","Mike","Big Boss","Zorro"]
[null,"Team A","Team B","Team A","Team B"]
[null,"Soviets","Allianz","Allianz","Soviets"]
["AoM","The Wolf","Mike","Big Boss","Zorro"]
[null,"Team A","Team A","Team B","Team B"]
[null,"Ägypter: Seth","Wikinger: Loki","Ägypter: Seth","Wikinger: Loki"]
["AoE II","The Wolf","Mike","Big Boss","Zorro"]
[null,"Team A","Team A","Team B","Team B"]
[null,"Türken","Kelten","Türken","Kelten"]
["Yuri","The Wolf","Mike","Big Boss","Zorro"]
[null,"Team A","Team A","Team B","Team B"]
[null,"Amerika","Deutschland","Amerika","Deutschland"]
["AoE III","The Wolf","Mike","Big Boss","Zorro"]
[null,"Team B","Team B","Team A","Team A"]
[null,"Franzosen","Holländer ","Holländer ","Franzosen"]
["Generals","The Wolf","Mike","Big Boss","Zorro"]
[null,"Team B","Team A","Team B","Team A"]
[null,"IBG","WA","WA","IBG"]
["AoE II","The Wolf","Mike","Big Boss","Zorro"]
[null,"Team A","Team B","Team B","Team A"]
[null,"Japaner","Spanier","Japaner","Spanier"]
["RA","The Wolf","Mike","Big Boss","Zorro"]
[null,"Team A","Team B","Team B","Team A"]
[null,"Soviets","Soviets","Soviets","Soviets"]
["AoE III","The Wolf","Mike","Big Boss","Zorro"]
[null,"Team B","Team A","Team B","Team A"]
[null,"China","China","Osmanen","Osmanen"]
["Generals","The Wolf","Mike","Big Boss","Zorro"]
[null,"Team B","Team A","Team A","Team B"]
[null,"AP","AP","IBG","IBG"]
["Yuri","The Wolf","Mike","Big Boss","Zorro"]
[null,"Team B","Team A","Team B","Team A"]
[null,"Lybien","Russland","Russland","Lybien"]
["AoE II","The Wolf","Mike","Big Boss","Zorro"]
[null,"Team B","Team A","Team B","Team A"]
[null,"Burmese","Burmese","Kelten","Kelten"]
["RA","The Wolf","Mike","Big Boss","Zorro"]
[null,"Team A","Team B","Team B","Team A"]
[null,"Soviets","Soviets","Soviets","Soviets"]
["AoM","The Wolf","Mike","Big Boss","Zorro"]
[null,"Team B","Team B","Team A","Team A"]
[null,"Wikinger: Odin","Atlanter: Gaia","Atlanter: Gaia","Wikinger: Odin"]
["Generals","The Wolf","Mike","Big Boss","Zorro"]
[null,"Team B","Team A","Team A","Team B"]
[null,"WA","AP","WA","AP"]
["AoE II","The Wolf","Mike","Big Boss","Zorro"]
[null,"Team A","Team B","Team B","Team A"]
[null,"Malian","Teutonen","Malian","Teutonen"]
["AoE III","The Wolf","Mike","Big Boss","Zorro"]
[null,"Team A","Team A","Team B","Team B"]
[null,"Irokesen","Deutsche","Irokesen","Deutsche"]
["Yuri","The Wolf","Mike","Big Boss","Zorro"]
[null,"Team A","Team B","Team A","Team B"]
[null,"Lybien","Irak","Irak","Lybien"]
["AoM","The Wolf","Mike","Big Boss","Zorro"]
[null,"Team A","Team A","Team B","Team B"]
[null,"Atlanter: Kronos","Ägypter: Seth","Atlanter: Kronos","Ägypter: Seth"]
["Generals","The Wolf","Mike","Big Boss","Zorro"]
[null,"Team B","Team A","Team B","Team A"]
[null,"IBG","IBG","AP","AP"]
["RA","The Wolf","Mike","Big Boss","Zorro"]
[null,"Team B","Team A","Team B","Team A"]
[null,"Soviets","Soviets","Soviets","Soviets"]
["Yuri","The Wolf","Mike","Big Boss","Zorro"]
[null,"Team A","Team B","Team A","Team B"]
[null,"Great Britain","Lybien","Lybien","Great Britain"]
["AoM","The Wolf","Mike","Big Boss","Zorro"]
[null,"Team B","Team A","Team A","Team B"]
[null,"Ägypter: Isis","Griechen: Zeus","Ägypter: Isis","Griechen: Zeus"]
["Generals","The Wolf","Mike","Big Boss","Zorro"]
[null,"Team B","Team A","Team B","Team A"]
[null,"AP","AP","IBG","IBG"]
["AoE III","The Wolf","Mike","Big Boss","Zorro"]
[null,"Team A","Team B","Team A","Team B"]
[null,"Sioux","Sioux","Japan ","Japan "]
["RA","The Wolf","Mike","Big Boss","Zorro"]
[null,"Team A","Team A","Team B","Team B"]
[null,"Allianz","Allianz","Allianz","Allianz"]
["AoE II","The Wolf","Mike","Big Boss","Zorro"]
[null,"Team A","Team A","Team B","Team B"]
[null,"Vietnamesen","Inkas","Vietnamesen","Inkas"]
["Yuri","The Wolf","Mike","Big Boss","Zorro"]
[null,"Team B","Team B","Team A","Team A"]
[null,"Irak","Great Britain","Great Britain","Irak"]
["Generals","The Wolf","Mike","Big Boss","Zorro"]
[null,"Team A","Team A","Team B","Team B"]
[null,"IBG","AP","AP","IBG"]
["AoE III","The Wolf","Mike","Big Boss","Zorro"]
[null,"Team B","Team A","Team A","Team B"]
[null,"Irokesen","Irokesen","Briten","Briten"]
["AoM","The Wolf","Mike","Big Boss","Zorro"]
[null,"Team A","Team B","Team A","Team B"]
[null,"Wikinger: Loki","Wikinger: Loki","Griechen: Hades","Griechen: Hades"]
["RA","The Wolf","Mike","Big Boss","Zorro"]
[null,"Team B","Team A","Team A","Team B"]
[null,"Allianz","Allianz","Soviets","Soviets"]
["Generals","The Wolf","Mike","Big Boss","Zorro"]
[null,"Team B","Team A","Team B","Team A"]
[null,"AP","AP","IBG","IBG"]
["AoE II","The Wolf","Mike","Big Boss","Zorro"]
[null,"Team B","Team B","Team A","Team A"]
[null,"Vietnamesen","Koreaner","Vietnamesen","Koreaner"]
["AoM","The Wolf","Mike","Big Boss","Zorro"]
[null,"Team A","Team B","Team A","Team B"]
[null,"Ägypter: Re","Ägypter: Re","Ägypter: Isis","Ägypter: Isis"]
["RA","The Wolf","Mike","Big Boss","Zorro"]
[null,"Team A","Team B","Team A","Team B"]
[null,"Allianz","Allianz","Allianz","Allianz"]
["Generals","The Wolf","Mike","Big Boss","Zorro"]
[null,"Team B","Team B","Team A","Team A"]
[null,"IBG","WA","IBG","WA"]
["AoE II","The Wolf","Mike","Big Boss","Zorro"]
[null,"Team B","Team A","Team B","Team A"]
[null,"Japaner","Burmese","Burmese","Japaner"]
["Yuri","The Wolf","Mike","Big Boss","Zorro"]
[null,"Team A","Team B","Team B","Team A"]
[null,"Russland","Russland","Kuba","Kuba"]
["AoE III","The Wolf","Mike","Big Boss","Zorro"]
[null,"Team B","Team A","Team A","Team B"]
[null,"Sioux","Franzosen","Sioux","Franzosen"]
["RA","The Wolf","Mike","Big Boss","Zorro"]
[null,"Team A","Team B","Team B","Team A"]
[null,"Allianz","Allianz","Soviets","Soviets"]
["AoE II","The Wolf","Mike","Big Boss","Zorro"]
[null,"Team A","Team B","Team B","Team A"]
[null,"Franken","Hunnen","Franken","Hunnen"]
["AoM","The Wolf","Mike","Big Boss","Zorro"]
[null,"Team B","Team A","Team B","Team A"]
[null,"Griechen: Zeus","Griechen: Poseidon","Griechen: Poseidon","Griechen: Zeus"]
["AoE III","The Wolf","Mike","Big Boss","Zorro"]
[null,"Team B","Team A","Team A","Team B"]
[null,"Azteken","Azteken","Indien","Indien"]
["Generals","The Wolf","Mike","Big Boss","Zorro"]
[null,"Team A","Team B","Team B","Team A"]
[null,"AP","AP","AP","AP"]
["RA","The Wolf","Mike","Big Boss","Zorro"]
[null,"Team B","Team A","Team A","Team B"]
[null,"Allianz","Allianz","Soviets","Soviets"]
["Yuri","The Wolf","Mike","Big Boss","Zorro"]
[null,"Team B","Team A","Team B","Team A"]
[null,"Great Britain","Kuba","Kuba","Great Britain"]
["AoE III","The Wolf","Mike","Big Boss","Zorro"]
[null,"Team A","Team B","Team B","Team A"]
[null,"Briten","Sioux","Briten","Sioux"]
["Generals","The Wolf","Mike","Big Boss","Zorro"]
[null,"Team A","Team A","Team B","Team B"]
[null,"WA","AP","WA","AP"]
["AoE II","The Wolf","Mike","Big Boss","Zorro"]
[null,"Team B","Team A","Team A","Team B"]
[null,"Koreaner","Koreaner","Italiener","Italiener"]
["AoM","The Wolf","Mike","Big Boss","Zorro"]
[null,"Team A","Team B","Team A","Team B"]
[null,"Wikinger: Loki","Griechen: Poseidon","Griechen: Poseidon","Wikinger: Loki"]
["RA","The Wolf","Mike","Big Boss","Zorro"]
[null,"Team A","Team B","Team A","Team B"]
[null,"Soviets","Allianz","Allianz","Soviets"]
["AoE III","The Wolf","Mike","Big Boss","Zorro"]
[null,"Team B","Team A","Team B","Team A"]
[null,"Japan ","Holländer ","Holländer ","Japan "]
["AoE II","The Wolf","Mike","Big Boss","Zorro"]
[null,"Team A","Team A","Team B","Team B"]
[null,"Koreaner","Hindustanis","Hindustanis","Koreaner"]
["Yuri","The Wolf","Mike","Big Boss","Zorro"]
[null,"Team B","Team B","Team A","Team A"]
[null,"Irak","Yuri","Yuri","Irak"]
["Generals","The Wolf","Mike","Big Boss","Zorro"]
[null,"Team B","Team B","Team A","Team A"]
[null,"WA","IBG","WA","IBG"]
["AoM","The Wolf","Mike","Big Boss","Zorro"]
[null,"Team A","Team B","Team A","Team B"]
[null,"Ägypter: Seth","Ägypter: Seth","Ägypter: Re","Ägypter: Re"]
["RA","The Wolf","Mike","Big Boss","Zorro"]
[null,"Team B","Team A","Team A","Team B"]
[null,"Soviets","Soviets","Soviets","Soviets"]
["AoE III","The Wolf","Mike","Big Boss","Zorro"]
[null,"Team B","Team B","Team A","Team A"]
[null,"Indien","Irokesen","Irokesen","Indien"]
["AoE II","The Wolf","Mike","Big Boss","Zorro"]
[null,"Team A","Team B","Team A","Team B"]
[null,"Kelten","Perser","Perser","Kelten"]
["AoM","The Wolf","Mike","Big Boss","Zorro"]
[null,"Team A","Team A","Team B","Team B"]
[null,"Atlanter: Gaia","Ägypter: Isis","Atlanter: Gaia","Ägypter: Isis"]
["Generals","The Wolf","Mike","Big Boss","Zorro"]
[null,"Team A","Team B","Team A","Team B"]
[null,"WA","AP","AP","WA"]
["Yuri","The Wolf","Mike","Big Boss","Zorro"]
[null,"Team B","Team A","Team A","Team B"]
[null,"Kuba","Deutschland","Kuba","Deutschland"]
["AoE III","The Wolf","Mike","Big Boss","Zorro"]
[null,"Team A","Team B","Team B","Team A"]
[null,"Japan ","Japan ","Russen","Russen"]
["RA","The Wolf","Mike","Big Boss","Zorro"]
[null,"Team A","Team B","Team B","Team A"]
[null,"Allianz","Allianz","Allianz","Allianz"]
["AoE II","The Wolf","Mike","Big Boss","Zorro"]
[null,"Team B","Team A","Team A","Team B"]
[null,"Portugiesen","Portugiesen","Kelten","Kelten"]
["Yuri","The Wolf","Mike","Big Boss","Zorro"]
[null,"Team B","Team B","Team A","Team A"]
[null,"Lybien","Russland","Russland","Lybien"]
["AoM","The Wolf","Mike","Big Boss","Zorro"]
[null,"Team A","Team B","Team A","Team B"]
[null,"Wikinger: Loki","Ägypter: Seth","Ägypter: Seth","Wikinger: Loki"]
["AoE III","The Wolf","Mike","Big Boss","Zorro"]
[null,"Team A","Team A","Team B","Team B"]
[null,"Russen","Deutsche","Russen","Deutsche"]
["Generals","The Wolf","Mike","Big Boss","Zorro"]
[null,"Team A","Team B","Team A","Team B"]
[null,"WA","WA","AP","AP"]
["Yuri","The Wolf","Mike","Big Boss","Zorro"]
[null,"Team B","Team A","Team A","Team B"]
[null,"Russland","Irak","Russland","Irak"]
["AoE II","The Wolf","Mike","Big Boss","Zorro"]
[null,"Team B","Team B","Team A","Team A"]
[null,"Vietnamesen","Italiener","Italiener","Vietnamesen"]
["AoE III","The Wolf","Mike","Big Boss","Zorro"]
[null,"Team B","Team B","Team A","Team A"]
[null,"Irokesen","Japan ","Japan ","Irokesen"]
["AoM","The Wolf","Mike","Big Boss","Zorro"]
[null,"Team B","Team B","Team A","Team A"]
[null,"Griechen: Zeus","Ägypter: Re","Ägypter: Re","Griechen: Zeus"]
["Yuri","The Wolf","Mike","Big Boss","Zorro"]
[null,"Team B","Team A","Team A","Team B"]
[null,"Deutschland","Deutschland","Kuba","Kuba"]
["AoE II","The Wolf","Mike","Big Boss","Zorro"]
[null,"Team B","Team B","Team A","Team A"]
[null,"Goten","Teutonen","Teutonen","Goten"]
["Generals","The Wolf","Mike","Big Boss","Zorro"]
[null,"Team A","Team B","Team A","Team B"]
[null,"IBG","IBG","IBG","IBG"]
["AoE III","The Wolf","Mike","Big Boss","Zorro"]
[null,"Team B","Team A","Team A","Team B"]
[null,"Holländer ","Holländer ","Portugiesen","Portugiesen"]
["RA","The Wolf","Mike","Big Boss","Zorro"]
[null,"Team B","Team A","Team A","Team B"]
[null,"Soviets","Allianz","Soviets","Allianz"]
["AoM","The Wolf","Mike","Big Boss","Zorro"]
[null,"Team A","Team B","Team A","Team B"]
[null,"Griechen: Hades","Griechen: Hades","Ägypter: Re","Ägypter: Re"]
["Generals","The Wolf","Mike","Big Boss","Zorro"]
[null,"Team A","Team B","Team B","Team A"]
[null,"WA","IBG","WA","IBG"]
["Yuri","The Wolf","Mike","Big Boss","Zorro"]
[null,"Team A","Team B","Team B","Team A"]
[null,"Kuba","Kuba","Great Britain","Great Britain"]
["AoE III","The Wolf","Mike","Big Boss","Zorro"]
[null,"Team B","Team A","Team B","Team A"]
[null,"Deutsche","Deutsche","Briten","Briten"]
["AoM","The Wolf","Mike","Big Boss","Zorro"]
[null,"Team B","Team B","Team A","Team A"]
[null,"Atlanter: Gaia","Ägypter: Isis","Atlanter: Gaia","Ägypter: Isis"]
["Generals","The Wolf","Mike","Big Boss","Zorro"]
[null,"Team A","Team B","Team A","Team B"]
[null,"AP","AP","IBG","IBG"]
["AoE II","The Wolf","Mike","Big Boss","Zorro"]
[null,"Team A","Team B","Team A","Team B"]
[null,"Chinesen","Malian","Malian","Chinesen"]
["RA","The Wolf","Mike","Big Boss","Zorro"]
[null,"Team B","Team A","Team A","Team B"]
[null,"Allianz","Allianz","Allianz","Allianz"]
["Yuri","The Wolf","Mike","Big Boss","Zorro"]
[null,"Team A","Team B","Team B","Team A"]
[null,"Frankreich","Lybien","Frankreich","Lybien"]
["AoE III","The Wolf","Mike","Big Boss","Zorro"]
[null,"Team A","Team A","Team B","Team B"]
[null,"Spanier","Indien","Spanier","Indien"]
["Generals","The Wolf","Mike","Big Boss","Zorro"]
[null,"Team A","Team B","Team A","Team B"]
[null,"AP","WA","WA","AP"]
["AoM","The Wolf","Mike","Big Boss","Zorro"]
[null,"Team B","Team B","Team A","Team A"]
[null,"Griechen: Zeus","Ägypter: Seth","Griechen: Zeus","Ägypter: Seth"]
["Yuri","The Wolf","Mike","Big Boss","Zorro"]
[null,"Team B","Team A","Team B","Team A"]
[null,"Russland","Yuri","Yuri","Russland"]
["AoE II","The Wolf","Mike","Big Boss","Zorro"]
[null,"Team A","Team B","Team A","Team B"]
[null,"Portugiesen","Portugiesen","Spanier","Spanier"]
["RA","The Wolf","Mike","Big Boss","Zorro"]
[null,"Team A","Team B","Team B","Team A"]
[null,"Soviets","Soviets","Soviets","Soviets"]
["AoE III","The Wolf","Mike","Big Boss","Zorro"]
[null,"Team B","Team B","Team A","Team A"]
[null,"Briten","Spanier","Spanier","Briten"]
["AoM","The Wolf","Mike","Big Boss","Zorro"]
[null,"Team A","Team B","Team A","Team B"]
[null,"Wikinger: Odin","Wikinger: Odin","Griechen: Hades","Griechen: Hades"]
["Yuri","The Wolf","Mike","Big Boss","Zorro"]
[null,"Team A","Team B","Team B","Team A"]
[null,"Russland","Yuri","Russland","Yuri"]
["AoE II","The Wolf","Mike","Big Boss","Zorro"]
[null,"Team B","Team B","Team A","Team A"]
[null,"Slawen","Sarazenen","Sarazenen","Slawen"]
["Generals","The Wolf","Mike","Big Boss","Zorro"]
[null,"Team A","Team B","Team A","Team B"]
[null,"WA","AP","AP","WA"]
["AoE III","The Wolf","Mike","Big Boss","Zorro"]
[null,"Team B","Team B","Team A","Team A"]
[null,"Japan ","China","China","Japan "]
["AoM","The Wolf","Mike","Big Boss","Zorro"]
[null,"Team A","Team B","Team A","Team B"]
[null,"Ägypter: Isis","Griechen: Hades","Griechen: Hades","Ägypter: Isis"]
["Yuri","The Wolf","Mike","Big Boss","Zorro"]
[null,"Team B","Team B","Team A","Team A"]
[null,"Yuri","Amerika","Yuri","Amerika"]
["RA","The Wolf","Mike","Big Boss","Zorro"]
[null,"Team A","Team A","Team B","Team B"]
[null,"Soviets","Allianz","Soviets","Allianz"]
["Generals","The Wolf","Mike","Big Boss","Zorro"]
[null,"Team A","Team B","Team A","Team B"]
[null,"WA","IBG","IBG","WA"]
["AoE II","The Wolf","Mike","Big Boss","Zorro"]
[null,"Team B","Team B","Team A","Team A"]
[null,"Inkas","Chinesen","Inkas","Chinesen"]
["AoE III","The Wolf","Mike","Big Boss","Zorro"]
[null,"Team A","Team B","Team B","Team A"]
[null,"Deutsche","Deutsche","Holländer ","Holländer "]
["AoM","The Wolf","Mike","Big Boss","Zorro"]
[null,"Team A","Team A","Team B","Team B"]
[null,"Atlanter: Gaia","Griechen: Poseidon","Griechen: Poseidon","Atlanter: Gaia"]
["Yuri","The Wolf","Mike","Big Boss","Zorro"]
[null,"Team B","Team A","Team A","Team B"]
[null,"Kuba","Kuba","Yuri","Yuri"]
["RA","The Wolf","Mike","Big Boss","Zorro"]
[null,"Team B","Team A","Team B","Team A"]
[null,"Soviets","Allianz","Allianz","Soviets"]
["AoE III","The Wolf","Mike","Big Boss","Zorro"]
[null,"Team A","Team B","Team B","Team A"]
[null,"Sioux","Franzosen","Sioux","Franzosen"]
["Generals","The Wolf","Mike","Big Boss","Zorro"]
[null,"Team B","Team B","Team A","Team A"]
[null,"IBG","AP","IBG","AP"]
["AoE II","The Wolf","Mike","Big Boss","Zorro"]
[null,"Team B","Team A","Team A","Team B"]
[null,"Malian","Äthiopier","Malian","Äthiopier"]
["RA","The Wolf","Mike","Big Boss","Zorro"]
[null,"Team B","Team B","Team A","Team A"]
[null,"Allianz","Soviets","Soviets","Allianz"]
["Yuri","The Wolf","Mike","Big Boss","Zorro"]
[null,"Team A","Team A","Team B","Team B"]
[null,"Great Britain","Yuri","Great Britain","Yuri"]
["Generals","The Wolf","Mike","Big Boss","Zorro"]
[null,"Team A","Team A","Team B","Team B"]
[null,"WA","WA","WA","WA"]
["AoM","The Wolf","Mike","Big Boss","Zorro"]
[null,"Team A","Team B","Team B","Team A"]
[null,"Atlanter: Kronos","Griechen: Hades","Atlanter: Kronos","Griechen: Hades"]
["AoE III","The Wolf","Mike","Big Boss","Zorro"]
[null,"Team B","Team A","Team B","Team A"]
[null,"Indien","Japan ","Japan ","Indien"]
["Yuri","The Wolf","Mike","Big Boss","Zorro"]
[null,"Team B","Team A","Team B","Team A"]
[null,"Deutschland","Yuri","Yuri","Deutschland"]
["AoE II","The Wolf","Mike","Big Boss","Zorro"]
[null,"Team B","Team A","Team B","Team A"]
[null,"Berber","Berber","Mongolen","Mongolen"]
["Generals","The Wolf","Mike","Big Boss","Zorro"]
[null,"Team A","Team B","Team A","Team B"]
[null,"WA","WA","IBG","IBG"]
["AoM","The Wolf","Mike","Big Boss","Zorro"]
[null,"Team A","Team B","Team A","Team B"]
[null,"Wikinger: Thor","Wikinger: Thor","Ägypter: Seth","Ägypter: Seth"]
["Yuri","The Wolf","Mike","Big Boss","Zorro"]
[null,"Team A","Team A","Team B","Team B"]
[null,"Lybien","Kuba","Kuba","Lybien"]
["AoE III","The Wolf","Mike","Big Boss","Zorro"]
[null,"Team A","Team B","Team B","Team A"]
[null,"China","Indien","China","Indien"]
["RA","The Wolf","Mike","Big Boss","Zorro"]
[null,"Team B","Team B","Team A","Team A"]
[null,"Allianz","Soviets","Soviets","Allianz"]
["AoE II","The Wolf","Mike","Big Boss","Zorro"]
[null,"Team A","Team A","Team B","Team B"]
[null,"Mayans","Inkas","Inkas","Mayans"]
["Generals","The Wolf","Mike","Big Boss","Zorro"]
[null,"Team A","Team B","Team B","Team A"]
[null,"WA","AP","WA","AP"]
["AoE III","The Wolf","Mike","Big Boss","Zorro"]
[null,"Team B","Team B","Team A","Team A"]
[null,"Japan ","Portugiesen","Portugiesen","Japan "]
["AoM","The Wolf","Mike","Big Boss","Zorro"]
[null,"Team B","Team A","Team A","Team B"]
[null,"Griechen: Zeus","Griechen: Zeus","Wikinger: Odin","Wikinger: Odin"]
["AoE II","The Wolf","Mike","Big Boss","Zorro"]
[null,"Team B","Team A","Team B","Team A"]
[null,"Hunnen","Hunnen","Äthiopier","Äthiopier"]
["Generals","The Wolf","Mike","Big Boss","Zorro"]
[null,"Team B","Team A","Team A","Team B"]
[null,"WA","IBG","WA","IBG"]
["AoE III","The Wolf","Mike","Big Boss","Zorro"]
[null,"Team B","Team B","Team A","Team A"]
[null,"Indien","Holländer ","Indien","Holländer "]
["AoM","The Wolf","Mike","Big Boss","Zorro"]
[null,"Team B","Team A","Team A","Team B"]
[null,"Atlanter: Gaia","Ägypter: Seth","Atlanter: Gaia","Ägypter: Seth"]
["AoE II","The Wolf","Mike","Big Boss","Zorro"]
[null,"Team B","Team A","Team A","Team B"]
[null,"Malay","Malay","Vietnamesen","Vietnamesen"]
["RA","The Wolf","Mike","Big Boss","Zorro"]
[null,"Team A","Team B","Team A","Team B"]
[null,"Soviets","Soviets","Allianz","Allianz"]
["Yuri","The Wolf","Mike","Big Boss","Zorro"]
[null,"Team B","Team B","Team A","Team A"]
[null,"Frankreich","Lybien","Lybien","Frankreich"]
["AoE III","The Wolf","Mike","Big Boss","Zorro"]
[null,"Team B","Team B","Team A","Team A"]
[null,"Japan ","Spanier","Japan ","Spanier"]
["Generals","The Wolf","Mike","Big Boss","Zorro"]
[null,"Team A","Team A","Team B","Team B"]
[null,"WA","IBG","IBG","WA"]
["AoM","The Wolf","Mike","Big Boss","Zorro"]
[null,"Team B","Team B","Team A","Team A"]
[null,"Atlanter: Gaia","Wikinger: Odin","Atlanter: Gaia","Wikinger: Odin"]
["Yuri","The Wolf","Mike","Big Boss","Zorro"]
[null,"Team A","Team B","Team B","Team A"]
[null,"Deutschland","Deutschland","Irak","Irak"]
["AoE III","The Wolf","Mike","Big Boss","Zorro"]
[null,"Team A","Team A","Team B","Team B"]
[null,"Portugiesen","Indien","Portugiesen","Indien"]
["AoE II","The Wolf","Mike","Big Boss","Zorro"]
[null,"Team A","Team B","Team A","Team B"]
[null,"Äthiopier","Goten","Goten","Äthiopier"]
["Generals","The Wolf","Mike","Big Boss","Zorro"]
[null,"Team A","Team B","Team B","Team A"]
[null,"AP","AP","IBG","IBG"]
["AoM","The Wolf","Mike","Big Boss","Zorro"]
[null,"Team B","Team A","Team A","Team B"]
[null,"Ägypter: Re","Wikinger: Thor","Ägypter: Re","Wikinger: Thor"]
["AoE III","The Wolf","Mike","Big Boss","Zorro"]
[null,"Team B","Team A","Team B","Team A"]
[null,"Indien","Indien","Spanier","Spanier"]
["AoE II","The Wolf","Mike","Big Boss","Zorro"]
[null,"Team B","Team A","Team B","Team A"]
[null,"Azteken","Malian","Malian","Azteken"]
["RA","The Wolf","Mike","Big Boss","Zorro"]
[null,"Team B","Team B","Team A","Team A"]
[null,"Allianz","Allianz","Allianz","Allianz"]
["Generals","The Wolf","Mike","Big Boss","Zorro"]
[null,"Team B","Team A","Team B","Team A"]
[null,"IBG","IBG","IBG","IBG"]
["AoE III","The Wolf","Mike","Big Boss","Zorro"]
[null,"Team B","Team A","Team B","Team A"]
[null,"China","Spanier","Spanier","China"]
["AoM","The Wolf","Mike","Big Boss","Zorro"]
[null,"Team B","Team A","Team B","Team A"]
[null,"Atlanter: Gaia","Atlanter: Gaia","Ägypter: Seth","Ägypter: Seth"]
["AoE II","The Wolf","Mike","Big Boss","Zorro"]
[null,"Team A","Team B","Team A","Team B"]
[null,"Khmer","Mayans","Mayans","Khmer"]
["Generals","The Wolf","Mike","Big Boss","Zorro"]
[null,"Team A","Team B","Team A","Team B"]
[null,"WA","WA","AP","AP"]
["Yuri","The Wolf","Mike","Big Boss","Zorro"]
[null,"Team A","Team B","Team B","Team A"]
[null,"Kuba","Kuba","Russland","Russland"]
["RA","The Wolf","Mike","Big Boss","Zorro"]
[null,"Team B","Team A","Team B","Team A"]
[null,"Soviets","Soviets","Allianz","Allianz"]
["AoM","The Wolf","Mike","Big Boss","Zorro"]
[null,"Team A","Team A","Team B","Team B"]
[null,"Griechen: Poseidon","Griechen: Zeus","Griechen: Poseidon","Griechen: Zeus"]
["Generals","The Wolf","Mike","Big Boss","Zorro"]
[null,"Team B","Team B","Team A","Team A"]
[null,"AP","AP","AP","AP"]
["AoE III","The Wolf","Mike","Big Boss","Zorro"]
[null,"Team A","Team A","Team B","Team B"]
[null,"Briten","Indien","Indien","Briten"]
["RA","The Wolf","Mike","Big Boss","Zorro"]
[null,"Team B","Team B","Team A","Team A"]
[null,"Allianz","Allianz","Allianz","Allianz"]
["Yuri","The Wolf","Mike","Big Boss","Zorro"]
[null,"Team B","Team A","Team B","Team A"]
[null,"Irak","Deutschland","Deutschland","Irak"]
["Generals","The Wolf","Mike","Big Boss","Zorro"]
[null,"Team B","Team A","Team B","Team A"]
[null,"AP","AP","IBG","IBG"]
["AoM","The Wolf","Mike","Big Boss","Zorro"]
[null,"Team B","Team A","Team B","Team A"]
[null,"Atlanter: Gaia","Wikinger: Thor","Wikinger: Thor","Atlanter: Gaia"]
["RA","The Wolf","Mike","Big Boss","Zorro"]
[null,"Team A","Team B","Team B","Team A"]
[null,"Allianz","Allianz","Soviets","Soviets"]
["AoE II","The Wolf","Mike","Big Boss","Zorro"]
[null,"Team B","Team A","Team B","Team A"]
[null,"Hunnen","Chinesen","Chinesen","Hunnen"]
["Yuri","The Wolf","Mike","Big Boss","Zorro"]
[null,"Team A","Team B","Team B","Team A"]
[null,"Kuba","Kuba","Amerika","Amerika"]
["Generals","The Wolf","Mike","Big Boss","Zorro"]
[null,"Team B","Team B","Team A","Team A"]
[null,"IBG","WA","IBG","WA"]
["RA","The Wolf","Mike","Big Boss","Zorro"]
[null,"Team A","Team B","Team B","Team A"]
[null,"Allianz","Soviets","Allianz","Soviets"]
["AoE II","The Wolf","Mike","Big Boss","Zorro"]
[null,"Team B","Team B","Team A","Team A"]
[null,"Khmer","Malay","Malay","Khmer"]
["AoE III","The Wolf","Mike","Big Boss","Zorro"]
[null,"Team A","Team A","Team B","Team B"]
[null,"Russen","Spanier","Russen","Spanier"]
["Generals","The Wolf","Mike","Big Boss","Zorro"]
[null,"Team B","Team A","Team A","Team B"]
[null,"IBG","IBG","IBG","IBG"]
["RA","The Wolf","Mike","Big Boss","Zorro"]
[null,"Team B","Team B","Team A","Team A"]
[null,"Allianz","Allianz","Allianz","Allianz"]
["AoE II","The Wolf","Mike","Big Boss","Zorro"]
[null,"Team B","Team A","Team A","Team B"]
[null,"Vietnamesen","Vietnamesen","Berber","Berber"]

{"sheet":"Die Besten","index":2,"n_rows":50,"n_cols":11,"rows_kept":50,"cut":false,"hidden":false,"merged":[]}
[]
["C&C Generals  Yuri   Red Alert   AoM   AoE II FE   AoE III"]
["90. Pokal"]
[null,"Spiele","Abschüsse","   Ø   ","Siege","Nieder-lagen","Diff.","Spiel / Mittelw.","Wertung","Rang"]
["Mike",{"$f":"+COUNT('Auswertung AoE II'!$D$5:$D$105)+COUNT('Auswertung Yuri'!$D$5:$D$105)+COUNT('Auswertung RA'!$D$5:$D$105)+COUNT('Auswertung AoM'!$D$5:$D$105)+COUNT('Auswertung AoE III'!$D$5:$D$105)+COUNT('Auswertung Generals'!$D$5:$D$105)","v":37},{"$f":"+SUM('Auswertung AoE II'!$D$4:$D$105)+SUM('Auswertung Yuri'!$D$2:$D$103)+SUM('Auswertung AoE III'!$D$3:$D$103)+SUM('Auswertung AoM'!$D$3:$D$103)+SUM('Auswertung Generals'!$D$3:$D$103)+SUM('Auswertung RA'!$D$3:$D$103)","v":5276},{"$f":"+C5/IF((B5)<>0,B5,1)","v":142.59459459459458},{"$f":"+COUNTIF('Auswertung AoE II'!$R$5:$R$104,1)+COUNTIF('Auswertung Yuri'!$R$5:$R$104,1)+COUNTIF('Auswertung RA'!$R$5:$R$104,1)+COUNTIF('Auswertung AoM'!$R$5:$R$104,1)+COUNTIF('Auswertung AoE III'!$R$5:$R$104,1)+COUNTIF('Auswertung Generals'!$R$5:$R$104,1)","v":23},{"$f":"+COUNTIF('Auswertung AoE II'!$R$5:$R$104,-1)+COUNTIF('Auswertung Yuri'!$R$5:$R$104,-1)+COUNTIF('Auswertung RA'!$R$5:$R$104,-1)+COUNTIF('Auswertung AoM'!$R$5:$R$104,-1)+COUNTIF('Auswertung AoE III'!$R$5:$R$104,-1)+COUNTIF('Auswertung Generals'!$R$5:$R$104,-1)","v":14},{"$f":"+E5-F5","v":9},{"$f":"+B5*(HARMEAN(IF($B$5=0,1,$B$5),IF($B$6=0,1,$B$6),IF($B$7=0,1,$B$7),IF($B$8=0,1,$B$8),IF($B$9=0,1,$B$9),IF($B$10=0,1,$B$10)))/1000","v":1.3027260075093865},{"$f":"IF(B5=0,\"-\",IF(B5=0,0,ROUND(((E5/B5-F5/B5)*100+D5/10)*H5,3)))","v":50.264000000000003},{"$f":"IF(B5=0,\"ng\",RANK(I5,$I$5:$I$10))","v":1},{"$f":"IF(IF(ISERROR(VLOOKUP(A5,Tagesliste!$A$5:$G$10,7,))=TRUE,0,VLOOKUP(A5,Tagesliste!$A$5:$G$10,7,))>0,CONCATENATE(\"+\",IF(ISERROR(VLOOKUP(A5,Tagesliste!$A$5:$G$10,7,))=TRUE,0,VLOOKUP(A5,Tagesliste!$A$5:$G$10,7,))),IF(ISERROR(VLOOKUP(A5,Tagesliste!$A$5:$G$10,7,))=TRUE,0,VLOOKUP(A5,Tagesliste!$A$5:$G$10,7,)))","v":"+1"}]
["Big Boss",{"$f":"+COUNT('Auswertung AoE II'!$F$5:$F$105)+COUNT('Auswertung Yuri'!$F$5:$F$105)+COUNT('Auswertung RA'!$F$5:$F$105)+COUNT('Auswertung AoM'!$F$5:$F$105)+COUNT('Auswertung AoE III'!$F$5:$F$105)+COUNT('Auswertung Generals'!$F$5:$F$105)","v":36},{"$f":"+SUM('Auswertung AoE II'!$F$5:$F$105)+SUM('Auswertung Yuri'!$F$5:$F$103)+SUM('Auswertung AoE III'!$F$5:$F$103)+SUM('Auswertung AoM'!$F$5:$F$103)+SUM('Auswertung Generals'!$F$5:$F$103)+SUM('Auswertung RA'!$F$5:$F$103)","v":4567},{"$f":"+C6/IF((B6)<>0,B6,1)","v":126.86111111111111},{"$f":"+COUNTIF('Auswertung AoE II'!$T$5:$T$104,1)+COUNTIF('Auswertung Yuri'!$T$5:$T$104,1)+COUNTIF('Auswertung RA'!$T$5:$T$104,1)+COUNTIF('Auswertung AoM'!$T$5:$T$104,1)+COUNTIF('Auswertung AoE III'!$T$5:$T$104,1)+COUNTIF('Auswertung Generals'!$T$5:$T$104,1)","v":22},{"$f":"+COUNTIF('Auswertung AoE II'!$T$5:$T$104,-1)+COUNTIF('Auswertung Yuri'!$T$5:$T$104,-1)+COUNTIF('Auswertung RA'!$T$5:$T$104,-1)+COUNTIF('Auswertung AoM'!$T$5:$T$104,-1)+COUNTIF('Auswertung AoE III'!$T$5:$T$104,-1)+COUNTIF('Auswertung Generals'!$T$5:$T$104,-1)","v":14},{"$f":"+E6-F6","v":8},{"$f":"+B6*(HARMEAN(IF($B$5=0,1,$B$5),IF($B$6=0,1,$B$6),IF($B$7=0,1,$B$7),IF($B$8=0,1,$B$8),IF($B$9=0,1,$B$9),IF($B$10=0,1,$B$10)))/1000","v":1.2675171964956193},{"$f":"IF(B6=0,\"-\",IF(B6=0,0,ROUND(((E6/B6-F6/B6)*100+D6/10)*H6,3)))","v":44.247},{"$f":"IF(B6=0,\"ng\",RANK(I6,$I$5:$I$10))","v":2},{"$f":"IF(IF(ISERROR(VLOOKUP(A6,Tagesliste!$A$5:$G$10,7,))=TRUE,0,VLOOKUP(A6,Tagesliste!$A$5:$G$10,7,))>0,CONCATENATE(\"+\",IF(ISERROR(VLOOKUP(A6,Tagesliste!$A$5:$G$10,7,))=TRUE,0,VLOOKUP(A6,Tagesliste!$A$5:$G$10,7,))),IF(ISERROR(VLOOKUP(A6,Tagesliste!$A$5:$G$10,7,))=TRUE,0,VLOOKUP(A6,Tagesliste!$A$5:$G$10,7,)))","v":"+1"}]
["The Wolf",{"$f":"+COUNT('Auswertung AoE II'!$B$5:$B$105)+COUNT('Auswertung Yuri'!$B$5:$B$105)+COUNT('Auswertung RA'!$B$5:$B$105)+COUNT('Auswertung AoM'!$B$5:$B$105)+COUNT('Auswertung AoE III'!$B$5:$B$105)+COUNT('Auswertung Generals'!$B$5:$B$105)","v":37},{"$f":"+SUM('Auswertung AoE II'!$B$4:$B$105)+SUM('Auswertung Yuri'!$B$2:$B$103)+SUM('Auswertung AoE III'!$B$3:$B$103)+SUM('Auswertung AoM'!$B$3:$B$103)+SUM('Auswertung Generals'!$B$3:$B$103)+SUM('Auswertung RA'!$B$3:$B$103)","v":5232},{"$f":"+C7/IF((B7)<>0,B7,1)","v":141.40540540540542},{"$f":"+COUNTIF('Auswertung AoE II'!$P$5:$P$104,1)+COUNTIF('Auswertung Yuri'!$P$5:$P$104,1)+COUNTIF('Auswertung RA'!$P$5:$P$104,1)+COUNTIF('Auswertung AoM'!$P$5:$P$104,1)+COUNTIF('Auswertung AoE III'!$P$5:$P$104,1)+COUNTIF('Auswertung Generals'!$P$5:$P$104,1)","v":19},{"$f":"+COUNTIF('Auswertung AoE II'!$P$5:$P$104,-1)+COUNTIF('Auswertung Yuri'!$P$5:$P$104,-1)+COUNTIF('Auswertung RA'!$P$5:$P$104,-1)+COUNTIF('Auswertung AoM'!$P$5:$P$104,-1)+COUNTIF('Auswertung AoE III'!$P$5:$P$104,-1)+COUNTIF('Auswertung Generals'!$P$5:$P$104,-1)","v":18},{"$f":"+E7-F7","v":1},{"$f":"+B7*(HARMEAN(IF($B$5=0,1,$B$5),IF($B$6=0,1,$B$6),IF($B$7=0,1,$B$7),IF($B$8=0,1,$B$8),IF($B$9=0,1,$B$9),IF($B$10=0,1,$B$10)))/1000","v":1.3027260075093865},{"$f":"IF(B7=0,\"-\",IF(B7=0,0,ROUND(((E7/B7-F7/B7)*100+D7/10)*H7,3)))","v":21.942},{"$f":"IF(B7=0,\"ng\",RANK(I7,$I$5:$I$10))","v":3},{"$f":"IF(IF(ISERROR(VLOOKUP(A7,Tagesliste!$A$5:$G$10,7,))=TRUE,0,VLOOKUP(A7,Tagesliste!$A$5:$G$10,7,))>0,CONCATENATE(\"+\",IF(ISERROR(VLOOKUP(A7,Tagesliste!$A$5:$G$10,7,))=TRUE,0,VLOOKUP(A7,Tagesliste!$A$5:$G$10,7,))),IF(ISERROR(VLOOKUP(A7,Tagesliste!$A$5:$G$10,7,))=TRUE,0,VLOOKUP(A7,Tagesliste!$A$5:$G$10,7,)))","v":"+1"}]
["Groo",{"$f":"+COUNT('Auswertung AoE II'!$H$5:$H$105)+COUNT('Auswertung Yuri'!$H$5:$H$105)+COUNT('Auswertung RA'!$H$5:$H$105)+COUNT('Auswertung AoM'!$H$5:$H$105)+COUNT('Auswertung AoE III'!$H$5:$H$105)+COUNT('Auswertung Generals'!$H$5:$H$105)","v":37},{"$f":"+SUM('Auswertung AoE II'!$H$4:$H$105)+SUM('Auswertung Yuri'!$H$2:$H$103)+SUM('Auswertung AoE III'!$H$3:$H$103)+SUM('Auswertung AoM'!$H$3:$H$103)+SUM('Auswertung Generals'!$H$3:$H$103)+SUM('Auswertung RA'!$H$3:$H$103)","v":5587},{"$f":"+C8/IF((B8)<>0,B8,1)","v":151},{"$f":"+COUNTIF('Auswertung AoE II'!$V$5:$V$104,1)+COUNTIF('Auswertung Yuri'!$V$5:$V$104,1)+COUNTIF('Auswertung RA'!$V$5:$V$104,1)+COUNTIF('Auswertung AoM'!$V$5:$V$104,1)+COUNTIF('Auswertung AoE III'!$V$5:$V$104,1)+COUNTIF('Auswertung Generals'!$V$5:$V$104,1)","v":18},{"$f":"+COUNTIF('Auswertung AoE II'!$V$5:$V$104,-1)+COUNTIF('Auswertung Yuri'!$V$5:$V$104,-1)+COUNTIF('Auswertung RA'!$V$5:$V$104,-1)+COUNTIF('Auswertung AoM'!$V$5:$V$104,-1)+COUNTIF('Auswertung AoE III'!$V$5:$V$104,-1)+COUNTIF('Auswertung Generals'!$V$5:$V$104,-1)","v":19},{"$f":"+E8-F8","v":-1},{"$f":"+B8*(HARMEAN(IF($B$5=0,1,$B$5),IF($B$6=0,1,$B$6),IF($B$7=0,1,$B$7),IF($B$8=0,1,$B$8),IF($B$9=0,1,$B$9),IF($B$10=0,1,$B$10)))/1000","v":1.3027260075093865},{"$f":"IF(B8=0,\"-\",IF(B8=0,0,ROUND(((E8/B8-F8/B8)*100+D8/10)*H8,3)))","v":16.149999999999999},{"$f":"IF(B8=0,\"ng\",RANK(I8,$I$5:$I$10))","v":4},{"$f":"IF(IF(ISERROR(VLOOKUP(A8,Tagesliste!$A$5:$G$10,7,))=TRUE,0,VLOOKUP(A8,Tagesliste!$A$5:$G$10,7,))>0,CONCATENATE(\"+\",IF(ISERROR(VLOOKUP(A8,Tagesliste!$A$5:$G$10,7,))=TRUE,0,VLOOKUP(A8,Tagesliste!$A$5:$G$10,7,))),IF(ISERROR(VLOOKUP(A8,Tagesliste!$A$5:$G$10,7,))=TRUE,0,VLOOKUP(A8,Tagesliste!$A$5:$G$10,7,)))","v":"+3"}]
["Marc",{"$f":"+COUNT('Auswertung AoE II'!$L5:$L$105)+COUNT('Auswertung Yuri'!$L$5:$L$105)+COUNT('Auswertung RA'!$L$5:$L$105)+COUNT('Auswertung AoM'!$L$5:$L$105)+COUNT('Auswertung AoE III'!$L$5:$L$105)+COUNT('Auswertung Generals'!$L$5:$L$105)","v":32},{"$f":"+SUM('Auswertung AoE II'!$L$4:$L$105)+SUM('Auswertung Yuri'!$L$2:$L$103)+SUM('Auswertung AoE III'!$L$3:$L$103)+SUM('Auswertung AoM'!$L$3:$L$103)+SUM('Auswertung Generals'!$L$3:$L$103)+SUM('Auswertung RA'!$L$3:$L$103)","v":3591},{"$f":"+C9/IF((B9)<>0,B9,1)","v":112.21875},{"$f":"+COUNTIF('Auswertung AoE II'!$Z$5:$Z$104,1)+COUNTIF('Auswertung Yuri'!$Z$5:$Z$104,1)+COUNTIF('Auswertung RA'!$Z$5:$Z$104,1)+COUNTIF('Auswertung AoM'!$Z$5:$Z$104,1)+COUNTIF('Auswertung AoE III'!$Z$5:$Z$104,1)+COUNTIF('Auswertung Generals'!$Z$5:$Z$104,1)","v":12},{"$f":"+COUNTIF('Auswertung AoE II'!$Z$5:$Z$104,-1)+COUNTIF('Auswertung Yuri'!$Z$5:$Z$104,-1)+COUNTIF('Auswertung RA'!$Z$5:$Z$104,-1)+COUNTIF('Auswertung AoM'!$Z$5:$Z$104,-1)+COUNTIF('Auswertung AoE III'!$Z$5:$Z$104,-1)+COUNTIF('Auswertung Generals'!$Z$5:$Z$104,-1)","v":20},{"$f":"+E9-F9","v":-8},{"$f":"+B9*(HARMEAN(IF($B$5=0,1,$B$5),IF($B$6=0,1,$B$6),IF($B$7=0,1,$B$7),IF($B$8=0,1,$B$8),IF($B$9=0,1,$B$9),IF($B$10=0,1,$B$10)))/1000","v":1.1266819524405505},{"$f":"IF(B9=0,\"-\",IF(B9=0,0,ROUND(((E9/B9-F9/B9)*100+D9/10)*H9,3)))","v":-15.523999999999999},{"$f":"IF(B9=0,\"ng\",RANK(I9,$I$5:$I$10))","v":5},{"$f":"IF(IF(ISERROR(VLOOKUP(A9,Tagesliste!$A$5:$G$10,7,))=TRUE,0,VLOOKUP(A9,Tagesliste!$A$5:$G$10,7,))>0,CONCATENATE(\"+\",IF(ISERROR(VLOOKUP(A9,Tagesliste!$A$5:$G$10,7,))=TRUE,0,VLOOKUP(A9,Tagesliste!$A$5:$G$10,7,))),IF(ISERROR(VLOOKUP(A9,Tagesliste!$A$5:$G$10,7,))=TRUE,0,VLOOKUP(A9,Tagesliste!$A$5:$G$10,7,)))","v":-5}]
["Zorro",{"$f":"+COUNT('Auswertung AoE II'!$J5:$J$105)+COUNT('Auswertung Yuri'!$J$5:$J$105)+COUNT('Auswertung RA'!$J$5:$J$105)+COUNT('Auswertung AoM'!$J$5:$J$105)+COUNT('Auswertung AoE III'!$J$5:$J$105)+COUNT('Auswertung Generals'!$J$5:$J$105)","v":33},{"$f":"+SUM('Auswertung AoE II'!$J$4:$J$105)+SUM('Auswertung Yuri'!$J$2:$J$103)+SUM('Auswertung AoE III'!$J$3:$J$103)+SUM('Auswertung AoM'!$J$3:$J$103)+SUM('Auswertung Generals'!$J$3:$J$103)+SUM('Auswertung RA'!$J$3:$J$103)","v":4143},{"$f":"+C10/IF((B10)<>0,B10,1)","v":125.54545454545455},{"$f":"+COUNTIF('Auswertung AoE II'!$X$5:$X$104,1)+COUNTIF('Auswertung Yuri'!$X$5:$X$104,1)+COUNTIF('Auswertung RA'!$X$5:$X$104,1)+COUNTIF('Auswertung AoM'!$X$5:$X$104,1)+COUNTIF('Auswertung AoE III'!$X$5:$X$104,1)+COUNTIF('Auswertung Generals'!$X$5:$X$104,1)","v":12},{"$f":"+COUNTIF('Auswertung AoE II'!$X$5:$X$104,-1)+COUNTIF('Auswertung Yuri'!$X$5:$X$104,-1)+COUNTIF('Auswertung RA'!$X$5:$X$104,-1)+COUNTIF('Auswertung AoM'!$X$5:$X$104,-1)+COUNTIF('Auswertung AoE III'!$X$5:$X$104,-1)+COUNTIF('Auswertung Generals'!$X$5:$X$104,-1)","v":21},{"$f":"+E10-F10","v":-9},{"$f":"+B10*(HARMEAN(IF($B$5=0,1,$B$5),IF($B$6=0,1,$B$6),IF($B$7=0,1,$B$7),IF($B$8=0,1,$B$8),IF($B$9=0,1,$B$9),IF($B$10=0,1,$B$10)))/1000","v":1.1618907634543176},{"$f":"IF(B10=0,\"-\",IF(B10=0,0,ROUND(((E10/B10-F10/B10)*100+D10/10)*H10,3)))","v":-17.100999999999999},{"$f":"IF(B10=0,\"ng\",RANK(I10,$I$5:$I$10))","v":6},{"$f":"IF(IF(ISERROR(VLOOKUP(A10,Tagesliste!$A$5:$G$10,7,))=TRUE,0,VLOOKUP(A10,Tagesliste!$A$5:$G$10,7,))>0,CONCATENATE(\"+\",IF(ISERROR(VLOOKUP(A10,Tagesliste!$A$5:$G$10,7,))=TRUE,0,VLOOKUP(A10,Tagesliste!$A$5:$G$10,7,))),IF(ISERROR(VLOOKUP(A10,Tagesliste!$A$5:$G$10,7,))=TRUE,0,VLOOKUP(A10,Tagesliste!$A$5:$G$10,7,)))","v":-1}]
[]
["letztes Spieledatum:","08.08.2026"]
["         "]
[]
[" ",{"$f":"IF(100-('Auswertung AoE II'!B106+'Auswertung Yuri'!B106+'Auswertung AoM'!B106+'Auswertung Generals'!B106+'Auswertung AoE III'!B251+'Auswertung RA'!B106)>0,(CONCATENATE(\"noch \",100-('Auswertung AoE II'!B106+'Auswertung Yuri'!B106+'Auswertung AoM'!B106+'Auswertung Generals'!B106+'Auswertung AoE III'!B106+'Auswertung RA'!B106),\" Spiele\")),CONCATENATE(\"Pokalsieger: \",A5))","v":"noch 63 Spiele"}]
[null," "]
[]
["Wertungsformel: ","(Siege-Niederlagen) / Spiele * 100 + Abschussdurchschnitt/10 * Harmonischen Mittelwert aller gewerteten Spiele"]
[]
[]
[]
[]
[]
[]
[{"$f":"+Spiel_Team!A28","v":"AoE III"},{"$f":"+Spiel_Team!B28","v":"5 Spiele"}]
[{"$f":"+Spiel_Team!A29","v":"AoM"},{"$f":"+Spiel_Team!B29","v":"6 Spiele"}]
[{"$f":"+Spiel_Team!A30","v":"Yuri"},{"$f":"+Spiel_Team!B30","v":"6 Spiele"}]
[{"$f":"+Spiel_Team!A31","v":"Generals"},{"$f":"+Spiel_Team!B31","v":"6 Spiele"}]
[{"$f":"+Spiel_Team!A32","v":"RA"},{"$f":"+Spiel_Team!B32","v":"7 Spiele"}]
[{"$f":"+Spiel_Team!A33","v":"AoE II"},{"$f":"+Spiel_Team!B33","v":"7 Spiele"}]
[]
[]
[]
["Ränge in den Unterpokalen",null,"AoE II",null,null,"AoE III",null,null,"AoM"]
[]
[null,null,{"$f":"+_xlfn._xlws.FILTER(INDEX('Bestenliste AoE II'!$A$5:$J$10,_xlfn.SEQUENCE(6),{1,10}),('Die Besten'!$A$5:$A$10=A5))","v":"Groo"},1,null,{"$f":"+_xlfn._xlws.FILTER(INDEX('Bestenliste AoE III'!$A$5:$J$10,_xlfn.SEQUENCE(6),{1,10}),('Die Besten'!$A$5:$A$10=A5))","v":"Big Boss"},1,null,{"$f":"+_xlfn._xlws.FILTER(INDEX('Bestenliste AoM'!$A$5:$J$10,_xlfn.SEQUENCE(6),{1,10}),('Die Besten'!$A$5:$A$10=A5))","v":"Mike"},1]
[null,null,{"$f":"+_xlfn._xlws.FILTER(INDEX('Bestenliste AoE II'!$A$5:$J$10,_xlfn.SEQUENCE(6),{1,10}),('Die Besten'!$A$5:$A$10=A6))","v":"The Wolf"},2,null,{"$f":"+_xlfn._xlws.FILTER(INDEX('Bestenliste AoE III'!$A$5:$J$10,_xlfn.SEQUENCE(6),{1,10}),('Die Besten'!$A$5:$A$10=A6))","v":"Zorro"},2,null,{"$f":"+_xlfn._xlws.FILTER(INDEX('Bestenliste AoM'!$A$5:$J$10,_xlfn.SEQUENCE(6),{1,10}),('Die Besten'!$A$5:$A$10=A6))","v":"Big Boss"},2]
[null,null,{"$f":"+_xlfn._xlws.FILTER(INDEX('Bestenliste AoE II'!$A$5:$J$10,_xlfn.SEQUENCE(6),{1,10}),('Die Besten'!$A$5:$A$10=A7))","v":"Mike"},3,null,{"$f":"+_xlfn._xlws.FILTER(INDEX('Bestenliste AoE III'!$A$5:$J$10,_xlfn.SEQUENCE(6),{1,10}),('Die Besten'!$A$5:$A$10=A7))","v":"The Wolf"},3,null,{"$f":"+_xlfn._xlws.FILTER(INDEX('Bestenliste AoM'!$A$5:$J$10,_xlfn.SEQUENCE(6),{1,10}),('Die Besten'!$A$5:$A$10=A7))","v":"The Wolf"},3]
[null,null,{"$f":"+_xlfn._xlws.FILTER(INDEX('Bestenliste AoE II'!$A$5:$J$10,_xlfn.SEQUENCE(6),{1,10}),('Die Besten'!$A$5:$A$10=A8))","v":"Marc"},4,null,{"$f":"+_xlfn._xlws.FILTER(INDEX('Bestenliste AoE III'!$A$5:$J$10,_xlfn.SEQUENCE(6),{1,10}),('Die Besten'!$A$5:$A$10=A8))","v":"Groo"},4,null,{"$f":"+_xlfn._xlws.FILTER(INDEX('Bestenliste AoM'!$A$5:$J$10,_xlfn.SEQUENCE(6),{1,10}),('Die Besten'!$A$5:$A$10=A8))","v":"Groo"},4]
[null,null,{"$f":"+_xlfn._xlws.FILTER(INDEX('Bestenliste AoE II'!$A$5:$J$10,_xlfn.SEQUENCE(6),{1,10}),('Die Besten'!$A$5:$A$10=A9))","v":"Big Boss"},5,null,{"$f":"+_xlfn._xlws.FILTER(INDEX('Bestenliste AoE III'!$A$5:$J$10,_xlfn.SEQUENCE(6),{1,10}),('Die Besten'!$A$5:$A$10=A9))","v":"Marc"},5,null,{"$f":"+_xlfn._xlws.FILTER(INDEX('Bestenliste AoM'!$A$5:$J$10,_xlfn.SEQUENCE(6),{1,10}),('Die Besten'!$A$5:$A$10=A9))","v":"Marc"},5]
[null,null,{"$f":"+_xlfn._xlws.FILTER(INDEX('Bestenliste AoE II'!$A$5:$J$10,_xlfn.SEQUENCE(6),{1,10}),('Die Besten'!$A$5:$A$10=A10))","v":"Zorro"},6,null,{"$f":"+_xlfn._xlws.FILTER(INDEX('Bestenliste AoE III'!$A$5:$J$10,_xlfn.SEQUENCE(6),{1,10}),('Die Besten'!$A$5:$A$10=A10))","v":"Mike"},6,null,{"$f":"+_xlfn._xlws.FILTER(INDEX('Bestenliste AoM'!$A$5:$J$10,_xlfn.SEQUENCE(6),{1,10}),('Die Besten'!$A$5:$A$10=A10))","v":"Zorro"},6]
[]
[null,null,"RA",null,null,"Yuri",null,null,"Generals"]
[]
[null,null,{"$f":"+_xlfn._xlws.FILTER(INDEX('Bestenliste RA'!$A$5:$J$10,_xlfn.SEQUENCE(6),{1,10}),('Die Besten'!$A$5:$A$10=A5))","v":"Big Boss"},1,null,{"$f":"+_xlfn._xlws.FILTER(INDEX('Bestenliste Yuri'!$A$5:$J$10,_xlfn.SEQUENCE(6),{1,10}),('Die Besten'!$A$5:$A$10=A5))","v":"Mike"},1,null,{"$f":"+_xlfn._xlws.FILTER(INDEX('Bestenliste Generals'!$A$5:$J$10,_xlfn.SEQUENCE(6),{1,10}),('Die Besten'!$A$5:$A$10=A5))","v":"Zorro"},1]
[null,null,{"$f":"+_xlfn._xlws.FILTER(INDEX('Bestenliste RA'!$A$5:$J$10,_xlfn.SEQUENCE(6),{1,10}),('Die Besten'!$A$5:$A$10=A6))","v":"Marc"},2,null,{"$f":"+_xlfn._xlws.FILTER(INDEX('Bestenliste Yuri'!$A$5:$J$10,_xlfn.SEQUENCE(6),{1,10}),('Die Besten'!$A$5:$A$10=A6))","v":"Big Boss"},2,null,{"$f":"+_xlfn._xlws.FILTER(INDEX('Bestenliste Generals'!$A$5:$J$10,_xlfn.SEQUENCE(6),{1,10}),('Die Besten'!$A$5:$A$10=A6))","v":"The Wolf"},2]
[null,null,{"$f":"+_xlfn._xlws.FILTER(INDEX('Bestenliste RA'!$A$5:$J$10,_xlfn.SEQUENCE(6),{1,10}),('Die Besten'!$A$5:$A$10=A7))","v":"Mike"},3,null,{"$f":"+_xlfn._xlws.FILTER(INDEX('Bestenliste Yuri'!$A$5:$J$10,_xlfn.SEQUENCE(6),{1,10}),('Die Besten'!$A$5:$A$10=A7))","v":"Groo"},3,null,{"$f":"+_xlfn._xlws.FILTER(INDEX('Bestenliste Generals'!$A$5:$J$10,_xlfn.SEQUENCE(6),{1,10}),('Die Besten'!$A$5:$A$10=A7))","v":"Mike"},3]
[null,null,{"$f":"+_xlfn._xlws.FILTER(INDEX('Bestenliste RA'!$A$5:$J$10,_xlfn.SEQUENCE(6),{1,10}),('Die Besten'!$A$5:$A$10=A8))","v":"The Wolf"},4,null,{"$f":"+_xlfn._xlws.FILTER(INDEX('Bestenliste Yuri'!$A$5:$J$10,_xlfn.SEQUENCE(6),{1,10}),('Die Besten'!$A$5:$A$10=A8))","v":"The Wolf"},4,null,{"$f":"+_xlfn._xlws.FILTER(INDEX('Bestenliste Generals'!$A$5:$J$10,_xlfn.SEQUENCE(6),{1,10}),('Die Besten'!$A$5:$A$10=A8))","v":"Big Boss"},4]
[null,null,{"$f":"+_xlfn._xlws.FILTER(INDEX('Bestenliste RA'!$A$5:$J$10,_xlfn.SEQUENCE(6),{1,10}),('Die Besten'!$A$5:$A$10=A9))","v":"Groo"},5,null,{"$f":"+_xlfn._xlws.FILTER(INDEX('Bestenliste Yuri'!$A$5:$J$10,_xlfn.SEQUENCE(6),{1,10}),('Die Besten'!$A$5:$A$10=A9))","v":"Marc"},5,null,{"$f":"+_xlfn._xlws.FILTER(INDEX('Bestenliste Generals'!$A$5:$J$10,_xlfn.SEQUENCE(6),{1,10}),('Die Besten'!$A$5:$A$10=A9))","v":"Groo"},5]
[null,null,{"$f":"+_xlfn._xlws.FILTER(INDEX('Bestenliste RA'!$A$5:$J$10,_xlfn.SEQUENCE(6),{1,10}),('Die Besten'!$A$5:$A$10=A10))","v":"Zorro"},6,null,{"$f":"+_xlfn._xlws.FILTER(INDEX('Bestenliste Yuri'!$A$5:$J$10,_xlfn.SEQUENCE(6),{1,10}),('Die Besten'!$A$5:$A$10=A10))","v":"Zorro"},6,null,{"$f":"+_xlfn._xlws.FILTER(INDEX('Bestenliste Generals'!$A$5:$J$10,_xlfn.SEQUENCE(6),{1,10}),('Die Besten'!$A$5:$A$10=A10))","v":"Marc"},6]

{"sheet":"Tagesliste","index":3,"n_rows":17,"n_cols":10,"rows_kept":17,"cut":false,"hidden":false,"merged":[]}
["RTS Meister des Tages"]
[{"$f":"CONCATENATE(\"Anzahl der Spiele heute: \",COUNT(Abschusstagesliste!AC4:AC220))","v":"Anzahl der Spiele heute: 7"}]
[]
[null,"Spiele","Abschüsse"," Ø ","Siege","Nieder-lagen","Diff.","Spiel / Mittelw.","Wertung","Rang"]
["Groo",{"$f":"+COUNT(Abschusstagesliste!$G$3:$G$150)","v":7},{"$f":"+SUM(Abschusstagesliste!$G$3:$G$150)","v":1310},{"$f":"+C5/IF((B5)<>0,B5,1)","v":187.14285714285714},{"$f":"+COUNTIF(Abschusstagesliste!$U$3:$U$150,1)","v":5},{"$f":"+COUNTIF(Abschusstagesliste!$U$3:$U$150,-1)","v":2},{"$f":"+E5-F5","v":3},{"$f":"+B5*(HARMEAN(IF($B$5=0,1,$B$5),IF($B$6=0,1,$B$6),IF($B$7=0,1,$B$7),IF($B$8=0,1,$B$8),IF($B$9=0,1,$B$9)))/10","v":4.9000000000000004},{"$f":"+IF(B5=0,\"-\",ROUND(((E5/B5-F5/B5)*100+D5/10)*H5,3))","v":301.7},{"$f":"IF(B5=0,\"ng\",RANK(I5,$I$5:$I$10))","v":1}]
["Mike",{"$f":"+COUNT(Abschusstagesliste!$C$3:$C$150)","v":7},{"$f":"+SUM(Abschusstagesliste!$C$3:$C$150)","v":1579},{"$f":"+C6/IF((B6)<>0,B6,1)","v":225.57142857142858},{"$f":"+COUNTIF(Abschusstagesliste!$Q$3:$Q$150,1)","v":4},{"$f":"+COUNTIF(Abschusstagesliste!$Q$3:$Q$150,-1)","v":3},{"$f":"+E6-F6","v":1},{"$f":"+B6*(HARMEAN(IF($B$5=0,1,$B$5),IF($B$6=0,1,$B$6),IF($B$7=0,1,$B$7),IF($B$8=0,1,$B$8),IF($B$9=0,1,$B$9)))/10","v":4.9000000000000004},{"$f":"+IF(B6=0,\"-\",ROUND(((E6/B6-F6/B6)*100+D6/10)*H6,3))","v":180.53},{"$f":"IF(B6=0,\"ng\",RANK(I6,$I$5:$I$10))","v":2}]
["The Wolf",{"$f":"+COUNT(Abschusstagesliste!$A$3:$A$150)","v":7},{"$f":"+SUM(Abschusstagesliste!$A$3:$A$150)","v":1390},{"$f":"+C7/IF((B7)<>0,B7,1)","v":198.57142857142858},{"$f":"+COUNTIF(Abschusstagesliste!$O$3:$O$150,1)","v":4},{"$f":"+COUNTIF(Abschusstagesliste!$O$3:$O$150,-1)","v":3},{"$f":"+E7-F7","v":1},{"$f":"+B7*(HARMEAN(IF($B$5=0,1,$B$5),IF($B$6=0,1,$B$6),IF($B$7=0,1,$B$7),IF($B$8=0,1,$B$8),IF($B$9=0,1,$B$9)))/10","v":4.9000000000000004},{"$f":"+IF(B7=0,\"-\",ROUND(((E7/B7-F7/B7)*100+D7/10)*H7,3))","v":167.3},{"$f":"IF(B7=0,\"ng\",RANK(I7,$I$5:$I$10))","v":3}]
["Big Boss",{"$f":"+COUNT(Abschusstagesliste!$E$3:$E$150)","v":7},{"$f":"+SUM(Abschusstagesliste!$E$3:$E$150)","v":1158},{"$f":"+C8/IF((B8)<>0,B8,1)","v":165.42857142857142},{"$f":"+COUNTIF(Abschusstagesliste!$S$3:$S$150,1)","v":4},{"$f":"+COUNTIF(Abschusstagesliste!$S$3:$S$150,-1)","v":3},{"$f":"+E8-F8","v":1},{"$f":"+B8*(HARMEAN(IF($B$5=0,1,$B$5),IF($B$6=0,1,$B$6),IF($B$7=0,1,$B$7),IF($B$8=0,1,$B$8),IF($B$9=0,1,$B$9)))/10","v":4.9000000000000004},{"$f":"+IF(B8=0,\"-\",ROUND(((E8/B8-F8/B8)*100+D8/10)*H8,3))","v":151.06},{"$f":"IF(B8=0,\"ng\",RANK(I8,$I$5:$I$10))","v":4}]
["Zorro",{"$f":"+COUNT(Abschusstagesliste!$I$3:$I$150)","v":7},{"$f":"+SUM(Abschusstagesliste!$I$3:$I$150)","v":1059},{"$f":"+C9/IF((B9)<>0,B9,1)","v":151.28571428571428},{"$f":"+COUNTIF(Abschusstagesliste!$W$3:$W$150,1)","v":3},{"$f":"+COUNTIF(Abschusstagesliste!$W$3:$W$150,-1)","v":4},{"$f":"+E9-F9","v":-1},{"$f":"+B9*(HARMEAN(IF($B$5=0,1,$B$5),IF($B$6=0,1,$B$6),IF($B$7=0,1,$B$7),IF($B$8=0,1,$B$8),IF($B$9=0,1,$B$9)))/10","v":4.9000000000000004},{"$f":"+IF(B9=0,\"-\",ROUND(((E9/B9-F9/B9)*100+D9/10)*H9,3))","v":4.13},{"$f":"IF(B9=0,\"ng\",RANK(I9,$I$5:$I$10))","v":5}]
["Marc",{"$f":"+COUNT(Abschusstagesliste!$K$3:$K$150)","v":7},{"$f":"+SUM(Abschusstagesliste!$K$3:$K$150)","v":966},{"$f":"+C10/IF((B10)<>0,B10,1)","v":138},{"$f":"+COUNTIF(Abschusstagesliste!$Y$3:$Y$150,1)","v":1},{"$f":"+COUNTIF(Abschusstagesliste!$Y$3:$Y$150,-1)","v":6},{"$f":"+E10-F10","v":-5},{"$f":"+B10*(HARMEAN(IF($B$5=0,1,$B$5),IF($B$6=0,1,$B$6),IF($B$7=0,1,$B$7),IF($B$8=0,1,$B$8),IF($B$9=0,1,$B$9)))/10","v":4.9000000000000004},{"$f":"+IF(B10=0,\"-\",ROUND(((E10/B10-F10/B10)*100+D10/10)*H10,3))","v":-282.38},{"$f":"IF(B10=0,\"ng\",RANK(I10,$I$5:$I$10))","v":6}]
[]
[]
["letztes Spieledatum:",{"$f":"+'Die Besten'!B12","v":"08.08.2026"}]
[]
[null," "]
["Wertungsformel: "]
[null,{"$f":"+'Die Besten'!B18","v":"(Siege-Niederlagen) / Spiele * 100 + Abschussdurchschnitt/10 * Harmonischen Mittelwert aller gewerteten Spiele"}]

{"sheet":"Spiel_Team","index":4,"n_rows":221,"n_cols":20,"rows_kept":221,"cut":false,"hidden":false,"merged":[[4,9,6,10],[9,17,9,18]]}
["Spiel / Team",null,{"$f":"+Spielauswahl!H9","v":"AoM"}]
["Auslosung für Spiel Nr. "," ",{"$f":"+IF(C1=\"Starcraft\", \"II\",\"\")","v":""},null,null,null,"( Neue Teamauswahl mit STRG - t) "]
[{"$f":"+'Auswertung AoE II'!B106+'Auswertung AoE III'!B106+'Auswertung RA'!B106+'Auswertung Yuri'!B106+'Auswertung AoM'!B106+'Auswertung Generals'!B106+1","v":38},null,{"$f":"+IF(C1=\"Command & Conquer Gold\",#REF!,0)","v":0}]
[null,null,{"$f":"+INDIRECT(\"'Kartenauswahl \"&C1&\"'!H9\")","v":"Zufall"}]
[null,null,null,null,null,null,"( Neues Spiel/Team: STRG - y )",null,null,"ausgesetzt haben: Spiel / Spieler",null,null,null,null,null,null,null,null,null,"0 Minuten 2 Sekunden"]
[]
[]
["Heute am",null,null,null,null,null,null,null,1]
[{"$f":"+'Die Besten'!B12","v":"08.08.2026"},null,null,null,null,null,null,null,2]
[" sind dabei:",null,null,null,null,null,null,null,3]
[null,null,null,null,null,null,null,null,4]
[null,null,null,null,null,null,null,{"$f":"+IF(ISNA(VLOOKUP(H13,('Die Besten'!$A$5:$K$9),13,FALSE))=TRUE,0,VLOOKUP(H13,('Die Besten'!$A$5:$K$9),13,FALSE))","v":0},5]
[null,"The Wolf","Mike","Big Boss","Groo","Marc","Zorro",null,6]
[null,null,null,null," ",null,null,null,7]
[null,{"$f":"+HLOOKUP(B13,Teamwahl!$B$14:$L$17,3,0)","v":"Team A"},{"$f":"+HLOOKUP(C13,Teamwahl!$B$14:$L$17,3,0)","v":"Team A"},{"$f":"+HLOOKUP(D13,Teamwahl!$B$14:$L$17,3,0)","v":"Team A"},{"$f":"+HLOOKUP(E13,Teamwahl!$B$14:$L$17,3,0)","v":"Team B"},{"$f":"+HLOOKUP(F13,Teamwahl!$D$14:$N$17,3,0)","v":"Team B"},{"$f":"+HLOOKUP(G13,Teamwahl!$D$14:$N$17,3,0)","v":"Team B"},null,8]
[null,null,null,null,null,null,null,null,9]
[null,{"$f":"+IFERROR(HLOOKUP(B13,Teamwahl!$B$14:$L$17,4,0),\"\")","v":"Ägypter: Isis"},{"$f":"+IFERROR(HLOOKUP(C13,Teamwahl!$B$14:$L$17,4,0),\"\")","v":"Griechen: Zeus"},{"$f":"+IFERROR(HLOOKUP(D13,Teamwahl!$B$14:$L$17,4,0),\"\")","v":"Griechen: Hades"},{"$f":"+IFERROR(HLOOKUP(E13,Teamwahl!$B$14:$L$17,4,0),\"\")","v":"Griechen: Hades"},{"$f":"+IFERROR(HLOOKUP(F13,Teamwahl!$D$14:$N$17,4,0),\"\")","v":"Griechen: Zeus"},{"$f":"+IFERROR(HLOOKUP(G13,Teamwahl!$D$14:$N$17,4,0),\"\")","v":"Ägypter: Isis"},{"$f":"+Teamwahl!I11","v":0},10]
[{"$f":"+_xlfn.CONCAT(\"Tabellenplatz in \",C1)","v":"Tabellenplatz in AoM"},{"$f":"+_xlfn._xlws.FILTER(INDEX(INDIRECT(\"'Bestenliste \"&$C$1&\"'!\"&\"$A$5:$M$10\"),_xlfn.SEQUENCE(6),{10}),INDIRECT(\"'Bestenliste \"&$C$1&\"'!\"&\"$A$5:$a$10\")=B13)","v":3},{"$f":"+_xlfn._xlws.FILTER(INDEX(INDIRECT(\"'Bestenliste \"&$C$1&\"'!\"&\"$A$5:$M$10\"),_xlfn.SEQUENCE(6),{10}),INDIRECT(\"'Bestenliste \"&$C$1&\"'!\"&\"$A$5:$a$10\")=C13)","v":1},{"$f":"+_xlfn._xlws.FILTER(INDEX(INDIRECT(\"'Bestenliste \"&$C$1&\"'!\"&\"$A$5:$M$10\"),_xlfn.SEQUENCE(6),{10}),INDIRECT(\"'Bestenliste \"&$C$1&\"'!\"&\"$A$5:$a$10\")=D13)","v":2},{"$f":"+_xlfn._xlws.FILTER(INDEX(INDIRECT(\"'Bestenliste \"&$C$1&\"'!\"&\"$A$5:$M$10\"),_xlfn.SEQUENCE(6),{10}),INDIRECT(\"'Bestenliste \"&$C$1&\"'!\"&\"$A$5:$a$10\")=E13)","v":4},{"$f":"+IFERROR(_xlfn._xlws.FILTER(INDEX(INDIRECT(\"'Bestenliste \"&$C$1&\"'!\"&\"$A$5:$M$10\"),_xlfn.SEQUENCE(6),{10}),INDIRECT(\"'Bestenliste \"&$C$1&\"'!\"&\"$A$5:$a$10\")=F13),\"\")","v":5},{"$f":"+IFERROR(_xlfn._xlws.FILTER(INDEX(INDIRECT(\"'Bestenliste \"&$C$1&\"'!\"&\"$A$5:$M$10\"),_xlfn.SEQUENCE(6),{10}),INDIRECT(\"'Bestenliste \"&$C$1&\"'!\"&\"$A$5:$a$10\")=G13),\"\")","v":6},{"$f":"+IF(H13<>0,IF(#REF!=\"NG\",\"Neu im Pokal\",#REF!),0)","v":0},11]
[null,null,null,null,null,null,null,null,12]
[null,null,null,null,null,null,null,null,13]
[null,null,null,null,null,null,null,null,14]
["Startbedingungen: ",{"$f":"+_xlfn._xlws.FILTER(B104:L104,B102:L102=Spielauswahl!H9)","v":"Spieltyp: Eroberung; es dürfen keine Titanen gebaut werden !; Sieger ist das Team mit den meisten Punkten nach 55 Minuten Spielzeit"},null,null,null,null,null,null,15]
[{"$f":"+IF($C$1=\"Red Alert 2\",\"Amerika - Fallschirmspringer\",0)","v":0},null,null,null,null,null,null,null,16]
[null,null,null,null,null,null,null,null,17]
[null,null,null,null,null,null,null,null,18]
[null,null,null,null,null,null,null,null,19]
[null,null,null,null,null,null,null,null,20]
["AoE III",{"$f":"+INDIRECT(\"'Auswertung \"&A28&\"'!\"&\"b106\")&IF($B$106>1,\" Spiel\",\" Spiele\")","v":"5 Spiele"}]
["AoM",{"$f":"+INDIRECT(\"'Auswertung \"&A29&\"'!\"&\"b106\")&IF($B$106>1,\" Spiel\",\" Spiele\")","v":"6 Spiele"}]
["Yuri",{"$f":"+INDIRECT(\"'Auswertung \"&A30&\"'!\"&\"b106\")&IF($B$106>1,\" Spiel\",\" Spiele\")","v":"6 Spiele"}]
["Generals",{"$f":"+INDIRECT(\"'Auswertung \"&A31&\"'!\"&\"b106\")&IF($B$106>1,\" Spiel\",\" Spiele\")","v":"6 Spiele"}]
["RA",{"$f":"+INDIRECT(\"'Auswertung \"&A32&\"'!\"&\"b106\")&IF($B$106>1,\" Spiel\",\" Spiele\")","v":"7 Spiele"}]
["AoE II",{"$f":"+INDIRECT(\"'Auswertung \"&A33&\"'!\"&\"b106\")&IF($B$106>1,\" Spiel\",\" Spiele\")","v":"7 Spiele"}]
[]
[]
[]
[]
[]
[]
[]
[]
[]
[]
[]
[]
[]
[]
[]
[]
[]
[]
[]
[]
[]
[]
[]
[]
[]
[]
[]
[]
[]
[]
[]
[]
[]
[]
[]
[]
[]
[null,null,null,null,null,null,null,null,0]
[]
[]
[]
[]
[]
[]
[]
[]
[]
[]
[]
[]
[]
[]
[]
[]
[]
[]
[]
[]
[]
[]
[]
[]
[]
[]
[]
[]
["Startbedingungen der Spiele:"]
[66.0546875]
[null,"AoE II",null,"AoE III",null,"AoM",null,"Generals",null,"RA",null,"Yuri"]
[]
[null,"Startzeitalter: Post-Imperiale Zeit; Zeitlimit: 900 Jahre",null,"Startzeitalter = Kolonialzeitalter; Wertung nach 55 Minuten.",null,"Spieltyp: Eroberung; es dürfen keine Titanen gebaut werden !; Sieger ist das Team mit den meisten Punkten nach 55 Minuten Spielzeit",null,"Startkapital: 10000; begrenzte Superwaffen.",null,"Startkapital: 6500;  Einheiten: 5; Techstufe 10; Stützpunkte; Erz breitet sich aus; Keine Kisten; Kann der Bauhof gesetzt werden, so muss gespielt werden.",null,"Einheiten: 4; Startkapital: 6500; Neben Bauhöfen Verbündeter bauen erlaubt; Kisten: aus"]
[]
[]
[]
[]
[]
[]
[]
[]
[]
[]
[]
[]
[]
[]
[]
[]
[]
[null,"Romans","Cumans","Romans"]
[null,"Franken","Gurjaras","Franken"]
[null,"Gurjaras","Mongolen","Gurjaras"]
[null,"Chinesen","Türken","Türken"]
[null,"Äthiopier","Tatars","Tatars"]
[null,"Romans","Romans","Chinesen"]
[null,"Inkas","Inkas","Mayans"]
[null,"Chinesen","Chinesen","Sicilians"]
[null,"Bohemians","Romans","Romans"]
[null,"Cumans","Bengalis","Bengalis"]
[null,"Japaner","Türken","Japaner"]
[null,"Berber","Spanier","Berber"]
[null,"Inkas","Cumans","Inkas"]
[null,"Burmese","Burmese","Äthiopier"]
[null,"Japaner","Tatars","Japaner"]
[null,"Japaner","Japaner","Tatars"]
[null,"Goten","Hindustanis","Hindustanis"]
[null,"Hunnen","Hunnen","Malay"]
[null,"Wikinger","Wikinger","Koreaner"]
[null,"Malian","Gurjaras","Gurjaras"]
[null,"Sarazenen","Poles","Poles"]
[null,"Perser","Portugiesen","Portugiesen"]
[null,"Malay","Bengalis","Bengalis"]
[null,"Italiener","Khmer","Italiener"]
[null,"Chinesen","Kelten","Chinesen"]
[null,"Azteken","Berber","Berber"]
[null,"Lithuanians","Hunnen","Hunnen"]
[null,"Sicilians","Sicilians","Tatars"]
[null,"Mongolen","Mongolen","Poles"]
[null,"Poles","Romans","Poles"]
[null,"Malay","Malay","Malian"]
[null,"Bulgarians","Perser","Bulgarians"]
[null,"Azteken","Azteken","Italiener"]
[null,"Japaner","Koreaner","Koreaner"]
[null,"Azteken","Italiener","Italiener"]
[null,"Cumans","Malian","Cumans"]
[null,"Berber","Inkas","Inkas"]
[null,"Magyars","Franken","Franken"]
[null,"Romans","Spanier","Romans"]
[null,"Malian","Malian","Koreaner"]
[null,"Berber","Berber","Inkas"]
[null,"Romans","Chinesen","Chinesen"]
[null,"Türken","Türken","Äthiopier"]
[null,"Burgundians","Malian","Malian"]
[null,"Mayans","Mayans","Berber"]
[null,"Gurjaras","Gurjaras","Sicilians"]
[null,"Magyars","Magyars","Sicilians"]
[null,"Inkas","Kelten","Kelten"]
[null,"Wikinger","Vietnamesen","Wikinger"]
[null,"Sarazenen","Sarazenen","Malian"]
[null,"Berber","Britons","Britons"]
[null,"Portugiesen","Romans","Romans"]
[null,"Hindustanis","Poles","Hindustanis"]
[null,"Äthiopier","Slawen","Slawen"]
[null,"Bulgarians","Bulgarians","Mongolen"]
[null,"Mayans","Mayans","Magyars"]
[null,"Slawen","Slawen","Perser"]
[null,"Sarazenen","Sarazenen","Äthiopier"]
[null,"Mongolen","Chinesen","Chinesen"]
[null,"Mongolen","Bulgarians","Bulgarians"]
[null,"Cumans","Koreaner","Koreaner"]
[null,"Hindustanis","Teutonen","Teutonen"]
[null,"Malian","Teutonen","Teutonen"]
[null,"Vietnamesen","Vietnamesen","Britons"]
[null,"Burmese","Kelten","Kelten"]
[null,"Mongolen","Spanier","Spanier"]
[null,"Mayans","Türken","Mayans"]
[null,"Khmer","Hunnen","Khmer"]
[null,"Slawen","Slawen","Bohemians"]
[null,"Byzantiner","Byzantiner","Lithuanians"]
[null,"Sarazenen","Türken","Türken"]
[null,"Goten","Hunnen","Goten"]
[null,"Malay","Azteken","Malay"]
[null,"Dravidians","Dravidians","Mongolen"]
[null,"Bengalis","Bengalis","Hunnen"]
[null,"Hindustanis","Spanier","Hindustanis"]
[null,"Khmer","Khmer","Poles"]
[null,"Franken","Azteken","Azteken"]
[null,"Portugiesen","Portugiesen","Sicilians"]
[null,"Vietnamesen","Italiener","Italiener"]
[null,"Tatars","Tatars","Malian"]
[null,"Malay","Cumans","Malay"]
[null,"Kelten","Inkas","Inkas"]
[null,"Spanier","Malian","Malian"]
[null,"Burgundians","Lithuanians","Lithuanians"]
[null,"Franken","Franken","Byzantiner"]
[null,"Dravidians","Dravidians","Wikinger"]
[null,"Britons","Chinesen","Chinesen"]
[null,"Poles","Britons","Poles"]
[null,"Burgundians","Lithuanians","Lithuanians"]
[null,"Poles","Gurjaras","Poles"]
[null,"Burgundians","Sicilians","Burgundians"]
[null,"Bohemians","Bulgarians","Bulgarians"]
[null,"Koreaner","Perser","Koreaner"]
[null,"Vietnamesen","Vietnamesen","Kelten"]
[null,"Dravidians","Dravidians","Azteken"]
[null,"Inkas","Inkas","Romans"]
[null,"Burmese","Teutonen","Teutonen"]
[null,"Berber","Berber","Sicilians"]
[null,"Inkas","Inkas","Teutonen"]

{"sheet":"Teamwahl","index":5,"n_rows":190,"n_cols":22,"rows_kept":190,"cut":false,"hidden":false,"merged":[[0,0,0,1]]}
[{"$f":"+\"ausgelostes Spiel:\n \"& Spielauswahl!H9","v":"ausgelostes Spiel:\n AoM"}]
[]
[null,null,6,null,null,null,null,null,null,null,null,"Team A",null,null,"Team B",null,"zufällige Reihenfolge der Völker","die neue Reihenfolge zusammengefasst","die Spieler direkt untereinander","Volk passend"]
[null,"Spieler","VBA Zufallszahl","Team","Volk","Zufallszahl nach Spielernanzahl","Team",null,null,null,null,null,null,null,null,null,null,null,null,null,null,2]
[{"$f":"+_xlfn.SORTBY(_xlfn.SEQUENCE(COUNTIF(B5:B10,\"*\")),_xlfn.RANDARRAY(COUNTIF(B5:B10,\"*\")))","v":1},{"$f":"+Spiel_Team!B13","v":"The Wolf"},6,{"$f":"+IF(ISEVEN(F5)=FALSE,\"Team A\", \"Team B\")","v":"Team A"},9,{"$f":"+_xlfn.SORTBY(_xlfn.SEQUENCE(COUNTIF(B5:B10,\"*\")),_xlfn.RANDARRAY(COUNTIF(B5:B10,\"*\")))","v":5},{"$f":"IF(COUNT($A$5:$A$10)=5,IF(F5=5,\"aussetzen\",D5),D5)","v":"Team A"},{"$f":"+B5","v":"The Wolf"},null,{"$f":"INDEX(C5:C10,RANDBETWEEN(1,COUNT(C5:C10)))","v":9},0,{"$f":"+IF(G5=$L$3,H5,\"\")","v":"The Wolf"},{"$f":"+IF(L5=\"\",\"\",VLOOKUP(N5,$A$20:P202,2,0))","v":"Ägypter: Isis"},{"$f":"+IF(L5=\"\",\"\",INDEX($A$20:(INDIRECT(\"a$\"&COUNT($A$20:$A$64)+19)), MATCH(LARGE($N$20:(INDIRECT(\"n$\"&COUNT($A$20:$A$64)+19)),V4), $N$20:INDIRECT(\"n$\"&COUNT($A$20:$A$64)+19), 0)))","v":8},{"$f":"+IF(G5=$O$3,H5,\"\")","v":""},{"$f":"+IFERROR(VLOOKUP(O5,$S$5:$T$7,2,0),\"\")","v":""},{"$f":"_xlfn.LET(_xlpm.v,N5:N10:INDEX(N5:N10,MATCH(TRUE,INDEX(N5:N10=\"\",0),0)-1),\n_xlfn.SORTBY(_xlpm.v,_xlfn.RANDARRAY(ROWS(_xlpm.v))))","v":""},{"$f":"INDEX($Q$5:$Q$10, SMALL(IF(ISNUMBER($Q$5:$Q$10), ROW($Q$5:$Q$10)-MIN(ROW($Q$5:$Q$10))+1), 1))","v":4},{"$f":"+INDEX(O5:O10,MATCH(TRUE,O5:O10<>\"\",0))","v":"Groo"},{"$f":"+VLOOKUP(R5,$A$20:$B$64,2,0)","v":"Griechen: Hades"},null,1]
[3,{"$f":"+Spiel_Team!C13","v":"Mike"},7,{"$f":"+IF(ISEVEN(F6)=FALSE,\"Team A\", \"Team B\")","v":"Team A"},8,3,"Team A","Mike",null,{"$f":"INDEX($C$5:$C$10,RANDBETWEEN(1,COUNT($C$5:$C$10)))","v":6},0,"Mike",{"$f":"+IF(L6=\"\",\"\",VLOOKUP(N6,$A$20:$B$64,2,0))","v":"Griechen: Zeus"},{"$f":"+IF(L6=\"\",\"\",INDEX($A$20:(INDIRECT(\"a$\"&COUNT($A$20:$A$64)+19)), MATCH(LARGE($N$20:(INDIRECT(\"n$\"&COUNT($A$20:$A$64)+19)),V5), $N$20:INDIRECT(\"n$\"&COUNT($A$20:$A$64)+19), 0)))","v":10},"","",4,{"$f":"INDEX($Q$5:$Q$10, SMALL(IF(ISNUMBER($Q$5:$Q$10), ROW($Q$5:$Q$10)-MIN(ROW($Q$5:$Q$10))+1), 2))","v":10},{"$f":"+INDEX(O5:O10, SMALL(IF(O5:O10<>\"\", ROW(O5:O10)-MIN(ROW(O5:O10))+1), 2))","v":"Marc"},{"$f":"+VLOOKUP(R6,$A$20:$B$64,2,0)","v":"Griechen: Zeus"},null,3]
[4,{"$f":"+Spiel_Team!D13","v":"Big Boss"},4,{"$f":"+IF(ISEVEN(F7)=FALSE,\"Team A\", \"Team B\")","v":"Team A"},1,1,"Team A","Big Boss",null,{"$f":"INDEX($C$5:$C$10,RANDBETWEEN(1,COUNT($C$5:$C$10)))","v":6},0,"Big Boss",{"$f":"+IF(L7=\"\",\"\",VLOOKUP(N7,$A$20:$B$64,2,0))","v":"Griechen: Hades"},{"$f":"+IF(L7=\"\",\"\",INDEX($A$20:(INDIRECT(\"a$\"&COUNT($A$20:$A$64)+19)), MATCH(LARGE($N$20:(INDIRECT(\"n$\"&COUNT($A$20:$A$64)+19)),V6), $N$20:INDIRECT(\"n$\"&COUNT($A$20:$A$64)+19), 0)))","v":4},"","","",{"$f":"INDEX($Q$5:$Q$10, SMALL(IF(ISNUMBER($Q$5:$Q$10), ROW($Q$5:$Q$10)-MIN(ROW($Q$5:$Q$10))+1), 3))","v":8},{"$f":"+INDEX(O5:O10, SMALL(IF(O5:O10<>\"\", ROW(O5:O10)-MIN(ROW(O5:O10))+1), 3))","v":"Zorro"},{"$f":"+VLOOKUP(R7,$A$20:$B$64,2,0)","v":"Ägypter: Isis"},null,6]
[5,{"$f":"+Spiel_Team!E13","v":"Groo"},9,{"$f":"+IF(ISEVEN(F8)=FALSE,\"Team A\", \"Team B\")","v":"Team B"},6,4,"Team B","Groo",null,{"$f":"INDEX($C$5:$C$10,RANDBETWEEN(1,COUNT($C$5:$C$10)))","v":6},0,"",{"$f":"+IF(L8=\"\",\"\",VLOOKUP(N8,$A$20:$B$64,2,0))","v":""},{"$f":"+IF(L8=\"\",\"\",INDEX($A$20:(INDIRECT(\"a$\"&COUNT($A$20:$A$64)+19)), MATCH(LARGE($N$20:(INDIRECT(\"n$\"&COUNT($A$20:$A$64)+19)),V7), $N$20:INDIRECT(\"n$\"&COUNT($A$20:$A$64)+19), 0)))","v":""},"Groo","Griechen: Hades","",null,null,null,null,5]
[6,{"$f":"+Spiel_Team!F13","v":"Marc"},null,{"$f":"+IF(F9=\"\",\"\",IF(ISEVEN(F9)=FALSE,\"Team A\",\"Team B\"))","v":"Team B"},4,6,"Team B","Marc",null,{"$f":"INDEX($C$5:$C$10,RANDBETWEEN(1,COUNT($C$5:$C$10)))","v":7},0,"",{"$f":"+IF(L9=\"\",\"\",VLOOKUP(N9,$A$20:$B$64,2,0))","v":""},{"$f":"+IF(L9=\"\",\"\",INDEX($A$20:(INDIRECT(\"a$\"&COUNT($A$20:$A$64)+19)), MATCH(LARGE($N$20:(INDIRECT(\"n$\"&COUNT($A$20:$A$64)+19)),V8), $N$20:INDIRECT(\"n$\"&COUNT($A$20:$A$64)+19), 0)))","v":""},"Marc","Griechen: Zeus",10,null,null,null,null,4]
[2,{"$f":"+Spiel_Team!G13","v":"Zorro"},null,{"$f":"+IF(F10=\"\",\"\",IF(ISEVEN(F10)=FALSE,\"Team A\",\"Team B\"))","v":"Team B"},10,2,"Team B","Zorro",null,{"$f":"INDEX($C$5:$C$10,RANDBETWEEN(1,COUNT($C$5:$C$10)))","v":4},0,"",{"$f":"+IF(L10=\"\",\"\",VLOOKUP(N10,$A$20:$B$64,2,0))","v":""},{"$f":"+IF(L10=\"\",\"\",INDEX($A$20:(INDIRECT(\"a$\"&COUNT($A$20:$A$64)+19)), MATCH(LARGE($N$20:(INDIRECT(\"n$\"&COUNT($A$20:$A$64)+19)),V9), $N$20:INDIRECT(\"n$\"&COUNT($A$20:$A$64)+19), 0)))","v":""},"Zorro","Ägypter: Isis",8,null,{"$f":"IF(O10=INDEX(O$5:O$10,MATCH(TRUE,O$5:O$10=0)),\"\",\"Neuer Wert\")","v":""}]
[]
[]
[null,null,null,null,null,null,null,null,null,null,null,null,null,null,null,null,null,{"$f":"+INDIRECT(\"c$\"&COUNT(A20:A60))","v":0}]
[null,{"$f":"+B5","v":"The Wolf"},null,{"$f":"+B6","v":"Mike"},null,{"$f":"+B7","v":"Big Boss"},null,{"$f":"+B8","v":"Groo"},null,{"$f":"+B9","v":"Marc"},null,{"$f":"+B10","v":"Zorro"}]
[]
[null,{"$f":"+IF(ISEVEN(COUNT(A5:A10))=FALSE,IF(F5=5,\"aussetzen\",VLOOKUP(F5,$F$5:$G$11,2,0)),VLOOKUP(F5,$F$5:$G$11,2,0))","v":"Team A"},null,{"$f":"+IF(ISEVEN(COUNT(A5:A10))=FALSE,IF(F6=5,\"aussetzen\",VLOOKUP(F6,$F$5:$G$11,2,0)),VLOOKUP(F6,$F$5:$G$11,2,0))","v":"Team A"},null,{"$f":"+IF(ISEVEN(COUNT(A5:A10))=FALSE,IF(F7=5,\"aussetzen\",VLOOKUP(F7,$F$5:$G$11,2,0)),VLOOKUP(F7,$F$5:$G$11,2,0))","v":"Team A"},null,{"$f":"+IF(ISEVEN(COUNT(A5:A10))=FALSE,IF(F8=5,\"aussetzen\",VLOOKUP(F8,$F$5:$G$11,2,0)),VLOOKUP(F8,$F$5:$G$11,2,0))","v":"Team B"},null,{"$f":"+IFERROR(IF(ISEVEN(COUNT(A5:A10))=FALSE,IF(F9=5,\"aussetzen\",VLOOKUP(F9,$F$5:$G$11,2,0)),VLOOKUP(F9,$F$5:$G$11,2,0)),\"\")","v":"Team B"},null,{"$f":"+IFERROR(IF(ISEVEN(COUNT(A5:A10))=FALSE,IF(VLOOKUP(F10,$F$5:$G$11,2,0)=5,\"aussetzen\",VLOOKUP(F10,$F$5:$G$11,2,0)),VLOOKUP(F10,$F$5:$G$11,2,0)),\"\")","v":"Team B"}]
[null,{"$f":"+IF(B16=\"Team A\",VLOOKUP(B14,L5:M10,2,0),VLOOKUP(B14,O5:P10,2,0))","v":"Ägypter: Isis"},null,{"$f":"+IF(D16=\"Team A\",VLOOKUP(D14,L5:M10,2,0),VLOOKUP(D14,O5:P10,2,0))","v":"Griechen: Zeus"},null,{"$f":"+IF(F16=\"Team A\",VLOOKUP(F14,L5:M10,2,0),VLOOKUP(F14,O5:P10,2,0))","v":"Griechen: Hades"},null,{"$f":"+IF(H16=\"Team A\",VLOOKUP(H14,L5:M10,2,0),VLOOKUP(H14,O5:P10,2,0))","v":"Griechen: Hades"},null,{"$f":"+IF(J16=\"Team A\",VLOOKUP(J14,L5:M10,2,0),VLOOKUP(J14,O5:P10,2,0))","v":"Griechen: Zeus"},null,{"$f":"+IF(L16=\"Team A\",VLOOKUP(L14,L5:M10,2,0),VLOOKUP(L14,O5:P10,2,0))","v":"Ägypter: Isis"}]
[]
[null,null,null,null,null,null,null,null,null,null,null,null,null,null,null,null,null,null,null,"Indirekt letzte Zelle Anzahl Völker"]
[{"$f":"+_xlfn.SORTBY(_xlfn.SEQUENCE(COUNTIF(B20:B64,\"*\")),_xlfn.RANDARRAY(COUNTIF(B20:B64,\"*\")))","v":10},{"$f":"+_xlfn._xlws.FILTER($B$70:$O$114,$B$68:$O$68=Spielauswahl!H9)","v":"Griechen: Zeus"},null,{"$f":"+_xlfn._xlws.FILTER($B$70:$O$114,$B$68:$O$68=Spielauswahl!H9)","v":"Griechen: Zeus"},null,{"$f":"+_xlfn._xlws.FILTER($B$70:$O$114,$B$68:$O$68=Spielauswahl!H9)","v":"Griechen: Zeus"},null,{"$f":"+_xlfn._xlws.FILTER($B$70:$O$114,$B$68:$O$68=Spielauswahl!H9)","v":"Griechen: Zeus"},null,{"$f":"+_xlfn._xlws.FILTER($B$70:$O$114,$B$68:$O$68=Spielauswahl!H9)","v":"Griechen: Zeus"},null,{"$f":"+_xlfn._xlws.FILTER($B$70:$O$114,$B$68:$O$68=Spielauswahl!H9)","v":"Griechen: Zeus"},null,{"$f":"+RAND()","v":0.96515430707464933},null,{"$f":"+INDEX($A$20:(INDIRECT(\"a$\"&COUNT($A$20:$A$64)+20)), MATCH(LARGE($N$20:(INDIRECT(\"n$\"&COUNT($A$20:$A$64)+19)),1), $N$20:INDIRECT(\"n$\"&COUNT($A$20:$A$64)+19), 0))","v":10},null,null,null,{"$f":"+INDIRECT(\"n$\"&COUNT($A$20:$A$64)+19)","v":0.20113638693883185}]
[4,"Griechen: Hades",null,"Griechen: Hades",null,"Griechen: Hades",null,"Griechen: Hades",null,"Griechen: Hades",null,"Griechen: Hades",null,{"$f":"+RAND()","v":0.93094073658923815},null,{"$f":"+INDEX($A$20:(INDIRECT(\"a$\"&COUNT($A$20:$A$64)+20)), MATCH(LARGE($N$20:(INDIRECT(\"n$\"&COUNT($A$20:$A$64)+19)),2), $N$20:INDIRECT(\"n$\"&COUNT($A$20:$A$64)+19), 0))","v":8}]
[5,"Griechen: Poseidon",null,"Griechen: Poseidon",null,"Griechen: Poseidon",null,"Griechen: Poseidon",null,"Griechen: Poseidon",null,"Griechen: Poseidon",null,0.89223861684825045,null,{"$f":"+INDEX($A$20:(INDIRECT(\"a$\"&COUNT($A$20:$A$64)+20)), MATCH(LARGE($N$20:(INDIRECT(\"n$\"&COUNT($A$20:$A$64)+19)),3), $N$20:INDIRECT(\"n$\"&COUNT($A$20:$A$64)+19), 0))","v":4},null,null,null,"Zufallsbereich zischen 1 und Anzahl der Völker"]
[2,"Ägypter: Re",null,"Ägypter: Re",null,"Ägypter: Re",null,"Ägypter: Re",null,"Ägypter: Re",null,"Ägypter: Re",null,0.68436284686424464,null,null,null,null,null,{"$f":"+RANDBETWEEN(1,3)","v":2}]
[8,"Ägypter: Isis",null,"Ägypter: Isis",null,"Ägypter: Isis",null,"Ägypter: Isis",null,"Ägypter: Isis",null,"Ägypter: Isis",null,0.9433790321326303]
[9,"Ägypter: Seth",null,"Ägypter: Seth",null,"Ägypter: Seth",null,"Ägypter: Seth",null,"Ägypter: Seth",null,"Ägypter: Seth",null,0.53130863126204375]
[6,"Wikinger: Thor",null,"Wikinger: Thor",null,"Wikinger: Thor",null,"Wikinger: Thor",null,"Wikinger: Thor",null,"Wikinger: Thor",null,0.20479383989368816]
[1,"Wikinger: Odin",null,"Wikinger: Odin",null,"Wikinger: Odin",null,"Wikinger: Odin",null,"Wikinger: Odin",null,"Wikinger: Odin",null,0.69140889679906159]
[7,"Wikinger: Loki",null,"Wikinger: Loki",null,"Wikinger: Loki",null,"Wikinger: Loki",null,"Wikinger: Loki",null,"Wikinger: Loki",null,0.56770472744697809]
[12,"Atlanter: Kronos",null,"Atlanter: Kronos",null,"Atlanter: Kronos",null,"Atlanter: Kronos",null,"Atlanter: Kronos",null,"Atlanter: Kronos",null,9.4153726013020189E-2]
[3,"Atlanter: Uranos",null,"Atlanter: Uranos",null,"Atlanter: Uranos",null,"Atlanter: Uranos",null,"Atlanter: Uranos",null,"Atlanter: Uranos",null,0.84127227121502357]
[11,"Atlanter: Gaia",null,"Atlanter: Gaia",null,"Atlanter: Gaia",null,"Atlanter: Gaia",null,"Atlanter: Gaia",null,"Atlanter: Gaia",null,0.20113638693883185]
[null,0,null,0,null,0,null,0,null,0,null,0,null,0.69395160506324227]
[null,0,null,0,null,0,null,0,null,0,null,0,null,0.99902790141820907]
[null,0,null,0,null,0,null,0,null,0,null,0,null,0.92025841053986823]
[null,0,null,0,null,0,null,0,null,0,null,0,null,0.630901267531642]
[null,0,null,0,null,0,null,0,null,0,null,0,null,0.37894124049193179]
[null,0,null,0,null,0,null,0,null,0,null,0,null,0.47199958079050375]
[null,0,null,0,null,0,null,0,null,0,null,0,null,0.96463335354974022]
[null,0,null,0,null,0,null,0,null,0,null,0,null,0.6381786268042845]
[null,0,null,0,null,0,null,0,null,0,null,0,null,0.61458190542675728]
[null,0,null,0,null,0,null,0,null,0,null,0,null,0.72168354802940893]
[null,0,null,0,null,0,null,0,null,0,null,0,null,0.73473086560710998]
[null,0,null,0,null,0,null,0,null,0,null,0,null,0.60572770518797359]
[null,0,null,0,null,0,null,0,null,0,null,0,null,5.2485569283904132E-2]
[null,0,null,0,null,0,null,0,null,0,null,0,null,0.40090758350597699]
[null,0,null,0,null,0,null,0,null,0,null,0,null,0.10969181882537771]
[null,0,null,0,null,0,null,0,null,0,null,0,null,0.70294187222547289]
[null,0,null,0,null,0,null,0,null,0,null,0,null,0.91156133796746319]
[null,0,null,0,null,0,null,0,null,0,null,0,null,0.30472213511616697]
[null,0,null,0,null,0,null,0,null,0,null,0,null,0.17693515125784631]
[null,0,null,0,null,0,null,0,null,0,null,0,null,0.58144059863319775]
[null,0,null,0,null,0,null,0,null,0,null,0,null,9.4214772874577135E-2]
[null,0,null,0,null,0,null,0,null,0,null,0,null,0.88198702298398601]
[null,0,null,0,null,0,null,0,null,0,null,0,null,0.76914172237893086]
[null,0,null,0,null,0,null,0,null,0,null,0,null,0.630632991532451]
[null,0,null,0,null,0,null,0,null,0,null,0,null,0.46541339370774226]
[null,0,null,0,null,0,null,0,null,0,null,0,null,0.77076837129072406]
[null,0,null,0,null,0,null,0,null,0,null,0,null,0.27837675116890792]
[null,0,null,0,null,0,null,0,null,0,null,0,null,0.81048137356560557]
[null,0,null,0,null,0,null,0,null,0,null,0,null,0.59551857856698232]
[null,0,null,0,null,0,null,0,null,0,null,0,null,0.97464497082874835]
[null,0,null,0,null,0,null,0,null,0,null,0,null,0.47086844628980007]
[null,0,null,0,null,0,null,0,null,0,null,0,null,0.67215165588059089]
[null,0,null,0,null,0,null,0,null,0,null,0,null,0.10095083447045339]
[]
[]
[]
[null,"AoE II",null,"AoE III",null,"AoM",null,"Generals",null,"RA",null,"Yuri"]
[]
[1,"Armenians",1,"Spanier",1,"Griechen: Zeus",1,"AP",1,"Allianz",1,"Amerika"]
[2,"Äthiopier",2,"Russen",2,"Griechen: Hades",2,"IBG",2,"Soviets",2,"Korea"]
[3,"Azteken",3,"Portugiesen",3,"Griechen: Poseidon",3,"WA",3,"Allianz",3,"Frankreich"]
[4,"Bengalis",4,"Osmanen",4,"Ägypter: Re",4,"AP",4,"Soviets",4,"Deutschland"]
[5,"Berber",5,"Deutsche",5,"Ägypter: Isis",5,"IBG",5,"Allianz",5,"Great Britain"]
[6,"Bohemians",6,"Franzosen",6,"Ägypter: Seth",6,"WA",6,"Soviets",6,"Lybien"]
[7,"Britons",7,"Holländer ",7,"Wikinger: Thor",null,null,null,null,7,"Irak"]
[8,"Bulgarians",8,"Briten",8,"Wikinger: Odin",null,null,null,null,8,"Kuba"]
[9,"Burgundians",9,"Azteken",9,"Wikinger: Loki",null,null,null,null,9,"Russland"]
[10,"Burmese",10,"Irokesen",10,"Atlanter: Kronos",null,null,null,null,10,"Yuri"]
[11,"Byzantiner",11,"Sioux",11,"Atlanter: Uranos"]
[12,"Chinesen",12,"Japan ",12,"Atlanter: Gaia"]
[13,"Cumans",13,"China"]
[14,"Dravidians",14,"Indien"]
[15,"Franken"]
[16,"Georgians"]
[17,"Goten"]
[18,"Gurjaras"]
[19,"Hindustanis"]
[20,"Hunnen"]
[21,"Inkas"]
[22,"Italiener"]
[23,"Japaner"]
[24,"Kelten"]
[25,"Khmer"]
[26,"Koreaner"]
[27,"Lithuanians"]
[28,"Magyars"]
[29,"Malay"]
[30,"Malian"]
[31,"Mayans"]
[32,"Mongolen"]
[33,"Perser"]
[34,"Poles"]
[35,"Portugiesen"]
[36,"Romans"]
[37,"Sarazenen"]
[38,"Sicilians"]
[39,"Slawen"]
[40,"Spanier"]
[41,"Tatars"]
[42,"Teutonen"]
[43,"Türken"]
[44,"Vietnamesen"]
[45,"Wikinger"]
[]
[]
[]
[]
[]
[]
[]
[]
[]
[]
[]
[]
[]
[]
[]
[]
[]
[]
[]
[]
[]
[]
[]
[]
[]
[]
[]
[]
[]
[]
[]
[]
[]
[]
[]
[]
[]
[]
[]
[]
[]
[]
[]
[]
["WK"]
["Azteken"]
["Berber"]
["Birmanen"]
["Briten"]
["Byzantiner"]
["Chinesen"]
["Franken"]
["Goten"]
["Hunnen"]
["Inder"]
["Inkas"]
["Italiener"]
["Japaner"]
["Kelten"]
["Khmer"]
["Malaien"]
["Malier"]
["Maya"]
["Mongolen"]
["Perser"]
["Portugiesen"]
["Sarazenen"]
["Slawen"]
["Spanier"]
["Teutonen"]
["Türken"]
["Ungarn"]
["Vietnamesen"]
["Wikinger"]
["Äthiopier"]
["Koreaner"]

{"sheet":"Spielauswahl","index":6,"n_rows":99,"n_cols":8,"rows_kept":99,"cut":false,"hidden":false,"merged":[]}
["Spielauswahl",null,null,null,null,null,null,"Spielauswahl"]
[null,"Spiel"]
[]
[1,"AoE II"]
[2,"AoE III",null,null,null,null,null,"Nächstes Spiel"]
[3,"AoM"]
[4,"RA",null,null,3]
[5,"Yuri"]
[6,"Generals",null,null,null,null,null,{"$f":"+VLOOKUP(INT(E7),A4:B9,2,0)","v":"AoM"}]
[]
[]
[]
[]
[]
[]
[]
[]
[]
[1]
[2]
[5]
[]
[]
[]
[]
[]
[]
[]
[]
[]
[]
[]
[]
[]
[]
[]
[]
[]
[]
[]
[]
[]
[]
[]
[]
[]
[]
[]
[]
[]
[]
[]
[]
[]
[]
[]
[]
[]
[]
[]
[]
[]
[]
[]
[]
[]
[]
[]
[]
[]
[]
[]
[]
[]
[]
[]
[]
[]
[]
[]
[]
[]
[]
[]
[]
[]
[]
[]
[]
[]
[]
[]
[]
[]
[]
[]
[]
[]
[2]

{"sheet":"Grafikauswertung","index":7,"n_rows":0,"n_cols":0,"rows_kept":0,"cut":false,"hidden":false,"merged":[]}

{"sheet":"Auswertung AoE II","index":8,"n_rows":135,"n_cols":31,"rows_kept":135,"cut":false,"hidden":false,"merged":[[1,15,1,23],[1,1,1,10]]}
["AoE II"]
[null,"Völker",null,null,null,null,null,null,null,null,null,null,null,null,null,"Siege / Niederlagen"]
[]
[null,"The Wolf",null,"Mike",null,"Big Boss",null,"Groo",null,"Zorro",null,"Marc",null,"Datum",null,"The Wolf",null,"Mike",null,"Big Boss",null,"Groo",null,"Zorro",null,"Marc",null,"Karte",null,"Spiel Nr. "]
[1,106,"Berb",71,"Burg",111,"Berb",71,"Rom",63,"Rom",57,"Burg","10.06.2026",null,-1,null,1,null,1,null,1,null,-1,null,-1,null,"Zufall",null,4,"AoE II"]
[2,110,"Hun",228,"Hun",325,"Inka",337,"Inka",298,"Sici",204,"Sici",null,null,1,null,-1,null,-1,null,1,null,-1,null,1,null,"Zufall",null,9,"AoE II"]
[3,51,"Berb",91,"Burg",55,"Berb",96,"Groo",13,"Geo",64,"Burg","2026-06-11",null,1,null,-1,null,-1,null,1,null,-1,null,1,null,"Zufall",null,14,"AoE II"]
[4,254,"Khmer",194,"Khmer",247,"Jap",379,"Inka",183,"Jap",211,"Inka",null,null,1,null,-1,null,-1,null,1,null,1,null,-1,null,"Zufall",null,20,"AoE II"]
[5,269,"Port",369,"Cumans",141,"Cumans",441,"Frank",379,"Fran",402,"Port","12.06.2026",null,1,null,1,null,-1,null,1,null,-1,null,-1,null,"Zufall",null,24,"AoE II"]
[6,164,"Byz",183,"Viet",227,"BYz",168,"Viet",null,null,null,null,null,null,-1,null,1,null,1,null,-1,null,null,null,null,null,"Zufall",null,30,"AoE II"]
[7,240,"Sar",205,"Slaw",212,"Sar",115,"Beng",236,"Beng",114,"Slaw","08.08.2026",null,1,null,1,null,-1,null,1,null,-1,null,-1,null,"Zufall",null,33,"AoE II"]
[8,null,null,null,null,null,null,null,null,null,null,null,null,null,null,null,null,null,null,null,null,null,null,null,null,null,null,null,null,null,"AoE II"]
[9,null,null,null,null,null,null,null,null,null,null,null,null,null,null,null,null,null,null,null,null,null,null,null,null,null,null,null,null,null,"AoE II"]
[10,null,null,null,null,null,null,null,null,null,null,null,null,null,null,null,null,null,null,null,null,null,null,null,null,null,null,null,null,null,"AoE II"]
[11,null,null,null,null,null,null,null,null,null,null,null,null,null,null,null,null,null,null,null,null,null,null,null,null,null,null,null,null,null,"AoE II"]
[12,null,null,null,null,null,null,null,null,null,null,null,null,null,null,null,null,null,null,null,null,null,null,null,null,null,null,null,null,null,"AoE II"]
[13,null,null,null,null,null,null,null,null,null,null,null,null,null,null,null,null,null,null,null,null,null,null,null,null,null,null,null,null,null,"AoE II"]
[14,null,null,null,null,null,null,null,null,null,null,null,null,null,null,null,null,null,null,null,null,null,null,null,null,null,null,null,null,null,"AoE II"]
[15,null,null,null,null,null,null,null,null,null,null,null,null,null,null,null,null,null,null,null,null,null,null,null,null,null,null,null,null,null,"AoE II"]
[16,null,null,null,null,null,null,null,null,null,null,null,null,null,null,null,null,null,null,null,null,null,null,null,null,null,null,null,null,null,"AoE II"]
[17,null,null,null,null,null,null,null,null,null,null,null,null,null,null,null,null,null,null,null,null,null,null,null,null,null,null,null,null,null,"AoE II"]
[18,null,null,null,null,null,null,null,null,null,null,null,null,null,null,null,null,null,null,null,null,null,null,null,null,null,null,null,null,null,"AoE II"]
[19,null,null,null,null,null,null,null,null,null,null,null,null,null,null,null,null,null,null,null,null,null,null,null,null,null,null,null,null,null,"AoE II"]
[20,null,null,null,null,null,null,null,null,null,null,null,null,null,null,null,null,null,null,null,null,null,null,null,null,null,null,null,null,null,"AoE II"]
[21,null,null,null,null,null,null,null,null,null,null,null,null,null,null,null,null,null,null,null,null,null,null,null,null,null,null,null,null,null,"AoE II"]
[22,null,null,null,null,null,null,null,null,null,null,null,null,null,null,null,null,null,null,null,null,null,null,null,null,null,null,null,null,null,"AoE II"]
[23,null,null,null,null,null,null,null,null,null,null,null,null,null,null,null,null,null,null,null,null,null,null,null,null,null,null,null,null,null,"AoE II"]
[24,null,null,null,null,null,null,null,null,null,null,null,null,null,null,null,null,null,null,null,null,null,null,null,null,null,null,null,null,null,"AoE II"]
[25,null,null,null,null,null,null,null,null,null,null,null,null,null,null,null,null,null,null,null,null,null,null,null,null,null,null,null,null,null,"AoE II"]
[26,null,null,null,null,null,null,null,null,null,null,null,null,null,null,null,null,null,null,null,null,null,null,null,null,null,null,null,null,null,"AoE II"]
[27,null,null,null,null,null,null,null,null,null,null,null,null,null,null,null,null,null,null,null,null,null,null,null,null,null,null,null,null,null,"AoE II"]
[28,null,null,null,null,null,null,null,null,null,null,null,null,null,null,null,null,null,null,null,null,null,null,null,null,null,null,null,null,null,"AoE II"]
[29,null,null,null,null,null,null,null,null,null,null,null,null,null,null,null,null,null,null,null,null,null,null,null,null,null,null,null,null,null,"AoE II"]
[30,null,null,null,null,null,null,null,null,null,null,null,null,null,null,null,null,null,null,null,null,null,null,null,null,null,null,null,null,null,"AoE II"]
[31,null,null,null,null,null,null,null,null,null,null,null,null,null,null,null,null,null,null,null,null,null,null,null,null,null,null,null,null,null,"AoE II"]
[32,null,null,null,null,null,null,null,null,null,null,null,null,null,null,null,null,null,null,null,null,null,null,null,null,null,null,null,null,null,"AoE II"]
[33,null,null,null,null,null,null,null,null,null,null,null,null,null,null,null,null,null,null,null,null,null,null,null,null,null,null,null,null,null,"AoE II"]
[34,null,null,null,null,null,null,null,null,null,null,null,null,null,null,null,null,null,null,null,null,null,null,null,null,null,null,null,null,null,"AoE II"]
[35,null,null,null,null,null,null,null,null,null,null,null,null,null,null,null,null,null,null,null,null,null,null,null,null,null,null,null,null,null,"AoE II"]
[36,null,null,null,null,null,null,null,null,null,null,null,null,null,null,null,null,null,null,null,null,null,null,null,null,null,null,null,null,null,"AoE II"]
[37,null,null,null,null,null,null,null,null,null,null,null,null,null,null,null,null,null,null,null,null,null,null,null,null,null,null,null,null,null,"AoE II"]
[38,null,null,null,null,null,null,null,null,null,null,null,null,null,null,null,null,null,null,null,null,null,null,null,null,null,null,null,null,null,"AoE II"]
[39,null,null,null,null,null,null,null,null,null,null,null,null,null,null,null,null,null,null,null,null,null,null,null,null,null,null,null,null,null,"AoE II"]
[40,null,null,null,null,null,null,null,null,null,null,null,null,null,null,null,null,null,null,null,null,null,null,null,null,null,null,null,null,null,"AoE II"]
[41,null,null,null,null,null,null,null,null,null,null,null,null,null,null,null,null,null,null,null,null,null,null,null,null,null,null,null,null,null,"AoE II"]
[42,null,null,null,null,null,null,null,null,null,null,null,null,null,null,null,null,null,null,null,null,null,null,null,null,null,null,null,null,null,"AoE II"]
[43,null,null,null,null,null,null,null,null,null,null,null,null,null,null,null,null,null,null,null,null,null,null,null,null,null,null,null,null,null,"AoE II"]
[44,null,null,null,null,null,null,null,null,null,null,null,null,null,null,null,null,null,null,null,null,null,null,null,null,null,null,null,null,null,"AoE II"]
[45,null,null,null,null,null,null,null,null,null,null,null,null,null,null,null,null,null,null,null,null,null,null,null,null,null,null,null,null,null,"AoE II"]
[46,null,null,null,null,null,null,null,null,null,null,null,null,null,null,null,null,null,null,null,null,null,null,null,null,null,null,null,null,null,"AoE II"]
[47,null,null,null,null,null,null,null,null,null,null,null,null,null,null,null,null,null,null,null,null,null,null,null,null,null,null,null,null,null,"AoE II"]
[48,null,null,null,null,null,null,null,null,null,null,null,null,null,null,null,null,null,null,null,null,null,null,null,null,null,null,null,null,null,"AoE II"]
[49,null,null,null,null,null,null,null,null,null,null,null,null,null,null,null,null,null,null,null,null,null,null,null,null,null,null,null,null,null,"AoE II"]
[50,null,null,null,null,null,null,null,null,null,null,null,null,null,null,null,null,null,null,null,null,null,null,null,null,null,null,null,null,null,"AoE II"]
[51,null,null,null,null,null,null,null,null,null,null,null,null,null,null,null,null,null,null,null,null,null,null,null,null,null,null,null,null,null,"AoE II"]
[52,null,null,null,null,null,null,null,null,null,null,null,null,null,null,null,null,null,null,null,null,null,null,null,null,null,null,null,null,null,"AoE II"]
[53,null,null,null,null,null,null,null,null,null,null,null,null,null,null,null,null,null,null,null,null,null,null,null,null,null,null,null,null,null,"AoE II"]
[54,null,null,null,null,null,null,null,null,null,null,null,null,null,null,null,null,null,null,null,null,null,null,null,null,null,null,null,null,null,"AoE II"]
[55,null,null,null,null,null,null,null,null,null,null,null,null,null,null,null,null,null,null,null,null,null,null,null,null,null,null,null,null,null,"AoE II"]
[56,null,null,null,null,null,null,null,null,null,null,null,null,null,null,null,null,null,null,null,null,null,null,null,null,null,null,null,null,null,"AoE II"]
[57,null,null,null,null,null,null,null,null,null,null,null,null,null,null,null,null,null,null,null,null,null,null,null,null,null,null,null,null,null,"AoE II"]
[58,null,null,null,null,null,null,null,null,null,null,null,null,null,null,null,null,null,null,null,null,null,null,null,null,null,null,null,null,null,"AoE II"]
[59,null,null,null,null,null,null,null,null,null,null,null,null,null,null,null,null,null,null,null,null,null,null,null,null,null,null,null,null,null,"AoE II"]
[60,null,null,null,null,null,null,null,null,null,null,null,null,null,null,null,null,null,null,null,null,null,null,null,null,null,null,null,null,null,"AoE II"]
[61,null,null,null,null,null,null,null,null,null,null,null,null,null,null,null,null,null,null,null,null,null,null,null,null,null,null,null,null,null,"AoE II"]
[62,null,null,null,null,null,null,null,null,null,null,null,null,null,null,null,null,null,null,null,null,null,null,null,null,null,null,null,null,null,"AoE II"]
[63,null,null,null,null,null,null,null,null,null,null,null,null,null,null,null,null,null,null,null,null,null,null,null,null,null,null,null,null,null,"AoE II"]
[64,null,null,null,null,null,null,null,null,null,null,null,null,null,null,null,null,null,null,null,null,null,null,null,null,null,null,null,null,null,"AoE II"]
[65,null,null,null,null,null,null,null,null,null,null,null,null,null,null,null,null,null,null,null,null,null,null,null,null,null,null,null,null,null,"AoE II"]
[66,null,null,null,null,null,null,null,null,null,null,null,null,null,null,null,null,null,null,null,null,null,null,null,null,null,null,null,null,null,"AoE II"]
[67,null,null,null,null,null,null,null,null,null,null,null,null,null,null,null,null,null,null,null,null,null,null,null,null,null,null,null,null,null,"AoE II"]
[68,null,null,null,null,null,null,null,null,null,null,null,null,null,null,null,null,null,null,null,null,null,null,null,null,null,null,null,null,null,"AoE II"]
[69,null,null,null,null,null,null,null,null,null,null,null,null,null,null,null,null,null,null,null,null,null,null,null,null,null,null,null,null,null,"AoE II"]
[70,null,null,null,null,null,null,null,null,null,null,null,null,null,null,null,null,null,null,null,null,null,null,null,null,null,null,null,null,null,"AoE II"]
[71,null,null,null,null,null,null,null,null,null,null,null,null,null,null,null,null,null,null,null,null,null,null,null,null,null,null,null,null,null,"AoE II"]
[72,null,null,null,null,null,null,null,null,null,null,null,null,null,null,null,null,null,null,null,null,null,null,null,null,null,null,null,null,null,"AoE II"]
[73,null,null,null,null,null,null,null,null,null,null,null,null,null,null,null,null,null,null,null,null,null,null,null,null,null,null,null,null,null,"AoE II"]
[74,null,null,null,null,null,null,null,null,null,null,null,null,null,null,null,null,null,null,null,null,null,null,null,null,null,null,null,null,null,"AoE II"]
[75,null,null,null,null,null,null,null,null,null,null,null,null,null,null,null,null,null,null,null,null,null,null,null,null,null,null,null,null,null,"AoE II"]
[76,null,null,null,null,null,null,null,null,null,null,null,null,null,null,null,null,null,null,null,null,null,null,null,null,null,null,null,null,null,"AoE II"]
[77,null,null,null,null,null,null,null,null,null,null,null,null,null,null,null,null,null,null,null,null,null,null,null,null,null,null,null,null,null,"AoE II"]
[78,null,null,null,null,null,null,null,null,null,null,null,null,null,null,null,null,null,null,null,null,null,null,null,null,null,null,null,null,null,"AoE II"]
[79,null,null,null,null,null,null,null,null,null,null,null,null,null,null,null,null,null,null,null,null,null,null,null,null,null,null,null,null,null,"AoE II"]
[80,null,null,null,null,null,null,null,null,null,null,null,null,null,null,null,null,null,null,null,null,null,null,null,null,null,null,null,null,null,"AoE II"]
[81,null,null,null,null,null,null,null,null,null,null,null,null,null,null,null,null,null,null,null,null,null,null,null,null,null,null,null,null,null,"AoE II"]
[82,null,null,null,null,null,null,null,null,null,null,null,null,null,null,null,null,null,null,null,null,null,null,null,null,null,null,null,null,null,"AoE II"]
[83,null,null,null,null,null,null,null,null,null,null,null,null,null,null,null,null,null,null,null,null,null,null,null,null,null,null,null,null,null,"AoE II"]
[84,null,null,null,null,null,null,null,null,null,null,null,null,null,null,null,null,null,null,null,null,null,null,null,null,null,null,null,null,null,"AoE II"]
[85,null,null,null,null,null,null,null,null,null,null,null,null,null,null,null,null,null,null,null,null,null,null,null,null,null,null,null,null,null,"AoE II"]
[86,null,null,null,null,null,null,null,null,null,null,null,null,null,null,null,null,null,null,null,null,null,null,null,null,null,null,null,null,null,"AoE II"]
[87,null,null,null,null,null,null,null,null,null,null,null,null,null,null,null,null,null,null,null,null,null,null,null,null,null,null,null,null,null,"AoE II"]
[88,null,null,null,null,null,null,null,null,null,null,null,null,null,null,null,null,null,null,null,null,null,null,null,null,null,null,null,null,null,"AoE II"]
[89,null,null,null,null,null,null,null,null,null,null,null,null,null,null,null,null,null,null,null,null,null,null,null,null,null,null,null,null,null,"AoE II"]
[90,null,null,null,null,null,null,null,null,null,null,null,null,null,null,null,null,null,null,null,null,null,null,null,null,null,null,null,null,null,"AoE II"]
[91,null,null,null,null,null,null,null,null,null,null,null,null,null,null,null,null,null,null,null,null,null,null,null,null,null,null,null,null,null,"AoE II"]
[92,null,null,null,null,null,null,null,null,null,null,null,null,null,null,null,null,null,null,null,null,null,null,null,null,null,null,null,null,null,"AoE II"]
[93,null,null,null,null,null,null,null,null,null,null,null,null,null,null,null,null,null,null,null,null,null,null,null,null,null,null,null,null,null,"AoE II"]
[94,null,null,null,null,null,null,null,null,null,null,null,null,null,null,null,null,null,null,null,null,null,null,null,null,null,null,null,null,null,"AoE II"]
[95,null,null,null,null,null,null,null,null,null,null,null,null,null,null,null,null,null,null,null,null,null,null,null,null,null,null,null,null,null,"AoE II"]
[96,null,null,null,null,null,null,null,null,null,null,null,null,null,null,null,null,null,null,null,null,null,null,null,null,null,null,null,null,null,"AoE II"]
[97,null,null,null,null,null,null,null,null,null,null,null,null,null,null,null,null,null,null,null,null,null,null,null,null,null,null,null,null,null,"AoE II"]
[98,null,null,null,null,null,null,null,null,null,null,null,null,null,null,null,null,null,null,null,null,null,null,null,null,null,null,null,null,null,"AoE II"]
[99,null,null,null,null,null,null,null,null,null,null,null,null,null,null,null,null,null,null,null,null,null,null,null,null,null,null,null,null,null,"AoE II"]
[100,null,null,null,null,null,null,null,null,null,null,null,null,null,null,null,null,null,null,null,null,null,null,null,null,null,null,null,null,null,"AoE II"]
[]
[null,{"$f":"+COUNT(AD5:AD104)","v":7}]
[]
[]
[]
[]
[]
[]
[]
[]
[]
[]
[]
[]
[]
[]
[]
[]
[]
[]
[]
[null,null,null,null,null,null,null,null,null,null,null,null,null,null,null,null,null,null,null,null,null,null,null,null,null,null,null,"Harmonisches Mittel",{"$f":"HARMEAN(IF(B135=0,1,B135),IF(D135=0,1,D135),IF(F135=0,1,F1357),IF(H135=0,1,H135),IF(J135=0,1,J135))","v":6.72}]
[]
[]
[]
[]
[]
[]
[]
[]
[null,{"$f":"+COUNT(B5:B104)","v":7},null,{"$f":"+COUNT(D5:D104)","v":7},null,{"$f":"+COUNT(F5:F104)","v":7},null,{"$f":"+COUNT(H5:H104)","v":7},null,{"$f":"+COUNT(J5:J104)","v":6}]

{"sheet":"Auswertung AoE III","index":9,"n_rows":106,"n_cols":31,"rows_kept":106,"cut":false,"hidden":false,"merged":[[1,1,1,10],[1,15,1,23]]}
["AoE III"]
[null,"Völker",null,null,null,null,null,null,null,null,null,null,null,null,null,"Siege / Niederlagen"]
[]
[null,"The Wolf",null,"Mike",null,"Big Boss",null,"Groo",null,"Zorro",null,"Marc",null,"Datum",null,"The Wolf",null,"Mike",null,"Big Boss",null,"Groo",null,"Zorro",null,"Marc",null,"Karte",null,"Spiel Nr. "]
[1,206,"Sioux",235,"Jap",315,"Jap",293,"Port",184,"Sioux",360,"Port","10.06.2026",null,1,null,1,null,-1,null,-1,null,-1,null,1,null,"Zufall",null,2,"AoE III"]
[2,198,"Spa",108,"Chi",341,"Port",257,"Port",253,"Chi",230,"Spa","2026-06-11",null,-1,null,-1,null,1,null,-1,null,1,null,1,null,"Zufall",null,18,"AoE III"]
[3,446,"Osm",182,"Spa",382,"Chi",343,"Spa",677,"Osm",418,"Chi",null,null,-1,null,-1,null,1,null,1,null,1,null,-1,null,"Zufall",null,22,"AoE III"]
[4,276,"Holl",132,"Osm",198,"GB",186,"Holl",176,"GB",106,"Osm","08.08.2026",null,1,null,1,null,-1,null,-1,null,1,null,-1,null,"Zufall",null,31,"AoE III"]
[5,302,"Chi",438,"Chi",346,"Azt",291,"Deu",222,"Azt",199,"Deu",null,null,1,null,-1,null,1,null,1,null,-1,null,-1,null,"Zufall",null,36,"AoE III"]
[6,null,null,null,null,null,null,null,null,null,null,null,null,null,null,null,null,null,null,null,null,null,null,null,null,null,null,null,null,null,"AoE III"]
[7,null,null,null,null,null,null,null,null,null,null,null,null,null,null,null,null,null,null,null,null,null,null,null,null,null,null,null,null,null,"AoE III"]
[8,null,null,null,null,null,null,null,null,null,null,null,null,null,null,null,null,null,null,null,null,null,null,null,null,null,null,null,null,null,"AoE III"]
[9,null,null,null,null,null,null,null,null,null,null,null,null,null,null,null,null,null,null,null,null,null,null,null,null,null,null,null,null,null,"AoE III"]
[10,null,null,null,null,null,null,null,null,null,null,null,null,null,null,null,null,null,null,null,null,null,null,null,null,null,null,null,null,null,"AoE III"]
[11,null,null,null,null,null,null,null,null,null,null,null,null,null,null,null,null,null,null,null,null,null,null,null,null,null,null,null,null,null,"AoE III"]
[12,null,null,null,null,null,null,null,null,null,null,null,null,null,null,null,null,null,null,null,null,null,null,null,null,null,null,null,null,null,"AoE III"]
[13,null,null,null,null,null,null,null,null,null,null,null,null,null,null,null,null,null,null,null,null,null,null,null,null,null,null,null,null,null,"AoE III"]
[14,null,null,null,null,null,null,null,null,null,null,null,null,null,null,null,null,null,null,null,null,null,null,null,null,null,null,null,null,null,"AoE III"]
[15,null,null,null,null,null,null,null,null,null,null,null,null,null,null,null,null,null,null,null,null,null,null,null,null,null,null,null,null,null,"AoE III"]
[16,null,null,null,null,null,null,null,null,null,null,null,null,null,null,null,null,null,null,null,null,null,null,null,null,null,null,null,null,null,"AoE III"]
[17,null,null,null,null,null,null,null,null,null,null,null,null,null,null,null,null,null,null,null,null,null,null,null,null,null,null,null,null,null,"AoE III"]
[18,null,null,null,null,null,null,null,null,null,null,null,null,null,null,null,null,null,null,null,null,null,null,null,null,null,null,null,null,null,"AoE III"]
[19,null,null,null,null,null,null,null,null,null,null,null,null,null,null,null,null,null,null,null,null,null,null,null,null,null,null,null,null,null,"AoE III"]
[20,null,null,null,null,null,null,null,null,null,null,null,null,null,null,null,null,null,null,null,null,null,null,null,null,null,null,null,null,null,"AoE III"]
[21,null,null,null,null,null,null,null,null,null,null,null,null,null,null,null,null,null,null,null,null,null,null,null,null,null,null,null,null,null,"AoE III"]
[22,null,null,null,null,null,null,null,null,null,null,null,null,null,null,null,null,null,null,null,null,null,null,null,null,null,null,null,null,null,"AoE III"]
[23,null,null,null,null,null,null,null,null,null,null,null,null,null,null,null,null,null,null,null,null,null,null,null,null,null,null,null,null,null,"AoE III"]
[24,null,null,null,null,null,null,null,null,null,null,null,null,null,null,null,null,null,null,null,null,null,null,null,null,null,null,null,null,null,"AoE III"]
[25,null,null,null,null,null,null,null,null,null,null,null,null,null,null,null,null,null,null,null,null,null,null,null,null,null,null,null,null,null,"AoE III"]
[26,null,null,null,null,null,null,null,null,null,null,null,null,null,null,null,null,null,null,null,null,null,null,null,null,null,null,null,null,null,"AoE III"]
[27,null,null,null,null,null,null,null,null,null,null,null,null,null,null,null,null,null,null,null,null,null,null,null,null,null,null,null,null,null,"AoE III"]
[28,null,null,null,null,null,null,null,null,null,null,null,null,null,null,null,null,null,null,null,null,null,null,null,null,null,null,null,null,null,"AoE III"]
[29,null,null,null,null,null,null,null,null,null,null,null,null,null,null,null,null,null,null,null,null,null,null,null,null,null,null,null,null,null,"AoE III"]
[30,null,null,null,null,null,null,null,null,null,null,null,null,null,null,null,null,null,null,null,null,null,null,null,null,null,null,null,null,null,"AoE III"]
[31,null,null,null,null,null,null,null,null,null,null,null,null,null,null,null,null,null,null,null,null,null,null,null,null,null,null,null,null,null,"AoE III"]
[32,null,null,null,null,null,null,null,null,null,null,null,null,null,null,null,null,null,null,null,null,null,null,null,null,null,null,null,null,null,"AoE III"]
[33,null,null,null,null,null,null,null,null,null,null,null,null,null,null,null,null,null,null,null,null,null,null,null,null,null,null,null,null,null,"AoE III"]
[34,null,null,null,null,null,null,null,null,null,null,null,null,null,null,null,null,null,null,null,null,null,null,null,null,null,null,null,null,null,"AoE III"]
[35,null,null,null,null,null,null,null,null,null,null,null,null,null,null,null,null,null,null,null,null,null,null,null,null,null,null,null,null,null,"AoE III"]
[36,null,null,null,null,null,null,null,null,null,null,null,null,null,null,null,null,null,null,null,null,null,null,null,null,null,null,null,null,null,"AoE III"]
[37,null,null,null,null,null,null,null,null,null,null,null,null,null,null,null,null,null,null,null,null,null,null,null,null,null,null,null,null,null,"AoE III"]
[38,null,null,null,null,null,null,null,null,null,null,null,null,null,null,null,null,null,null,null,null,null,null,null,null,null,null,null,null,null,"AoE III"]
[39,null,null,null,null,null,null,null,null,null,null,null,null,null,null,null,null,null,null,null,null,null,null,null,null,null,null,null,null,null,"AoE III"]
[40,null,null,null,null,null,null,null,null,null,null,null,null,null,null,null,null,null,null,null,null,null,null,null,null,null,null,null,null,null,"AoE III"]
[41,null,null,null,null,null,null,null,null,null,null,null,null,null,null,null,null,null,null,null,null,null,null,null,null,null,null,null,null,null,"AoE III"]
[42,null,null,null,null,null,null,null,null,null,null,null,null,null,null,null,null,null,null,null,null,null,null,null,null,null,null,null,null,null,"AoE III"]
[43,null,null,null,null,null,null,null,null,null,null,null,null,null,null,null,null,null,null,null,null,null,null,null,null,null,null,null,null,null,"AoE III"]
[44,null,null,null,null,null,null,null,null,null,null,null,null,null,null,null,null,null,null,null,null,null,null,null,null,null,null,null,null,null,"AoE III"]
[45,null,null,null,null,null,null,null,null,null,null,null,null,null,null,null,null,null,null,null,null,null,null,null,null,null,null,null,null,null,"AoE III"]
[46,null,null,null,null,null,null,null,null,null,null,null,null,null,null,null,null,null,null,null,null,null,null,null,null,null,null,null,null,null,"AoE III"]
[47,null,null,null,null,null,null,null,null,null,null,null,null,null,null,null,null,null,null,null,null,null,null,null,null,null,null,null,null,null,"AoE III"]
[48,null,null,null,null,null,null,null,null,null,null,null,null,null,null,null,null,null,null,null,null,null,null,null,null,null,null,null,null,null,"AoE III"]
[49,null,null,null,null,null,null,null,null,null,null,null,null,null,null,null,null,null,null,null,null,null,null,null,null,null,null,null,null,null,"AoE III"]
[50,null,null,null,null,null,null,null,null,null,null,null,null,null,null,null,null,null,null,null,null,null,null,null,null,null,null,null,null,null,"AoE III"]
[51,null,null,null,null,null,null,null,null,null,null,null,null,null,null,null,null,null,null,null,null,null,null,null,null,null,null,null,null,null,"AoE III"]
[52,null,null,null,null,null,null,null,null,null,null,null,null,null,null,null,null,null,null,null,null,null,null,null,null,null,null,null,null,null,"AoE III"]
[53,null,null,null,null,null,null,null,null,null,null,null,null,null,null,null,null,null,null,null,null,null,null,null,null,null,null,null,null,null,"AoE III"]
[54,null,null,null,null,null,null,null,null,null,null,null,null,null,null,null,null,null,null,null,null,null,null,null,null,null,null,null,null,null,"AoE III"]
[55,null,null,null,null,null,null,null,null,null,null,null,null,null,null,null,null,null,null,null,null,null,null,null,null,null,null,null,null,null,"AoE III"]
[56,null,null,null,null,null,null,null,null,null,null,null,null,null,null,null,null,null,null,null,null,null,null,null,null,null,null,null,null,null,"AoE III"]
[57,null,null,null,null,null,null,null,null,null,null,null,null,null,null,null,null,null,null,null,null,null,null,null,null,null,null,null,null,null,"AoE III"]
[58,null,null,null,null,null,null,null,null,null,null,null,null,null,null,null,null,null,null,null,null,null,null,null,null,null,null,null,null,null,"AoE III"]
[59,null,null,null,null,null,null,null,null,null,null,null,null,null,null,null,null,null,null,null,null,null,null,null,null,null,null,null,null,null,"AoE III"]
[60,null,null,null,null,null,null,null,null,null,null,null,null,null,null,null,null,null,null,null,null,null,null,null,null,null,null,null,null,null,"AoE III"]
[61,null,null,null,null,null,null,null,null,null,null,null,null,null,null,null,null,null,null,null,null,null,null,null,null,null,null,null,null,null,"AoE III"]
[62,null,null,null,null,null,null,null,null,null,null,null,null,null,null,null,null,null,null,null,null,null,null,null,null,null,null,null,null,null,"AoE III"]
[63,null,null,null,null,null,null,null,null,null,null,null,null,null,null,null,null,null,null,null,null,null,null,null,null,null,null,null,null,null,"AoE III"]
[64,null,null,null,null,null,null,null,null,null,null,null,null,null,null,null,null,null,null,null,null,null,null,null,null,null,null,null,null,null,"AoE III"]
[65,null,null,null,null,null,null,null,null,null,null,null,null,null,null,null,null,null,null,null,null,null,null,null,null,null,null,null,null,null,"AoE III"]
[66,null,null,null,null,null,null,null,null,null,null,null,null,null,null,null,null,null,null,null,null,null,null,null,null,null,null,null,null,null,"AoE III"]
[67,null,null,null,null,null,null,null,null,null,null,null,null,null,null,null,null,null,null,null,null,null,null,null,null,null,null,null,null,null,"AoE III"]
[68,null,null,null,null,null,null,null,null,null,null,null,null,null,null,null,null,null,null,null,null,null,null,null,null,null,null,null,null,null,"AoE III"]
[69,null,null,null,null,null,null,null,null,null,null,null,null,null,null,null,null,null,null,null,null,null,null,null,null,null,null,null,null,null,"AoE III"]
[70,null,null,null,null,null,null,null,null,null,null,null,null,null,null,null,null,null,null,null,null,null,null,null,null,null,null,null,null,null,"AoE III"]
[71,null,null,null,null,null,null,null,null,null,null,null,null,null,null,null,null,null,null,null,null,null,null,null,null,null,null,null,null,null,"AoE III"]
[72,null,null,null,null,null,null,null,null,null,null,null,null,null,null,null,null,null,null,null,null,null,null,null,null,null,null,null,null,null,"AoE III"]
[73,null,null,null,null,null,null,null,null,null,null,null,null,null,null,null,null,null,null,null,null,null,null,null,null,null,null,null,null,null,"AoE III"]
[74,null,null,null,null,null,null,null,null,null,null,null,null,null,null,null,null,null,null,null,null,null,null,null,null,null,null,null,null,null,"AoE III"]
[75,null,null,null,null,null,null,null,null,null,null,null,null,null,null,null,null,null,null,null,null,null,null,null,null,null,null,null,null,null,"AoE III"]
[76,null,null,null,null,null,null,null,null,null,null,null,null,null,null,null,null,null,null,null,null,null,null,null,null,null,null,null,null,null,"AoE III"]
[77,null,null,null,null,null,null,null,null,null,null,null,null,null,null,null,null,null,null,null,null,null,null,null,null,null,null,null,null,null,"AoE III"]
[78,null,null,null,null,null,null,null,null,null,null,null,null,null,null,null,null,null,null,null,null,null,null,null,null,null,null,null,null,null,"AoE III"]
[79,null,null,null,null,null,null,null,null,null,null,null,null,null,null,null,null,null,null,null,null,null,null,null,null,null,null,null,null,null,"AoE III"]
[80,null,null,null,null,null,null,null,null,null,null,null,null,null,null,null,null,null,null,null,null,null,null,null,null,null,null,null,null,null,"AoE III"]
[81,null,null,null,null,null,null,null,null,null,null,null,null,null,null,null,null,null,null,null,null,null,null,null,null,null,null,null,null,null,"AoE III"]
[82,null,null,null,null,null,null,null,null,null,null,null,null,null,null,null,null,null,null,null,null,null,null,null,null,null,null,null,null,null,"AoE III"]
[83,null,null,null,null,null,null,null,null,null,null,null,null,null,null,null,null,null,null,null,null,null,null,null,null,null,null,null,null,null,"AoE III"]
[84,null,null,null,null,null,null,null,null,null,null,null,null,null,null,null,null,null,null,null,null,null,null,null,null,null,null,null,null,null,"AoE III"]
[85,null,null,null,null,null,null,null,null,null,null,null,null,null,null,null,null,null,null,null,null,null,null,null,null,null,null,null,null,null,"AoE III"]
[86,null,null,null,null,null,null,null,null,null,null,null,null,null,null,null,null,null,null,null,null,null,null,null,null,null,null,null,null,null,"AoE III"]
[87,null,null,null,null,null,null,null,null,null,null,null,null,null,null,null,null,null,null,null,null,null,null,null,null,null,null,null,null,null,"AoE III"]
[88,null,null,null,null,null,null,null,null,null,null,null,null,null,null,null,null,null,null,null,null,null,null,null,null,null,null,null,null,null,"AoE III"]
[89,null,null,null,null,null,null,null,null,null,null,null,null,null,null,null,null,null,null,null,null,null,null,null,null,null,null,null,null,null,"AoE III"]
[90,null,null,null,null,null,null,null,null,null,null,null,null,null,null,null,null,null,null,null,null,null,null,null,null,null,null,null,null,null,"AoE III"]
[91,null,null,null,null,null,null,null,null,null,null,null,null,null,null,null,null,null,null,null,null,null,null,null,null,null,null,null,null,null,"AoE III"]
[92,null,null,null,null,null,null,null,null,null,null,null,null,null,null,null,null,null,null,null,null,null,null,null,null,null,null,null,null,null,"AoE III"]
[93,null,null,null,null,null,null,null,null,null,null,null,null,null,null,null,null,null,null,null,null,null,null,null,null,null,null,null,null,null,"AoE III"]
[94,null,null,null,null,null,null,null,null,null,null,null,null,null,null,null,null,null,null,null,null,null,null,null,null,null,null,null,null,null,"AoE III"]
[95,null,null,null,null,null,null,null,null,null,null,null,null,null,null,null,null,null,null,null,null,null,null,null,null,null,null,null,null,null,"AoE III"]
[96,null,null,null,null,null,null,null,null,null,null,null,null,null,null,null,null,null,null,null,null,null,null,null,null,null,null,null,null,null,"AoE III"]
[97,null,null,null,null,null,null,null,null,null,null,null,null,null,null,null,null,null,null,null,null,null,null,null,null,null,null,null,null,null,"AoE III"]
[98,null,null,null,null,null,null,null,null,null,null,null,null,null,null,null,null,null,null,null,null,null,null,null,null,null,null,null,null,null,"AoE III"]
[99,null,null,null,null,null,null,null,null,null,null,null,null,null,null,null,null,null,null,null,null,null,null,null,null,null,null,null,null,null,"AoE III"]
[100,null,null,null,null,null,null,null,null,null,null,null,null,null,null,null,null,null,null,null,null,null,null,null,null,null,null,null,null,null,"AoE III"]
[]
[null,{"$f":"+COUNT(AD5:AD104)","v":5}]

{"sheet":"Auswertung AoM","index":10,"n_rows":106,"n_cols":31,"rows_kept":106,"cut":false,"hidden":false,"merged":[[1,1,1,10],[1,15,1,23]]}
["AoM"]
[null,"Völker",null,null,null,null,null,null,null,null,null,null,null,null,null,"Siege / Niederlagen"]
[]
[null,"The Wolf",null,"Mike",null,"Big Boss",null,"Groo",null,"Zorro",null,"Marc",null,"Datum",null,"The Wolf",null,"Mike",null,"Big Boss",null,"Groo",null,"Zorro",null,"Marc",null,"Karte",null,"Spiel Nr. "]
[1,44,"Zeus",6,"Kronos",15,"Odin",30,"Kronos",38,"Zeus",11,"Odin","10.06.2026",null,1,null,1,null,1,null,-1,null,-1,null,-1,null,"Zufall",null,5,"AoM"]
[2,71,"Isis",41,"Re",37,"Thor",74,"Re",46,"Thor",55,"Isis",null,null,1,null,1,null,1,null,-1,null,-1,null,-1,null,"Zufall",null,10,"AoM"]
[3,120,"Re",87,"Uranos",78,"Re",49,"Gaia",62,"Gaia",53,"Uranos","2026-06-11",null,1,null,1,null,-1,null,1,null,-1,null,-1,null,"Zufall",null,15,"AoM"]
[4,402,"Zeus",353,"Gaia",null,null,372,"Gaia",174,"Zeus",null,null,null,null,1,null,-1,null,null,null,1,null,-1,null,null,null,"Zufall",null,23,"AoM"]
[5,305,"Thor",477,"Zeus",192,"Thor",502,"Zeus",null,null,null,null,"12.06.2026",null,-1,null,1,null,1,null,-1,null,null,null,null,null,"Zufall",null,27,"AoM"]
[6,382,"Odin",556,"Zeus",182,"Re",424,"Odin",178,"Zeus",342,"Re","08.08.2026",null,-1,null,1,null,1,null,1,null,-1,null,-1,null,"Zufall",null,37,"AoM"]
[7,null,null,null,null,null,null,null,null,null,null,null,null,null,null,null,null,null,null,null,null,null,null,null,null,null,null,null,null,null,"AoM"]
[8,null,null,null,null,null,null,null,null,null,null,null,null,null,null,null,null,null,null,null,null,null,null,null,null,null,null,null,null,null,"AoM"]
[9,null,null,null,null,null,null,null,null,null,null,null,null,null,null,null,null,null,null,null,null,null,null,null,null,null,null,null,null,null,"AoM"]
[10,null,null,null,null,null,null,null,null,null,null,null,null,null,null,null,null,null,null,null,null,null,null,null,null,null,null,null,null,null,"AoM"]
[11,null,null,null,null,null,null,null,null,null,null,null,null,null,null,null,null,null,null,null,null,null,null,null,null,null,null,null,null,null,"AoM"]
[12,null,null,null,null,null,null,null,null,null,null,null,null,null,null,null,null,null,null,null,null,null,null,null,null,null,null,null,null,null,"AoM"]
[13,null,null,null,null,null,null,null,null,null,null,null,null,null,null,null,null,null,null,null,null,null,null,null,null,null,null,null,null,null,"AoM"]
[14,null,null,null,null,null,null,null,null,null,null,null,null,null,null,null,null,null,null,null,null,null,null,null,null,null,null,null,null,null,"AoM"]
[15,null,null,null,null,null,null,null,null,null,null,null,null,null,null,null,null,null,null,null,null,null,null,null,null,null,null,null,null,null,"AoM"]
[16,null,null,null,null,null,null,null,null,null,null,null,null,null,null,null,null,null,null,null,null,null,null,null,null,null,null,null,null,null,"AoM"]
[17,null,null,null,null,null,null,null,null,null,null,null,null,null,null,null,null,null,null,null,null,null,null,null,null,null,null,null,null,null,"AoM"]
[18,null,null,null,null,null,null,null,null,null,null,null,null,null,null,null,null,null,null,null,null,null,null,null,null,null,null,null,null,null,"AoM"]
[19,null,null,null,null,null,null,null,null,null,null,null,null,null,null,null,null,null,null,null,null,null,null,null,null,null,null,null,null,null,"AoM"]
[20,null,null,null,null,null,null,null,null,null,null,null,null,null,null,null,null,null,null,null,null,null,null,null,null,null,null,null,null,null,"AoM"]
[21,null,null,null,null,null,null,null,null,null,null,null,null,null,null,null,null,null,null,null,null,null,null,null,null,null,null,null,null,null,"AoM"]
[22,null,null,null,null,null,null,null,null,null,null,null,null,null,null,null,null,null,null,null,null,null,null,null,null,null,null,null,null,null,"AoM"]
[23,null,null,null,null,null,null,null,null,null,null,null,null,null,null,null,null,null,null,null,null,null,null,null,null,null,null,null,null,null,"AoM"]
[24,null,null,null,null,null,null,null,null,null,null,null,null,null,null,null,null,null,null,null,null,null,null,null,null,null,null,null,null,null,"AoM"]
[25,null,null,null,null,null,null,null,null,null,null,null,null,null,null,null,null,null,null,null,null,null,null,null,null,null,null,null,null,null,"AoM"]
[26,null,null,null,null,null,null,null,null,null,null,null,null,null,null,null,null,null,null,null,null,null,null,null,null,null,null,null,null,null,"AoM"]
[27,null,null,null,null,null,null,null,null,null,null,null,null,null,null,null,null,null,null,null,null,null,null,null,null,null,null,null,null,null,"AoM"]
[28,null,null,null,null,null,null,null,null,null,null,null,null,null,null,null,null,null,null,null,null,null,null,null,null,null,null,null,null,null,"AoM"]
[29,null,null,null,null,null,null,null,null,null,null,null,null,null,null,null,null,null,null,null,null,null,null,null,null,null,null,null,null,null,"AoM"]
[30,null,null,null,null,null,null,null,null,null,null,null,null,null,null,null,null,null,null,null,null,null,null,null,null,null,null,null,null,null,"AoM"]
[31,null,null,null,null,null,null,null,null,null,null,null,null,null,null,null,null,null,null,null,null,null,null,null,null,null,null,null,null,null,"AoM"]
[32,null,null,null,null,null,null,null,null,null,null,null,null,null,null,null,null,null,null,null,null,null,null,null,null,null,null,null,null,null,"AoM"]
[33,null,null,null,null,null,null,null,null,null,null,null,null,null,null,null,null,null,null,null,null,null,null,null,null,null,null,null,null,null,"AoM"]
[34,null,null,null,null,null,null,null,null,null,null,null,null,null,null,null,null,null,null,null,null,null,null,null,null,null,null,null,null,null,"AoM"]
[35,null,null,null,null,null,null,null,null,null,null,null,null,null,null,null,null,null,null,null,null,null,null,null,null,null,null,null,null,null,"AoM"]
[36,null,null,null,null,null,null,null,null,null,null,null,null,null,null,null,null,null,null,null,null,null,null,null,null,null,null,null,null,null,"AoM"]
[37,null,null,null,null,null,null,null,null,null,null,null,null,null,null,null,null,null,null,null,null,null,null,null,null,null,null,null,null,null,"AoM"]
[38,null,null,null,null,null,null,null,null,null,null,null,null,null,null,null,null,null,null,null,null,null,null,null,null,null,null,null,null,null,"AoM"]
[39,null,null,null,null,null,null,null,null,null,null,null,null,null,null,null,null,null,null,null,null,null,null,null,null,null,null,null,null,null,"AoM"]
[40,null,null,null,null,null,null,null,null,null,null,null,null,null,null,null,null,null,null,null,null,null,null,null,null,null,null,null,null,null,"AoM"]
[41,null,null,null,null,null,null,null,null,null,null,null,null,null,null,null,null,null,null,null,null,null,null,null,null,null,null,null,null,null,"AoM"]
[42,null,null,null,null,null,null,null,null,null,null,null,null,null,null,null,null,null,null,null,null,null,null,null,null,null,null,null,null,null,"AoM"]
[43,null,null,null,null,null,null,null,null,null,null,null,null,null,null,null,null,null,null,null,null,null,null,null,null,null,null,null,null,null,"AoM"]
[44,null,null,null,null,null,null,null,null,null,null,null,null,null,null,null,null,null,null,null,null,null,null,null,null,null,null,null,null,null,"AoM"]
[45,null,null,null,null,null,null,null,null,null,null,null,null,null,null,null,null,null,null,null,null,null,null,null,null,null,null,null,null,null,"AoM"]
[46,null,null,null,null,null,null,null,null,null,null,null,null,null,null,null,null,null,null,null,null,null,null,null,null,null,null,null,null,null,"AoM"]
[47,null,null,null,null,null,null,null,null,null,null,null,null,null,null,null,null,null,null,null,null,null,null,null,null,null,null,null,null,null,"AoM"]
[48,null,null,null,null,null,null,null,null,null,null,null,null,null,null,null,null,null,null,null,null,null,null,null,null,null,null,null,null,null,"AoM"]
[49,null,null,null,null,null,null,null,null,null,null,null,null,null,null,null,null,null,null,null,null,null,null,null,null,null,null,null,null,null,"AoM"]
[50,null,null,null,null,null,null,null,null,null,null,null,null,null,null,null,null,null,null,null,null,null,null,null,null,null,null,null,null,null,"AoM"]
[51,null,null,null,null,null,null,null,null,null,null,null,null,null,null,null,null,null,null,null,null,null,null,null,null,null,null,null,null,null,"AoM"]
[52,null,null,null,null,null,null,null,null,null,null,null,null,null,null,null,null,null,null,null,null,null,null,null,null,null,null,null,null,null,"AoM"]
[53,null,null,null,null,null,null,null,null,null,null,null,null,null,null,null,null,null,null,null,null,null,null,null,null,null,null,null,null,null,"AoM"]
[54,null,null,null,null,null,null,null,null,null,null,null,null,null,null,null,null,null,null,null,null,null,null,null,null,null,null,null,null,null,"AoM"]
[55,null,null,null,null,null,null,null,null,null,null,null,null,null,null,null,null,null,null,null,null,null,null,null,null,null,null,null,null,null,"AoM"]
[56,null,null,null,null,null,null,null,null,null,null,null,null,null,null,null,null,null,null,null,null,null,null,null,null,null,null,null,null,null,"AoM"]
[57,null,null,null,null,null,null,null,null,null,null,null,null,null,null,null,null,null,null,null,null,null,null,null,null,null,null,null,null,null,"AoM"]
[58,null,null,null,null,null,null,null,null,null,null,null,null,null,null,null,null,null,null,null,null,null,null,null,null,null,null,null,null,null,"AoM"]
[59,null,null,null,null,null,null,null,null,null,null,null,null,null,null,null,null,null,null,null,null,null,null,null,null,null,null,null,null,null,"AoM"]
[60,null,null,null,null,null,null,null,null,null,null,null,null,null,null,null,null,null,null,null,null,null,null,null,null,null,null,null,null,null,"AoM"]
[61,null,null,null,null,null,null,null,null,null,null,null,null,null,null,null,null,null,null,null,null,null,null,null,null,null,null,null,null,null,"AoM"]
[62,null,null,null,null,null,null,null,null,null,null,null,null,null,null,null,null,null,null,null,null,null,null,null,null,null,null,null,null,null,"AoM"]
[63,null,null,null,null,null,null,null,null,null,null,null,null,null,null,null,null,null,null,null,null,null,null,null,null,null,null,null,null,null,"AoM"]
[64,null,null,null,null,null,null,null,null,null,null,null,null,null,null,null,null,null,null,null,null,null,null,null,null,null,null,null,null,null,"AoM"]
[65,null,null,null,null,null,null,null,null,null,null,null,null,null,null,null,null,null,null,null,null,null,null,null,null,null,null,null,null,null,"AoM"]
[66,null,null,null,null,null,null,null,null,null,null,null,null,null,null,null,null,null,null,null,null,null,null,null,null,null,null,null,null,null,"AoM"]
[67,null,null,null,null,null,null,null,null,null,null,null,null,null,null,null,null,null,null,null,null,null,null,null,null,null,null,null,null,null,"AoM"]
[68,null,null,null,null,null,null,null,null,null,null,null,null,null,null,null,null,null,null,null,null,null,null,null,null,null,null,null,null,null,"AoM"]
[69,null,null,null,null,null,null,null,null,null,null,null,null,null,null,null,null,null,null,null,null,null,null,null,null,null,null,null,null,null,"AoM"]
[70,null,null,null,null,null,null,null,null,null,null,null,null,null,null,null,null,null,null,null,null,null,null,null,null,null,null,null,null,null,"AoM"]
[71,null,null,null,null,null,null,null,null,null,null,null,null,null,null,null,null,null,null,null,null,null,null,null,null,null,null,null,null,null,"AoM"]
[72,null,null,null,null,null,null,null,null,null,null,null,null,null,null,null,null,null,null,null,null,null,null,null,null,null,null,null,null,null,"AoM"]
[73,null,null,null,null,null,null,null,null,null,null,null,null,null,null,null,null,null,null,null,null,null,null,null,null,null,null,null,null,null,"AoM"]
[74,null,null,null,null,null,null,null,null,null,null,null,null,null,null,null,null,null,null,null,null,null,null,null,null,null,null,null,null,null,"AoM"]
[75,null,null,null,null,null,null,null,null,null,null,null,null,null,null,null,null,null,null,null,null,null,null,null,null,null,null,null,null,null,"AoM"]
[76,null,null,null,null,null,null,null,null,null,null,null,null,null,null,null,null,null,null,null,null,null,null,null,null,null,null,null,null,null,"AoM"]
[77,null,null,null,null,null,null,null,null,null,null,null,null,null,null,null,null,null,null,null,null,null,null,null,null,null,null,null,null,null,"AoM"]
[78,null,null,null,null,null,null,null,null,null,null,null,null,null,null,null,null,null,null,null,null,null,null,null,null,null,null,null,null,null,"AoM"]
[79,null,null,null,null,null,null,null,null,null,null,null,null,null,null,null,null,null,null,null,null,null,null,null,null,null,null,null,null,null,"AoM"]
[80,null,null,null,null,null,null,null,null,null,null,null,null,null,null,null,null,null,null,null,null,null,null,null,null,null,null,null,null,null,"AoM"]
[81,null,null,null,null,null,null,null,null,null,null,null,null,null,null,null,null,null,null,null,null,null,null,null,null,null,null,null,null,null,"AoM"]
[82,null,null,null,null,null,null,null,null,null,null,null,null,null,null,null,null,null,null,null,null,null,null,null,null,null,null,null,null,null,"AoM"]
[83,null,null,null,null,null,null,null,null,null,null,null,null,null,null,null,null,null,null,null,null,null,null,null,null,null,null,null,null,null,"AoM"]
[84,null,null,null,null,null,null,null,null,null,null,null,null,null,null,null,null,null,null,null,null,null,null,null,null,null,null,null,null,null,"AoM"]
[85,null,null,null,null,null,null,null,null,null,null,null,null,null,null,null,null,null,null,null,null,null,null,null,null,null,null,null,null,null,"AoM"]
[86,null,null,null,null,null,null,null,null,null,null,null,null,null,null,null,null,null,null,null,null,null,null,null,null,null,null,null,null,null,"AoM"]
[87,null,null,null,null,null,null,null,null,null,null,null,null,null,null,null,null,null,null,null,null,null,null,null,null,null,null,null,null,null,"AoM"]
[88,null,null,null,null,null,null,null,null,null,null,null,null,null,null,null,null,null,null,null,null,null,null,null,null,null,null,null,null,null,"AoM"]
[89,null,null,null,null,null,null,null,null,null,null,null,null,null,null,null,null,null,null,null,null,null,null,null,null,null,null,null,null,null,"AoM"]
[90,null,null,null,null,null,null,null,null,null,null,null,null,null,null,null,null,null,null,null,null,null,null,null,null,null,null,null,null,null,"AoM"]
[91,null,null,null,null,null,null,null,null,null,null,null,null,null,null,null,null,null,null,null,null,null,null,null,null,null,null,null,null,null,"AoM"]
[92,null,null,null,null,null,null,null,null,null,null,null,null,null,null,null,null,null,null,null,null,null,null,null,null,null,null,null,null,null,"AoM"]
[93,null,null,null,null,null,null,null,null,null,null,null,null,null,null,null,null,null,null,null,null,null,null,null,null,null,null,null,null,null,"AoM"]
[94,null,null,null,null,null,null,null,null,null,null,null,null,null,null,null,null,null,null,null,null,null,null,null,null,null,null,null,null,null,"AoM"]
[95,null,null,null,null,null,null,null,null,null,null,null,null,null,null,null,null,null,null,null,null,null,null,null,null,null,null,null,null,null,"AoM"]
[96,null,null,null,null,null,null,null,null,null,null,null,null,null,null,null,null,null,null,null,null,null,null,null,null,null,null,null,null,null,"AoM"]
[97,null,null,null,null,null,null,null,null,null,null,null,null,null,null,null,null,null,null,null,null,null,null,null,null,null,null,null,null,null,"AoM"]
[98,null,null,null,null,null,null,null,null,null,null,null,null,null,null,null,null,null,null,null,null,null,null,null,null,null,null,null,null,null,"AoM"]
[99,null,null,null,null,null,null,null,null,null,null,null,null,null,null,null,null,null,null,null,null,null,null,null,null,null,null,null,null,null,"AoM"]
[100,null,null,null,null,null,null,null,null,null,null,null,null,null,null,null,null,null,null,null,null,null,null,null,null,null,null,null,null,null,"AoM"]
[]
[null,{"$f":"+COUNT(AD5:AD104)","v":6}]

{"sheet":"Auswertung RA","index":11,"n_rows":106,"n_cols":31,"rows_kept":106,"cut":false,"hidden":false,"merged":[[1,1,1,10],[1,15,1,23]]}
["RA"]
[null,"Völker",null,null,null,null,null,null,null,null,null,null,null,null,null,"Siege / Niederlagen"]
[]
[null,"The Wolf",null,"Mike",null,"Big Boss",null,"Groo",null,"Zorro",null,"Marc",null,"Datum",null,"The Wolf",null,"Mike",null,"Big Boss",null,"Groo",null,"Zorro",null,"Marc",null,"Karte",null,"Spiel Nr. "]
[1,82,"S",49,"A",49,"A",16,"S",63,"A",9,"A","10.06.2026",null,1,null,-1,null,1,null,-1,null,-1,null,1,null,"Franticide",null,6,"RA"]
[2,105,"A",99,"S",74,"S",69,"A",27,"S",73,"S",null,null,-1,null,1,null,-1,null,1,null,-1,null,1,null,"Zufall",null,11,"RA"]
[3,96,"S",16,"S",45,"A",17,"A",104,"S",11,"S","2026-06-11",null,1,null,-1,null,1,null,-1,null,-1,null,1,null,"Zufall",null,13,"RA"]
[4,76,"S",37,"S",71,"S",16,"S",35,"A",51,"A",null,null,-1,null,1,null,1,null,-1,null,1,null,-1,null,"Mega",null,19,"RA"]
[5,17,"S",29,"S",31,"A",9,"S",29,"A",38,"S","12.06.2026",null,-1,null,1,null,1,null,-1,null,-1,null,1,null,"Inseln",null,26,"RA"]
[6,72,"A",129,"A",103,"S",103,"S",null,null,null,null,null,null,-1,null,1,null,1,null,-1,null,null,null,null,null,"Super Co-Op",null,29,"RA"]
[7,41,"A",133,"S",110,"S",47,"S",39,"A",48,"A","08.08.2026",null,-1,null,-1,null,1,null,1,null,-1,null,1,null,29,null,34,"RA"]
[8,null,null,null,null,null,null,null,null,null,null,null,null,null,null,null,null,null,null,null,null,null,null,null,null,null,null,null,null,null,"RA"]
[9,null,null,null,null,null,null,null,null,null,null,null,null,null,null,null,null,null,null,null,null,null,null,null,null,null,null,null,null,null,"RA"]
[10,null,null,null,null,null,null,null,null,null,null,null,null,null,null,null,null,null,null,null,null,null,null,null,null,null,null,null,null,null,"RA"]
[11,null,null,null,null,null,null,null,null,null,null,null,null,null,null,null,null,null,null,null,null,null,null,null,null,null,null,null,null,null,"RA"]
[12,null,null,null,null,null,null,null,null,null,null,null,null,null,null,null,null,null,null,null,null,null,null,null,null,null,null,null,null,null,"RA"]
[13,null,null,null,null,null,null,null,null,null,null,null,null,null,null,null,null,null,null,null,null,null,null,null,null,null,null,null,null,null,"RA"]
[14,null,null,null,null,null,null,null,null,null,null,null,null,null,null,null,null,null,null,null,null,null,null,null,null,null,null,null,null,null,"RA"]
[15,null,null,null,null,null,null,null,null,null,null,null,null,null,null,null,null,null,null,null,null,null,null,null,null,null,null,null,null,null,"RA"]
[16,null,null,null,null,null,null,null,null,null,null,null,null,null,null,null,null,null,null,null,null,null,null,null,null,null,null,null,null,null,"RA"]
[17,null,null,null,null,null,null,null,null,null,null,null,null,null,null,null,null,null,null,null,null,null,null,null,null,null,null,null,null,null,"RA"]
[18,null,null,null,null,null,null,null,null,null,null,null,null,null,null,null,null,null,null,null,null,null,null,null,null,null,null,null,null,null,"RA"]
[19,null,null,null,null,null,null,null,null,null,null,null,null,null,null,null,null,null,null,null,null,null,null,null,null,null,null,null,null,null,"RA"]
[20,null,null,null,null,null,null,null,null,null,null,null,null,null,null,null,null,null,null,null,null,null,null,null,null,null,null,null,null,null,"RA"]
[21,null,null,null,null,null,null,null,null,null,null,null,null,null,null,null,null,null,null,null,null,null,null,null,null,null,null,null,null,null,"RA"]
[22,null,null,null,null,null,null,null,null,null,null,null,null,null,null,null,null,null,null,null,null,null,null,null,null,null,null,null,null,null,"RA"]
[23,null,null,null,null,null,null,null,null,null,null,null,null,null,null,null,null,null,null,null,null,null,null,null,null,null,null,null,null,null,"RA"]
[24,null,null,null,null,null,null,null,null,null,null,null,null,null,null,null,null,null,null,null,null,null,null,null,null,null,null,null,null,null,"RA"]
[25,null,null,null,null,null,null,null,null,null,null,null,null,null,null,null,null,null,null,null,null,null,null,null,null,null,null,null,null,null,"RA"]
[26,null,null,null,null,null,null,null,null,null,null,null,null,null,null,null,null,null,null,null,null,null,null,null,null,null,null,null,null,null,"RA"]
[27,null,null,null,null,null,null,null,null,null,null,null,null,null,null,null,null,null,null,null,null,null,null,null,null,null,null,null,null,null,"RA"]
[28,null,null,null,null,null,null,null,null,null,null,null,null,null,null,null,null,null,null,null,null,null,null,null,null,null,null,null,null,null,"RA"]
[29,null,null,null,null,null,null,null,null,null,null,null,null,null,null,null,null,null,null,null,null,null,null,null,null,null,null,null,null,null,"RA"]
[30,null,null,null,null,null,null,null,null,null,null,null,null,null,null,null,null,null,null,null,null,null,null,null,null,null,null,null,null,null,"RA"]
[31,null,null,null,null,null,null,null,null,null,null,null,null,null,null,null,null,null,null,null,null,null,null,null,null,null,null,null,null,null,"RA"]
[32,null,null,null,null,null,null,null,null,null,null,null,null,null,null,null,null,null,null,null,null,null,null,null,null,null,null,null,null,null,"RA"]
[33,null,null,null,null,null,null,null,null,null,null,null,null,null,null,null,null,null,null,null,null,null,null,null,null,null,null,null,null,null,"RA"]
[34,null,null,null,null,null,null,null,null,null,null,null,null,null,null,null,null,null,null,null,null,null,null,null,null,null,null,null,null,null,"RA"]
[35,null,null,null,null,null,null,null,null,null,null,null,null,null,null,null,null,null,null,null,null,null,null,null,null,null,null,null,null,null,"RA"]
[36,null,null,null,null,null,null,null,null,null,null,null,null,null,null,null,null,null,null,null,null,null,null,null,null,null,null,null,null,null,"RA"]
[37,null,null,null,null,null,null,null,null,null,null,null,null,null,null,null,null,null,null,null,null,null,null,null,null,null,null,null,null,null,"RA"]
[38,null,null,null,null,null,null,null,null,null,null,null,null,null,null,null,null,null,null,null,null,null,null,null,null,null,null,null,null,null,"RA"]
[39,null,null,null,null,null,null,null,null,null,null,null,null,null,null,null,null,null,null,null,null,null,null,null,null,null,null,null,null,null,"RA"]
[40,null,null,null,null,null,null,null,null,null,null,null,null,null,null,null,null,null,null,null,null,null,null,null,null,null,null,null,null,null,"RA"]
[41,null,null,null,null,null,null,null,null,null,null,null,null,null,null,null,null,null,null,null,null,null,null,null,null,null,null,null,null,null,"RA"]
[42,null,null,null,null,null,null,null,null,null,null,null,null,null,null,null,null,null,null,null,null,null,null,null,null,null,null,null,null,null,"RA"]
[43,null,null,null,null,null,null,null,null,null,null,null,null,null,null,null,null,null,null,null,null,null,null,null,null,null,null,null,null,null,"RA"]
[44,null,null,null,null,null,null,null,null,null,null,null,null,null,null,null,null,null,null,null,null,null,null,null,null,null,null,null,null,null,"RA"]
[45,null,null,null,null,null,null,null,null,null,null,null,null,null,null,null,null,null,null,null,null,null,null,null,null,null,null,null,null,null,"RA"]
[46,null,null,null,null,null,null,null,null,null,null,null,null,null,null,null,null,null,null,null,null,null,null,null,null,null,null,null,null,null,"RA"]
[47,null,null,null,null,null,null,null,null,null,null,null,null,null,null,null,null,null,null,null,null,null,null,null,null,null,null,null,null,null,"RA"]
[48,null,null,null,null,null,null,null,null,null,null,null,null,null,null,null,null,null,null,null,null,null,null,null,null,null,null,null,null,null,"RA"]
[49,null,null,null,null,null,null,null,null,null,null,null,null,null,null,null,null,null,null,null,null,null,null,null,null,null,null,null,null,null,"RA"]
[50,null,null,null,null,null,null,null,null,null,null,null,null,null,null,null,null,null,null,null,null,null,null,null,null,null,null,null,null,null,"RA"]
[51,null,null,null,null,null,null,null,null,null,null,null,null,null,null,null,null,null,null,null,null,null,null,null,null,null,null,null,null,null,"RA"]
[52,null,null,null,null,null,null,null,null,null,null,null,null,null,null,null,null,null,null,null,null,null,null,null,null,null,null,null,null,null,"RA"]
[53,null,null,null,null,null,null,null,null,null,null,null,null,null,null,null,null,null,null,null,null,null,null,null,null,null,null,null,null,null,"RA"]
[54,null,null,null,null,null,null,null,null,null,null,null,null,null,null,null,null,null,null,null,null,null,null,null,null,null,null,null,null,null,"RA"]
[55,null,null,null,null,null,null,null,null,null,null,null,null,null,null,null,null,null,null,null,null,null,null,null,null,null,null,null,null,null,"RA"]
[56,null,null,null,null,null,null,null,null,null,null,null,null,null,null,null,null,null,null,null,null,null,null,null,null,null,null,null,null,null,"RA"]
[57,null,null,null,null,null,null,null,null,null,null,null,null,null,null,null,null,null,null,null,null,null,null,null,null,null,null,null,null,null,"RA"]
[58,null,null,null,null,null,null,null,null,null,null,null,null,null,null,null,null,null,null,null,null,null,null,null,null,null,null,null,null,null,"RA"]
[59,null,null,null,null,null,null,null,null,null,null,null,null,null,null,null,null,null,null,null,null,null,null,null,null,null,null,null,null,null,"RA"]
[60,null,null,null,null,null,null,null,null,null,null,null,null,null,null,null,null,null,null,null,null,null,null,null,null,null,null,null,null,null,"RA"]
[61,null,null,null,null,null,null,null,null,null,null,null,null,null,null,null,null,null,null,null,null,null,null,null,null,null,null,null,null,null,"RA"]
[62,null,null,null,null,null,null,null,null,null,null,null,null,null,null,null,null,null,null,null,null,null,null,null,null,null,null,null,null,null,"RA"]
[63,null,null,null,null,null,null,null,null,null,null,null,null,null,null,null,null,null,null,null,null,null,null,null,null,null,null,null,null,null,"RA"]
[64,null,null,null,null,null,null,null,null,null,null,null,null,null,null,null,null,null,null,null,null,null,null,null,null,null,null,null,null,null,"RA"]
[65,null,null,null,null,null,null,null,null,null,null,null,null,null,null,null,null,null,null,null,null,null,null,null,null,null,null,null,null,null,"RA"]
[66,null,null,null,null,null,null,null,null,null,null,null,null,null,null,null,null,null,null,null,null,null,null,null,null,null,null,null,null,null,"RA"]
[67,null,null,null,null,null,null,null,null,null,null,null,null,null,null,null,null,null,null,null,null,null,null,null,null,null,null,null,null,null,"RA"]
[68,null,null,null,null,null,null,null,null,null,null,null,null,null,null,null,null,null,null,null,null,null,null,null,null,null,null,null,null,null,"RA"]
[69,null,null,null,null,null,null,null,null,null,null,null,null,null,null,null,null,null,null,null,null,null,null,null,null,null,null,null,null,null,"RA"]
[70,null,null,null,null,null,null,null,null,null,null,null,null,null,null,null,null,null,null,null,null,null,null,null,null,null,null,null,null,null,"RA"]
[71,null,null,null,null,null,null,null,null,null,null,null,null,null,null,null,null,null,null,null,null,null,null,null,null,null,null,null,null,null,"RA"]
[72,null,null,null,null,null,null,null,null,null,null,null,null,null,null,null,null,null,null,null,null,null,null,null,null,null,null,null,null,null,"RA"]
[73,null,null,null,null,null,null,null,null,null,null,null,null,null,null,null,null,null,null,null,null,null,null,null,null,null,null,null,null,null,"RA"]
[74,null,null,null,null,null,null,null,null,null,null,null,null,null,null,null,null,null,null,null,null,null,null,null,null,null,null,null,null,null,"RA"]
[75,null,null,null,null,null,null,null,null,null,null,null,null,null,null,null,null,null,null,null,null,null,null,null,null,null,null,null,null,null,"RA"]
[76,null,null,null,null,null,null,null,null,null,null,null,null,null,null,null,null,null,null,null,null,null,null,null,null,null,null,null,null,null,"RA"]
[77,null,null,null,null,null,null,null,null,null,null,null,null,null,null,null,null,null,null,null,null,null,null,null,null,null,null,null,null,null,"RA"]
[78,null,null,null,null,null,null,null,null,null,null,null,null,null,null,null,null,null,null,null,null,null,null,null,null,null,null,null,null,null,"RA"]
[79,null,null,null,null,null,null,null,null,null,null,null,null,null,null,null,null,null,null,null,null,null,null,null,null,null,null,null,null,null,"RA"]
[80,null,null,null,null,null,null,null,null,null,null,null,null,null,null,null,null,null,null,null,null,null,null,null,null,null,null,null,null,null,"RA"]
[81,null,null,null,null,null,null,null,null,null,null,null,null,null,null,null,null,null,null,null,null,null,null,null,null,null,null,null,null,null,"RA"]
[82,null,null,null,null,null,null,null,null,null,null,null,null,null,null,null,null,null,null,null,null,null,null,null,null,null,null,null,null,null,"RA"]
[83,null,null,null,null,null,null,null,null,null,null,null,null,null,null,null,null,null,null,null,null,null,null,null,null,null,null,null,null,null,"RA"]
[84,null,null,null,null,null,null,null,null,null,null,null,null,null,null,null,null,null,null,null,null,null,null,null,null,null,null,null,null,null,"RA"]
[85,null,null,null,null,null,null,null,null,null,null,null,null,null,null,null,null,null,null,null,null,null,null,null,null,null,null,null,null,null,"RA"]
[86,null,null,null,null,null,null,null,null,null,null,null,null,null,null,null,null,null,null,null,null,null,null,null,null,null,null,null,null,null,"RA"]
[87,null,null,null,null,null,null,null,null,null,null,null,null,null,null,null,null,null,null,null,null,null,null,null,null,null,null,null,null,null,"RA"]
[88,null,null,null,null,null,null,null,null,null,null,null,null,null,null,null,null,null,null,null,null,null,null,null,null,null,null,null,null,null,"RA"]
[89,null,null,null,null,null,null,null,null,null,null,null,null,null,null,null,null,null,null,null,null,null,null,null,null,null,null,null,null,null,"RA"]
[90,null,null,null,null,null,null,null,null,null,null,null,null,null,null,null,null,null,null,null,null,null,null,null,null,null,null,null,null,null,"RA"]
[91,null,null,null,null,null,null,null,null,null,null,null,null,null,null,null,null,null,null,null,null,null,null,null,null,null,null,null,null,null,"RA"]
[92,null,null,null,null,null,null,null,null,null,null,null,null,null,null,null,null,null,null,null,null,null,null,null,null,null,null,null,null,null,"RA"]
[93,null,null,null,null,null,null,null,null,null,null,null,null,null,null,null,null,null,null,null,null,null,null,null,null,null,null,null,null,null,"RA"]
[94,null,null,null,null,null,null,null,null,null,null,null,null,null,null,null,null,null,null,null,null,null,null,null,null,null,null,null,null,null,"RA"]
[95,null,null,null,null,null,null,null,null,null,null,null,null,null,null,null,null,null,null,null,null,null,null,null,null,null,null,null,null,null,"RA"]
[96,null,null,null,null,null,null,null,null,null,null,null,null,null,null,null,null,null,null,null,null,null,null,null,null,null,null,null,null,null,"RA"]
[97,null,null,null,null,null,null,null,null,null,null,null,null,null,null,null,null,null,null,null,null,null,null,null,null,null,null,null,null,null,"RA"]
[98,null,null,null,null,null,null,null,null,null,null,null,null,null,null,null,null,null,null,null,null,null,null,null,null,null,null,null,null,null,"RA"]
[99,null,null,null,null,null,null,null,null,null,null,null,null,null,null,null,null,null,null,null,null,null,null,null,null,null,null,null,null,null,"RA"]
[100,null,null,null,null,null,null,null,null,null,null,null,null,null,null,null,null,null,null,null,null,null,null,null,null,null,null,null,null,null,"RA"]
[]
[null,{"$f":"+COUNT(AD5:AD104)","v":7}]

{"sheet":"Auswertung Yuri","index":12,"n_rows":106,"n_cols":31,"rows_kept":106,"cut":false,"hidden":false,"merged":[[1,1,1,10],[1,15,1,23]]}
["Yuri"]
[null,"Völker",null,null,null,null,null,null,null,null,null,null,null,null,null,"Siege / Niederlagen"]
[]
[null,"The Wolf",null,"Mike",null,"Big Boss",null,"Groo",null,"Zorro",null,"Marc",null,"Datum",null,"The Wolf",null,"Mike",null,"Big Boss",null,"Groo",null,"Zorro",null,"Marc",null,"Karte",null,"Spiel Nr. "]
[1,43,"Lyb",77,"Rus",40,"Rus",28,"Yur",41,"Yur",34,"Lyb","10.06.2026",null,1,null,1,null,-1,null,1,null,-1,null,-1,null,"Zufall",null,1,"Yuri"]
[2,70,"Deu",70,"Lyb",58,"Deu",70,"Lyb",47,"GB",89,"GB",null,null,-1,null,-1,null,1,null,1,null,-1,null,1,null,"Zufall",null,8,"Yuri"]
[3,67,"Irak",74,"Irak",92,"Yur",63,"Fran",25,"Fran",36,"Yur","2026-06-11",null,-1,null,1,null,1,null,-1,null,1,null,-1,null,"Zufall",null,16,"Yuri"]
[4,56,"Deu",57,"Deu",65,"Yur",51,"Yur",56,"Lyb",71,"Lyb",null,null,-1,null,1,null,1,null,-1,null,-1,null,1,null,"Zufall",null,21,"Yuri"]
[5,28,"Kub",123,"Yur",48,"Kub",24,"Deu",56,"Yur",9,"Deu","12.06.2026",null,-1,null,1,null,1,null,1,null,-1,null,-1,null,"Zufall",null,25,"Yuri"]
[6,46,"Kor",33,"Lyb",35,"Kor",45,"Lyb",20,"Deu",38,"Deu","08.08.2026",null,1,null,1,null,-1,null,-1,null,1,null,-1,null,"Zufall",null,35,"Yuri"]
[7,null,null,null,null,null,null,null,null,null,null,null,null,null,null,null,null,null,null,null,null,null,null,null,null,null,null,null,null,null,"Yuri"]
[8,null,null,null,null,null,null,null,null,null,null,null,null,null,null,null,null,null,null,null,null,null,null,null,null,null,null,null,null,null,"Yuri"]
[9,null,null,null,null,null,null,null,null,null,null,null,null,null,null,null,null,null,null,null,null,null,null,null,null,null,null,null,null,null,"Yuri"]
[10,null,null,null,null,null,null,null,null,null,null,null,null,null,null,null,null,null,null,null,null,null,null,null,null,null,null,null,null,null,"Yuri"]
[11,null,null,null,null,null,null,null,null,null,null,null,null,null,null,null,null,null,null,null,null,null,null,null,null,null,null,null,null,null,"Yuri"]
[12,null,null,null,null,null,null,null,null,null,null,null,null,null,null,null,null,null,null,null,null,null,null,null,null,null,null,null,null,null,"Yuri"]
[13,null,null,null,null,null,null,null,null,null,null,null,null,null,null,null,null,null,null,null,null,null,null,null,null,null,null,null,null,null,"Yuri"]
[14,null,null,null,null,null,null,null,null,null,null,null,null,null,null,null,null,null,null,null,null,null,null,null,null,null,null,null,null,null,"Yuri"]
[15,null,null,null,null,null,null,null,null,null,null,null,null,null,null,null,null,null,null,null,null,null,null,null,null,null,null,null,null,null,"Yuri"]
[16,null,null,null,null,null,null,null,null,null,null,null,null,null,null,null,null,null,null,null,null,null,null,null,null,null,null,null,null,null,"Yuri"]
[17,null,null,null,null,null,null,null,null,null,null,null,null,null,null,null,null,null,null,null,null,null,null,null,null,null,null,null,null,null,"Yuri"]
[18,null,null,null,null,null,null,null,null,null,null,null,null,null,null,null,null,null,null,null,null,null,null,null,null,null,null,null,null,null,"Yuri"]
[19,null,null,null,null,null,null,null,null,null,null,null,null,null,null,null,null,null,null,null,null,null,null,null,null,null,null,null,null,null,"Yuri"]
[20,null,null,null,null,null,null,null,null,null,null,null,null,null,null,null,null,null,null,null,null,null,null,null,null,null,null,null,null,null,"Yuri"]
[21,null,null,null,null,null,null,null,null,null,null,null,null,null,null,null,null,null,null,null,null,null,null,null,null,null,null,null,null,null,"Yuri"]
[22,null,null,null,null,null,null,null,null,null,null,null,null,null,null,null,null,null,null,null,null,null,null,null,null,null,null,null,null,null,"Yuri"]
[23,null,null,null,null,null,null,null,null,null,null,null,null,null,null,null,null,null,null,null,null,null,null,null,null,null,null,null,null,null,"Yuri"]
[24,null,null,null,null,null,null,null,null,null,null,null,null,null,null,null,null,null,null,null,null,null,null,null,null,null,null,null,null,null,"Yuri"]
[25,null,null,null,null,null,null,null,null,null,null,null,null,null,null,null,null,null,null,null,null,null,null,null,null,null,null,null,null,null,"Yuri"]
[26,null,null,null,null,null,null,null,null,null,null,null,null,null,null,null,null,null,null,null,null,null,null,null,null,null,null,null,null,null,"Yuri"]
[27,null,null,null,null,null,null,null,null,null,null,null,null,null,null,null,null,null,null,null,null,null,null,null,null,null,null,null,null,null,"Yuri"]
[28,null,null,null,null,null,null,null,null,null,null,null,null,null,null,null,null,null,null,null,null,null,null,null,null,null,null,null,null,null,"Yuri"]
[29,null,null,null,null,null,null,null,null,null,null,null,null,null,null,null,null,null,null,null,null,null,null,null,null,null,null,null,null,null,"Yuri"]
[30,null,null,null,null,null,null,null,null,null,null,null,null,null,null,null,null,null,null,null,null,null,null,null,null,null,null,null,null,null,"Yuri"]
[31,null,null,null,null,null,null,null,null,null,null,null,null,null,null,null,null,null,null,null,null,null,null,null,null,null,null,null,null,null,"Yuri"]
[32,null,null,null,null,null,null,null,null,null,null,null,null,null,null,null,null,null,null,null,null,null,null,null,null,null,null,null,null,null,"Yuri"]
[33,null,null,null,null,null,null,null,null,null,null,null,null,null,null,null,null,null,null,null,null,null,null,null,null,null,null,null,null,null,"Yuri"]
[34,null,null,null,null,null,null,null,null,null,null,null,null,null,null,null,null,null,null,null,null,null,null,null,null,null,null,null,null,null,"Yuri"]
[35,null,null,null,null,null,null,null,null,null,null,null,null,null,null,null,null,null,null,null,null,null,null,null,null,null,null,null,null,null,"Yuri"]
[36,null,null,null,null,null,null,null,null,null,null,null,null,null,null,null,null,null,null,null,null,null,null,null,null,null,null,null,null,null,"Yuri"]
[37,null,null,null,null,null,null,null,null,null,null,null,null,null,null,null,null,null,null,null,null,null,null,null,null,null,null,null,null,null,"Yuri"]
[38,null,null,null,null,null,null,null,null,null,null,null,null,null,null,null,null,null,null,null,null,null,null,null,null,null,null,null,null,null,"Yuri"]
[39,null,null,null,null,null,null,null,null,null,null,null,null,null,null,null,null,null,null,null,null,null,null,null,null,null,null,null,null,null,"Yuri"]
[40,null,null,null,null,null,null,null,null,null,null,null,null,null,null,null,null,null,null,null,null,null,null,null,null,null,null,null,null,null,"Yuri"]
[41,null,null,null,null,null,null,null,null,null,null,null,null,null,null,null,null,null,null,null,null,null,null,null,null,null,null,null,null,null,"Yuri"]
[42,null,null,null,null,null,null,null,null,null,null,null,null,null,null,null,null,null,null,null,null,null,null,null,null,null,null,null,null,null,"Yuri"]
[43,null,null,null,null,null,null,null,null,null,null,null,null,null,null,null,null,null,null,null,null,null,null,null,null,null,null,null,null,null,"Yuri"]
[44,null,null,null,null,null,null,null,null,null,null,null,null,null,null,null,null,null,null,null,null,null,null,null,null,null,null,null,null,null,"Yuri"]
[45,null,null,null,null,null,null,null,null,null,null,null,null,null,null,null,null,null,null,null,null,null,null,null,null,null,null,null,null,null,"Yuri"]
[46,null,null,null,null,null,null,null,null,null,null,null,null,null,null,null,null,null,null,null,null,null,null,null,null,null,null,null,null,null,"Yuri"]
[47,null,null,null,null,null,null,null,null,null,null,null,null,null,null,null,null,null,null,null,null,null,null,null,null,null,null,null,null,null,"Yuri"]
[48,null,null,null,null,null,null,null,null,null,null,null,null,null,null,null,null,null,null,null,null,null,null,null,null,null,null,null,null,null,"Yuri"]
[49,null,null,null,null,null,null,null,null,null,null,null,null,null,null,null,null,null,null,null,null,null,null,null,null,null,null,null,null,null,"Yuri"]
[50,null,null,null,null,null,null,null,null,null,null,null,null,null,null,null,null,null,null,null,null,null,null,null,null,null,null,null,null,null,"Yuri"]
[51,null,null,null,null,null,null,null,null,null,null,null,null,null,null,null,null,null,null,null,null,null,null,null,null,null,null,null,null,null,"Yuri"]
[52,null,null,null,null,null,null,null,null,null,null,null,null,null,null,null,null,null,null,null,null,null,null,null,null,null,null,null,null,null,"Yuri"]
[53,null,null,null,null,null,null,null,null,null,null,null,null,null,null,null,null,null,null,null,null,null,null,null,null,null,null,null,null,null,"Yuri"]
[54,null,null,null,null,null,null,null,null,null,null,null,null,null,null,null,null,null,null,null,null,null,null,null,null,null,null,null,null,null,"Yuri"]
[55,null,null,null,null,null,null,null,null,null,null,null,null,null,null,null,null,null,null,null,null,null,null,null,null,null,null,null,null,null,"Yuri"]
[56,null,null,null,null,null,null,null,null,null,null,null,null,null,null,null,null,null,null,null,null,null,null,null,null,null,null,null,null,null,"Yuri"]
[57,null,null,null,null,null,null,null,null,null,null,null,null,null,null,null,null,null,null,null,null,null,null,null,null,null,null,null,null,null,"Yuri"]
[58,null,null,null,null,null,null,null,null,null,null,null,null,null,null,null,null,null,null,null,null,null,null,null,null,null,null,null,null,null,"Yuri"]
[59,null,null,null,null,null,null,null,null,null,null,null,null,null,null,null,null,null,null,null,null,null,null,null,null,null,null,null,null,null,"Yuri"]
[60,null,null,null,null,null,null,null,null,null,null,null,null,null,null,null,null,null,null,null,null,null,null,null,null,null,null,null,null,null,"Yuri"]
[61,null,null,null,null,null,null,null,null,null,null,null,null,null,null,null,null,null,null,null,null,null,null,null,null,null,null,null,null,null,"Yuri"]
[62,null,null,null,null,null,null,null,null,null,null,null,null,null,null,null,null,null,null,null,null,null,null,null,null,null,null,null,null,null,"Yuri"]
[63,null,null,null,null,null,null,null,null,null,null,null,null,null,null,null,null,null,null,null,null,null,null,null,null,null,null,null,null,null,"Yuri"]
[64,null,null,null,null,null,null,null,null,null,null,null,null,null,null,null,null,null,null,null,null,null,null,null,null,null,null,null,null,null,"Yuri"]
[65,null,null,null,null,null,null,null,null,null,null,null,null,null,null,null,null,null,null,null,null,null,null,null,null,null,null,null,null,null,"Yuri"]
[66,null,null,null,null,null,null,null,null,null,null,null,null,null,null,null,null,null,null,null,null,null,null,null,null,null,null,null,null,null,"Yuri"]
[67,null,null,null,null,null,null,null,null,null,null,null,null,null,null,null,null,null,null,null,null,null,null,null,null,null,null,null,null,null,"Yuri"]
[68,null,null,null,null,null,null,null,null,null,null,null,null,null,null,null,null,null,null,null,null,null,null,null,null,null,null,null,null,null,"Yuri"]
[69,null,null,null,null,null,null,null,null,null,null,null,null,null,null,null,null,null,null,null,null,null,null,null,null,null,null,null,null,null,"Yuri"]
[70,null,null,null,null,null,null,null,null,null,null,null,null,null,null,null,null,null,null,null,null,null,null,null,null,null,null,null,null,null,"Yuri"]
[71,null,null,null,null,null,null,null,null,null,null,null,null,null,null,null,null,null,null,null,null,null,null,null,null,null,null,null,null,null,"Yuri"]
[72,null,null,null,null,null,null,null,null,null,null,null,null,null,null,null,null,null,null,null,null,null,null,null,null,null,null,null,null,null,"Yuri"]
[73,null,null,null,null,null,null,null,null,null,null,null,null,null,null,null,null,null,null,null,null,null,null,null,null,null,null,null,null,null,"Yuri"]
[74,null,null,null,null,null,null,null,null,null,null,null,null,null,null,null,null,null,null,null,null,null,null,null,null,null,null,null,null,null,"Yuri"]
[75,null,null,null,null,null,null,null,null,null,null,null,null,null,null,null,null,null,null,null,null,null,null,null,null,null,null,null,null,null,"Yuri"]
[76,null,null,null,null,null,null,null,null,null,null,null,null,null,null,null,null,null,null,null,null,null,null,null,null,null,null,null,null,null,"Yuri"]
[77,null,null,null,null,null,null,null,null,null,null,null,null,null,null,null,null,null,null,null,null,null,null,null,null,null,null,null,null,null,"Yuri"]
[78,null,null,null,null,null,null,null,null,null,null,null,null,null,null,null,null,null,null,null,null,null,null,null,null,null,null,null,null,null,"Yuri"]
[79,null,null,null,null,null,null,null,null,null,null,null,null,null,null,null,null,null,null,null,null,null,null,null,null,null,null,null,null,null,"Yuri"]
[80,null,null,null,null,null,null,null,null,null,null,null,null,null,null,null,null,null,null,null,null,null,null,null,null,null,null,null,null,null,"Yuri"]
[81,null,null,null,null,null,null,null,null,null,null,null,null,null,null,null,null,null,null,null,null,null,null,null,null,null,null,null,null,null,"Yuri"]
[82,null,null,null,null,null,null,null,null,null,null,null,null,null,null,null,null,null,null,null,null,null,null,null,null,null,null,null,null,null,"Yuri"]
[83,null,null,null,null,null,null,null,null,null,null,null,null,null,null,null,null,null,null,null,null,null,null,null,null,null,null,null,null,null,"Yuri"]
[84,null,null,null,null,null,null,null,null,null,null,null,null,null,null,null,null,null,null,null,null,null,null,null,null,null,null,null,null,null,"Yuri"]
[85,null,null,null,null,null,null,null,null,null,null,null,null,null,null,null,null,null,null,null,null,null,null,null,null,null,null,null,null,null,"Yuri"]
[86,null,null,null,null,null,null,null,null,null,null,null,null,null,null,null,null,null,null,null,null,null,null,null,null,null,null,null,null,null,"Yuri"]
[87,null,null,null,null,null,null,null,null,null,null,null,null,null,null,null,null,null,null,null,null,null,null,null,null,null,null,null,null,null,"Yuri"]
[88,null,null,null,null,null,null,null,null,null,null,null,null,null,null,null,null,null,null,null,null,null,null,null,null,null,null,null,null,null,"Yuri"]
[89,null,null,null,null,null,null,null,null,null,null,null,null,null,null,null,null,null,null,null,null,null,null,null,null,null,null,null,null,null,"Yuri"]
[90,null,null,null,null,null,null,null,null,null,null,null,null,null,null,null,null,null,null,null,null,null,null,null,null,null,null,null,null,null,"Yuri"]
[91,null,null,null,null,null,null,null,null,null,null,null,null,null,null,null,null,null,null,null,null,null,null,null,null,null,null,null,null,null,"Yuri"]
[92,null,null,null,null,null,null,null,null,null,null,null,null,null,null,null,null,null,null,null,null,null,null,null,null,null,null,null,null,null,"Yuri"]
[93,null,null,null,null,null,null,null,null,null,null,null,null,null,null,null,null,null,null,null,null,null,null,null,null,null,null,null,null,null,"Yuri"]
[94,null,null,null,null,null,null,null,null,null,null,null,null,null,null,null,null,null,null,null,null,null,null,null,null,null,null,null,null,null,"Yuri"]
[95,null,null,null,null,null,null,null,null,null,null,null,null,null,null,null,null,null,null,null,null,null,null,null,null,null,null,null,null,null,"Yuri"]
[96,null,null,null,null,null,null,null,null,null,null,null,null,null,null,null,null,null,null,null,null,null,null,null,null,null,null,null,null,null,"Yuri"]
[97,null,null,null,null,null,null,null,null,null,null,null,null,null,null,null,null,null,null,null,null,null,null,null,null,null,null,null,null,null,"Yuri"]
[98,null,null,null,null,null,null,null,null,null,null,null,null,null,null,null,null,null,null,null,null,null,null,null,null,null,null,null,null,null,"Yuri"]
[99,null,null,null,null,null,null,null,null,null,null,null,null,null,null,null,null,null,null,null,null,null,null,null,null,null,null,null,null,null,"Yuri"]
[100,null,null,null,null,null,null,null,null,null,null,null,null,null,null,null,null,null,null,null,null,null,null,null,null,null,null,null,null,null,"Yuri"]
[]
[null,{"$f":"+COUNT(AD5:AD104)","v":6}]

{"sheet":"Auswertung Generals","index":13,"n_rows":106,"n_cols":31,"rows_kept":106,"cut":false,"hidden":false,"merged":[[1,1,1,10],[1,15,1,23]]}
["Generals"]
[null,"Völker",null,null,null,null,null,null,null,null,null,null,null,null,null,"Siege / Niederlagen"]
[]
[null,"The Wolf",null,"Mike",null,"Big Boss",null,"Groo",null,"Zorro",null,"Marc",null,"Datum",null,"The Wolf",null,"Mike",null,"Big Boss",null,"Groo",null,"Zorro",null,"Marc",null,"Karte",null,"Spiel Nr. "]
[1,52,"IBG",74,"IBG",74,"WA",66,"AP",108,"WA",94,"AP","10.06.2026",null,-1,null,1,null,-1,null,-1,null,1,null,1,null,"Valley",null,3,"Generals"]
[2,86,"WA",76,"IBG",48,"WA",143,"IBG",57,"AP",21,"AP",null,null,1,null,1,null,-1,null,-1,null,1,null,-1,null,"Tournament Valley",null,7,"Generals"]
[3,86,"WA",83,"WA",34,"AP",115,"AP",44,"IBG",8,"IBG",null,null,-1,null,1,null,-1,null,1,null,1,null,-1,null,"Snow War",null,12,"Generals"]
[4,48,"AP",45,"IBG",57,"AP",33,"AP",22,"IBG",16,"AP","2026-06-11",null,1,null,-1,null,1,null,-1,null,1,null,-1,null,"Wilderness Valley",null,17,"Generals"]
[5,112,"WA",34,"WA",54,"IBG",42,"IBG",null,null,null,null,"12.06.2026",null,1,null,-1,null,1,null,-1,null,null,null,null,null,"fatamorgana",null,28,"Generals"]
[6,103,"AP",82,"IBG",75,"AP",202,"AP",188,"IBG",119,"AP","08.08.2026",null,-1,null,-1,null,1,null,1,null,1,null,-1,null,"patchwork mesa",null,32,"Generals"]
[7,null,null,null,null,null,null,null,null,null,null,null,null,null,null,null,null,null,null,null,null,null,null,null,null,null,null,null,null,null,"Generals"]
[8,null,null,null,null,null,null,null,null,null,null,null,null,null,null,null,null,null,null,null,null,null,null,null,null,null,null,null,null,null,"Generals"]
[9,null,null,null,null,null,null,null,null,null,null,null,null,null,null,null,null,null,null,null,null,null,null,null,null,null,null,null,null,null,"Generals"]
[10,null,null,null,null,null,null,null,null,null,null,null,null,null,null,null,null,null,null,null,null,null,null,null,null,null,null,null,null,null,"Generals"]
[11,null,null,null,null,null,null,null,null,null,null,null,null,null,null,null,null,null,null,null,null,null,null,null,null,null,null,null,null,null,"Generals"]
[12,null,null,null,null,null,null,null,null,null,null,null,null,null,null,null,null,null,null,null,null,null,null,null,null,null,null,null,null,null,"Generals"]
[13,null,null,null,null,null,null,null,null,null,null,null,null,null,null,null,null,null,null,null,null,null,null,null,null,null,null,null,null,null,"Generals"]
[14,null,null,null,null,null,null,null,null,null,null,null,null,null,null,null,null,null,null,null,null,null,null,null,null,null,null,null,null,null,"Generals"]
[15,null,null,null,null,null,null,null,null,null,null,null,null,null,null,null,null,null,null,null,null,null,null,null,null,null,null,null,null,null,"Generals"]
[16,null,null,null,null,null,null,null,null,null,null,null,null,null,null,null,null,null,null,null,null,null,null,null,null,null,null,null,null,null,"Generals"]
[17,null,null,null,null,null,null,null,null,null,null,null,null,null,null,null,null,null,null,null,null,null,null,null,null,null,null,null,null,null,"Generals"]
[18,null,null,null,null,null,null,null,null,null,null,null,null,null,null,null,null,null,null,null,null,null,null,null,null,null,null,null,null,null,"Generals"]
[19,null,null,null,null,null,null,null,null,null,null,null,null,null,null,null,null,null,null,null,null,null,null,null,null,null,null,null,null,null,"Generals"]
[20,null,null,null,null,null,null,null,null,null,null,null,null,null,null,null,null,null,null,null,null,null,null,null,null,null,null,null,null,null,"Generals"]
[21,null,null,null,null,null,null,null,null,null,null,null,null,null,null,null,null,null,null,null,null,null,null,null,null,null,null,null,null,null,"Generals"]
[22,null,null,null,null,null,null,null,null,null,null,null,null,null,null,null,null,null,null,null,null,null,null,null,null,null,null,null,null,null,"Generals"]
[23,null,null,null,null,null,null,null,null,null,null,null,null,null,null,null,null,null,null,null,null,null,null,null,null,null,null,null,null,null,"Generals"]
[24,null,null,null,null,null,null,null,null,null,null,null,null,null,null,null,null,null,null,null,null,null,null,null,null,null,null,null,null,null,"Generals"]
[25,null,null,null,null,null,null,null,null,null,null,null,null,null,null,null,null,null,null,null,null,null,null,null,null,null,null,null,null,null,"Generals"]
[26,null,null,null,null,null,null,null,null,null,null,null,null,null,null,null,null,null,null,null,null,null,null,null,null,null,null,null,null,null,"Generals"]
[27,null,null,null,null,null,null,null,null,null,null,null,null,null,null,null,null,null,null,null,null,null,null,null,null,null,null,null,null,null,"Generals"]
[28,null,null,null,null,null,null,null,null,null,null,null,null,null,null,null,null,null,null,null,null,null,null,null,null,null,null,null,null,null,"Generals"]
[29,null,null,null,null,null,null,null,null,null,null,null,null,null,null,null,null,null,null,null,null,null,null,null,null,null,null,null,null,null,"Generals"]
[30,null,null,null,null,null,null,null,null,null,null,null,null,null,null,null,null,null,null,null,null,null,null,null,null,null,null,null,null,null,"Generals"]
[31,null,null,null,null,null,null,null,null,null,null,null,null,null,null,null,null,null,null,null,null,null,null,null,null,null,null,null,null,null,"Generals"]
[32,null,null,null,null,null,null,null,null,null,null,null,null,null,null,null,null,null,null,null,null,null,null,null,null,null,null,null,null,null,"Generals"]
[33,null,null,null,null,null,null,null,null,null,null,null,null,null,null,null,null,null,null,null,null,null,null,null,null,null,null,null,null,null,"Generals"]
[34,null,null,null,null,null,null,null,null,null,null,null,null,null,null,null,null,null,null,null,null,null,null,null,null,null,null,null,null,null,"Generals"]
[35,null,null,null,null,null,null,null,null,null,null,null,null,null,null,null,null,null,null,null,null,null,null,null,null,null,null,null,null,null,"Generals"]
[36,null,null,null,null,null,null,null,null,null,null,null,null,null,null,null,null,null,null,null,null,null,null,null,null,null,null,null,null,null,"Generals"]
[37,null,null,null,null,null,null,null,null,null,null,null,null,null,null,null,null,null,null,null,null,null,null,null,null,null,null,null,null,null,"Generals"]
[38,null,null,null,null,null,null,null,null,null,null,null,null,null,null,null,null,null,null,null,null,null,null,null,null,null,null,null,null,null,"Generals"]
[39,null,null,null,null,null,null,null,null,null,null,null,null,null,null,null,null,null,null,null,null,null,null,null,null,null,null,null,null,null,"Generals"]
[40,null,null,null,null,null,null,null,null,null,null,null,null,null,null,null,null,null,null,null,null,null,null,null,null,null,null,null,null,null,"Generals"]
[41,null,null,null,null,null,null,null,null,null,null,null,null,null,null,null,null,null,null,null,null,null,null,null,null,null,null,null,null,null,"Generals"]
[42,null,null,null,null,null,null,null,null,null,null,null,null,null,null,null,null,null,null,null,null,null,null,null,null,null,null,null,null,null,"Generals"]
[43,null,null,null,null,null,null,null,null,null,null,null,null,null,null,null,null,null,null,null,null,null,null,null,null,null,null,null,null,null,"Generals"]
[44,null,null,null,null,null,null,null,null,null,null,null,null,null,null,null,null,null,null,null,null,null,null,null,null,null,null,null,null,null,"Generals"]
[45,null,null,null,null,null,null,null,null,null,null,null,null,null,null,null,null,null,null,null,null,null,null,null,null,null,null,null,null,null,"Generals"]
[46,null,null,null,null,null,null,null,null,null,null,null,null,null,null,null,null,null,null,null,null,null,null,null,null,null,null,null,null,null,"Generals"]
[47,null,null,null,null,null,null,null,null,null,null,null,null,null,null,null,null,null,null,null,null,null,null,null,null,null,null,null,null,null,"Generals"]
[48,null,null,null,null,null,null,null,null,null,null,null,null,null,null,null,null,null,null,null,null,null,null,null,null,null,null,null,null,null,"Generals"]
[49,null,null,null,null,null,null,null,null,null,null,null,null,null,null,null,null,null,null,null,null,null,null,null,null,null,null,null,null,null,"Generals"]
[50,null,null,null,null,null,null,null,null,null,null,null,null,null,null,null,null,null,null,null,null,null,null,null,null,null,null,null,null,null,"Generals"]
[51,null,null,null,null,null,null,null,null,null,null,null,null,null,null,null,null,null,null,null,null,null,null,null,null,null,null,null,null,null,"Generals"]
[52,null,null,null,null,null,null,null,null,null,null,null,null,null,null,null,null,null,null,null,null,null,null,null,null,null,null,null,null,null,"Generals"]
[53,null,null,null,null,null,null,null,null,null,null,null,null,null,null,null,null,null,null,null,null,null,null,null,null,null,null,null,null,null,"Generals"]
[54,null,null,null,null,null,null,null,null,null,null,null,null,null,null,null,null,null,null,null,null,null,null,null,null,null,null,null,null,null,"Generals"]
[55,null,null,null,null,null,null,null,null,null,null,null,null,null,null,null,null,null,null,null,null,null,null,null,null,null,null,null,null,null,"Generals"]
[56,null,null,null,null,null,null,null,null,null,null,null,null,null,null,null,null,null,null,null,null,null,null,null,null,null,null,null,null,null,"Generals"]
[57,null,null,null,null,null,null,null,null,null,null,null,null,null,null,null,null,null,null,null,null,null,null,null,null,null,null,null,null,null,"Generals"]
[58,null,null,null,null,null,null,null,null,null,null,null,null,null,null,null,null,null,null,null,null,null,null,null,null,null,null,null,null,null,"Generals"]
[59,null,null,null,null,null,null,null,null,null,null,null,null,null,null,null,null,null,null,null,null,null,null,null,null,null,null,null,null,null,"Generals"]
[60,null,null,null,null,null,null,null,null,null,null,null,null,null,null,null,null,null,null,null,null,null,null,null,null,null,null,null,null,null,"Generals"]
[61,null,null,null,null,null,null,null,null,null,null,null,null,null,null,null,null,null,null,null,null,null,null,null,null,null,null,null,null,null,"Generals"]
[62,null,null,null,null,null,null,null,null,null,null,null,null,null,null,null,null,null,null,null,null,null,null,null,null,null,null,null,null,null,"Generals"]
[63,null,null,null,null,null,null,null,null,null,null,null,null,null,null,null,null,null,null,null,null,null,null,null,null,null,null,null,null,null,"Generals"]
[64,null,null,null,null,null,null,null,null,null,null,null,null,null,null,null,null,null,null,null,null,null,null,null,null,null,null,null,null,null,"Generals"]
[65,null,null,null,null,null,null,null,null,null,null,null,null,null,null,null,null,null,null,null,null,null,null,null,null,null,null,null,null,null,"Generals"]
[66,null,null,null,null,null,null,null,null,null,null,null,null,null,null,null,null,null,null,null,null,null,null,null,null,null,null,null,null,null,"Generals"]
[67,null,null,null,null,null,null,null,null,null,null,null,null,null,null,null,null,null,null,null,null,null,null,null,null,null,null,null,null,null,"Generals"]
[68,null,null,null,null,null,null,null,null,null,null,null,null,null,null,null,null,null,null,null,null,null,null,null,null,null,null,null,null,null,"Generals"]
[69,null,null,null,null,null,null,null,null,null,null,null,null,null,null,null,null,null,null,null,null,null,null,null,null,null,null,null,null,null,"Generals"]
[70,null,null,null,null,null,null,null,null,null,null,null,null,null,null,null,null,null,null,null,null,null,null,null,null,null,null,null,null,null,"Generals"]
[71,null,null,null,null,null,null,null,null,null,null,null,null,null,null,null,null,null,null,null,null,null,null,null,null,null,null,null,null,null,"Generals"]
[72,null,null,null,null,null,null,null,null,null,null,null,null,null,null,null,null,null,null,null,null,null,null,null,null,null,null,null,null,null,"Generals"]
[73,null,null,null,null,null,null,null,null,null,null,null,null,null,null,null,null,null,null,null,null,null,null,null,null,null,null,null,null,null,"Generals"]
[74,null,null,null,null,null,null,null,null,null,null,null,null,null,null,null,null,null,null,null,null,null,null,null,null,null,null,null,null,null,"Generals"]
[75,null,null,null,null,null,null,null,null,null,null,null,null,null,null,null,null,null,null,null,null,null,null,null,null,null,null,null,null,null,"Generals"]
[76,null,null,null,null,null,null,null,null,null,null,null,null,null,null,null,null,null,null,null,null,null,null,null,null,null,null,null,null,null,"Generals"]
[77,null,null,null,null,null,null,null,null,null,null,null,null,null,null,null,null,null,null,null,null,null,null,null,null,null,null,null,null,null,"Generals"]
[78,null,null,null,null,null,null,null,null,null,null,null,null,null,null,null,null,null,null,null,null,null,null,null,null,null,null,null,null,null,"Generals"]
[79,null,null,null,null,null,null,null,null,null,null,null,null,null,null,null,null,null,null,null,null,null,null,null,null,null,null,null,null,null,"Generals"]
[80,null,null,null,null,null,null,null,null,null,null,null,null,null,null,null,null,null,null,null,null,null,null,null,null,null,null,null,null,null,"Generals"]
[81,null,null,null,null,null,null,null,null,null,null,null,null,null,null,null,null,null,null,null,null,null,null,null,null,null,null,null,null,null,"Generals"]
[82,null,null,null,null,null,null,null,null,null,null,null,null,null,null,null,null,null,null,null,null,null,null,null,null,null,null,null,null,null,"Generals"]
[83,null,null,null,null,null,null,null,null,null,null,null,null,null,null,null,null,null,null,null,null,null,null,null,null,null,null,null,null,null,"Generals"]
[84,null,null,null,null,null,null,null,null,null,null,null,null,null,null,null,null,null,null,null,null,null,null,null,null,null,null,null,null,null,"Generals"]
[85,null,null,null,null,null,null,null,null,null,null,null,null,null,null,null,null,null,null,null,null,null,null,null,null,null,null,null,null,null,"Generals"]
[86,null,null,null,null,null,null,null,null,null,null,null,null,null,null,null,null,null,null,null,null,null,null,null,null,null,null,null,null,null,"Generals"]
[87,null,null,null,null,null,null,null,null,null,null,null,null,null,null,null,null,null,null,null,null,null,null,null,null,null,null,null,null,null,"Generals"]
[88,null,null,null,null,null,null,null,null,null,null,null,null,null,null,null,null,null,null,null,null,null,null,null,null,null,null,null,null,null,"Generals"]
[89,null,null,null,null,null,null,null,null,null,null,null,null,null,null,null,null,null,null,null,null,null,null,null,null,null,null,null,null,null,"Generals"]
[90,null,null,null,null,null,null,null,null,null,null,null,null,null,null,null,null,null,null,null,null,null,null,null,null,null,null,null,null,null,"Generals"]
[91,null,null,null,null,null,null,null,null,null,null,null,null,null,null,null,null,null,null,null,null,null,null,null,null,null,null,null,null,null,"Generals"]
[92,null,null,null,null,null,null,null,null,null,null,null,null,null,null,null,null,null,null,null,null,null,null,null,null,null,null,null,null,null,"Generals"]
[93,null,null,null,null,null,null,null,null,null,null,null,null,null,null,null,null,null,null,null,null,null,null,null,null,null,null,null,null,null,"Generals"]
[94,null,null,null,null,null,null,null,null,null,null,null,null,null,null,null,null,null,null,null,null,null,null,null,null,null,null,null,null,null,"Generals"]
[95,null,null,null,null,null,null,null,null,null,null,null,null,null,null,null,null,null,null,null,null,null,null,null,null,null,null,null,null,null,"Generals"]
[96,null,null,null,null,null,null,null,null,null,null,null,null,null,null,null,null,null,null,null,null,null,null,null,null,null,null,null,null,null,"Generals"]
[97,null,null,null,null,null,null,null,null,null,null,null,null,null,null,null,null,null,null,null,null,null,null,null,null,null,null,null,null,null,"Generals"]
[98,null,null,null,null,null,null,null,null,null,null,null,null,null,null,null,null,null,null,null,null,null,null,null,null,null,null,null,null,null,"Generals"]
[99,null,null,null,null,null,null,null,null,null,null,null,null,null,null,null,null,null,null,null,null,null,null,null,null,null,null,null,null,null,"Generals"]
[100,null,null,null,null,null,null,null,null,null,null,null,null,null,null,null,null,null,null,null,null,null,null,null,null,null,null,null,null,null,"Generals"]
[]
[null,{"$f":"+COUNT(AD5:AD104)","v":6}]

{"sheet":"Spielreihenfolge","index":14,"n_rows":121,"n_cols":92,"rows_kept":121,"cut":false,"hidden":false,"merged":[[1,84,1,91],[1,39,1,46],[1,48,1,55],[1,57,1,64],[1,66,1,73],[1,75,1,82]]}
["Auswertung Spielreihenfolge"]
[null,null,null,null,null,null,null,null,null,null,null,null,"Wolf","Volk","Mike","Volk","Big Boss","Volk","Groo","Volk","Zorro","Volk","Marc ","Volk",null,"Wolf",null,null,"Mike",null,"Big Boss",null,"Groo",null,"Zorro",null,"Marc",null,null,"Wolf",null,null,null,null,null,null,null,null,"Mike",null,null,null,null,null,null,null,null,"Big Boss",null,null,null,null,null,null,null,null,"Groo",null,null,null,null,null,null,null,null,"Zorro",null,null,null,null,null,null,null,null,"Marc"]
["Nr.","Spiel",null,null,null,null,null,null,null,"Spiel Auswertung",null,null,null,null,null,null,null,null,null,null,null,null,null,null,null,null,null,null,null,null,null,null,null,null,null,null,null,null,"Nr.","Spiele","Abschüsse","Durchschnitt","Siege","Niederlagen","Diff.","Spiel / Mittelwert","Wertung",null,"Spiele","Abschüsse","Durchschnitt","Siege","Niederlagen","Diff.","Spiel / Mittelwert","Wertung",null,"Spiele","Abschüsse","Durchschnitt","Siege","Niederlagen","Diff.","Spiel / Mittelwert","Wertung",null,"Spiele","Abschüsse","Durchschnitt","Siege","Niederlagen","Diff.","Spiel / Mittelwert","Wertung",null,"Spiele","Abschüsse","Durchschnitt","Siege","Niederlagen","Diff.","Spiel / Mittelwert","Wertung",null,"Spiele","Abschüsse","Durchschnitt","Siege","Niederlagen","Diff.","Spiel / Mittelwert","Wertung"]
[1,{"$f":"+I4&H4&G4&F4&E4&D4","v":"Yuri"},null,{"$f":"+IFERROR(INDEX('Auswertung AoE II'!$AE:$AE,MATCH(A4,'Auswertung AoE II'!$AD:$AD,0)),\"\")","v":""},{"$f":"+IFERROR(INDEX('Auswertung AoE III'!$AE:$AE,MATCH(A4,'Auswertung AoE III'!$AD:$AD,0)),\"\")","v":""},{"$f":"+IFERROR(INDEX('Auswertung AoM'!$AE:$AE,MATCH(A4,'Auswertung AoM'!$AD:$AD,0)),\"\")","v":""},{"$f":"+IFERROR(INDEX('Auswertung RA'!$AE:$AE,MATCH(A4,'Auswertung RA'!$AD:$AD,0)),\"\")","v":""},{"$f":"+IFERROR(INDEX('Auswertung Yuri'!$AE:$AE,MATCH(A4,'Auswertung Yuri'!$AD:$AD,0)),\"\")","v":"Yuri"},{"$f":"+IFERROR(INDEX('Auswertung Generals'!$AE:$AE,MATCH(A4,'Auswertung Generals'!$AD:$AD,0)),\"\")","v":""},{"$f":"+IF(B4<>0,CONCATENATE(\"Auswertung \",B4,\"\"))","v":"Auswertung Yuri"},null,null,{"$f":"+IF(ISERROR(+INDIRECT(CONCATENATE(\"'\",J4,\"'!\",(ADDRESS((COUNTIF($J$3:J4,IF(B4<>0,CONCATENATE(\"Auswertung \",B4,\"\"))))+2,2)))))=FALSE,+INDIRECT(CONCATENATE(\"'\",J4,\"'!\",(ADDRESS((COUNTIF($J$3:J4,IF(B4<>0,CONCATENATE(\"Auswertung \",B4,\"\"))))+4,2)))),\"\")","v":43},{"$f":"IF(ISERROR(+INDIRECT(CONCATENATE(\"'\",J4,\"'!\",(ADDRESS((COUNTIF($J$3:J4,IF(B4<>0,CONCATENATE(\"Auswertung \",B4,\"\"))))+2,2+1)))))=FALSE,+INDIRECT(CONCATENATE(\"'\",J4,\"'!\",(ADDRESS((COUNTIF($J$3:J4,IF(B4<>0,CONCATENATE(\"Auswertung \",B4,\"\"))))+4,2+1)))),\"\")","v":"Lyb"},{"$f":"+IF(ISERROR(+INDIRECT(CONCATENATE(\"'\",J4,\"'!\",(ADDRESS((COUNTIF($J$3:J4,IF(B4<>0,CONCATENATE(\"Auswertung \",B4,\"\"))))+2,4)))))=FALSE,+INDIRECT(CONCATENATE(\"'\",J4,\"'!\",(ADDRESS((COUNTIF($J$3:J4,IF(B4<>0,CONCATENATE(\"Auswertung \",B4,\"\"))))+4,4)))),\"\")","v":77},{"$f":"+IF(ISERROR(+INDIRECT(CONCATENATE(\"'\",J4,\"'!\",(ADDRESS((COUNTIF($J$3:J4,IF(B4<>0,CONCATENATE(\"Auswertung \",B4,\"\"))))+2,5)))))=FALSE,+INDIRECT(CONCATENATE(\"'\",J4,\"'!\",(ADDRESS((COUNTIF($J$3:J4,IF(B4<>0,CONCATENATE(\"Auswertung \",B4,\"\"))))+4,5)))),\"\")","v":"Rus"},{"$f":"+IF(ISERROR(+INDIRECT(CONCATENATE(\"'\",J4,\"'!\",(ADDRESS((COUNTIF($J$3:J4,IF(B4<>0,CONCATENATE(\"Auswertung \",B4,\"\"))))+2,6)))))=FALSE,+INDIRECT(CONCATENATE(\"'\",J4,\"'!\",(ADDRESS((COUNTIF($J$3:J4,IF(B4<>0,CONCATENATE(\"Auswertung \",B4,\"\"))))+4,6)))),\"\")","v":40},{"$f":"+IF(ISERROR(+INDIRECT(CONCATENATE(\"'\",J4,\"'!\",(ADDRESS((COUNTIF($J$3:J4,IF(B4<>0,CONCATENATE(\"Auswertung \",B4,\"\"))))+2,7)))))=FALSE,+INDIRECT(CONCATENATE(\"'\",J4,\"'!\",(ADDRESS((COUNTIF($J$3:J4,IF(B4<>0,CONCATENATE(\"Auswertung \",B4,\"\"))))+4,7)))),\"\")","v":"Rus"},{"$f":"+IF(ISERROR(+INDIRECT(CONCATENATE(\"'\",J4,\"'!\",(ADDRESS((COUNTIF($J$3:J4,IF(B4<>0,CONCATENATE(\"Auswertung \",B4,\"\"))))+2,8)))))=FALSE,+INDIRECT(CONCATENATE(\"'\",J4,\"'!\",(ADDRESS((COUNTIF($J$3:J4,IF(B4<>0,CONCATENATE(\"Auswertung \",B4,\"\"))))+4,8)))),\"\")","v":28},{"$f":"+IF(ISERROR(+INDIRECT(CONCATENATE(\"'\",J4,\"'!\",(ADDRESS((COUNTIF($J$3:J4,IF(B4<>0,CONCATENATE(\"Auswertung \",B4,\"\"))))+2,11)))))=FALSE,+INDIRECT(CONCATENATE(\"'\",J4,\"'!\",(ADDRESS((COUNTIF($J$3:J4,IF(B4<>0,CONCATENATE(\"Auswertung \",B4,\"\"))))+4,9)))),\"\")","v":"Yur"},{"$f":"+IF(ISERROR(+INDIRECT(CONCATENATE(\"'\",J4,\"'!\",(ADDRESS((COUNTIF($J$3:J4,IF(B4<>0,CONCATENATE(\"Auswertung \",B4,\"\"))))+2,10)))))=FALSE,+INDIRECT(CONCATENATE(\"'\",J4,\"'!\",(ADDRESS((COUNTIF($J$3:J4,IF(B4<>0,CONCATENATE(\"Auswertung \",B4,\"\"))))+4,10)))),\"\")","v":41},{"$f":"+IF(ISERROR(+INDIRECT(CONCATENATE(\"'\",J4,\"'!\",(ADDRESS((COUNTIF($J$3:J4,IF(B4<>0,CONCATENATE(\"Auswertung \",B4,\"\"))))+2,11)))))=FALSE,+INDIRECT(CONCATENATE(\"'\",J4,\"'!\",(ADDRESS((COUNTIF($J$3:J4,IF(B4<>0,CONCATENATE(\"Auswertung \",B4,\"\"))))+4,11)))),\"\")","v":"Yur"},{"$f":"+IF(ISERROR(+INDIRECT(CONCATENATE(\"'\",J4,\"'!\",(ADDRESS((COUNTIF($J$3:J4,IF(D4<>0,CONCATENATE(\"Auswertung \",D4,\"\"))))+2,12)))))=FALSE,+INDIRECT(CONCATENATE(\"'\",J4,\"'!\",(ADDRESS((COUNTIF($J$3:J4,IF(D4<>0,CONCATENATE(\"Auswertung \",B4,\"\"))))+4,12)))),\"\")","v":34},{"$f":"+IF(ISERROR(+INDIRECT(CONCATENATE(\"'\",J4,\"'!\",(ADDRESS((COUNTIF($J$3:J4,IF(D4<>0,CONCATENATE(\"Auswertung \",D4,\"\"))))+2,13)))))=FALSE,+INDIRECT(CONCATENATE(\"'\",J4,\"'!\",(ADDRESS((COUNTIF($J$3:J4,IF(D4<>0,CONCATENATE(\"Auswertung \",B4,\"\"))))+4,13)))),\"\")","v":"Lyb"},null,{"$f":"+IFERROR(INDIRECT(CONCATENATE(\"'\",J4,\"'!\",(ADDRESS((COUNTIF($J$3:J4,IF(B4<>0,J4)))+4,16)))),\"\")","v":1},{"$f":"AU4","v":0.104},{"$f":"+M4/1000","v":4.2999999999999997E-2},{"$f":"+IFERROR(INDIRECT(CONCATENATE(\"'\",J4,\"'!\",(ADDRESS((COUNTIF($J$3:J4,IF(B4<>0,J4)))+4,18)))),\"\")","v":1},{"$f":"+BD4","v":0.108},{"$f":"+IFERROR(INDIRECT(CONCATENATE(\"'\",J4,\"'!\",(ADDRESS((COUNTIF($J$3:J4,IF(B4<>0,J4)))+4,20)))),\"\")","v":-1},{"$f":"+BM4","v":-9.6000000000000002E-2},{"$f":"+IFERROR(INDIRECT(CONCATENATE(\"'\",J4,\"'!\",(ADDRESS((COUNTIF($J$3:J4,IF(B4<>0,J4)))+4,22)))),\"\")","v":1},{"$f":"+BV4","v":0.10299999999999999},{"$f":"+IFERROR(INDIRECT(CONCATENATE(\"'\",J4,\"'!\",(ADDRESS((COUNTIF($J$3:J4,IF(B4<>0,J4)))+4,24)))),\"\")","v":-1},{"$f":"+CE4","v":-9.6000000000000002E-2},{"$f":"+IFERROR(INDIRECT(CONCATENATE(\"'\",J4,\"'!\",(ADDRESS((COUNTIF($J$3:J4,IF(B4<>0,J4)))+4,26)))),\"\")","v":-1},{"$f":"+CN4","v":-9.7000000000000003E-2},1,{"$f":"+SUM(COUNTIF($Z$3:Z4,1),COUNTIF($Z$3:Z4,-1))","v":1},{"$f":"+SUM($M$4:M4)","v":43},{"$f":"+AO4/AN4","v":43},{"$f":"+SUM(COUNTIF($Z$3:Z4,1))","v":1},{"$f":"+SUM(COUNTIF($Z$3:Z4,-1))","v":0},{"$f":"+AQ4-AR4","v":1},{"$f":"AN4*(HARMEAN((IF(SUM(COUNTIF($Z$3:Z4,1),COUNTIF($Z$3:Z4,-1))=0,1,SUM(COUNTIF($Z$3:Z4,1),COUNTIF($Z$3:Z4,-1)))),(IF(SUM(COUNTIF($AC$3:AC4,1),COUNTIF($AC$3:AC4,-1))=0,1,SUM(COUNTIF($AC$3:AC4,1),COUNTIF($AC$3:AC4,-1)))),(IF(SUM(COUNTIF($AE$3:AE4,1),COUNTIF($AE$3:AE4,-1))=0,1,SUM(COUNTIF($AE$3:AE4,1),COUNTIF($AE$3:AE4,-1)))),(IF(SUM(COUNTIF($AG$3:AG4,1),COUNTIF($AG$3:AG4,-1))=0,1,SUM(COUNTIF($AG$3:AG4,1),COUNTIF($AG$3:AG4,-1)))),(IF(SUM(COUNTIF($AI$3:AI4,1),COUNTIF($AI$3:AI4,-1))=0,1,SUM(COUNTIF($AI$3:AI4,1),COUNTIF($AI$3:AI4,-1)))),(IF(SUM(COUNTIF($AK$3:AK4,1),COUNTIF($AK$3:AK4,-1))=0,1,SUM(COUNTIF($AK$3:AK4,1),COUNTIF($AK$3:AK4,-1)))))/1000)","v":1E-3},{"$f":"IF(AN4=0,\"-\",IF(AN4=0,0,ROUND(((AQ4/AN4-AR4/AN4)*100+AP4/10)*AT4,3)))","v":0.104},null,{"$f":"+SUM(COUNTIF($AC$3:AC4,1),COUNTIF($AC$3:AC4,-1))","v":1},{"$f":"+SUM(O4)","v":77},{"$f":"+AX4/AW4","v":77},{"$f":"+SUM(COUNTIF($AC$3:AC4,1))","v":1},{"$f":"+SUM(COUNTIF($AC$3:AC4,-1))","v":0},{"$f":"+AZ4-BA4","v":1},{"$f":"AW4*(HARMEAN((IF(SUM(COUNTIF($Z$3:Z4,1),COUNTIF($Z$3:Z4,-1))=0,1,SUM(COUNTIF($Z$3:Z4,1),COUNTIF($Z$3:Z4,-1)))),(IF(SUM(COUNTIF($AC$3:AC4,1),COUNTIF($AC$3:AC4,-1))=0,1,SUM(COUNTIF($AC$3:AC4,1),COUNTIF($AC$3:AC4,-1)))),(IF(SUM(COUNTIF($AE$3:AE4,1),COUNTIF($AE$3:AE4,-1))=0,1,SUM(COUNTIF($AE$3:AE4,1),COUNTIF($AE$3:AE4,-1)))),(IF(SUM(COUNTIF($AG$3:AG4,1),COUNTIF($AG$3:AG4,-1))=0,1,SUM(COUNTIF($AG$3:AG4,1),COUNTIF($AG$3:AG4,-1)))),(IF(SUM(COUNTIF($AI$3:AI4,1),COUNTIF($AI$3:AI4,-1))=0,1,SUM(COUNTIF($AI$3:AI4,1),COUNTIF($AI$3:AI4,-1)))),(IF(SUM(COUNTIF($AK$3:AK4,1),COUNTIF($AK$3:AK4,-1))=0,1,SUM(COUNTIF($AK$3:AK4,1),COUNTIF($AK$3:AK4,-1)))))/1000)","v":1E-3},{"$f":"IF(AW4=0,\"-\",IF(AN4=0,0,ROUND(((AZ4/AW4-BA4/AW4)*100+AY4/10)*BC4,3)))","v":0.108},null,{"$f":"+SUM(COUNTIF($AE$3:AE4,1),COUNTIF(AE$3:$AE4,-1))","v":1},{"$f":"+SUM(Q4)","v":40},{"$f":"+BG4/BF4","v":40},{"$f":"+SUM(COUNTIF($AE$3:AE4,1))","v":0},{"$f":"+SUM(COUNTIF($AE$3:AE4,-1))","v":1},{"$f":"+BI4-BJ4","v":-1},{"$f":"BF4*(HARMEAN((IF(SUM(COUNTIF($Z$3:Z4,1),COUNTIF($Z$3:Z4,-1))=0,1,SUM(COUNTIF($Z$3:Z4,1),COUNTIF($Z$3:Z4,-1)))),(IF(SUM(COUNTIF($AC$3:AC4,1),COUNTIF($AC$3:AC4,-1))=0,1,SUM(COUNTIF($AC$3:AC4,1),COUNTIF($AC$3:AC4,-1)))),(IF(SUM(COUNTIF($AE$3:AE4,1),COUNTIF($AE$3:AE4,-1))=0,1,SUM(COUNTIF($AE$3:AE4,1),COUNTIF($AE$3:AE4,-1)))),(IF(SUM(COUNTIF($AG$3:AG4,1),COUNTIF($AG$3:AG4,-1))=0,1,SUM(COUNTIF($AG$3:AG4,1),COUNTIF($AG$3:AG4,-1)))),(IF(SUM(COUNTIF($AI$3:AI4,1),COUNTIF($AI$3:AI4,-1))=0,1,SUM(COUNTIF($AI$3:AI4,1),COUNTIF($AI$3:AI4,-1)))),(IF(SUM(COUNTIF($AK$3:AK4,1),COUNTIF($AK$3:AK4,-1))=0,1,SUM(COUNTIF($AK$3:AK4,1),COUNTIF($AK$3:AK4,-1)))))/1000)","v":1E-3},{"$f":"IF(BF4=0,\"-\",IF(BF4=0,0,ROUND(((BI4/BF4-BJ4/BF4)*100+BH4/10)*BL4,3)))","v":-9.6000000000000002E-2},null,{"$f":"+SUM(COUNTIF($AG$3:AG4,1),COUNTIF($AG$3:AG4,-1))","v":1},{"$f":"+SUM(S4)","v":28},{"$f":"+BP4/BO4","v":28},{"$f":"+SUM(COUNTIF($AG$3:AG4,1))","v":1},{"$f":"+SUM(COUNTIF($AG$3:AG4,-1))","v":0},{"$f":"+BR4-BS4","v":1},{"$f":"BO4*(HARMEAN((IF(SUM(COUNTIF($Z$3:Z4,1),COUNTIF($Z$3:Z4,-1))=0,1,SUM(COUNTIF($Z$3:Z4,1),COUNTIF($Z$3:Z4,-1)))),(IF(SUM(COUNTIF($AC$3:AC4,1),COUNTIF($AC$3:AC4,-1))=0,1,SUM(COUNTIF($AC$3:AC4,1),COUNTIF($AC$3:AC4,-1)))),(IF(SUM(COUNTIF($AE$3:AE4,1),COUNTIF($AE$3:AE4,-1))=0,1,SUM(COUNTIF($AE$3:AE4,1),COUNTIF($AE$3:AE4,-1)))),(IF(SUM(COUNTIF($AG$3:AG4,1),COUNTIF($AG$3:AG4,-1))=0,1,SUM(COUNTIF($AG$3:AG4,1),COUNTIF($AG$3:AG4,-1)))),(IF(SUM(COUNTIF($AI$3:AI4,1),COUNTIF($AI$3:AI4,-1))=0,1,SUM(COUNTIF($AI$3:AI4,1),COUNTIF($AI$3:AI4,-1)))),(IF(SUM(COUNTIF($AK$3:AK4,1),COUNTIF($AK$3:AK4,-1))=0,1,SUM(COUNTIF($AK$3:AK4,1),COUNTIF($AK$3:AK4,-1)))))/1000)","v":1E-3},{"$f":"IF(BO4=0,\"-\",IF(BO4=0,0,ROUND(((BR4/BO4-BS4/BO4)*100+BQ4/10)*BU4,3)))","v":0.10299999999999999},null,{"$f":"+SUM(COUNTIF($AI$3:AI4,1),COUNTIF($AI$3:AI4,-1))","v":1},{"$f":"+SUM(U4)","v":41},{"$f":"+BY4/BX4","v":41},{"$f":"+SUM(COUNTIF($AI$3:AI4,1))","v":0},{"$f":"+SUM(COUNTIF($AI$3:AI4,-1))","v":1},{"$f":"+CA4-CB4","v":-1},{"$f":"+BX4*(HARMEAN((IF(SUM(COUNTIF($Z$3:Z4,1),COUNTIF($Z$3:Z4,-1))=0,1,SUM(COUNTIF($Z$3:Z4,1),COUNTIF($Z$3:Z4,-1)))),(IF(SUM(COUNTIF($AC$3:AC4,1),COUNTIF($AC$3:AC4,-1))=0,1,SUM(COUNTIF($AC$3:AC4,1),COUNTIF($AC$3:AC4,-1)))),(IF(SUM(COUNTIF($AE$3:AE4,1),COUNTIF($AE$3:AE4,-1))=0,1,SUM(COUNTIF($AE$3:AE4,1),COUNTIF($AE$3:AE4,-1)))),(IF(SUM(COUNTIF($AG$3:AG4,1),COUNTIF($AG$3:AG4,-1))=0,1,SUM(COUNTIF($AG$3:AG4,1),COUNTIF($AG$3:AG4,-1)))),(IF(SUM(COUNTIF($AI$3:AI4,1),COUNTIF($AI$3:AI4,-1))=0,1,SUM(COUNTIF($AI$3:AI4,1),COUNTIF($AI$3:AI4,-1)))),(IF(SUM(COUNTIF($AK$3:AK4,1),COUNTIF($AK$3:AK4,-1))=0,1,SUM(COUNTIF($AK$3:AK4,1),COUNTIF($AK$3:AK4,-1)))))/1000)","v":1E-3},{"$f":"IF(BX4=0,\"-\",IF(BX4=0,0,ROUND(((CA4/BX4-CB4/BX4)*100+BZ4/10)*CD4,3)))","v":-9.6000000000000002E-2},null,{"$f":"+SUM(COUNTIF($AK$3:AK4,1),COUNTIF($AK$3:AK4,-1))","v":1},{"$f":"+SUM(W4)","v":34},{"$f":"+CH4/CG4","v":34},{"$f":"+SUM(COUNTIF($AK$3:AK4,1))","v":0},{"$f":"+SUM(COUNTIF($AK$3:AK4,-1))","v":1},{"$f":"+CJ4-CK4","v":-1},{"$f":"+CG4*(HARMEAN((IF(SUM(COUNTIF($Z$3:Z4,1),COUNTIF($Z$3:Z4,-1))=0,1,SUM(COUNTIF($Z$3:Z4,1),COUNTIF($Z$3:Z4,-1)))),(IF(SUM(COUNTIF($AC$3:AC4,1),COUNTIF($AC$3:AC4,-1))=0,1,SUM(COUNTIF($AC$3:AC4,1),COUNTIF($AC$3:AC4,-1)))),(IF(SUM(COUNTIF($AE$3:AE4,1),COUNTIF($AE$3:AE4,-1))=0,1,SUM(COUNTIF($AE$3:AE4,1),COUNTIF($AE$3:AE4,-1)))),(IF(SUM(COUNTIF($AG$3:AG4,1),COUNTIF($AG$3:AG4,-1))=0,1,SUM(COUNTIF($AG$3:AG4,1),COUNTIF($AG$3:AG4,-1)))),(IF(SUM(COUNTIF($AI$3:AI4,1),COUNTIF($AI$3:AI4,-1))=0,1,SUM(COUNTIF($AI$3:AI4,1),COUNTIF($AI$3:AI4,-1)))),(IF(SUM(COUNTIF($AK$3:AK4,1),COUNTIF($AK$3:AK4,-1))=0,1,SUM(COUNTIF($AK$3:AK4,1),COUNTIF($AK$3:AK4,-1)))))/1000)","v":1E-3},{"$f":"IF(CG4=0,\"-\",IF(CG4=0,0,ROUND(((CJ4/CG4-CK4/CG4)*100+CI4/10)*CM4,3)))","v":-9.7000000000000003E-2}]
[2,"AoE III",null,{"$f":"+IFERROR(INDEX('Auswertung AoE II'!$AE:$AE,MATCH(A5,'Auswertung AoE II'!$AD:$AD,0)),\"\")","v":""},{"$f":"+IFERROR(INDEX('Auswertung AoE III'!$AE:$AE,MATCH(A5,'Auswertung AoE III'!$AD:$AD,0)),\"\")","v":"AoE III"},{"$f":"+IFERROR(INDEX('Auswertung AoM'!$AE:$AE,MATCH(A5,'Auswertung AoM'!$AD:$AD,0)),\"\")","v":""},{"$f":"+IFERROR(INDEX('Auswertung RA'!$AE:$AE,MATCH(A5,'Auswertung RA'!$AD:$AD,0)),\"\")","v":""},{"$f":"+IFERROR(INDEX('Auswertung Yuri'!$AE:$AE,MATCH(A5,'Auswertung Yuri'!$AD:$AD,0)),\"\")","v":""},{"$f":"+IFERROR(INDEX('Auswertung Generals'!$AE:$AE,MATCH(A5,'Auswertung Generals'!$AD:$AD,0)),\"\")","v":""},{"$f":"+IF(B5<>0,CONCATENATE(\"Auswertung \",B5,\"\"))","v":"Auswertung AoE III"},null,null,{"$f":"+IF(ISERROR(+INDIRECT(CONCATENATE(\"'\",J5,\"'!\",(ADDRESS((COUNTIF($J$3:J5,IF(B5<>0,CONCATENATE(\"Auswertung \",B5,\"\"))))+2,2)))))=FALSE,+INDIRECT(CONCATENATE(\"'\",J5,\"'!\",(ADDRESS((COUNTIF($J$3:J5,IF(B5<>0,CONCATENATE(\"Auswertung \",B5,\"\"))))+4,2)))),\"\")","v":206},{"$f":"IF(ISERROR(+INDIRECT(CONCATENATE(\"'\",J5,\"'!\",(ADDRESS((COUNTIF($J$3:J5,IF(B5<>0,CONCATENATE(\"Auswertung \",B5,\"\"))))+2,2+1)))))=FALSE,+INDIRECT(CONCATENATE(\"'\",J5,\"'!\",(ADDRESS((COUNTIF($J$3:J5,IF(B5<>0,CONCATENATE(\"Auswertung \",B5,\"\"))))+4,2+1)))),\"\")","v":"Sioux"},{"$f":"+IF(ISERROR(+INDIRECT(CONCATENATE(\"'\",J5,\"'!\",(ADDRESS((COUNTIF($J$3:J5,IF(B5<>0,CONCATENATE(\"Auswertung \",B5,\"\"))))+2,4)))))=FALSE,+INDIRECT(CONCATENATE(\"'\",J5,\"'!\",(ADDRESS((COUNTIF($J$3:J5,IF(B5<>0,CONCATENATE(\"Auswertung \",B5,\"\"))))+4,4)))),\"\")","v":235},{"$f":"+IF(ISERROR(+INDIRECT(CONCATENATE(\"'\",J5,\"'!\",(ADDRESS((COUNTIF($J$3:J5,IF(B5<>0,CONCATENATE(\"Auswertung \",B5,\"\"))))+2,5)))))=FALSE,+INDIRECT(CONCATENATE(\"'\",J5,\"'!\",(ADDRESS((COUNTIF($J$3:J5,IF(B5<>0,CONCATENATE(\"Auswertung \",B5,\"\"))))+4,5)))),\"\")","v":"Jap"},{"$f":"+IF(ISERROR(+INDIRECT(CONCATENATE(\"'\",J5,\"'!\",(ADDRESS((COUNTIF($J$3:J5,IF(B5<>0,CONCATENATE(\"Auswertung \",B5,\"\"))))+2,6)))))=FALSE,+INDIRECT(CONCATENATE(\"'\",J5,\"'!\",(ADDRESS((COUNTIF($J$3:J5,IF(B5<>0,CONCATENATE(\"Auswertung \",B5,\"\"))))+4,6)))),\"\")","v":315},{"$f":"+IF(ISERROR(+INDIRECT(CONCATENATE(\"'\",J5,\"'!\",(ADDRESS((COUNTIF($J$3:J5,IF(B5<>0,CONCATENATE(\"Auswertung \",B5,\"\"))))+2,7)))))=FALSE,+INDIRECT(CONCATENATE(\"'\",J5,\"'!\",(ADDRESS((COUNTIF($J$3:J5,IF(B5<>0,CONCATENATE(\"Auswertung \",B5,\"\"))))+4,7)))),\"\")","v":"Jap"},{"$f":"+IF(ISERROR(+INDIRECT(CONCATENATE(\"'\",J5,\"'!\",(ADDRESS((COUNTIF($J$3:J5,IF(B5<>0,CONCATENATE(\"Auswertung \",B5,\"\"))))+2,10)))))=FALSE,+INDIRECT(CONCATENATE(\"'\",J5,\"'!\",(ADDRESS((COUNTIF($J$3:J5,IF(B5<>0,CONCATENATE(\"Auswertung \",B5,\"\"))))+4,8)))),\"\")","v":293},{"$f":"+IF(ISERROR(+INDIRECT(CONCATENATE(\"'\",J5,\"'!\",(ADDRESS((COUNTIF($J$3:J5,IF(B5<>0,CONCATENATE(\"Auswertung \",B5,\"\"))))+2,11)))))=FALSE,+INDIRECT(CONCATENATE(\"'\",J5,\"'!\",(ADDRESS((COUNTIF($J$3:J5,IF(B5<>0,CONCATENATE(\"Auswertung \",B5,\"\"))))+4,9)))),\"\")","v":"Port"},{"$f":"+IF(ISERROR(+INDIRECT(CONCATENATE(\"'\",J5,\"'!\",(ADDRESS((COUNTIF($J$3:J5,IF(B5<>0,CONCATENATE(\"Auswertung \",B5,\"\"))))+2,10)))))=FALSE,+INDIRECT(CONCATENATE(\"'\",J5,\"'!\",(ADDRESS((COUNTIF($J$3:J5,IF(B5<>0,CONCATENATE(\"Auswertung \",B5,\"\"))))+4,10)))),\"\")","v":184},{"$f":"+IF(ISERROR(+INDIRECT(CONCATENATE(\"'\",J5,\"'!\",(ADDRESS((COUNTIF($J$3:J5,IF(B5<>0,CONCATENATE(\"Auswertung \",B5,\"\"))))+2,11)))))=FALSE,+INDIRECT(CONCATENATE(\"'\",J5,\"'!\",(ADDRESS((COUNTIF($J$3:J5,IF(B5<>0,CONCATENATE(\"Auswertung \",B5,\"\"))))+4,11)))),\"\")","v":"Sioux"},{"$f":"+IF(ISERROR(+INDIRECT(CONCATENATE(\"'\",J5,\"'!\",(ADDRESS((COUNTIF($J$3:J5,IF(D5<>0,CONCATENATE(\"Auswertung \",D5,\"\"))))+2,12)))))=FALSE,+INDIRECT(CONCATENATE(\"'\",J5,\"'!\",(ADDRESS((COUNTIF($J$3:J5,IF(D5<>0,CONCATENATE(\"Auswertung \",B5,\"\"))))+4,12)))),\"\")","v":360},{"$f":"+IF(ISERROR(+INDIRECT(CONCATENATE(\"'\",J5,\"'!\",(ADDRESS((COUNTIF($J$3:J5,IF(D5<>0,CONCATENATE(\"Auswertung \",D5,\"\"))))+2,13)))))=FALSE,+INDIRECT(CONCATENATE(\"'\",J5,\"'!\",(ADDRESS((COUNTIF($J$3:J5,IF(D5<>0,CONCATENATE(\"Auswertung \",B5,\"\"))))+4,13)))),\"\")","v":"Port"},null,{"$f":"+IFERROR(INDIRECT(CONCATENATE(\"'\",J5,\"'!\",(ADDRESS((COUNTIF($J$3:J5,IF(B5<>0,J5)))+4,16)))),\"\")","v":1},{"$f":"AU5","v":0.45},{"$f":"+SUM($M$4:M5)/COUNT($M$4:M5)/1000*2","v":0.249},{"$f":"+IFERROR(INDIRECT(CONCATENATE(\"'\",J5,\"'!\",(ADDRESS((COUNTIF($J$3:J5,IF(B5<>0,J5)))+4,18)))),\"\")","v":1},{"$f":"+BD5","v":0.46200000000000002},{"$f":"+IFERROR(INDIRECT(CONCATENATE(\"'\",J5,\"'!\",(ADDRESS((COUNTIF($J$3:J5,IF(B5<>0,J5)))+4,20)))),\"\")","v":-1},{"$f":"+BM5","v":-0.32900000000000001},{"$f":"+IFERROR(INDIRECT(CONCATENATE(\"'\",J5,\"'!\",(ADDRESS((COUNTIF($J$3:J5,IF(B5<>0,J5)))+4,22)))),\"\")","v":-1},{"$f":"+BV5","v":6.4000000000000001E-2},{"$f":"+IFERROR(INDIRECT(CONCATENATE(\"'\",J5,\"'!\",(ADDRESS((COUNTIF($J$3:J5,IF(B5<>0,J5)))+4,24)))),\"\")","v":-1},{"$f":"+CE5","v":-0.35499999999999998},{"$f":"+IFERROR(INDIRECT(CONCATENATE(\"'\",J5,\"'!\",(ADDRESS((COUNTIF($J$3:J5,IF(B5<>0,J5)))+4,26)))),\"\")","v":1},{"$f":"+CN5","v":7.9000000000000001E-2},2,{"$f":"+SUM(COUNTIF($Z$3:Z5,1),COUNTIF($Z$3:Z5,-1))","v":2},{"$f":"+SUM($M$4:M5)","v":249},124.5,{"$f":"+SUM(COUNTIF($Z$3:Z5,1))","v":2},{"$f":"+SUM(COUNTIF($Z$3:Z5,-1))","v":0},{"$f":"+AQ5-AR5","v":2},{"$f":"AN5*(HARMEAN((IF(SUM(COUNTIF($Z$3:Z5,1),COUNTIF($Z$3:Z5,-1))=0,1,SUM(COUNTIF($Z$3:Z5,1),COUNTIF($Z$3:Z5,-1)))),(IF(SUM(COUNTIF($AC$3:AC5,1),COUNTIF($AC$3:AC5,-1))=0,1,SUM(COUNTIF($AC$3:AC5,1),COUNTIF($AC$3:AC5,-1)))),(IF(SUM(COUNTIF($AE$3:AE5,1),COUNTIF($AE$3:AE5,-1))=0,1,SUM(COUNTIF($AE$3:AE5,1),COUNTIF($AE$3:AE5,-1)))),(IF(SUM(COUNTIF($AG$3:AG5,1),COUNTIF($AG$3:AG5,-1))=0,1,SUM(COUNTIF($AG$3:AG5,1),COUNTIF($AG$3:AG5,-1)))),(IF(SUM(COUNTIF($AI$3:AI5,1),COUNTIF($AI$3:AI5,-1))=0,1,SUM(COUNTIF($AI$3:AI5,1),COUNTIF($AI$3:AI5,-1)))),(IF(SUM(COUNTIF($AK$3:AK5,1),COUNTIF($AK$3:AK5,-1))=0,1,SUM(COUNTIF($AK$3:AK5,1),COUNTIF($AK$3:AK5,-1)))))/1000)","v":4.0000000000000001E-3},{"$f":"IF(AN5=0,\"-\",IF(AN5=0,0,ROUND(((AQ5/AN5-AR5/AN5)*100+AP5/10)*AT5,3)))","v":0.45},null,{"$f":"+SUM(COUNTIF($AC$3:AC5,1),COUNTIF($AC$3:AC5,-1))","v":2},{"$f":"+SUM($O$4:O5)","v":312},156,{"$f":"+SUM(COUNTIF($AC$3:AC5,1))","v":2},{"$f":"+SUM(COUNTIF($AC$3:AC5,-1))","v":0},{"$f":"+AZ5-BA5","v":2},{"$f":"AW5*(HARMEAN((IF(SUM(COUNTIF($Z$3:Z5,1),COUNTIF($Z$3:Z5,-1))=0,1,SUM(COUNTIF($Z$3:Z5,1),COUNTIF($Z$3:Z5,-1)))),(IF(SUM(COUNTIF($AC$3:AC5,1),COUNTIF($AC$3:AC5,-1))=0,1,SUM(COUNTIF($AC$3:AC5,1),COUNTIF($AC$3:AC5,-1)))),(IF(SUM(COUNTIF($AE$3:AE5,1),COUNTIF($AE$3:AE5,-1))=0,1,SUM(COUNTIF($AE$3:AE5,1),COUNTIF($AE$3:AE5,-1)))),(IF(SUM(COUNTIF($AG$3:AG5,1),COUNTIF($AG$3:AG5,-1))=0,1,SUM(COUNTIF($AG$3:AG5,1),COUNTIF($AG$3:AG5,-1)))),(IF(SUM(COUNTIF($AI$3:AI5,1),COUNTIF($AI$3:AI5,-1))=0,1,SUM(COUNTIF($AI$3:AI5,1),COUNTIF($AI$3:AI5,-1)))),(IF(SUM(COUNTIF($AK$3:AK5,1),COUNTIF($AK$3:AK5,-1))=0,1,SUM(COUNTIF($AK$3:AK5,1),COUNTIF($AK$3:AK5,-1)))))/1000)","v":4.0000000000000001E-3},0.46200000000000002,null,{"$f":"+SUM(COUNTIF($AE$3:AE5,1),COUNTIF(AE$3:$AE5,-1))","v":2},{"$f":"+SUM($Q$4:Q5)","v":355},177.5,{"$f":"+SUM(COUNTIF($AE$3:AE5,1))","v":0},{"$f":"+SUM(COUNTIF($AE$3:AE5,-1))","v":2},{"$f":"+BI5-BJ5","v":-2},{"$f":"BF5*(HARMEAN((IF(SUM(COUNTIF($Z$3:Z5,1),COUNTIF($Z$3:Z5,-1))=0,1,SUM(COUNTIF($Z$3:Z5,1),COUNTIF($Z$3:Z5,-1)))),(IF(SUM(COUNTIF($AC$3:AC5,1),COUNTIF($AC$3:AC5,-1))=0,1,SUM(COUNTIF($AC$3:AC5,1),COUNTIF($AC$3:AC5,-1)))),(IF(SUM(COUNTIF($AE$3:AE5,1),COUNTIF($AE$3:AE5,-1))=0,1,SUM(COUNTIF($AE$3:AE5,1),COUNTIF($AE$3:AE5,-1)))),(IF(SUM(COUNTIF($AG$3:AG5,1),COUNTIF($AG$3:AG5,-1))=0,1,SUM(COUNTIF($AG$3:AG5,1),COUNTIF($AG$3:AG5,-1)))),(IF(SUM(COUNTIF($AI$3:AI5,1),COUNTIF($AI$3:AI5,-1))=0,1,SUM(COUNTIF($AI$3:AI5,1),COUNTIF($AI$3:AI5,-1)))),(IF(SUM(COUNTIF($AK$3:AK5,1),COUNTIF($AK$3:AK5,-1))=0,1,SUM(COUNTIF($AK$3:AK5,1),COUNTIF($AK$3:AK5,-1)))))/1000)","v":4.0000000000000001E-3},{"$f":"IF(BF5=0,\"-\",IF(BF5=0,0,ROUND(((BI5/BF5-BJ5/BF5)*100+BH5/10)*BL5,3)))","v":-0.32900000000000001},null,{"$f":"+SUM(COUNTIF($AG$3:AG5,1),COUNTIF($AG$3:AG5,-1))","v":2},{"$f":"+SUM($S$4:S5)","v":321},160.5,{"$f":"+SUM(COUNTIF($AG$3:AG5,1))","v":1},{"$f":"+SUM(COUNTIF($AG$3:AG5,-1))","v":1},{"$f":"+BR5-BS5","v":0},{"$f":"BO5*(HARMEAN((IF(SUM(COUNTIF($Z$3:Z5,1),COUNTIF($Z$3:Z5,-1))=0,1,SUM(COUNTIF($Z$3:Z5,1),COUNTIF($Z$3:Z5,-1)))),(IF(SUM(COUNTIF($AC$3:AC5,1),COUNTIF($AC$3:AC5,-1))=0,1,SUM(COUNTIF($AC$3:AC5,1),COUNTIF($AC$3:AC5,-1)))),(IF(SUM(COUNTIF($AE$3:AE5,1),COUNTIF($AE$3:AE5,-1))=0,1,SUM(COUNTIF($AE$3:AE5,1),COUNTIF($AE$3:AE5,-1)))),(IF(SUM(COUNTIF($AG$3:AG5,1),COUNTIF($AG$3:AG5,-1))=0,1,SUM(COUNTIF($AG$3:AG5,1),COUNTIF($AG$3:AG5,-1)))),(IF(SUM(COUNTIF($AI$3:AI5,1),COUNTIF($AI$3:AI5,-1))=0,1,SUM(COUNTIF($AI$3:AI5,1),COUNTIF($AI$3:AI5,-1)))),(IF(SUM(COUNTIF($AK$3:AK5,1),COUNTIF($AK$3:AK5,-1))=0,1,SUM(COUNTIF($AK$3:AK5,1),COUNTIF($AK$3:AK5,-1)))))/1000)","v":4.0000000000000001E-3},{"$f":"IF(BO5=0,\"-\",IF(BO5=0,0,ROUND(((BR5/BO5-BS5/BO5)*100+BQ5/10)*BU5,3)))","v":6.4000000000000001E-2},null,{"$f":"+SUM(COUNTIF($AI$3:AI5,1),COUNTIF($AI$3:AI5,-1))","v":2},{"$f":"+SUM($U$4:U5)","v":225},{"$f":"+BY5/BX5","v":112.5},{"$f":"+SUM(COUNTIF($AI$3:AI5,1))","v":0},{"$f":"+SUM(COUNTIF($AI$3:AI5,-1))","v":2},{"$f":"+CA5-CB5","v":-2},{"$f":"+BX5*(HARMEAN((IF(SUM(COUNTIF($Z$3:Z5,1),COUNTIF($Z$3:Z5,-1))=0,1,SUM(COUNTIF($Z$3:Z5,1),COUNTIF($Z$3:Z5,-1)))),(IF(SUM(COUNTIF($AC$3:AC5,1),COUNTIF($AC$3:AC5,-1))=0,1,SUM(COUNTIF($AC$3:AC5,1),COUNTIF($AC$3:AC5,-1)))),(IF(SUM(COUNTIF($AE$3:AE5,1),COUNTIF($AE$3:AE5,-1))=0,1,SUM(COUNTIF($AE$3:AE5,1),COUNTIF($AE$3:AE5,-1)))),(IF(SUM(COUNTIF($AG$3:AG5,1),COUNTIF($AG$3:AG5,-1))=0,1,SUM(COUNTIF($AG$3:AG5,1),COUNTIF($AG$3:AG5,-1)))),(IF(SUM(COUNTIF($AI$3:AI5,1),COUNTIF($AI$3:AI5,-1))=0,1,SUM(COUNTIF($AI$3:AI5,1),COUNTIF($AI$3:AI5,-1)))),(IF(SUM(COUNTIF($AK$3:AK5,1),COUNTIF($AK$3:AK5,-1))=0,1,SUM(COUNTIF($AK$3:AK5,1),COUNTIF($AK$3:AK5,-1)))))/1000)","v":4.0000000000000001E-3},{"$f":"IF(BX5=0,\"-\",IF(BX5=0,0,ROUND(((CA5/BX5-CB5/BX5)*100+BZ5/10)*CD5,3)))","v":-0.35499999999999998},null,{"$f":"+SUM(COUNTIF($AK$3:AK5,1),COUNTIF($AK$3:AK5,-1))","v":2},{"$f":"+SUM($W$4:W5)","v":394},{"$f":"+CH5/CG5","v":197},{"$f":"+SUM(COUNTIF($AK$3:AK5,1))","v":1},{"$f":"+SUM(COUNTIF($AK$3:AK5,-1))","v":1},{"$f":"+CJ5-CK5","v":0},{"$f":"+CG5*(HARMEAN((IF(SUM(COUNTIF($Z$3:Z5,1),COUNTIF($Z$3:Z5,-1))=0,1,SUM(COUNTIF($Z$3:Z5,1),COUNTIF($Z$3:Z5,-1)))),(IF(SUM(COUNTIF($AC$3:AC5,1),COUNTIF($AC$3:AC5,-1))=0,1,SUM(COUNTIF($AC$3:AC5,1),COUNTIF($AC$3:AC5,-1)))),(IF(SUM(COUNTIF($AE$3:AE5,1),COUNTIF($AE$3:AE5,-1))=0,1,SUM(COUNTIF($AE$3:AE5,1),COUNTIF($AE$3:AE5,-1)))),(IF(SUM(COUNTIF($AG$3:AG5,1),COUNTIF($AG$3:AG5,-1))=0,1,SUM(COUNTIF($AG$3:AG5,1),COUNTIF($AG$3:AG5,-1)))),(IF(SUM(COUNTIF($AI$3:AI5,1),COUNTIF($AI$3:AI5,-1))=0,1,SUM(COUNTIF($AI$3:AI5,1),COUNTIF($AI$3:AI5,-1)))),(IF(SUM(COUNTIF($AK$3:AK5,1),COUNTIF($AK$3:AK5,-1))=0,1,SUM(COUNTIF($AK$3:AK5,1),COUNTIF($AK$3:AK5,-1)))))/1000)","v":4.0000000000000001E-3},{"$f":"IF(CG5=0,\"-\",IF(CG5=0,0,ROUND(((CJ5/CG5-CK5/CG5)*100+CI5/10)*CM5,3)))","v":7.9000000000000001E-2}]
[3,"Generals",null,{"$f":"+IFERROR(INDEX('Auswertung AoE II'!$AE:$AE,MATCH(A6,'Auswertung AoE II'!$AD:$AD,0)),\"\")","v":""},{"$f":"+IFERROR(INDEX('Auswertung AoE III'!$AE:$AE,MATCH(A6,'Auswertung AoE III'!$AD:$AD,0)),\"\")","v":""},{"$f":"+IFERROR(INDEX('Auswertung AoM'!$AE:$AE,MATCH(A6,'Auswertung AoM'!$AD:$AD,0)),\"\")","v":""},{"$f":"+IFERROR(INDEX('Auswertung RA'!$AE:$AE,MATCH(A6,'Auswertung RA'!$AD:$AD,0)),\"\")","v":""},{"$f":"+IFERROR(INDEX('Auswertung Yuri'!$AE:$AE,MATCH(A6,'Auswertung Yuri'!$AD:$AD,0)),\"\")","v":""},{"$f":"+IFERROR(INDEX('Auswertung Generals'!$AE:$AE,MATCH(A6,'Auswertung Generals'!$AD:$AD,0)),\"\")","v":"Generals"},{"$f":"+IF(B6<>0,CONCATENATE(\"Auswertung \",B6,\"\"))","v":"Auswertung Generals"},null,null,{"$f":"+IF(ISERROR(+INDIRECT(CONCATENATE(\"'\",J6,\"'!\",(ADDRESS((COUNTIF($J$3:J6,IF(B6<>0,CONCATENATE(\"Auswertung \",B6,\"\"))))+2,2)))))=FALSE,+INDIRECT(CONCATENATE(\"'\",J6,\"'!\",(ADDRESS((COUNTIF($J$3:J6,IF(B6<>0,CONCATENATE(\"Auswertung \",B6,\"\"))))+4,2)))),\"\")","v":52},{"$f":"IF(ISERROR(+INDIRECT(CONCATENATE(\"'\",J6,\"'!\",(ADDRESS((COUNTIF($J$3:J6,IF(B6<>0,CONCATENATE(\"Auswertung \",B6,\"\"))))+2,2+1)))))=FALSE,+INDIRECT(CONCATENATE(\"'\",J6,\"'!\",(ADDRESS((COUNTIF($J$3:J6,IF(B6<>0,CONCATENATE(\"Auswertung \",B6,\"\"))))+4,2+1)))),\"\")","v":"IBG"},{"$f":"+IF(ISERROR(+INDIRECT(CONCATENATE(\"'\",J6,\"'!\",(ADDRESS((COUNTIF($J$3:J6,IF(B6<>0,CONCATENATE(\"Auswertung \",B6,\"\"))))+2,4)))))=FALSE,+INDIRECT(CONCATENATE(\"'\",J6,\"'!\",(ADDRESS((COUNTIF($J$3:J6,IF(B6<>0,CONCATENATE(\"Auswertung \",B6,\"\"))))+4,4)))),\"\")","v":74},{"$f":"+IF(ISERROR(+INDIRECT(CONCATENATE(\"'\",J6,\"'!\",(ADDRESS((COUNTIF($J$3:J6,IF(B6<>0,CONCATENATE(\"Auswertung \",B6,\"\"))))+2,5)))))=FALSE,+INDIRECT(CONCATENATE(\"'\",J6,\"'!\",(ADDRESS((COUNTIF($J$3:J6,IF(B6<>0,CONCATENATE(\"Auswertung \",B6,\"\"))))+4,5)))),\"\")","v":"IBG"},{"$f":"+IF(ISERROR(+INDIRECT(CONCATENATE(\"'\",J6,\"'!\",(ADDRESS((COUNTIF($J$3:J6,IF(B6<>0,CONCATENATE(\"Auswertung \",B6,\"\"))))+2,6)))))=FALSE,+INDIRECT(CONCATENATE(\"'\",J6,\"'!\",(ADDRESS((COUNTIF($J$3:J6,IF(B6<>0,CONCATENATE(\"Auswertung \",B6,\"\"))))+4,6)))),\"\")","v":74},{"$f":"+IF(ISERROR(+INDIRECT(CONCATENATE(\"'\",J6,\"'!\",(ADDRESS((COUNTIF($J$3:J6,IF(B6<>0,CONCATENATE(\"Auswertung \",B6,\"\"))))+2,7)))))=FALSE,+INDIRECT(CONCATENATE(\"'\",J6,\"'!\",(ADDRESS((COUNTIF($J$3:J6,IF(B6<>0,CONCATENATE(\"Auswertung \",B6,\"\"))))+4,7)))),\"\")","v":"WA"},{"$f":"+IF(ISERROR(+INDIRECT(CONCATENATE(\"'\",J6,\"'!\",(ADDRESS((COUNTIF($J$3:J6,IF(B6<>0,CONCATENATE(\"Auswertung \",B6,\"\"))))+2,10)))))=FALSE,+INDIRECT(CONCATENATE(\"'\",J6,\"'!\",(ADDRESS((COUNTIF($J$3:J6,IF(B6<>0,CONCATENATE(\"Auswertung \",B6,\"\"))))+4,8)))),\"\")","v":66},{"$f":"+IF(ISERROR(+INDIRECT(CONCATENATE(\"'\",J6,\"'!\",(ADDRESS((COUNTIF($J$3:J6,IF(B6<>0,CONCATENATE(\"Auswertung \",B6,\"\"))))+2,11)))))=FALSE,+INDIRECT(CONCATENATE(\"'\",J6,\"'!\",(ADDRESS((COUNTIF($J$3:J6,IF(B6<>0,CONCATENATE(\"Auswertung \",B6,\"\"))))+4,9)))),\"\")","v":"AP"},{"$f":"+IF(ISERROR(+INDIRECT(CONCATENATE(\"'\",J6,\"'!\",(ADDRESS((COUNTIF($J$3:J6,IF(B6<>0,CONCATENATE(\"Auswertung \",B6,\"\"))))+2,10)))))=FALSE,+INDIRECT(CONCATENATE(\"'\",J6,\"'!\",(ADDRESS((COUNTIF($J$3:J6,IF(B6<>0,CONCATENATE(\"Auswertung \",B6,\"\"))))+4,10)))),\"\")","v":108},{"$f":"+IF(ISERROR(+INDIRECT(CONCATENATE(\"'\",J6,\"'!\",(ADDRESS((COUNTIF($J$3:J6,IF(B6<>0,CONCATENATE(\"Auswertung \",B6,\"\"))))+2,11)))))=FALSE,+INDIRECT(CONCATENATE(\"'\",J6,\"'!\",(ADDRESS((COUNTIF($J$3:J6,IF(B6<>0,CONCATENATE(\"Auswertung \",B6,\"\"))))+4,11)))),\"\")","v":"WA"},{"$f":"+IF(ISERROR(+INDIRECT(CONCATENATE(\"'\",J6,\"'!\",(ADDRESS((COUNTIF($J$3:J6,IF(D6<>0,CONCATENATE(\"Auswertung \",D6,\"\"))))+2,12)))))=FALSE,+INDIRECT(CONCATENATE(\"'\",J6,\"'!\",(ADDRESS((COUNTIF($J$3:J6,IF(D6<>0,CONCATENATE(\"Auswertung \",B6,\"\"))))+4,12)))),\"\")","v":94},{"$f":"+IF(ISERROR(+INDIRECT(CONCATENATE(\"'\",J6,\"'!\",(ADDRESS((COUNTIF($J$3:J6,IF(D6<>0,CONCATENATE(\"Auswertung \",D6,\"\"))))+2,13)))))=FALSE,+INDIRECT(CONCATENATE(\"'\",J6,\"'!\",(ADDRESS((COUNTIF($J$3:J6,IF(D6<>0,CONCATENATE(\"Auswertung \",B6,\"\"))))+4,13)))),\"\")","v":"AP"},null,{"$f":"+IFERROR(INDIRECT(CONCATENATE(\"'\",J6,\"'!\",(ADDRESS((COUNTIF($J$3:J6,IF(B6<>0,J6)))+4,16)))),\"\")","v":-1},{"$f":"AU6","v":0.39},{"$f":"+SUM($M$4:M6)/COUNT($M$4:M6)/1000*2","v":0.20066666666666666},{"$f":"+IFERROR(INDIRECT(CONCATENATE(\"'\",J6,\"'!\",(ADDRESS((COUNTIF($J$3:J6,IF(B6<>0,J6)))+4,18)))),\"\")","v":1},1.016,{"$f":"+IFERROR(INDIRECT(CONCATENATE(\"'\",J6,\"'!\",(ADDRESS((COUNTIF($J$3:J6,IF(B6<>0,J6)))+4,20)))),\"\")","v":-1},-0.77100000000000002,{"$f":"+IFERROR(INDIRECT(CONCATENATE(\"'\",J6,\"'!\",(ADDRESS((COUNTIF($J$3:J6,IF(B6<>0,J6)))+4,22)))),\"\")","v":-1},-0.184,{"$f":"+IFERROR(INDIRECT(CONCATENATE(\"'\",J6,\"'!\",(ADDRESS((COUNTIF($J$3:J6,IF(B6<>0,J6)))+4,24)))),\"\")","v":1},-0.2,{"$f":"+IFERROR(INDIRECT(CONCATENATE(\"'\",J6,\"'!\",(ADDRESS((COUNTIF($J$3:J6,IF(B6<>0,J6)))+4,26)))),\"\")","v":1},0.44600000000000001,3,{"$f":"+SUM(COUNTIF($Z$3:Z6,1),COUNTIF($Z$3:Z6,-1))","v":3},{"$f":"+SUM($M$4:M6)","v":301},100.33333333333333,{"$f":"+SUM(COUNTIF($Z$3:Z6,1))","v":2},{"$f":"+SUM(COUNTIF($Z$3:Z6,-1))","v":1},1,{"$f":"AN6*(HARMEAN((IF(SUM(COUNTIF($Z$3:Z6,1),COUNTIF($Z$3:Z6,-1))=0,1,SUM(COUNTIF($Z$3:Z6,1),COUNTIF($Z$3:Z6,-1)))),(IF(SUM(COUNTIF($AC$3:AC6,1),COUNTIF($AC$3:AC6,-1))=0,1,SUM(COUNTIF($AC$3:AC6,1),COUNTIF($AC$3:AC6,-1)))),(IF(SUM(COUNTIF($AE$3:AE6,1),COUNTIF($AE$3:AE6,-1))=0,1,SUM(COUNTIF($AE$3:AE6,1),COUNTIF($AE$3:AE6,-1)))),(IF(SUM(COUNTIF($AG$3:AG6,1),COUNTIF($AG$3:AG6,-1))=0,1,SUM(COUNTIF($AG$3:AG6,1),COUNTIF($AG$3:AG6,-1)))),(IF(SUM(COUNTIF($AI$3:AI6,1),COUNTIF($AI$3:AI6,-1))=0,1,SUM(COUNTIF($AI$3:AI6,1),COUNTIF($AI$3:AI6,-1)))),(IF(SUM(COUNTIF($AK$3:AK6,1),COUNTIF($AK$3:AK6,-1))=0,1,SUM(COUNTIF($AK$3:AK6,1),COUNTIF($AK$3:AK6,-1)))))/1000)","v":9.0000000000000011E-3},0.39,null,{"$f":"+SUM(COUNTIF($AC$3:AC6,1),COUNTIF($AC$3:AC6,-1))","v":3},{"$f":"+SUM($O$4:O6)","v":386},128.66666666666666,{"$f":"+SUM(COUNTIF($AC$3:AC6,1))","v":3},{"$f":"+SUM(COUNTIF($AC$3:AC6,-1))","v":0},3,{"$f":"AW6*(HARMEAN((IF(SUM(COUNTIF($Z$3:Z6,1),COUNTIF($Z$3:Z6,-1))=0,1,SUM(COUNTIF($Z$3:Z6,1),COUNTIF($Z$3:Z6,-1)))),(IF(SUM(COUNTIF($AC$3:AC6,1),COUNTIF($AC$3:AC6,-1))=0,1,SUM(COUNTIF($AC$3:AC6,1),COUNTIF($AC$3:AC6,-1)))),(IF(SUM(COUNTIF($AE$3:AE6,1),COUNTIF($AE$3:AE6,-1))=0,1,SUM(COUNTIF($AE$3:AE6,1),COUNTIF($AE$3:AE6,-1)))),(IF(SUM(COUNTIF($AG$3:AG6,1),COUNTIF($AG$3:AG6,-1))=0,1,SUM(COUNTIF($AG$3:AG6,1),COUNTIF($AG$3:AG6,-1)))),(IF(SUM(COUNTIF($AI$3:AI6,1),COUNTIF($AI$3:AI6,-1))=0,1,SUM(COUNTIF($AI$3:AI6,1),COUNTIF($AI$3:AI6,-1)))),(IF(SUM(COUNTIF($AK$3:AK6,1),COUNTIF($AK$3:AK6,-1))=0,1,SUM(COUNTIF($AK$3:AK6,1),COUNTIF($AK$3:AK6,-1)))))/1000)","v":9.0000000000000011E-3},1.016,null,{"$f":"+SUM(COUNTIF($AE$3:AE6,1),COUNTIF(AE$3:$AE6,-1))","v":3},{"$f":"+SUM($Q$4:Q6)","v":429},143,{"$f":"+SUM(COUNTIF($AE$3:AE6,1))","v":0},{"$f":"+SUM(COUNTIF($AE$3:AE6,-1))","v":3},-3,{"$f":"BF6*(HARMEAN((IF(SUM(COUNTIF($Z$3:Z6,1),COUNTIF($Z$3:Z6,-1))=0,1,SUM(COUNTIF($Z$3:Z6,1),COUNTIF($Z$3:Z6,-1)))),(IF(SUM(COUNTIF($AC$3:AC6,1),COUNTIF($AC$3:AC6,-1))=0,1,SUM(COUNTIF($AC$3:AC6,1),COUNTIF($AC$3:AC6,-1)))),(IF(SUM(COUNTIF($AE$3:AE6,1),COUNTIF($AE$3:AE6,-1))=0,1,SUM(COUNTIF($AE$3:AE6,1),COUNTIF($AE$3:AE6,-1)))),(IF(SUM(COUNTIF($AG$3:AG6,1),COUNTIF($AG$3:AG6,-1))=0,1,SUM(COUNTIF($AG$3:AG6,1),COUNTIF($AG$3:AG6,-1)))),(IF(SUM(COUNTIF($AI$3:AI6,1),COUNTIF($AI$3:AI6,-1))=0,1,SUM(COUNTIF($AI$3:AI6,1),COUNTIF($AI$3:AI6,-1)))),(IF(SUM(COUNTIF($AK$3:AK6,1),COUNTIF($AK$3:AK6,-1))=0,1,SUM(COUNTIF($AK$3:AK6,1),COUNTIF($AK$3:AK6,-1)))))/1000)","v":9.0000000000000011E-3},-0.77100000000000002,null,{"$f":"+SUM(COUNTIF($AG$3:AG6,1),COUNTIF($AG$3:AG6,-1))","v":3},{"$f":"+SUM($S$4:S6)","v":387},129,{"$f":"+SUM(COUNTIF($AG$3:AG6,1))","v":1},{"$f":"+SUM(COUNTIF($AG$3:AG6,-1))","v":2},-1,{"$f":"BO6*(HARMEAN((IF(SUM(COUNTIF($Z$3:Z6,1),COUNTIF($Z$3:Z6,-1))=0,1,SUM(COUNTIF($Z$3:Z6,1),COUNTIF($Z$3:Z6,-1)))),(IF(SUM(COUNTIF($AC$3:AC6,1),COUNTIF($AC$3:AC6,-1))=0,1,SUM(COUNTIF($AC$3:AC6,1),COUNTIF($AC$3:AC6,-1)))),(IF(SUM(COUNTIF($AE$3:AE6,1),COUNTIF($AE$3:AE6,-1))=0,1,SUM(COUNTIF($AE$3:AE6,1),COUNTIF($AE$3:AE6,-1)))),(IF(SUM(COUNTIF($AG$3:AG6,1),COUNTIF($AG$3:AG6,-1))=0,1,SUM(COUNTIF($AG$3:AG6,1),COUNTIF($AG$3:AG6,-1)))),(IF(SUM(COUNTIF($AI$3:AI6,1),COUNTIF($AI$3:AI6,-1))=0,1,SUM(COUNTIF($AI$3:AI6,1),COUNTIF($AI$3:AI6,-1)))),(IF(SUM(COUNTIF($AK$3:AK6,1),COUNTIF($AK$3:AK6,-1))=0,1,SUM(COUNTIF($AK$3:AK6,1),COUNTIF($AK$3:AK6,-1)))))/1000)","v":9.0000000000000011E-3},-0.184,null,{"$f":"+SUM(COUNTIF($AI$3:AI6,1),COUNTIF($AI$3:AI6,-1))","v":3},{"$f":"+SUM($U$4:U6)","v":333},111,{"$f":"+SUM(COUNTIF($AI$3:AI6,1))","v":1},{"$f":"+SUM(COUNTIF($AI$3:AI6,-1))","v":2},-1,{"$f":"+BX6*(HARMEAN((IF(SUM(COUNTIF($Z$3:Z6,1),COUNTIF($Z$3:Z6,-1))=0,1,SUM(COUNTIF($Z$3:Z6,1),COUNTIF($Z$3:Z6,-1)))),(IF(SUM(COUNTIF($AC$3:AC6,1),COUNTIF($AC$3:AC6,-1))=0,1,SUM(COUNTIF($AC$3:AC6,1),COUNTIF($AC$3:AC6,-1)))),(IF(SUM(COUNTIF($AE$3:AE6,1),COUNTIF($AE$3:AE6,-1))=0,1,SUM(COUNTIF($AE$3:AE6,1),COUNTIF($AE$3:AE6,-1)))),(IF(SUM(COUNTIF($AG$3:AG6,1),COUNTIF($AG$3:AG6,-1))=0,1,SUM(COUNTIF($AG$3:AG6,1),COUNTIF($AG$3:AG6,-1)))),(IF(SUM(COUNTIF($AI$3:AI6,1),COUNTIF($AI$3:AI6,-1))=0,1,SUM(COUNTIF($AI$3:AI6,1),COUNTIF($AI$3:AI6,-1)))),(IF(SUM(COUNTIF($AK$3:AK6,1),COUNTIF($AK$3:AK6,-1))=0,1,SUM(COUNTIF($AK$3:AK6,1),COUNTIF($AK$3:AK6,-1)))))/1000)","v":9.0000000000000011E-3},-0.2,null,{"$f":"+SUM(COUNTIF($AK$3:AK6,1),COUNTIF($AK$3:AK6,-1))","v":3},{"$f":"+SUM($W$4:W6)","v":488},162.66666666666666,{"$f":"+SUM(COUNTIF($AK$3:AK6,1))","v":2},{"$f":"+SUM(COUNTIF($AK$3:AK6,-1))","v":1},1,{"$f":"+CG6*(HARMEAN((IF(SUM(COUNTIF($Z$3:Z6,1),COUNTIF($Z$3:Z6,-1))=0,1,SUM(COUNTIF($Z$3:Z6,1),COUNTIF($Z$3:Z6,-1)))),(IF(SUM(COUNTIF($AC$3:AC6,1),COUNTIF($AC$3:AC6,-1))=0,1,SUM(COUNTIF($AC$3:AC6,1),COUNTIF($AC$3:AC6,-1)))),(IF(SUM(COUNTIF($AE$3:AE6,1),COUNTIF($AE$3:AE6,-1))=0,1,SUM(COUNTIF($AE$3:AE6,1),COUNTIF($AE$3:AE6,-1)))),(IF(SUM(COUNTIF($AG$3:AG6,1),COUNTIF($AG$3:AG6,-1))=0,1,SUM(COUNTIF($AG$3:AG6,1),COUNTIF($AG$3:AG6,-1)))),(IF(SUM(COUNTIF($AI$3:AI6,1),COUNTIF($AI$3:AI6,-1))=0,1,SUM(COUNTIF($AI$3:AI6,1),COUNTIF($AI$3:AI6,-1)))),(IF(SUM(COUNTIF($AK$3:AK6,1),COUNTIF($AK$3:AK6,-1))=0,1,SUM(COUNTIF($AK$3:AK6,1),COUNTIF($AK$3:AK6,-1)))))/1000)","v":9.0000000000000011E-3},0.44600000000000001]
[4,"AoE II",null,{"$f":"+IFERROR(INDEX('Auswertung AoE II'!$AE:$AE,MATCH(A7,'Auswertung AoE II'!$AD:$AD,0)),\"\")","v":"AoE II"},{"$f":"+IFERROR(INDEX('Auswertung AoE III'!$AE:$AE,MATCH(A7,'Auswertung AoE III'!$AD:$AD,0)),\"\")","v":""},{"$f":"+IFERROR(INDEX('Auswertung AoM'!$AE:$AE,MATCH(A7,'Auswertung AoM'!$AD:$AD,0)),\"\")","v":""},{"$f":"+IFERROR(INDEX('Auswertung RA'!$AE:$AE,MATCH(A7,'Auswertung RA'!$AD:$AD,0)),\"\")","v":""},{"$f":"+IFERROR(INDEX('Auswertung Yuri'!$AE:$AE,MATCH(A7,'Auswertung Yuri'!$AD:$AD,0)),\"\")","v":""},{"$f":"+IFERROR(INDEX('Auswertung Generals'!$AE:$AE,MATCH(A7,'Auswertung Generals'!$AD:$AD,0)),\"\")","v":""},{"$f":"+IF(B7<>0,CONCATENATE(\"Auswertung \",B7,\"\"))","v":"Auswertung AoE II"},null,null,{"$f":"+IF(ISERROR(+INDIRECT(CONCATENATE(\"'\",J7,\"'!\",(ADDRESS((COUNTIF($J$3:J7,IF(B7<>0,CONCATENATE(\"Auswertung \",B7,\"\"))))+2,2)))))=FALSE,+INDIRECT(CONCATENATE(\"'\",J7,\"'!\",(ADDRESS((COUNTIF($J$3:J7,IF(B7<>0,CONCATENATE(\"Auswertung \",B7,\"\"))))+4,2)))),\"\")","v":106},{"$f":"IF(ISERROR(+INDIRECT(CONCATENATE(\"'\",J7,\"'!\",(ADDRESS((COUNTIF($J$3:J7,IF(B7<>0,CONCATENATE(\"Auswertung \",B7,\"\"))))+2,2+1)))))=FALSE,+INDIRECT(CONCATENATE(\"'\",J7,\"'!\",(ADDRESS((COUNTIF($J$3:J7,IF(B7<>0,CONCATENATE(\"Auswertung \",B7,\"\"))))+4,2+1)))),\"\")","v":"Berb"},{"$f":"+IF(ISERROR(+INDIRECT(CONCATENATE(\"'\",J7,\"'!\",(ADDRESS((COUNTIF($J$3:J7,IF(B7<>0,CONCATENATE(\"Auswertung \",B7,\"\"))))+2,4)))))=FALSE,+INDIRECT(CONCATENATE(\"'\",J7,\"'!\",(ADDRESS((COUNTIF($J$3:J7,IF(B7<>0,CONCATENATE(\"Auswertung \",B7,\"\"))))+4,4)))),\"\")","v":71},{"$f":"+IF(ISERROR(+INDIRECT(CONCATENATE(\"'\",J7,\"'!\",(ADDRESS((COUNTIF($J$3:J7,IF(B7<>0,CONCATENATE(\"Auswertung \",B7,\"\"))))+2,5)))))=FALSE,+INDIRECT(CONCATENATE(\"'\",J7,\"'!\",(ADDRESS((COUNTIF($J$3:J7,IF(B7<>0,CONCATENATE(\"Auswertung \",B7,\"\"))))+4,5)))),\"\")","v":"Burg"},{"$f":"+IF(ISERROR(+INDIRECT(CONCATENATE(\"'\",J7,\"'!\",(ADDRESS((COUNTIF($J$3:J7,IF(B7<>0,CONCATENATE(\"Auswertung \",B7,\"\"))))+2,6)))))=FALSE,+INDIRECT(CONCATENATE(\"'\",J7,\"'!\",(ADDRESS((COUNTIF($J$3:J7,IF(B7<>0,CONCATENATE(\"Auswertung \",B7,\"\"))))+4,6)))),\"\")","v":111},{"$f":"+IF(ISERROR(+INDIRECT(CONCATENATE(\"'\",J7,\"'!\",(ADDRESS((COUNTIF($J$3:J7,IF(B7<>0,CONCATENATE(\"Auswertung \",B7,\"\"))))+2,7)))))=FALSE,+INDIRECT(CONCATENATE(\"'\",J7,\"'!\",(ADDRESS((COUNTIF($J$3:J7,IF(B7<>0,CONCATENATE(\"Auswertung \",B7,\"\"))))+4,7)))),\"\")","v":"Berb"},{"$f":"+IF(ISERROR(+INDIRECT(CONCATENATE(\"'\",J7,\"'!\",(ADDRESS((COUNTIF($J$3:J7,IF(B7<>0,CONCATENATE(\"Auswertung \",B7,\"\"))))+2,10)))))=FALSE,+INDIRECT(CONCATENATE(\"'\",J7,\"'!\",(ADDRESS((COUNTIF($J$3:J7,IF(B7<>0,CONCATENATE(\"Auswertung \",B7,\"\"))))+4,8)))),\"\")","v":71},{"$f":"+IF(ISERROR(+INDIRECT(CONCATENATE(\"'\",J7,\"'!\",(ADDRESS((COUNTIF($J$3:J7,IF(B7<>0,CONCATENATE(\"Auswertung \",B7,\"\"))))+2,11)))))=FALSE,+INDIRECT(CONCATENATE(\"'\",J7,\"'!\",(ADDRESS((COUNTIF($J$3:J7,IF(B7<>0,CONCATENATE(\"Auswertung \",B7,\"\"))))+4,9)))),\"\")","v":"Rom"},{"$f":"+IF(ISERROR(+INDIRECT(CONCATENATE(\"'\",J7,\"'!\",(ADDRESS((COUNTIF($J$3:J7,IF(B7<>0,CONCATENATE(\"Auswertung \",B7,\"\"))))+2,10)))))=FALSE,+INDIRECT(CONCATENATE(\"'\",J7,\"'!\",(ADDRESS((COUNTIF($J$3:J7,IF(B7<>0,CONCATENATE(\"Auswertung \",B7,\"\"))))+4,10)))),\"\")","v":63},{"$f":"+IF(ISERROR(+INDIRECT(CONCATENATE(\"'\",J7,\"'!\",(ADDRESS((COUNTIF($J$3:J7,IF(B7<>0,CONCATENATE(\"Auswertung \",B7,\"\"))))+2,11)))))=FALSE,+INDIRECT(CONCATENATE(\"'\",J7,\"'!\",(ADDRESS((COUNTIF($J$3:J7,IF(B7<>0,CONCATENATE(\"Auswertung \",B7,\"\"))))+4,11)))),\"\")","v":"Rom"},{"$f":"+IF(ISERROR(+INDIRECT(CONCATENATE(\"'\",J7,\"'!\",(ADDRESS((COUNTIF($J$3:J7,IF(D7<>0,CONCATENATE(\"Auswertung \",D7,\"\"))))+2,12)))))=FALSE,+INDIRECT(CONCATENATE(\"'\",J7,\"'!\",(ADDRESS((COUNTIF($J$3:J7,IF(D7<>0,CONCATENATE(\"Auswertung \",B7,\"\"))))+4,12)))),\"\")","v":57},{"$f":"+IF(ISERROR(+INDIRECT(CONCATENATE(\"'\",J7,\"'!\",(ADDRESS((COUNTIF($J$3:J7,IF(D7<>0,CONCATENATE(\"Auswertung \",D7,\"\"))))+2,13)))))=FALSE,+INDIRECT(CONCATENATE(\"'\",J7,\"'!\",(ADDRESS((COUNTIF($J$3:J7,IF(D7<>0,CONCATENATE(\"Auswertung \",B7,\"\"))))+4,13)))),\"\")","v":"Burg"},null,{"$f":"+IFERROR(INDIRECT(CONCATENATE(\"'\",J7,\"'!\",(ADDRESS((COUNTIF($J$3:J7,IF(B7<>0,J7)))+4,16)))),\"\")","v":-1},0.16300000000000001,{"$f":"+SUM($M$4:M7)/COUNT($M$4:M7)/1000*2","v":0.20349999999999999},{"$f":"+IFERROR(INDIRECT(CONCATENATE(\"'\",J7,\"'!\",(ADDRESS((COUNTIF($J$3:J7,IF(B7<>0,J7)))+4,18)))),\"\")","v":1},1.7829999999999999,{"$f":"+IFERROR(INDIRECT(CONCATENATE(\"'\",J7,\"'!\",(ADDRESS((COUNTIF($J$3:J7,IF(B7<>0,J7)))+4,20)))),\"\")","v":1},-0.58399999999999996,{"$f":"+IFERROR(INDIRECT(CONCATENATE(\"'\",J7,\"'!\",(ADDRESS((COUNTIF($J$3:J7,IF(B7<>0,J7)))+4,22)))),\"\")","v":1},0.183,{"$f":"+IFERROR(INDIRECT(CONCATENATE(\"'\",J7,\"'!\",(ADDRESS((COUNTIF($J$3:J7,IF(B7<>0,J7)))+4,24)))),\"\")","v":-1},-0.64200000000000002,{"$f":"+IFERROR(INDIRECT(CONCATENATE(\"'\",J7,\"'!\",(ADDRESS((COUNTIF($J$3:J7,IF(B7<>0,J7)))+4,26)))),\"\")","v":-1},0.218,4,{"$f":"+SUM(COUNTIF($Z$3:Z7,1),COUNTIF($Z$3:Z7,-1))","v":4},{"$f":"+SUM($M$4:M7)","v":407},101.75,{"$f":"+SUM(COUNTIF($Z$3:Z7,1))","v":2},{"$f":"+SUM(COUNTIF($Z$3:Z7,-1))","v":2},0,{"$f":"AN7*(HARMEAN((IF(SUM(COUNTIF($Z$3:Z7,1),COUNTIF($Z$3:Z7,-1))=0,1,SUM(COUNTIF($Z$3:Z7,1),COUNTIF($Z$3:Z7,-1)))),(IF(SUM(COUNTIF($AC$3:AC7,1),COUNTIF($AC$3:AC7,-1))=0,1,SUM(COUNTIF($AC$3:AC7,1),COUNTIF($AC$3:AC7,-1)))),(IF(SUM(COUNTIF($AE$3:AE7,1),COUNTIF($AE$3:AE7,-1))=0,1,SUM(COUNTIF($AE$3:AE7,1),COUNTIF($AE$3:AE7,-1)))),(IF(SUM(COUNTIF($AG$3:AG7,1),COUNTIF($AG$3:AG7,-1))=0,1,SUM(COUNTIF($AG$3:AG7,1),COUNTIF($AG$3:AG7,-1)))),(IF(SUM(COUNTIF($AI$3:AI7,1),COUNTIF($AI$3:AI7,-1))=0,1,SUM(COUNTIF($AI$3:AI7,1),COUNTIF($AI$3:AI7,-1)))),(IF(SUM(COUNTIF($AK$3:AK7,1),COUNTIF($AK$3:AK7,-1))=0,1,SUM(COUNTIF($AK$3:AK7,1),COUNTIF($AK$3:AK7,-1)))))/1000)","v":1.6E-2},0.16300000000000001,null,{"$f":"+SUM(COUNTIF($AC$3:AC7,1),COUNTIF($AC$3:AC7,-1))","v":4},{"$f":"+SUM($O$4:O7)","v":457},114.25,{"$f":"+SUM(COUNTIF($AC$3:AC7,1))","v":4},{"$f":"+SUM(COUNTIF($AC$3:AC7,-1))","v":0},4,{"$f":"AW7*(HARMEAN((IF(SUM(COUNTIF($Z$3:Z7,1),COUNTIF($Z$3:Z7,-1))=0,1,SUM(COUNTIF($Z$3:Z7,1),COUNTIF($Z$3:Z7,-1)))),(IF(SUM(COUNTIF($AC$3:AC7,1),COUNTIF($AC$3:AC7,-1))=0,1,SUM(COUNTIF($AC$3:AC7,1),COUNTIF($AC$3:AC7,-1)))),(IF(SUM(COUNTIF($AE$3:AE7,1),COUNTIF($AE$3:AE7,-1))=0,1,SUM(COUNTIF($AE$3:AE7,1),COUNTIF($AE$3:AE7,-1)))),(IF(SUM(COUNTIF($AG$3:AG7,1),COUNTIF($AG$3:AG7,-1))=0,1,SUM(COUNTIF($AG$3:AG7,1),COUNTIF($AG$3:AG7,-1)))),(IF(SUM(COUNTIF($AI$3:AI7,1),COUNTIF($AI$3:AI7,-1))=0,1,SUM(COUNTIF($AI$3:AI7,1),COUNTIF($AI$3:AI7,-1)))),(IF(SUM(COUNTIF($AK$3:AK7,1),COUNTIF($AK$3:AK7,-1))=0,1,SUM(COUNTIF($AK$3:AK7,1),COUNTIF($AK$3:AK7,-1)))))/1000)","v":1.6E-2},1.7829999999999999,null,{"$f":"+SUM(COUNTIF($AE$3:AE7,1),COUNTIF(AE$3:$AE7,-1))","v":4},{"$f":"+SUM($Q$4:Q7)","v":540},135,{"$f":"+SUM(COUNTIF($AE$3:AE7,1))","v":1},{"$f":"+SUM(COUNTIF($AE$3:AE7,-1))","v":3},-2,{"$f":"BF7*(HARMEAN((IF(SUM(COUNTIF($Z$3:Z7,1),COUNTIF($Z$3:Z7,-1))=0,1,SUM(COUNTIF($Z$3:Z7,1),COUNTIF($Z$3:Z7,-1)))),(IF(SUM(COUNTIF($AC$3:AC7,1),COUNTIF($AC$3:AC7,-1))=0,1,SUM(COUNTIF($AC$3:AC7,1),COUNTIF($AC$3:AC7,-1)))),(IF(SUM(COUNTIF($AE$3:AE7,1),COUNTIF($AE$3:AE7,-1))=0,1,SUM(COUNTIF($AE$3:AE7,1),COUNTIF($AE$3:AE7,-1)))),(IF(SUM(COUNTIF($AG$3:AG7,1),COUNTIF($AG$3:AG7,-1))=0,1,SUM(COUNTIF($AG$3:AG7,1),COUNTIF($AG$3:AG7,-1)))),(IF(SUM(COUNTIF($AI$3:AI7,1),COUNTIF($AI$3:AI7,-1))=0,1,SUM(COUNTIF($AI$3:AI7,1),COUNTIF($AI$3:AI7,-1)))),(IF(SUM(COUNTIF($AK$3:AK7,1),COUNTIF($AK$3:AK7,-1))=0,1,SUM(COUNTIF($AK$3:AK7,1),COUNTIF($AK$3:AK7,-1)))))/1000)","v":1.6E-2},-0.58399999999999996,null,{"$f":"+SUM(COUNTIF($AG$3:AG7,1),COUNTIF($AG$3:AG7,-1))","v":4},{"$f":"+SUM($S$4:S7)","v":458},114.5,{"$f":"+SUM(COUNTIF($AG$3:AG7,1))","v":2},{"$f":"+SUM(COUNTIF($AG$3:AG7,-1))","v":2},0,{"$f":"BO7*(HARMEAN((IF(SUM(COUNTIF($Z$3:Z7,1),COUNTIF($Z$3:Z7,-1))=0,1,SUM(COUNTIF($Z$3:Z7,1),COUNTIF($Z$3:Z7,-1)))),(IF(SUM(COUNTIF($AC$3:AC7,1),COUNTIF($AC$3:AC7,-1))=0,1,SUM(COUNTIF($AC$3:AC7,1),COUNTIF($AC$3:AC7,-1)))),(IF(SUM(COUNTIF($AE$3:AE7,1),COUNTIF($AE$3:AE7,-1))=0,1,SUM(COUNTIF($AE$3:AE7,1),COUNTIF($AE$3:AE7,-1)))),(IF(SUM(COUNTIF($AG$3:AG7,1),COUNTIF($AG$3:AG7,-1))=0,1,SUM(COUNTIF($AG$3:AG7,1),COUNTIF($AG$3:AG7,-1)))),(IF(SUM(COUNTIF($AI$3:AI7,1),COUNTIF($AI$3:AI7,-1))=0,1,SUM(COUNTIF($AI$3:AI7,1),COUNTIF($AI$3:AI7,-1)))),(IF(SUM(COUNTIF($AK$3:AK7,1),COUNTIF($AK$3:AK7,-1))=0,1,SUM(COUNTIF($AK$3:AK7,1),COUNTIF($AK$3:AK7,-1)))))/1000)","v":1.6E-2},0.183,null,{"$f":"+SUM(COUNTIF($AI$3:AI7,1),COUNTIF($AI$3:AI7,-1))","v":4},{"$f":"+SUM($U$4:U7)","v":396},99,{"$f":"+SUM(COUNTIF($AI$3:AI7,1))","v":1},{"$f":"+SUM(COUNTIF($AI$3:AI7,-1))","v":3},-2,{"$f":"+BX7*(HARMEAN((IF(SUM(COUNTIF($Z$3:Z7,1),COUNTIF($Z$3:Z7,-1))=0,1,SUM(COUNTIF($Z$3:Z7,1),COUNTIF($Z$3:Z7,-1)))),(IF(SUM(COUNTIF($AC$3:AC7,1),COUNTIF($AC$3:AC7,-1))=0,1,SUM(COUNTIF($AC$3:AC7,1),COUNTIF($AC$3:AC7,-1)))),(IF(SUM(COUNTIF($AE$3:AE7,1),COUNTIF($AE$3:AE7,-1))=0,1,SUM(COUNTIF($AE$3:AE7,1),COUNTIF($AE$3:AE7,-1)))),(IF(SUM(COUNTIF($AG$3:AG7,1),COUNTIF($AG$3:AG7,-1))=0,1,SUM(COUNTIF($AG$3:AG7,1),COUNTIF($AG$3:AG7,-1)))),(IF(SUM(COUNTIF($AI$3:AI7,1),COUNTIF($AI$3:AI7,-1))=0,1,SUM(COUNTIF($AI$3:AI7,1),COUNTIF($AI$3:AI7,-1)))),(IF(SUM(COUNTIF($AK$3:AK7,1),COUNTIF($AK$3:AK7,-1))=0,1,SUM(COUNTIF($AK$3:AK7,1),COUNTIF($AK$3:AK7,-1)))))/1000)","v":1.6E-2},-0.64200000000000002,null,{"$f":"+SUM(COUNTIF($AK$3:AK7,1),COUNTIF($AK$3:AK7,-1))","v":4},{"$f":"+SUM($W$4:W7)","v":545},136.25,{"$f":"+SUM(COUNTIF($AK$3:AK7,1))","v":2},{"$f":"+SUM(COUNTIF($AK$3:AK7,-1))","v":2},0,{"$f":"+CG7*(HARMEAN((IF(SUM(COUNTIF($Z$3:Z7,1),COUNTIF($Z$3:Z7,-1))=0,1,SUM(COUNTIF($Z$3:Z7,1),COUNTIF($Z$3:Z7,-1)))),(IF(SUM(COUNTIF($AC$3:AC7,1),COUNTIF($AC$3:AC7,-1))=0,1,SUM(COUNTIF($AC$3:AC7,1),COUNTIF($AC$3:AC7,-1)))),(IF(SUM(COUNTIF($AE$3:AE7,1),COUNTIF($AE$3:AE7,-1))=0,1,SUM(COUNTIF($AE$3:AE7,1),COUNTIF($AE$3:AE7,-1)))),(IF(SUM(COUNTIF($AG$3:AG7,1),COUNTIF($AG$3:AG7,-1))=0,1,SUM(COUNTIF($AG$3:AG7,1),COUNTIF($AG$3:AG7,-1)))),(IF(SUM(COUNTIF($AI$3:AI7,1),COUNTIF($AI$3:AI7,-1))=0,1,SUM(COUNTIF($AI$3:AI7,1),COUNTIF($AI$3:AI7,-1)))),(IF(SUM(COUNTIF($AK$3:AK7,1),COUNTIF($AK$3:AK7,-1))=0,1,SUM(COUNTIF($AK$3:AK7,1),COUNTIF($AK$3:AK7,-1)))))/1000)","v":1.6E-2},0.218]
[5,"AoM",null,{"$f":"+IFERROR(INDEX('Auswertung AoE II'!$AE:$AE,MATCH(A8,'Auswertung AoE II'!$AD:$AD,0)),\"\")","v":""},{"$f":"+IFERROR(INDEX('Auswertung AoE III'!$AE:$AE,MATCH(A8,'Auswertung AoE III'!$AD:$AD,0)),\"\")","v":""},{"$f":"+IFERROR(INDEX('Auswertung AoM'!$AE:$AE,MATCH(A8,'Auswertung AoM'!$AD:$AD,0)),\"\")","v":"AoM"},{"$f":"+IFERROR(INDEX('Auswertung RA'!$AE:$AE,MATCH(A8,'Auswertung RA'!$AD:$AD,0)),\"\")","v":""},{"$f":"+IFERROR(INDEX('Auswertung Yuri'!$AE:$AE,MATCH(A8,'Auswertung Yuri'!$AD:$AD,0)),\"\")","v":""},{"$f":"+IFERROR(INDEX('Auswertung Generals'!$AE:$AE,MATCH(A8,'Auswertung Generals'!$AD:$AD,0)),\"\")","v":""},{"$f":"+IF(B8<>0,CONCATENATE(\"Auswertung \",B8,\"\"))","v":"Auswertung AoM"},null,null,{"$f":"+IF(ISERROR(+INDIRECT(CONCATENATE(\"'\",J8,\"'!\",(ADDRESS((COUNTIF($J$3:J8,IF(B8<>0,CONCATENATE(\"Auswertung \",B8,\"\"))))+2,2)))))=FALSE,+INDIRECT(CONCATENATE(\"'\",J8,\"'!\",(ADDRESS((COUNTIF($J$3:J8,IF(B8<>0,CONCATENATE(\"Auswertung \",B8,\"\"))))+4,2)))),\"\")","v":44},{"$f":"IF(ISERROR(+INDIRECT(CONCATENATE(\"'\",J8,\"'!\",(ADDRESS((COUNTIF($J$3:J8,IF(B8<>0,CONCATENATE(\"Auswertung \",B8,\"\"))))+2,2+1)))))=FALSE,+INDIRECT(CONCATENATE(\"'\",J8,\"'!\",(ADDRESS((COUNTIF($J$3:J8,IF(B8<>0,CONCATENATE(\"Auswertung \",B8,\"\"))))+4,2+1)))),\"\")","v":"Zeus"},{"$f":"+IF(ISERROR(+INDIRECT(CONCATENATE(\"'\",J8,\"'!\",(ADDRESS((COUNTIF($J$3:J8,IF(B8<>0,CONCATENATE(\"Auswertung \",B8,\"\"))))+2,4)))))=FALSE,+INDIRECT(CONCATENATE(\"'\",J8,\"'!\",(ADDRESS((COUNTIF($J$3:J8,IF(B8<>0,CONCATENATE(\"Auswertung \",B8,\"\"))))+4,4)))),\"\")","v":6},{"$f":"+IF(ISERROR(+INDIRECT(CONCATENATE(\"'\",J8,\"'!\",(ADDRESS((COUNTIF($J$3:J8,IF(B8<>0,CONCATENATE(\"Auswertung \",B8,\"\"))))+2,5)))))=FALSE,+INDIRECT(CONCATENATE(\"'\",J8,\"'!\",(ADDRESS((COUNTIF($J$3:J8,IF(B8<>0,CONCATENATE(\"Auswertung \",B8,\"\"))))+4,5)))),\"\")","v":"Kronos"},{"$f":"+IF(ISERROR(+INDIRECT(CONCATENATE(\"'\",J8,\"'!\",(ADDRESS((COUNTIF($J$3:J8,IF(B8<>0,CONCATENATE(\"Auswertung \",B8,\"\"))))+2,6)))))=FALSE,+INDIRECT(CONCATENATE(\"'\",J8,\"'!\",(ADDRESS((COUNTIF($J$3:J8,IF(B8<>0,CONCATENATE(\"Auswertung \",B8,\"\"))))+4,6)))),\"\")","v":15},{"$f":"+IF(ISERROR(+INDIRECT(CONCATENATE(\"'\",J8,\"'!\",(ADDRESS((COUNTIF($J$3:J8,IF(B8<>0,CONCATENATE(\"Auswertung \",B8,\"\"))))+2,7)))))=FALSE,+INDIRECT(CONCATENATE(\"'\",J8,\"'!\",(ADDRESS((COUNTIF($J$3:J8,IF(B8<>0,CONCATENATE(\"Auswertung \",B8,\"\"))))+4,7)))),\"\")","v":"Odin"},{"$f":"+IF(ISERROR(+INDIRECT(CONCATENATE(\"'\",J8,\"'!\",(ADDRESS((COUNTIF($J$3:J8,IF(B8<>0,CONCATENATE(\"Auswertung \",B8,\"\"))))+2,10)))))=FALSE,+INDIRECT(CONCATENATE(\"'\",J8,\"'!\",(ADDRESS((COUNTIF($J$3:J8,IF(B8<>0,CONCATENATE(\"Auswertung \",B8,\"\"))))+4,8)))),\"\")","v":30},{"$f":"+IF(ISERROR(+INDIRECT(CONCATENATE(\"'\",J8,\"'!\",(ADDRESS((COUNTIF($J$3:J8,IF(B8<>0,CONCATENATE(\"Auswertung \",B8,\"\"))))+2,11)))))=FALSE,+INDIRECT(CONCATENATE(\"'\",J8,\"'!\",(ADDRESS((COUNTIF($J$3:J8,IF(B8<>0,CONCATENATE(\"Auswertung \",B8,\"\"))))+4,9)))),\"\")","v":"Kronos"},{"$f":"+IF(ISERROR(+INDIRECT(CONCATENATE(\"'\",J8,\"'!\",(ADDRESS((COUNTIF($J$3:J8,IF(B8<>0,CONCATENATE(\"Auswertung \",B8,\"\"))))+2,10)))))=FALSE,+INDIRECT(CONCATENATE(\"'\",J8,\"'!\",(ADDRESS((COUNTIF($J$3:J8,IF(B8<>0,CONCATENATE(\"Auswertung \",B8,\"\"))))+4,10)))),\"\")","v":38},{"$f":"+IF(ISERROR(+INDIRECT(CONCATENATE(\"'\",J8,\"'!\",(ADDRESS((COUNTIF($J$3:J8,IF(B8<>0,CONCATENATE(\"Auswertung \",B8,\"\"))))+2,11)))))=FALSE,+INDIRECT(CONCATENATE(\"'\",J8,\"'!\",(ADDRESS((COUNTIF($J$3:J8,IF(B8<>0,CONCATENATE(\"Auswertung \",B8,\"\"))))+4,11)))),\"\")","v":"Zeus"},{"$f":"+IF(ISERROR(+INDIRECT(CONCATENATE(\"'\",J8,\"'!\",(ADDRESS((COUNTIF($J$3:J8,IF(D8<>0,CONCATENATE(\"Auswertung \",D8,\"\"))))+2,12)))))=FALSE,+INDIRECT(CONCATENATE(\"'\",J8,\"'!\",(ADDRESS((COUNTIF($J$3:J8,IF(D8<>0,CONCATENATE(\"Auswertung \",B8,\"\"))))+4,12)))),\"\")","v":11},{"$f":"+IF(ISERROR(+INDIRECT(CONCATENATE(\"'\",J8,\"'!\",(ADDRESS((COUNTIF($J$3:J8,IF(D8<>0,CONCATENATE(\"Auswertung \",D8,\"\"))))+2,13)))))=FALSE,+INDIRECT(CONCATENATE(\"'\",J8,\"'!\",(ADDRESS((COUNTIF($J$3:J8,IF(D8<>0,CONCATENATE(\"Auswertung \",B8,\"\"))))+4,13)))),\"\")","v":"Odin"},null,{"$f":"+IFERROR(INDIRECT(CONCATENATE(\"'\",J8,\"'!\",(ADDRESS((COUNTIF($J$3:J8,IF(B8<>0,J8)))+4,16)))),\"\")","v":1},0.72599999999999998,{"$f":"+SUM($M$4:M8)/COUNT($M$4:M8)/1000*2","v":0.1804},{"$f":"+IFERROR(INDIRECT(CONCATENATE(\"'\",J8,\"'!\",(ADDRESS((COUNTIF($J$3:J8,IF(B8<>0,J8)))+4,18)))),\"\")","v":1},2.7320000000000002,{"$f":"+IFERROR(INDIRECT(CONCATENATE(\"'\",J8,\"'!\",(ADDRESS((COUNTIF($J$3:J8,IF(B8<>0,J8)))+4,20)))),\"\")","v":1},-0.223,{"$f":"+IFERROR(INDIRECT(CONCATENATE(\"'\",J8,\"'!\",(ADDRESS((COUNTIF($J$3:J8,IF(B8<>0,J8)))+4,22)))),\"\")","v":-1},-0.25600000000000001,{"$f":"+IFERROR(INDIRECT(CONCATENATE(\"'\",J8,\"'!\",(ADDRESS((COUNTIF($J$3:J8,IF(B8<>0,J8)))+4,24)))),\"\")","v":-1},-1.2829999999999999,{"$f":"+IFERROR(INDIRECT(CONCATENATE(\"'\",J8,\"'!\",(ADDRESS((COUNTIF($J$3:J8,IF(B8<>0,J8)))+4,26)))),\"\")","v":-1},-0.222,5,{"$f":"+SUM(COUNTIF($Z$3:Z8,1),COUNTIF($Z$3:Z8,-1))","v":5},{"$f":"+SUM($M$4:M8)","v":451},90.2,{"$f":"+SUM(COUNTIF($Z$3:Z8,1))","v":3},{"$f":"+SUM(COUNTIF($Z$3:Z8,-1))","v":2},1,{"$f":"AN8*(HARMEAN((IF(SUM(COUNTIF($Z$3:Z8,1),COUNTIF($Z$3:Z8,-1))=0,1,SUM(COUNTIF($Z$3:Z8,1),COUNTIF($Z$3:Z8,-1)))),(IF(SUM(COUNTIF($AC$3:AC8,1),COUNTIF($AC$3:AC8,-1))=0,1,SUM(COUNTIF($AC$3:AC8,1),COUNTIF($AC$3:AC8,-1)))),(IF(SUM(COUNTIF($AE$3:AE8,1),COUNTIF($AE$3:AE8,-1))=0,1,SUM(COUNTIF($AE$3:AE8,1),COUNTIF($AE$3:AE8,-1)))),(IF(SUM(COUNTIF($AG$3:AG8,1),COUNTIF($AG$3:AG8,-1))=0,1,SUM(COUNTIF($AG$3:AG8,1),COUNTIF($AG$3:AG8,-1)))),(IF(SUM(COUNTIF($AI$3:AI8,1),COUNTIF($AI$3:AI8,-1))=0,1,SUM(COUNTIF($AI$3:AI8,1),COUNTIF($AI$3:AI8,-1)))),(IF(SUM(COUNTIF($AK$3:AK8,1),COUNTIF($AK$3:AK8,-1))=0,1,SUM(COUNTIF($AK$3:AK8,1),COUNTIF($AK$3:AK8,-1)))))/1000)","v":2.5000000000000001E-2},0.72599999999999998,null,{"$f":"+SUM(COUNTIF($AC$3:AC8,1),COUNTIF($AC$3:AC8,-1))","v":5},{"$f":"+SUM($O$4:O8)","v":463},92.6,{"$f":"+SUM(COUNTIF($AC$3:AC8,1))","v":5},{"$f":"+SUM(COUNTIF($AC$3:AC8,-1))","v":0},5,{"$f":"AW8*(HARMEAN((IF(SUM(COUNTIF($Z$3:Z8,1),COUNTIF($Z$3:Z8,-1))=0,1,SUM(COUNTIF($Z$3:Z8,1),COUNTIF($Z$3:Z8,-1)))),(IF(SUM(COUNTIF($AC$3:AC8,1),COUNTIF($AC$3:AC8,-1))=0,1,SUM(COUNTIF($AC$3:AC8,1),COUNTIF($AC$3:AC8,-1)))),(IF(SUM(COUNTIF($AE$3:AE8,1),COUNTIF($AE$3:AE8,-1))=0,1,SUM(COUNTIF($AE$3:AE8,1),COUNTIF($AE$3:AE8,-1)))),(IF(SUM(COUNTIF($AG$3:AG8,1),COUNTIF($AG$3:AG8,-1))=0,1,SUM(COUNTIF($AG$3:AG8,1),COUNTIF($AG$3:AG8,-1)))),(IF(SUM(COUNTIF($AI$3:AI8,1),COUNTIF($AI$3:AI8,-1))=0,1,SUM(COUNTIF($AI$3:AI8,1),COUNTIF($AI$3:AI8,-1)))),(IF(SUM(COUNTIF($AK$3:AK8,1),COUNTIF($AK$3:AK8,-1))=0,1,SUM(COUNTIF($AK$3:AK8,1),COUNTIF($AK$3:AK8,-1)))))/1000)","v":2.5000000000000001E-2},2.7320000000000002,null,{"$f":"+SUM(COUNTIF($AE$3:AE8,1),COUNTIF(AE$3:$AE8,-1))","v":5},{"$f":"+SUM($Q$4:Q8)","v":555},111,{"$f":"+SUM(COUNTIF($AE$3:AE8,1))","v":2},{"$f":"+SUM(COUNTIF($AE$3:AE8,-1))","v":3},-1,{"$f":"BF8*(HARMEAN((IF(SUM(COUNTIF($Z$3:Z8,1),COUNTIF($Z$3:Z8,-1))=0,1,SUM(COUNTIF($Z$3:Z8,1),COUNTIF($Z$3:Z8,-1)))),(IF(SUM(COUNTIF($AC$3:AC8,1),COUNTIF($AC$3:AC8,-1))=0,1,SUM(COUNTIF($AC$3:AC8,1),COUNTIF($AC$3:AC8,-1)))),(IF(SUM(COUNTIF($AE$3:AE8,1),COUNTIF($AE$3:AE8,-1))=0,1,SUM(COUNTIF($AE$3:AE8,1),COUNTIF($AE$3:AE8,-1)))),(IF(SUM(COUNTIF($AG$3:AG8,1),COUNTIF($AG$3:AG8,-1))=0,1,SUM(COUNTIF($AG$3:AG8,1),COUNTIF($AG$3:AG8,-1)))),(IF(SUM(COUNTIF($AI$3:AI8,1),COUNTIF($AI$3:AI8,-1))=0,1,SUM(COUNTIF($AI$3:AI8,1),COUNTIF($AI$3:AI8,-1)))),(IF(SUM(COUNTIF($AK$3:AK8,1),COUNTIF($AK$3:AK8,-1))=0,1,SUM(COUNTIF($AK$3:AK8,1),COUNTIF($AK$3:AK8,-1)))))/1000)","v":2.5000000000000001E-2},-0.223,null,{"$f":"+SUM(COUNTIF($AG$3:AG8,1),COUNTIF($AG$3:AG8,-1))","v":5},{"$f":"+SUM($S$4:S8)","v":488},97.6,{"$f":"+SUM(COUNTIF($AG$3:AG8,1))","v":2},{"$f":"+SUM(COUNTIF($AG$3:AG8,-1))","v":3},-1,{"$f":"BO8*(HARMEAN((IF(SUM(COUNTIF($Z$3:Z8,1),COUNTIF($Z$3:Z8,-1))=0,1,SUM(COUNTIF($Z$3:Z8,1),COUNTIF($Z$3:Z8,-1)))),(IF(SUM(COUNTIF($AC$3:AC8,1),COUNTIF($AC$3:AC8,-1))=0,1,SUM(COUNTIF($AC$3:AC8,1),COUNTIF($AC$3:AC8,-1)))),(IF(SUM(COUNTIF($AE$3:AE8,1),COUNTIF($AE$3:AE8,-1))=0,1,SUM(COUNTIF($AE$3:AE8,1),COUNTIF($AE$3:AE8,-1)))),(IF(SUM(COUNTIF($AG$3:AG8,1),COUNTIF($AG$3:AG8,-1))=0,1,SUM(COUNTIF($AG$3:AG8,1),COUNTIF($AG$3:AG8,-1)))),(IF(SUM(COUNTIF($AI$3:AI8,1),COUNTIF($AI$3:AI8,-1))=0,1,SUM(COUNTIF($AI$3:AI8,1),COUNTIF($AI$3:AI8,-1)))),(IF(SUM(COUNTIF($AK$3:AK8,1),COUNTIF($AK$3:AK8,-1))=0,1,SUM(COUNTIF($AK$3:AK8,1),COUNTIF($AK$3:AK8,-1)))))/1000)","v":2.5000000000000001E-2},-0.25600000000000001,null,{"$f":"+SUM(COUNTIF($AI$3:AI8,1),COUNTIF($AI$3:AI8,-1))","v":5},{"$f":"+SUM($U$4:U8)","v":434},86.8,{"$f":"+SUM(COUNTIF($AI$3:AI8,1))","v":1},{"$f":"+SUM(COUNTIF($AI$3:AI8,-1))","v":4},-3,{"$f":"+BX8*(HARMEAN((IF(SUM(COUNTIF($Z$3:Z8,1),COUNTIF($Z$3:Z8,-1))=0,1,SUM(COUNTIF($Z$3:Z8,1),COUNTIF($Z$3:Z8,-1)))),(IF(SUM(COUNTIF($AC$3:AC8,1),COUNTIF($AC$3:AC8,-1))=0,1,SUM(COUNTIF($AC$3:AC8,1),COUNTIF($AC$3:AC8,-1)))),(IF(SUM(COUNTIF($AE$3:AE8,1),COUNTIF($AE$3:AE8,-1))=0,1,SUM(COUNTIF($AE$3:AE8,1),COUNTIF($AE$3:AE8,-1)))),(IF(SUM(COUNTIF($AG$3:AG8,1),COUNTIF($AG$3:AG8,-1))=0,1,SUM(COUNTIF($AG$3:AG8,1),COUNTIF($AG$3:AG8,-1)))),(IF(SUM(COUNTIF($AI$3:AI8,1),COUNTIF($AI$3:AI8,-1))=0,1,SUM(COUNTIF($AI$3:AI8,1),COUNTIF($AI$3:AI8,-1)))),(IF(SUM(COUNTIF($AK$3:AK8,1),COUNTIF($AK$3:AK8,-1))=0,1,SUM(COUNTIF($AK$3:AK8,1),COUNTIF($AK$3:AK8,-1)))))/1000)","v":2.5000000000000001E-2},-1.2829999999999999,null,{"$f":"+SUM(COUNTIF($AK$3:AK8,1),COUNTIF($AK$3:AK8,-1))","v":5},{"$f":"+SUM($W$4:W8)","v":556},111.2,{"$f":"+SUM(COUNTIF($AK$3:AK8,1))","v":2},{"$f":"+SUM(COUNTIF($AK$3:AK8,-1))","v":3},-1,{"$f":"+CG8*(HARMEAN((IF(SUM(COUNTIF($Z$3:Z8,1),COUNTIF($Z$3:Z8,-1))=0,1,SUM(COUNTIF($Z$3:Z8,1),COUNTIF($Z$3:Z8,-1)))),(IF(SUM(COUNTIF($AC$3:AC8,1),COUNTIF($AC$3:AC8,-1))=0,1,SUM(COUNTIF($AC$3:AC8,1),COUNTIF($AC$3:AC8,-1)))),(IF(SUM(COUNTIF($AE$3:AE8,1),COUNTIF($AE$3:AE8,-1))=0,1,SUM(COUNTIF($AE$3:AE8,1),COUNTIF($AE$3:AE8,-1)))),(IF(SUM(COUNTIF($AG$3:AG8,1),COUNTIF($AG$3:AG8,-1))=0,1,SUM(COUNTIF($AG$3:AG8,1),COUNTIF($AG$3:AG8,-1)))),(IF(SUM(COUNTIF($AI$3:AI8,1),COUNTIF($AI$3:AI8,-1))=0,1,SUM(COUNTIF($AI$3:AI8,1),COUNTIF($AI$3:AI8,-1)))),(IF(SUM(COUNTIF($AK$3:AK8,1),COUNTIF($AK$3:AK8,-1))=0,1,SUM(COUNTIF($AK$3:AK8,1),COUNTIF($AK$3:AK8,-1)))))/1000)","v":2.5000000000000001E-2},-0.222]
[6,"RA",null,{"$f":"+IFERROR(INDEX('Auswertung AoE II'!$AE:$AE,MATCH(A9,'Auswertung AoE II'!$AD:$AD,0)),\"\")","v":""},{"$f":"+IFERROR(INDEX('Auswertung AoE III'!$AE:$AE,MATCH(A9,'Auswertung AoE III'!$AD:$AD,0)),\"\")","v":""},{"$f":"+IFERROR(INDEX('Auswertung AoM'!$AE:$AE,MATCH(A9,'Auswertung AoM'!$AD:$AD,0)),\"\")","v":""},{"$f":"+IFERROR(INDEX('Auswertung RA'!$AE:$AE,MATCH(A9,'Auswertung RA'!$AD:$AD,0)),\"\")","v":"RA"},{"$f":"+IFERROR(INDEX('Auswertung Yuri'!$AE:$AE,MATCH(A9,'Auswertung Yuri'!$AD:$AD,0)),\"\")","v":""},{"$f":"+IFERROR(INDEX('Auswertung Generals'!$AE:$AE,MATCH(A9,'Auswertung Generals'!$AD:$AD,0)),\"\")","v":""},{"$f":"+IF(B9<>0,CONCATENATE(\"Auswertung \",B9,\"\"))","v":"Auswertung RA"},null,null,{"$f":"+IF(ISERROR(+INDIRECT(CONCATENATE(\"'\",J9,\"'!\",(ADDRESS((COUNTIF($J$3:J9,IF(B9<>0,CONCATENATE(\"Auswertung \",B9,\"\"))))+2,2)))))=FALSE,+INDIRECT(CONCATENATE(\"'\",J9,\"'!\",(ADDRESS((COUNTIF($J$3:J9,IF(B9<>0,CONCATENATE(\"Auswertung \",B9,\"\"))))+4,2)))),\"\")","v":82},{"$f":"IF(ISERROR(+INDIRECT(CONCATENATE(\"'\",J9,\"'!\",(ADDRESS((COUNTIF($J$3:J9,IF(B9<>0,CONCATENATE(\"Auswertung \",B9,\"\"))))+2,2+1)))))=FALSE,+INDIRECT(CONCATENATE(\"'\",J9,\"'!\",(ADDRESS((COUNTIF($J$3:J9,IF(B9<>0,CONCATENATE(\"Auswertung \",B9,\"\"))))+4,2+1)))),\"\")","v":"S"},{"$f":"+IF(ISERROR(+INDIRECT(CONCATENATE(\"'\",J9,\"'!\",(ADDRESS((COUNTIF($J$3:J9,IF(B9<>0,CONCATENATE(\"Auswertung \",B9,\"\"))))+2,4)))))=FALSE,+INDIRECT(CONCATENATE(\"'\",J9,\"'!\",(ADDRESS((COUNTIF($J$3:J9,IF(B9<>0,CONCATENATE(\"Auswertung \",B9,\"\"))))+4,4)))),\"\")","v":49},{"$f":"+IF(ISERROR(+INDIRECT(CONCATENATE(\"'\",J9,\"'!\",(ADDRESS((COUNTIF($J$3:J9,IF(B9<>0,CONCATENATE(\"Auswertung \",B9,\"\"))))+2,5)))))=FALSE,+INDIRECT(CONCATENATE(\"'\",J9,\"'!\",(ADDRESS((COUNTIF($J$3:J9,IF(B9<>0,CONCATENATE(\"Auswertung \",B9,\"\"))))+4,5)))),\"\")","v":"A"},{"$f":"+IF(ISERROR(+INDIRECT(CONCATENATE(\"'\",J9,\"'!\",(ADDRESS((COUNTIF($J$3:J9,IF(B9<>0,CONCATENATE(\"Auswertung \",B9,\"\"))))+2,6)))))=FALSE,+INDIRECT(CONCATENATE(\"'\",J9,\"'!\",(ADDRESS((COUNTIF($J$3:J9,IF(B9<>0,CONCATENATE(\"Auswertung \",B9,\"\"))))+4,6)))),\"\")","v":49},{"$f":"+IF(ISERROR(+INDIRECT(CONCATENATE(\"'\",J9,\"'!\",(ADDRESS((COUNTIF($J$3:J9,IF(B9<>0,CONCATENATE(\"Auswertung \",B9,\"\"))))+2,7)))))=FALSE,+INDIRECT(CONCATENATE(\"'\",J9,\"'!\",(ADDRESS((COUNTIF($J$3:J9,IF(B9<>0,CONCATENATE(\"Auswertung \",B9,\"\"))))+4,7)))),\"\")","v":"A"},{"$f":"+IF(ISERROR(+INDIRECT(CONCATENATE(\"'\",J9,\"'!\",(ADDRESS((COUNTIF($J$3:J9,IF(B9<>0,CONCATENATE(\"Auswertung \",B9,\"\"))))+2,10)))))=FALSE,+INDIRECT(CONCATENATE(\"'\",J9,\"'!\",(ADDRESS((COUNTIF($J$3:J9,IF(B9<>0,CONCATENATE(\"Auswertung \",B9,\"\"))))+4,8)))),\"\")","v":16},{"$f":"+IF(ISERROR(+INDIRECT(CONCATENATE(\"'\",J9,\"'!\",(ADDRESS((COUNTIF($J$3:J9,IF(B9<>0,CONCATENATE(\"Auswertung \",B9,\"\"))))+2,11)))))=FALSE,+INDIRECT(CONCATENATE(\"'\",J9,\"'!\",(ADDRESS((COUNTIF($J$3:J9,IF(B9<>0,CONCATENATE(\"Auswertung \",B9,\"\"))))+4,9)))),\"\")","v":"S"},{"$f":"+IF(ISERROR(+INDIRECT(CONCATENATE(\"'\",J9,\"'!\",(ADDRESS((COUNTIF($J$3:J9,IF(B9<>0,CONCATENATE(\"Auswertung \",B9,\"\"))))+2,10)))))=FALSE,+INDIRECT(CONCATENATE(\"'\",J9,\"'!\",(ADDRESS((COUNTIF($J$3:J9,IF(B9<>0,CONCATENATE(\"Auswertung \",B9,\"\"))))+4,10)))),\"\")","v":63},{"$f":"+IF(ISERROR(+INDIRECT(CONCATENATE(\"'\",J9,\"'!\",(ADDRESS((COUNTIF($J$3:J9,IF(B9<>0,CONCATENATE(\"Auswertung \",B9,\"\"))))+2,11)))))=FALSE,+INDIRECT(CONCATENATE(\"'\",J9,\"'!\",(ADDRESS((COUNTIF($J$3:J9,IF(B9<>0,CONCATENATE(\"Auswertung \",B9,\"\"))))+4,11)))),\"\")","v":"A"},{"$f":"+IF(ISERROR(+INDIRECT(CONCATENATE(\"'\",J9,\"'!\",(ADDRESS((COUNTIF($J$3:J9,IF(D9<>0,CONCATENATE(\"Auswertung \",D9,\"\"))))+2,12)))))=FALSE,+INDIRECT(CONCATENATE(\"'\",J9,\"'!\",(ADDRESS((COUNTIF($J$3:J9,IF(D9<>0,CONCATENATE(\"Auswertung \",B9,\"\"))))+4,12)))),\"\")","v":9},{"$f":"+IF(ISERROR(+INDIRECT(CONCATENATE(\"'\",J9,\"'!\",(ADDRESS((COUNTIF($J$3:J9,IF(D9<>0,CONCATENATE(\"Auswertung \",D9,\"\"))))+2,13)))))=FALSE,+INDIRECT(CONCATENATE(\"'\",J9,\"'!\",(ADDRESS((COUNTIF($J$3:J9,IF(D9<>0,CONCATENATE(\"Auswertung \",B9,\"\"))))+4,13)))),\"\")","v":"A"},null,{"$f":"+IFERROR(INDIRECT(CONCATENATE(\"'\",J9,\"'!\",(ADDRESS((COUNTIF($J$3:J9,IF(B9<>0,J9)))+4,16)))),\"\")","v":1},1.52,{"$f":"+SUM($M$4:M9)/COUNT($M$4:M9)/1000*2","v":0.17766666666666667},{"$f":"+IFERROR(INDIRECT(CONCATENATE(\"'\",J9,\"'!\",(ADDRESS((COUNTIF($J$3:J9,IF(B9<>0,J9)))+4,18)))),\"\")","v":-1},2.7069999999999999,{"$f":"+IFERROR(INDIRECT(CONCATENATE(\"'\",J9,\"'!\",(ADDRESS((COUNTIF($J$3:J9,IF(B9<>0,J9)))+4,20)))),\"\")","v":1},0.36199999999999999,{"$f":"+IFERROR(INDIRECT(CONCATENATE(\"'\",J9,\"'!\",(ADDRESS((COUNTIF($J$3:J9,IF(B9<>0,J9)))+4,22)))),\"\")","v":-1},-0.89800000000000002,{"$f":"+IFERROR(INDIRECT(CONCATENATE(\"'\",J9,\"'!\",(ADDRESS((COUNTIF($J$3:J9,IF(B9<>0,J9)))+4,24)))),\"\")","v":-1},-2.1019999999999999,{"$f":"+IFERROR(INDIRECT(CONCATENATE(\"'\",J9,\"'!\",(ADDRESS((COUNTIF($J$3:J9,IF(B9<>0,J9)))+4,26)))),\"\")","v":1},0.33900000000000002,6,{"$f":"+SUM(COUNTIF($Z$3:Z9,1),COUNTIF($Z$3:Z9,-1))","v":6},{"$f":"+SUM($M$4:M9)","v":533},88.833333333333329,{"$f":"+SUM(COUNTIF($Z$3:Z9,1))","v":4},{"$f":"+SUM(COUNTIF($Z$3:Z9,-1))","v":2},2,{"$f":"AN9*(HARMEAN((IF(SUM(COUNTIF($Z$3:Z9,1),COUNTIF($Z$3:Z9,-1))=0,1,SUM(COUNTIF($Z$3:Z9,1),COUNTIF($Z$3:Z9,-1)))),(IF(SUM(COUNTIF($AC$3:AC9,1),COUNTIF($AC$3:AC9,-1))=0,1,SUM(COUNTIF($AC$3:AC9,1),COUNTIF($AC$3:AC9,-1)))),(IF(SUM(COUNTIF($AE$3:AE9,1),COUNTIF($AE$3:AE9,-1))=0,1,SUM(COUNTIF($AE$3:AE9,1),COUNTIF($AE$3:AE9,-1)))),(IF(SUM(COUNTIF($AG$3:AG9,1),COUNTIF($AG$3:AG9,-1))=0,1,SUM(COUNTIF($AG$3:AG9,1),COUNTIF($AG$3:AG9,-1)))),(IF(SUM(COUNTIF($AI$3:AI9,1),COUNTIF($AI$3:AI9,-1))=0,1,SUM(COUNTIF($AI$3:AI9,1),COUNTIF($AI$3:AI9,-1)))),(IF(SUM(COUNTIF($AK$3:AK9,1),COUNTIF($AK$3:AK9,-1))=0,1,SUM(COUNTIF($AK$3:AK9,1),COUNTIF($AK$3:AK9,-1)))))/1000)","v":3.6000000000000004E-2},1.52,null,{"$f":"+SUM(COUNTIF($AC$3:AC9,1),COUNTIF($AC$3:AC9,-1))","v":6},{"$f":"+SUM($O$4:O9)","v":512},85.333333333333329,{"$f":"+SUM(COUNTIF($AC$3:AC9,1))","v":5},{"$f":"+SUM(COUNTIF($AC$3:AC9,-1))","v":1},4,{"$f":"AW9*(HARMEAN((IF(SUM(COUNTIF($Z$3:Z9,1),COUNTIF($Z$3:Z9,-1))=0,1,SUM(COUNTIF($Z$3:Z9,1),COUNTIF($Z$3:Z9,-1)))),(IF(SUM(COUNTIF($AC$3:AC9,1),COUNTIF($AC$3:AC9,-1))=0,1,SUM(COUNTIF($AC$3:AC9,1),COUNTIF($AC$3:AC9,-1)))),(IF(SUM(COUNTIF($AE$3:AE9,1),COUNTIF($AE$3:AE9,-1))=0,1,SUM(COUNTIF($AE$3:AE9,1),COUNTIF($AE$3:AE9,-1)))),(IF(SUM(COUNTIF($AG$3:AG9,1),COUNTIF($AG$3:AG9,-1))=0,1,SUM(COUNTIF($AG$3:AG9,1),COUNTIF($AG$3:AG9,-1)))),(IF(SUM(COUNTIF($AI$3:AI9,1),COUNTIF($AI$3:AI9,-1))=0,1,SUM(COUNTIF($AI$3:AI9,1),COUNTIF($AI$3:AI9,-1)))),(IF(SUM(COUNTIF($AK$3:AK9,1),COUNTIF($AK$3:AK9,-1))=0,1,SUM(COUNTIF($AK$3:AK9,1),COUNTIF($AK$3:AK9,-1)))))/1000)","v":3.6000000000000004E-2},2.7069999999999999,null,{"$f":"+SUM(COUNTIF($AE$3:AE9,1),COUNTIF(AE$3:$AE9,-1))","v":6},{"$f":"+SUM($Q$4:Q9)","v":604},100.66666666666667,{"$f":"+SUM(COUNTIF($AE$3:AE9,1))","v":3},{"$f":"+SUM(COUNTIF($AE$3:AE9,-1))","v":3},0,{"$f":"BF9*(HARMEAN((IF(SUM(COUNTIF($Z$3:Z9,1),COUNTIF($Z$3:Z9,-1))=0,1,SUM(COUNTIF($Z$3:Z9,1),COUNTIF($Z$3:Z9,-1)))),(IF(SUM(COUNTIF($AC$3:AC9,1),COUNTIF($AC$3:AC9,-1))=0,1,SUM(COUNTIF($AC$3:AC9,1),COUNTIF($AC$3:AC9,-1)))),(IF(SUM(COUNTIF($AE$3:AE9,1),COUNTIF($AE$3:AE9,-1))=0,1,SUM(COUNTIF($AE$3:AE9,1),COUNTIF($AE$3:AE9,-1)))),(IF(SUM(COUNTIF($AG$3:AG9,1),COUNTIF($AG$3:AG9,-1))=0,1,SUM(COUNTIF($AG$3:AG9,1),COUNTIF($AG$3:AG9,-1)))),(IF(SUM(COUNTIF($AI$3:AI9,1),COUNTIF($AI$3:AI9,-1))=0,1,SUM(COUNTIF($AI$3:AI9,1),COUNTIF($AI$3:AI9,-1)))),(IF(SUM(COUNTIF($AK$3:AK9,1),COUNTIF($AK$3:AK9,-1))=0,1,SUM(COUNTIF($AK$3:AK9,1),COUNTIF($AK$3:AK9,-1)))))/1000)","v":3.6000000000000004E-2},0.36199999999999999,null,{"$f":"+SUM(COUNTIF($AG$3:AG9,1),COUNTIF($AG$3:AG9,-1))","v":6},{"$f":"+SUM($S$4:S9)","v":504},84,{"$f":"+SUM(COUNTIF($AG$3:AG9,1))","v":2},{"$f":"+SUM(COUNTIF($AG$3:AG9,-1))","v":4},-2,{"$f":"BO9*(HARMEAN((IF(SUM(COUNTIF($Z$3:Z9,1),COUNTIF($Z$3:Z9,-1))=0,1,SUM(COUNTIF($Z$3:Z9,1),COUNTIF($Z$3:Z9,-1)))),(IF(SUM(COUNTIF($AC$3:AC9,1),COUNTIF($AC$3:AC9,-1))=0,1,SUM(COUNTIF($AC$3:AC9,1),COUNTIF($AC$3:AC9,-1)))),(IF(SUM(COUNTIF($AE$3:AE9,1),COUNTIF($AE$3:AE9,-1))=0,1,SUM(COUNTIF($AE$3:AE9,1),COUNTIF($AE$3:AE9,-1)))),(IF(SUM(COUNTIF($AG$3:AG9,1),COUNTIF($AG$3:AG9,-1))=0,1,SUM(COUNTIF($AG$3:AG9,1),COUNTIF($AG$3:AG9,-1)))),(IF(SUM(COUNTIF($AI$3:AI9,1),COUNTIF($AI$3:AI9,-1))=0,1,SUM(COUNTIF($AI$3:AI9,1),COUNTIF($AI$3:AI9,-1)))),(IF(SUM(COUNTIF($AK$3:AK9,1),COUNTIF($AK$3:AK9,-1))=0,1,SUM(COUNTIF($AK$3:AK9,1),COUNTIF($AK$3:AK9,-1)))))/1000)","v":3.6000000000000004E-2},-0.89800000000000002,null,{"$f":"+SUM(COUNTIF($AI$3:AI9,1),COUNTIF($AI$3:AI9,-1))","v":6},{"$f":"+SUM($U$4:U9)","v":497},82.833333333333329,{"$f":"+SUM(COUNTIF($AI$3:AI9,1))","v":1},{"$f":"+SUM(COUNTIF($AI$3:AI9,-1))","v":5},-4,{"$f":"+BX9*(HARMEAN((IF(SUM(COUNTIF($Z$3:Z9,1),COUNTIF($Z$3:Z9,-1))=0,1,SUM(COUNTIF($Z$3:Z9,1),COUNTIF($Z$3:Z9,-1)))),(IF(SUM(COUNTIF($AC$3:AC9,1),COUNTIF($AC$3:AC9,-1))=0,1,SUM(COUNTIF($AC$3:AC9,1),COUNTIF($AC$3:AC9,-1)))),(IF(SUM(COUNTIF($AE$3:AE9,1),COUNTIF($AE$3:AE9,-1))=0,1,SUM(COUNTIF($AE$3:AE9,1),COUNTIF($AE$3:AE9,-1)))),(IF(SUM(COUNTIF($AG$3:AG9,1),COUNTIF($AG$3:AG9,-1))=0,1,SUM(COUNTIF($AG$3:AG9,1),COUNTIF($AG$3:AG9,-1)))),(IF(SUM(COUNTIF($AI$3:AI9,1),COUNTIF($AI$3:AI9,-1))=0,1,SUM(COUNTIF($AI$3:AI9,1),COUNTIF($AI$3:AI9,-1)))),(IF(SUM(COUNTIF($AK$3:AK9,1),COUNTIF($AK$3:AK9,-1))=0,1,SUM(COUNTIF($AK$3:AK9,1),COUNTIF($AK$3:AK9,-1)))))/1000)","v":3.6000000000000004E-2},-2.1019999999999999,null,{"$f":"+SUM(COUNTIF($AK$3:AK9,1),COUNTIF($AK$3:AK9,-1))","v":6},{"$f":"+SUM($W$4:W9)","v":565},94.166666666666671,{"$f":"+SUM(COUNTIF($AK$3:AK9,1))","v":3},{"$f":"+SUM(COUNTIF($AK$3:AK9,-1))","v":3},0,{"$f":"+CG9*(HARMEAN((IF(SUM(COUNTIF($Z$3:Z9,1),COUNTIF($Z$3:Z9,-1))=0,1,SUM(COUNTIF($Z$3:Z9,1),COUNTIF($Z$3:Z9,-1)))),(IF(SUM(COUNTIF($AC$3:AC9,1),COUNTIF($AC$3:AC9,-1))=0,1,SUM(COUNTIF($AC$3:AC9,1),COUNTIF($AC$3:AC9,-1)))),(IF(SUM(COUNTIF($AE$3:AE9,1),COUNTIF($AE$3:AE9,-1))=0,1,SUM(COUNTIF($AE$3:AE9,1),COUNTIF($AE$3:AE9,-1)))),(IF(SUM(COUNTIF($AG$3:AG9,1),COUNTIF($AG$3:AG9,-1))=0,1,SUM(COUNTIF($AG$3:AG9,1),COUNTIF($AG$3:AG9,-1)))),(IF(SUM(COUNTIF($AI$3:AI9,1),COUNTIF($AI$3:AI9,-1))=0,1,SUM(COUNTIF($AI$3:AI9,1),COUNTIF($AI$3:AI9,-1)))),(IF(SUM(COUNTIF($AK$3:AK9,1),COUNTIF($AK$3:AK9,-1))=0,1,SUM(COUNTIF($AK$3:AK9,1),COUNTIF($AK$3:AK9,-1)))))/1000)","v":3.6000000000000004E-2},0.33900000000000002]
[7,{"$f":"+I10&H10&G10&F10&E10&D10","v":"Generals"},null,{"$f":"+IFERROR(INDEX('Auswertung AoE II'!$AE:$AE,MATCH(A10,'Auswertung AoE II'!$AD:$AD,0)),\"\")","v":""},{"$f":"+IFERROR(INDEX('Auswertung AoE III'!$AE:$AE,MATCH(A10,'Auswertung AoE III'!$AD:$AD,0)),\"\")","v":""},{"$f":"+IFERROR(INDEX('Auswertung AoM'!$AE:$AE,MATCH(A10,'Auswertung AoM'!$AD:$AD,0)),\"\")","v":""},{"$f":"+IFERROR(INDEX('Auswertung RA'!$AE:$AE,MATCH(A10,'Auswertung RA'!$AD:$AD,0)),\"\")","v":""},{"$f":"+IFERROR(INDEX('Auswertung Yuri'!$AE:$AE,MATCH(A10,'Auswertung Yuri'!$AD:$AD,0)),\"\")","v":""},{"$f":"+IFERROR(INDEX('Auswertung Generals'!$AE:$AE,MATCH(A10,'Auswertung Generals'!$AD:$AD,0)),\"\")","v":"Generals"},"Auswertung Generals",null,null,{"$f":"+IF(ISERROR(+INDIRECT(CONCATENATE(\"'\",J10,\"'!\",(ADDRESS((COUNTIF($J$3:J10,IF(B10<>0,CONCATENATE(\"Auswertung \",B10,\"\"))))+2,2)))))=FALSE,+INDIRECT(CONCATENATE(\"'\",J10,\"'!\",(ADDRESS((COUNTIF($J$3:J10,IF(B10<>0,CONCATENATE(\"Auswertung \",B10,\"\"))))+4,2)))),\"\")","v":86},{"$f":"IF(ISERROR(+INDIRECT(CONCATENATE(\"'\",J10,\"'!\",(ADDRESS((COUNTIF($J$3:J10,IF(B10<>0,CONCATENATE(\"Auswertung \",B10,\"\"))))+2,2+1)))))=FALSE,+INDIRECT(CONCATENATE(\"'\",J10,\"'!\",(ADDRESS((COUNTIF($J$3:J10,IF(B10<>0,CONCATENATE(\"Auswertung \",B10,\"\"))))+4,2+1)))),\"\")","v":"WA"},{"$f":"+IF(ISERROR(+INDIRECT(CONCATENATE(\"'\",J10,\"'!\",(ADDRESS((COUNTIF($J$3:J10,IF(B10<>0,CONCATENATE(\"Auswertung \",B10,\"\"))))+2,4)))))=FALSE,+INDIRECT(CONCATENATE(\"'\",J10,\"'!\",(ADDRESS((COUNTIF($J$3:J10,IF(B10<>0,CONCATENATE(\"Auswertung \",B10,\"\"))))+4,4)))),\"\")","v":76},{"$f":"+IF(ISERROR(+INDIRECT(CONCATENATE(\"'\",J10,\"'!\",(ADDRESS((COUNTIF($J$3:J10,IF(B10<>0,CONCATENATE(\"Auswertung \",B10,\"\"))))+2,5)))))=FALSE,+INDIRECT(CONCATENATE(\"'\",J10,\"'!\",(ADDRESS((COUNTIF($J$3:J10,IF(B10<>0,CONCATENATE(\"Auswertung \",B10,\"\"))))+4,5)))),\"\")","v":"IBG"},{"$f":"+IF(ISERROR(+INDIRECT(CONCATENATE(\"'\",J10,\"'!\",(ADDRESS((COUNTIF($J$3:J10,IF(B10<>0,CONCATENATE(\"Auswertung \",B10,\"\"))))+2,6)))))=FALSE,+INDIRECT(CONCATENATE(\"'\",J10,\"'!\",(ADDRESS((COUNTIF($J$3:J10,IF(B10<>0,CONCATENATE(\"Auswertung \",B10,\"\"))))+4,6)))),\"\")","v":48},{"$f":"+IF(ISERROR(+INDIRECT(CONCATENATE(\"'\",J10,\"'!\",(ADDRESS((COUNTIF($J$3:J10,IF(B10<>0,CONCATENATE(\"Auswertung \",B10,\"\"))))+2,7)))))=FALSE,+INDIRECT(CONCATENATE(\"'\",J10,\"'!\",(ADDRESS((COUNTIF($J$3:J10,IF(B10<>0,CONCATENATE(\"Auswertung \",B10,\"\"))))+4,7)))),\"\")","v":"WA"},{"$f":"+IF(ISERROR(+INDIRECT(CONCATENATE(\"'\",J10,\"'!\",(ADDRESS((COUNTIF($J$3:J10,IF(B10<>0,CONCATENATE(\"Auswertung \",B10,\"\"))))+2,10)))))=FALSE,+INDIRECT(CONCATENATE(\"'\",J10,\"'!\",(ADDRESS((COUNTIF($J$3:J10,IF(B10<>0,CONCATENATE(\"Auswertung \",B10,\"\"))))+4,8)))),\"\")","v":143},{"$f":"+IF(ISERROR(+INDIRECT(CONCATENATE(\"'\",J10,\"'!\",(ADDRESS((COUNTIF($J$3:J10,IF(B10<>0,CONCATENATE(\"Auswertung \",B10,\"\"))))+2,11)))))=FALSE,+INDIRECT(CONCATENATE(\"'\",J10,\"'!\",(ADDRESS((COUNTIF($J$3:J10,IF(B10<>0,CONCATENATE(\"Auswertung \",B10,\"\"))))+4,9)))),\"\")","v":"IBG"},{"$f":"+IF(ISERROR(+INDIRECT(CONCATENATE(\"'\",J10,\"'!\",(ADDRESS((COUNTIF($J$3:J10,IF(B10<>0,CONCATENATE(\"Auswertung \",B10,\"\"))))+2,10)))))=FALSE,+INDIRECT(CONCATENATE(\"'\",J10,\"'!\",(ADDRESS((COUNTIF($J$3:J10,IF(B10<>0,CONCATENATE(\"Auswertung \",B10,\"\"))))+4,10)))),\"\")","v":57},{"$f":"+IF(ISERROR(+INDIRECT(CONCATENATE(\"'\",J10,\"'!\",(ADDRESS((COUNTIF($J$3:J10,IF(B10<>0,CONCATENATE(\"Auswertung \",B10,\"\"))))+2,11)))))=FALSE,+INDIRECT(CONCATENATE(\"'\",J10,\"'!\",(ADDRESS((COUNTIF($J$3:J10,IF(B10<>0,CONCATENATE(\"Auswertung \",B10,\"\"))))+4,11)))),\"\")","v":"AP"},{"$f":"+IF(ISERROR(+INDIRECT(CONCATENATE(\"'\",J10,\"'!\",(ADDRESS((COUNTIF($J$3:J10,IF(D10<>0,CONCATENATE(\"Auswertung \",D10,\"\"))))+2,12)))))=FALSE,+INDIRECT(CONCATENATE(\"'\",J10,\"'!\",(ADDRESS((COUNTIF($J$3:J10,IF(D10<>0,CONCATENATE(\"Auswertung \",B10,\"\"))))+4,12)))),\"\")","v":21},{"$f":"+IF(ISERROR(+INDIRECT(CONCATENATE(\"'\",J10,\"'!\",(ADDRESS((COUNTIF($J$3:J10,IF(D10<>0,CONCATENATE(\"Auswertung \",D10,\"\"))))+2,13)))))=FALSE,+INDIRECT(CONCATENATE(\"'\",J10,\"'!\",(ADDRESS((COUNTIF($J$3:J10,IF(D10<>0,CONCATENATE(\"Auswertung \",B10,\"\"))))+4,13)))),\"\")","v":"AP"},null,{"$f":"+IFERROR(INDIRECT(CONCATENATE(\"'\",J10,\"'!\",(ADDRESS((COUNTIF($J$3:J10,IF(B10<>0,J10)))+4,16)))),\"\")","v":1},2.5329999999999999,{"$f":"+SUM($M$4:M10)/COUNT($M$4:M10)/1000*2","v":0.17685714285714285},{"$f":"+IFERROR(INDIRECT(CONCATENATE(\"'\",J10,\"'!\",(ADDRESS((COUNTIF($J$3:J10,IF(B10<>0,J10)))+4,18)))),\"\")","v":1},3.9119999999999999,{"$f":"+IFERROR(INDIRECT(CONCATENATE(\"'\",J10,\"'!\",(ADDRESS((COUNTIF($J$3:J10,IF(B10<>0,J10)))+4,20)))),\"\")","v":-1},-0.24399999999999999,{"$f":"+IFERROR(INDIRECT(CONCATENATE(\"'\",J10,\"'!\",(ADDRESS((COUNTIF($J$3:J10,IF(B10<>0,J10)))+4,22)))),\"\")","v":-1},-1.647,{"$f":"+IFERROR(INDIRECT(CONCATENATE(\"'\",J10,\"'!\",(ADDRESS((COUNTIF($J$3:J10,IF(B10<>0,J10)))+4,24)))),\"\")","v":1},-1.712,{"$f":"+IFERROR(INDIRECT(CONCATENATE(\"'\",J10,\"'!\",(ADDRESS((COUNTIF($J$3:J10,IF(B10<>0,J10)))+4,26)))),\"\")","v":-1},-0.28999999999999998,7,{"$f":"+SUM(COUNTIF($Z$3:Z10,1),COUNTIF($Z$3:Z10,-1))","v":7},{"$f":"+SUM($M$4:M10)","v":619},88.428571428571431,{"$f":"+SUM(COUNTIF($Z$3:Z10,1))","v":5},{"$f":"+SUM(COUNTIF($Z$3:Z10,-1))","v":2},3,{"$f":"AN10*(HARMEAN((IF(SUM(COUNTIF($Z$3:Z10,1),COUNTIF($Z$3:Z10,-1))=0,1,SUM(COUNTIF($Z$3:Z10,1),COUNTIF($Z$3:Z10,-1)))),(IF(SUM(COUNTIF($AC$3:AC10,1),COUNTIF($AC$3:AC10,-1))=0,1,SUM(COUNTIF($AC$3:AC10,1),COUNTIF($AC$3:AC10,-1)))),(IF(SUM(COUNTIF($AE$3:AE10,1),COUNTIF($AE$3:AE10,-1))=0,1,SUM(COUNTIF($AE$3:AE10,1),COUNTIF($AE$3:AE10,-1)))),(IF(SUM(COUNTIF($AG$3:AG10,1),COUNTIF($AG$3:AG10,-1))=0,1,SUM(COUNTIF($AG$3:AG10,1),COUNTIF($AG$3:AG10,-1)))),(IF(SUM(COUNTIF($AI$3:AI10,1),COUNTIF($AI$3:AI10,-1))=0,1,SUM(COUNTIF($AI$3:AI10,1),COUNTIF($AI$3:AI10,-1)))),(IF(SUM(COUNTIF($AK$3:AK10,1),COUNTIF($AK$3:AK10,-1))=0,1,SUM(COUNTIF($AK$3:AK10,1),COUNTIF($AK$3:AK10,-1)))))/1000)","v":4.9000000000000016E-2},2.5329999999999999,null,{"$f":"+SUM(COUNTIF($AC$3:AC10,1),COUNTIF($AC$3:AC10,-1))","v":7},{"$f":"+SUM($O$4:O10)","v":588},84,{"$f":"+SUM(COUNTIF($AC$3:AC10,1))","v":6},{"$f":"+SUM(COUNTIF($AC$3:AC10,-1))","v":1},5,{"$f":"AW10*(HARMEAN((IF(SUM(COUNTIF($Z$3:Z10,1),COUNTIF($Z$3:Z10,-1))=0,1,SUM(COUNTIF($Z$3:Z10,1),COUNTIF($Z$3:Z10,-1)))),(IF(SUM(COUNTIF($AC$3:AC10,1),COUNTIF($AC$3:AC10,-1))=0,1,SUM(COUNTIF($AC$3:AC10,1),COUNTIF($AC$3:AC10,-1)))),(IF(SUM(COUNTIF($AE$3:AE10,1),COUNTIF($AE$3:AE10,-1))=0,1,SUM(COUNTIF($AE$3:AE10,1),COUNTIF($AE$3:AE10,-1)))),(IF(SUM(COUNTIF($AG$3:AG10,1),COUNTIF($AG$3:AG10,-1))=0,1,SUM(COUNTIF($AG$3:AG10,1),COUNTIF($AG$3:AG10,-1)))),(IF(SUM(COUNTIF($AI$3:AI10,1),COUNTIF($AI$3:AI10,-1))=0,1,SUM(COUNTIF($AI$3:AI10,1),COUNTIF($AI$3:AI10,-1)))),(IF(SUM(COUNTIF($AK$3:AK10,1),COUNTIF($AK$3:AK10,-1))=0,1,SUM(COUNTIF($AK$3:AK10,1),COUNTIF($AK$3:AK10,-1)))))/1000)","v":4.9000000000000016E-2},3.9119999999999999,null,{"$f":"+SUM(COUNTIF($AE$3:AE10,1),COUNTIF(AE$3:$AE10,-1))","v":7},{"$f":"+SUM($Q$4:Q10)","v":652},93.142857142857139,{"$f":"+SUM(COUNTIF($AE$3:AE10,1))","v":3},{"$f":"+SUM(COUNTIF($AE$3:AE10,-1))","v":4},-1,{"$f":"BF10*(HARMEAN((IF(SUM(COUNTIF($Z$3:Z10,1),COUNTIF($Z$3:Z10,-1))=0,1,SUM(COUNTIF($Z$3:Z10,1),COUNTIF($Z$3:Z10,-1)))),(IF(SUM(COUNTIF($AC$3:AC10,1),COUNTIF($AC$3:AC10,-1))=0,1,SUM(COUNTIF($AC$3:AC10,1),COUNTIF($AC$3:AC10,-1)))),(IF(SUM(COUNTIF($AE$3:AE10,1),COUNTIF($AE$3:AE10,-1))=0,1,SUM(COUNTIF($AE$3:AE10,1),COUNTIF($AE$3:AE10,-1)))),(IF(SUM(COUNTIF($AG$3:AG10,1),COUNTIF($AG$3:AG10,-1))=0,1,SUM(COUNTIF($AG$3:AG10,1),COUNTIF($AG$3:AG10,-1)))),(IF(SUM(COUNTIF($AI$3:AI10,1),COUNTIF($AI$3:AI10,-1))=0,1,SUM(COUNTIF($AI$3:AI10,1),COUNTIF($AI$3:AI10,-1)))),(IF(SUM(COUNTIF($AK$3:AK10,1),COUNTIF($AK$3:AK10,-1))=0,1,SUM(COUNTIF($AK$3:AK10,1),COUNTIF($AK$3:AK10,-1)))))/1000)","v":4.9000000000000016E-2},-0.24399999999999999,null,{"$f":"+SUM(COUNTIF($AG$3:AG10,1),COUNTIF($AG$3:AG10,-1))","v":7},{"$f":"+SUM($S$4:S10)","v":647},92.428571428571431,{"$f":"+SUM(COUNTIF($AG$3:AG10,1))","v":2},{"$f":"+SUM(COUNTIF($AG$3:AG10,-1))","v":5},-3,{"$f":"BO10*(HARMEAN((IF(SUM(COUNTIF($Z$3:Z10,1),COUNTIF($Z$3:Z10,-1))=0,1,SUM(COUNTIF($Z$3:Z10,1),COUNTIF($Z$3:Z10,-1)))),(IF(SUM(COUNTIF($AC$3:AC10,1),COUNTIF($AC$3:AC10,-1))=0,1,SUM(COUNTIF($AC$3:AC10,1),COUNTIF($AC$3:AC10,-1)))),(IF(SUM(COUNTIF($AE$3:AE10,1),COUNTIF($AE$3:AE10,-1))=0,1,SUM(COUNTIF($AE$3:AE10,1),COUNTIF($AE$3:AE10,-1)))),(IF(SUM(COUNTIF($AG$3:AG10,1),COUNTIF($AG$3:AG10,-1))=0,1,SUM(COUNTIF($AG$3:AG10,1),COUNTIF($AG$3:AG10,-1)))),(IF(SUM(COUNTIF($AI$3:AI10,1),COUNTIF($AI$3:AI10,-1))=0,1,SUM(COUNTIF($AI$3:AI10,1),COUNTIF($AI$3:AI10,-1)))),(IF(SUM(COUNTIF($AK$3:AK10,1),COUNTIF($AK$3:AK10,-1))=0,1,SUM(COUNTIF($AK$3:AK10,1),COUNTIF($AK$3:AK10,-1)))))/1000)","v":4.9000000000000016E-2},-1.647,null,{"$f":"+SUM(COUNTIF($AI$3:AI10,1),COUNTIF($AI$3:AI10,-1))","v":7},{"$f":"+SUM($U$4:U10)","v":554},79.142857142857139,{"$f":"+SUM(COUNTIF($AI$3:AI10,1))","v":2},{"$f":"+SUM(COUNTIF($AI$3:AI10,-1))","v":5},-3,{"$f":"+BX10*(HARMEAN((IF(SUM(COUNTIF($Z$3:Z10,1),COUNTIF($Z$3:Z10,-1))=0,1,SUM(COUNTIF($Z$3:Z10,1),COUNTIF($Z$3:Z10,-1)))),(IF(SUM(COUNTIF($AC$3:AC10,1),COUNTIF($AC$3:AC10,-1))=0,1,SUM(COUNTIF($AC$3:AC10,1),COUNTIF($AC$3:AC10,-1)))),(IF(SUM(COUNTIF($AE$3:AE10,1),COUNTIF($AE$3:AE10,-1))=0,1,SUM(COUNTIF($AE$3:AE10,1),COUNTIF($AE$3:AE10,-1)))),(IF(SUM(COUNTIF($AG$3:AG10,1),COUNTIF($AG$3:AG10,-1))=0,1,SUM(COUNTIF($AG$3:AG10,1),COUNTIF($AG$3:AG10,-1)))),(IF(SUM(COUNTIF($AI$3:AI10,1),COUNTIF($AI$3:AI10,-1))=0,1,SUM(COUNTIF($AI$3:AI10,1),COUNTIF($AI$3:AI10,-1)))),(IF(SUM(COUNTIF($AK$3:AK10,1),COUNTIF($AK$3:AK10,-1))=0,1,SUM(COUNTIF($AK$3:AK10,1),COUNTIF($AK$3:AK10,-1)))))/1000)","v":4.9000000000000016E-2},-1.712,null,{"$f":"+SUM(COUNTIF($AK$3:AK10,1),COUNTIF($AK$3:AK10,-1))","v":7},{"$f":"+SUM($W$4:W10)","v":586},83.714285714285708,{"$f":"+SUM(COUNTIF($AK$3:AK10,1))","v":3},{"$f":"+SUM(COUNTIF($AK$3:AK10,-1))","v":4},-1,{"$f":"+CG10*(HARMEAN((IF(SUM(COUNTIF($Z$3:Z10,1),COUNTIF($Z$3:Z10,-1))=0,1,SUM(COUNTIF($Z$3:Z10,1),COUNTIF($Z$3:Z10,-1)))),(IF(SUM(COUNTIF($AC$3:AC10,1),COUNTIF($AC$3:AC10,-1))=0,1,SUM(COUNTIF($AC$3:AC10,1),COUNTIF($AC$3:AC10,-1)))),(IF(SUM(COUNTIF($AE$3:AE10,1),COUNTIF($AE$3:AE10,-1))=0,1,SUM(COUNTIF($AE$3:AE10,1),COUNTIF($AE$3:AE10,-1)))),(IF(SUM(COUNTIF($AG$3:AG10,1),COUNTIF($AG$3:AG10,-1))=0,1,SUM(COUNTIF($AG$3:AG10,1),COUNTIF($AG$3:AG10,-1)))),(IF(SUM(COUNTIF($AI$3:AI10,1),COUNTIF($AI$3:AI10,-1))=0,1,SUM(COUNTIF($AI$3:AI10,1),COUNTIF($AI$3:AI10,-1)))),(IF(SUM(COUNTIF($AK$3:AK10,1),COUNTIF($AK$3:AK10,-1))=0,1,SUM(COUNTIF($AK$3:AK10,1),COUNTIF($AK$3:AK10,-1)))))/1000)","v":4.9000000000000016E-2},-0.28999999999999998]
[8,"Yuri",null,{"$f":"+IFERROR(INDEX('Auswertung AoE II'!$AE:$AE,MATCH(A11,'Auswertung AoE II'!$AD:$AD,0)),\"\")","v":""},{"$f":"+IFERROR(INDEX('Auswertung AoE III'!$AE:$AE,MATCH(A11,'Auswertung AoE III'!$AD:$AD,0)),\"\")","v":""},{"$f":"+IFERROR(INDEX('Auswertung AoM'!$AE:$AE,MATCH(A11,'Auswertung AoM'!$AD:$AD,0)),\"\")","v":""},{"$f":"+IFERROR(INDEX('Auswertung RA'!$AE:$AE,MATCH(A11,'Auswertung RA'!$AD:$AD,0)),\"\")","v":""},{"$f":"+IFERROR(INDEX('Auswertung Yuri'!$AE:$AE,MATCH(A11,'Auswertung Yuri'!$AD:$AD,0)),\"\")","v":"Yuri"},{"$f":"+IFERROR(INDEX('Auswertung Generals'!$AE:$AE,MATCH(A11,'Auswertung Generals'!$AD:$AD,0)),\"\")","v":""},"Auswertung Yuri",null,null,{"$f":"+IF(ISERROR(+INDIRECT(CONCATENATE(\"'\",J11,\"'!\",(ADDRESS((COUNTIF($J$3:J11,IF(B11<>0,CONCATENATE(\"Auswertung \",B11,\"\"))))+2,2)))))=FALSE,+INDIRECT(CONCATENATE(\"'\",J11,\"'!\",(ADDRESS((COUNTIF($J$3:J11,IF(B11<>0,CONCATENATE(\"Auswertung \",B11,\"\"))))+4,2)))),\"\")","v":70},{"$f":"IF(ISERROR(+INDIRECT(CONCATENATE(\"'\",J11,\"'!\",(ADDRESS((COUNTIF($J$3:J11,IF(B11<>0,CONCATENATE(\"Auswertung \",B11,\"\"))))+2,2+1)))))=FALSE,+INDIRECT(CONCATENATE(\"'\",J11,\"'!\",(ADDRESS((COUNTIF($J$3:J11,IF(B11<>0,CONCATENATE(\"Auswertung \",B11,\"\"))))+4,2+1)))),\"\")","v":"Deu"},{"$f":"+IF(ISERROR(+INDIRECT(CONCATENATE(\"'\",J11,\"'!\",(ADDRESS((COUNTIF($J$3:J11,IF(B11<>0,CONCATENATE(\"Auswertung \",B11,\"\"))))+2,4)))))=FALSE,+INDIRECT(CONCATENATE(\"'\",J11,\"'!\",(ADDRESS((COUNTIF($J$3:J11,IF(B11<>0,CONCATENATE(\"Auswertung \",B11,\"\"))))+4,4)))),\"\")","v":70},{"$f":"+IF(ISERROR(+INDIRECT(CONCATENATE(\"'\",J11,\"'!\",(ADDRESS((COUNTIF($J$3:J11,IF(B11<>0,CONCATENATE(\"Auswertung \",B11,\"\"))))+2,5)))))=FALSE,+INDIRECT(CONCATENATE(\"'\",J11,\"'!\",(ADDRESS((COUNTIF($J$3:J11,IF(B11<>0,CONCATENATE(\"Auswertung \",B11,\"\"))))+4,5)))),\"\")","v":"Lyb"},{"$f":"+IF(ISERROR(+INDIRECT(CONCATENATE(\"'\",J11,\"'!\",(ADDRESS((COUNTIF($J$3:J11,IF(B11<>0,CONCATENATE(\"Auswertung \",B11,\"\"))))+2,6)))))=FALSE,+INDIRECT(CONCATENATE(\"'\",J11,\"'!\",(ADDRESS((COUNTIF($J$3:J11,IF(B11<>0,CONCATENATE(\"Auswertung \",B11,\"\"))))+4,6)))),\"\")","v":58},{"$f":"+IF(ISERROR(+INDIRECT(CONCATENATE(\"'\",J11,\"'!\",(ADDRESS((COUNTIF($J$3:J11,IF(B11<>0,CONCATENATE(\"Auswertung \",B11,\"\"))))+2,7)))))=FALSE,+INDIRECT(CONCATENATE(\"'\",J11,\"'!\",(ADDRESS((COUNTIF($J$3:J11,IF(B11<>0,CONCATENATE(\"Auswertung \",B11,\"\"))))+4,7)))),\"\")","v":"Deu"},{"$f":"+IF(ISERROR(+INDIRECT(CONCATENATE(\"'\",J11,\"'!\",(ADDRESS((COUNTIF($J$3:J11,IF(B11<>0,CONCATENATE(\"Auswertung \",B11,\"\"))))+2,10)))))=FALSE,+INDIRECT(CONCATENATE(\"'\",J11,\"'!\",(ADDRESS((COUNTIF($J$3:J11,IF(B11<>0,CONCATENATE(\"Auswertung \",B11,\"\"))))+4,8)))),\"\")","v":70},{"$f":"+IF(ISERROR(+INDIRECT(CONCATENATE(\"'\",J11,\"'!\",(ADDRESS((COUNTIF($J$3:J11,IF(B11<>0,CONCATENATE(\"Auswertung \",B11,\"\"))))+2,11)))))=FALSE,+INDIRECT(CONCATENATE(\"'\",J11,\"'!\",(ADDRESS((COUNTIF($J$3:J11,IF(B11<>0,CONCATENATE(\"Auswertung \",B11,\"\"))))+4,9)))),\"\")","v":"Lyb"},{"$f":"+IF(ISERROR(+INDIRECT(CONCATENATE(\"'\",J11,\"'!\",(ADDRESS((COUNTIF($J$3:J11,IF(B11<>0,CONCATENATE(\"Auswertung \",B11,\"\"))))+2,10)))))=FALSE,+INDIRECT(CONCATENATE(\"'\",J11,\"'!\",(ADDRESS((COUNTIF($J$3:J11,IF(B11<>0,CONCATENATE(\"Auswertung \",B11,\"\"))))+4,10)))),\"\")","v":47},{"$f":"+IF(ISERROR(+INDIRECT(CONCATENATE(\"'\",J11,\"'!\",(ADDRESS((COUNTIF($J$3:J11,IF(B11<>0,CONCATENATE(\"Auswertung \",B11,\"\"))))+2,11)))))=FALSE,+INDIRECT(CONCATENATE(\"'\",J11,\"'!\",(ADDRESS((COUNTIF($J$3:J11,IF(B11<>0,CONCATENATE(\"Auswertung \",B11,\"\"))))+4,11)))),\"\")","v":"GB"},{"$f":"+IF(ISERROR(+INDIRECT(CONCATENATE(\"'\",J11,\"'!\",(ADDRESS((COUNTIF($J$3:J11,IF(D11<>0,CONCATENATE(\"Auswertung \",D11,\"\"))))+2,12)))))=FALSE,+INDIRECT(CONCATENATE(\"'\",J11,\"'!\",(ADDRESS((COUNTIF($J$3:J11,IF(D11<>0,CONCATENATE(\"Auswertung \",B11,\"\"))))+4,12)))),\"\")","v":89},{"$f":"+IF(ISERROR(+INDIRECT(CONCATENATE(\"'\",J11,\"'!\",(ADDRESS((COUNTIF($J$3:J11,IF(D11<>0,CONCATENATE(\"Auswertung \",D11,\"\"))))+2,13)))))=FALSE,+INDIRECT(CONCATENATE(\"'\",J11,\"'!\",(ADDRESS((COUNTIF($J$3:J11,IF(D11<>0,CONCATENATE(\"Auswertung \",B11,\"\"))))+4,13)))),\"\")","v":"GB"},null,{"$f":"+IFERROR(INDIRECT(CONCATENATE(\"'\",J11,\"'!\",(ADDRESS((COUNTIF($J$3:J11,IF(B11<>0,J11)))+4,16)))),\"\")","v":-1},2.1509999999999998,{"$f":"+SUM($M$4:M11)/COUNT($M$4:M11)/1000*2","v":0.17224999999999999},{"$f":"+IFERROR(INDIRECT(CONCATENATE(\"'\",J11,\"'!\",(ADDRESS((COUNTIF($J$3:J11,IF(B11<>0,J11)))+4,18)))),\"\")","v":-1},3.726,{"$f":"+IFERROR(INDIRECT(CONCATENATE(\"'\",J11,\"'!\",(ADDRESS((COUNTIF($J$3:J11,IF(B11<>0,J11)))+4,20)))),\"\")","v":1},0.56799999999999995,{"$f":"+IFERROR(INDIRECT(CONCATENATE(\"'\",J11,\"'!\",(ADDRESS((COUNTIF($J$3:J11,IF(B11<>0,J11)))+4,22)))),\"\")","v":1},-1.026,{"$f":"+IFERROR(INDIRECT(CONCATENATE(\"'\",J11,\"'!\",(ADDRESS((COUNTIF($J$3:J11,IF(B11<>0,J11)))+4,24)))),\"\")","v":-1},-2.7189999999999999,{"$f":"+IFERROR(INDIRECT(CONCATENATE(\"'\",J11,\"'!\",(ADDRESS((COUNTIF($J$3:J11,IF(B11<>0,J11)))+4,26)))),\"\")","v":1},0.54,8,{"$f":"+SUM(COUNTIF($Z$3:Z11,1),COUNTIF($Z$3:Z11,-1))","v":8},{"$f":"+SUM($M$4:M11)","v":689},86.125,{"$f":"+SUM(COUNTIF($Z$3:Z11,1))","v":5},{"$f":"+SUM(COUNTIF($Z$3:Z11,-1))","v":3},2,{"$f":"AN11*(HARMEAN((IF(SUM(COUNTIF($Z$3:Z11,1),COUNTIF($Z$3:Z11,-1))=0,1,SUM(COUNTIF($Z$3:Z11,1),COUNTIF($Z$3:Z11,-1)))),(IF(SUM(COUNTIF($AC$3:AC11,1),COUNTIF($AC$3:AC11,-1))=0,1,SUM(COUNTIF($AC$3:AC11,1),COUNTIF($AC$3:AC11,-1)))),(IF(SUM(COUNTIF($AE$3:AE11,1),COUNTIF($AE$3:AE11,-1))=0,1,SUM(COUNTIF($AE$3:AE11,1),COUNTIF($AE$3:AE11,-1)))),(IF(SUM(COUNTIF($AG$3:AG11,1),COUNTIF($AG$3:AG11,-1))=0,1,SUM(COUNTIF($AG$3:AG11,1),COUNTIF($AG$3:AG11,-1)))),(IF(SUM(COUNTIF($AI$3:AI11,1),COUNTIF($AI$3:AI11,-1))=0,1,SUM(COUNTIF($AI$3:AI11,1),COUNTIF($AI$3:AI11,-1)))),(IF(SUM(COUNTIF($AK$3:AK11,1),COUNTIF($AK$3:AK11,-1))=0,1,SUM(COUNTIF($AK$3:AK11,1),COUNTIF($AK$3:AK11,-1)))))/1000)","v":6.4000000000000001E-2},2.1509999999999998,null,{"$f":"+SUM(COUNTIF($AC$3:AC11,1),COUNTIF($AC$3:AC11,-1))","v":8},{"$f":"+SUM($O$4:O11)","v":658},82.25,{"$f":"+SUM(COUNTIF($AC$3:AC11,1))","v":6},{"$f":"+SUM(COUNTIF($AC$3:AC11,-1))","v":2},4,{"$f":"AW11*(HARMEAN((IF(SUM(COUNTIF($Z$3:Z11,1),COUNTIF($Z$3:Z11,-1))=0,1,SUM(COUNTIF($Z$3:Z11,1),COUNTIF($Z$3:Z11,-1)))),(IF(SUM(COUNTIF($AC$3:AC11,1),COUNTIF($AC$3:AC11,-1))=0,1,SUM(COUNTIF($AC$3:AC11,1),COUNTIF($AC$3:AC11,-1)))),(IF(SUM(COUNTIF($AE$3:AE11,1),COUNTIF($AE$3:AE11,-1))=0,1,SUM(COUNTIF($AE$3:AE11,1),COUNTIF($AE$3:AE11,-1)))),(IF(SUM(COUNTIF($AG$3:AG11,1),COUNTIF($AG$3:AG11,-1))=0,1,SUM(COUNTIF($AG$3:AG11,1),COUNTIF($AG$3:AG11,-1)))),(IF(SUM(COUNTIF($AI$3:AI11,1),COUNTIF($AI$3:AI11,-1))=0,1,SUM(COUNTIF($AI$3:AI11,1),COUNTIF($AI$3:AI11,-1)))),(IF(SUM(COUNTIF($AK$3:AK11,1),COUNTIF($AK$3:AK11,-1))=0,1,SUM(COUNTIF($AK$3:AK11,1),COUNTIF($AK$3:AK11,-1)))))/1000)","v":6.4000000000000001E-2},3.726,null,{"$f":"+SUM(COUNTIF($AE$3:AE11,1),COUNTIF(AE$3:$AE11,-1))","v":8},{"$f":"+SUM($Q$4:Q11)","v":710},88.75,{"$f":"+SUM(COUNTIF($AE$3:AE11,1))","v":4},{"$f":"+SUM(COUNTIF($AE$3:AE11,-1))","v":4},0,{"$f":"BF11*(HARMEAN((IF(SUM(COUNTIF($Z$3:Z11,1),COUNTIF($Z$3:Z11,-1))=0,1,SUM(COUNTIF($Z$3:Z11,1),COUNTIF($Z$3:Z11,-1)))),(IF(SUM(COUNTIF($AC$3:AC11,1),COUNTIF($AC$3:AC11,-1))=0,1,SUM(COUNTIF($AC$3:AC11,1),COUNTIF($AC$3:AC11,-1)))),(IF(SUM(COUNTIF($AE$3:AE11,1),COUNTIF($AE$3:AE11,-1))=0,1,SUM(COUNTIF($AE$3:AE11,1),COUNTIF($AE$3:AE11,-1)))),(IF(SUM(COUNTIF($AG$3:AG11,1),COUNTIF($AG$3:AG11,-1))=0,1,SUM(COUNTIF($AG$3:AG11,1),COUNTIF($AG$3:AG11,-1)))),(IF(SUM(COUNTIF($AI$3:AI11,1),COUNTIF($AI$3:AI11,-1))=0,1,SUM(COUNTIF($AI$3:AI11,1),COUNTIF($AI$3:AI11,-1)))),(IF(SUM(COUNTIF($AK$3:AK11,1),COUNTIF($AK$3:AK11,-1))=0,1,SUM(COUNTIF($AK$3:AK11,1),COUNTIF($AK$3:AK11,-1)))))/1000)","v":6.4000000000000001E-2},0.56799999999999995,null,{"$f":"+SUM(COUNTIF($AG$3:AG11,1),COUNTIF($AG$3:AG11,-1))","v":8},{"$f":"+SUM($S$4:S11)","v":717},89.625,{"$f":"+SUM(COUNTIF($AG$3:AG11,1))","v":3},{"$f":"+SUM(COUNTIF($AG$3:AG11,-1))","v":5},-2,{"$f":"BO11*(HARMEAN((IF(SUM(COUNTIF($Z$3:Z11,1),COUNTIF($Z$3:Z11,-1))=0,1,SUM(COUNTIF($Z$3:Z11,1),COUNTIF($Z$3:Z11,-1)))),(IF(SUM(COUNTIF($AC$3:AC11,1),COUNTIF($AC$3:AC11,-1))=0,1,SUM(COUNTIF($AC$3:AC11,1),COUNTIF($AC$3:AC11,-1)))),(IF(SUM(COUNTIF($AE$3:AE11,1),COUNTIF($AE$3:AE11,-1))=0,1,SUM(COUNTIF($AE$3:AE11,1),COUNTIF($AE$3:AE11,-1)))),(IF(SUM(COUNTIF($AG$3:AG11,1),COUNTIF($AG$3:AG11,-1))=0,1,SUM(COUNTIF($AG$3:AG11,1),COUNTIF($AG$3:AG11,-1)))),(IF(SUM(COUNTIF($AI$3:AI11,1),COUNTIF($AI$3:AI11,-1))=0,1,SUM(COUNTIF($AI$3:AI11,1),COUNTIF($AI$3:AI11,-1)))),(IF(SUM(COUNTIF($AK$3:AK11,1),COUNTIF($AK$3:AK11,-1))=0,1,SUM(COUNTIF($AK$3:AK11,1),COUNTIF($AK$3:AK11,-1)))))/1000)","v":6.4000000000000001E-2},-1.026,null,{"$f":"+SUM(COUNTIF($AI$3:AI11,1),COUNTIF($AI$3:AI11,-1))","v":8},{"$f":"+SUM($U$4:U11)","v":601},75.125,{"$f":"+SUM(COUNTIF($AI$3:AI11,1))","v":2},{"$f":"+SUM(COUNTIF($AI$3:AI11,-1))","v":6},-4,{"$f":"+BX11*(HARMEAN((IF(SUM(COUNTIF($Z$3:Z11,1),COUNTIF($Z$3:Z11,-1))=0,1,SUM(COUNTIF($Z$3:Z11,1),COUNTIF($Z$3:Z11,-1)))),(IF(SUM(COUNTIF($AC$3:AC11,1),COUNTIF($AC$3:AC11,-1))=0,1,SUM(COUNTIF($AC$3:AC11,1),COUNTIF($AC$3:AC11,-1)))),(IF(SUM(COUNTIF($AE$3:AE11,1),COUNTIF($AE$3:AE11,-1))=0,1,SUM(COUNTIF($AE$3:AE11,1),COUNTIF($AE$3:AE11,-1)))),(IF(SUM(COUNTIF($AG$3:AG11,1),COUNTIF($AG$3:AG11,-1))=0,1,SUM(COUNTIF($AG$3:AG11,1),COUNTIF($AG$3:AG11,-1)))),(IF(SUM(COUNTIF($AI$3:AI11,1),COUNTIF($AI$3:AI11,-1))=0,1,SUM(COUNTIF($AI$3:AI11,1),COUNTIF($AI$3:AI11,-1)))),(IF(SUM(COUNTIF($AK$3:AK11,1),COUNTIF($AK$3:AK11,-1))=0,1,SUM(COUNTIF($AK$3:AK11,1),COUNTIF($AK$3:AK11,-1)))))/1000)","v":6.4000000000000001E-2},-2.7189999999999999,null,{"$f":"+SUM(COUNTIF($AK$3:AK11,1),COUNTIF($AK$3:AK11,-1))","v":8},{"$f":"+SUM($W$4:W11)","v":675},84.375,{"$f":"+SUM(COUNTIF($AK$3:AK11,1))","v":4},{"$f":"+SUM(COUNTIF($AK$3:AK11,-1))","v":4},0,{"$f":"+CG11*(HARMEAN((IF(SUM(COUNTIF($Z$3:Z11,1),COUNTIF($Z$3:Z11,-1))=0,1,SUM(COUNTIF($Z$3:Z11,1),COUNTIF($Z$3:Z11,-1)))),(IF(SUM(COUNTIF($AC$3:AC11,1),COUNTIF($AC$3:AC11,-1))=0,1,SUM(COUNTIF($AC$3:AC11,1),COUNTIF($AC$3:AC11,-1)))),(IF(SUM(COUNTIF($AE$3:AE11,1),COUNTIF($AE$3:AE11,-1))=0,1,SUM(COUNTIF($AE$3:AE11,1),COUNTIF($AE$3:AE11,-1)))),(IF(SUM(COUNTIF($AG$3:AG11,1),COUNTIF($AG$3:AG11,-1))=0,1,SUM(COUNTIF($AG$3:AG11,1),COUNTIF($AG$3:AG11,-1)))),(IF(SUM(COUNTIF($AI$3:AI11,1),COUNTIF($AI$3:AI11,-1))=0,1,SUM(COUNTIF($AI$3:AI11,1),COUNTIF($AI$3:AI11,-1)))),(IF(SUM(COUNTIF($AK$3:AK11,1),COUNTIF($AK$3:AK11,-1))=0,1,SUM(COUNTIF($AK$3:AK11,1),COUNTIF($AK$3:AK11,-1)))))/1000)","v":6.4000000000000001E-2},0.54]
[9,"AoE II",null,{"$f":"+IFERROR(INDEX('Auswertung AoE II'!$AE:$AE,MATCH(A12,'Auswertung AoE II'!$AD:$AD,0)),\"\")","v":"AoE II"},{"$f":"+IFERROR(INDEX('Auswertung AoE III'!$AE:$AE,MATCH(A12,'Auswertung AoE III'!$AD:$AD,0)),\"\")","v":""},{"$f":"+IFERROR(INDEX('Auswertung AoM'!$AE:$AE,MATCH(A12,'Auswertung AoM'!$AD:$AD,0)),\"\")","v":""},{"$f":"+IFERROR(INDEX('Auswertung RA'!$AE:$AE,MATCH(A12,'Auswertung RA'!$AD:$AD,0)),\"\")","v":""},{"$f":"+IFERROR(INDEX('Auswertung Yuri'!$AE:$AE,MATCH(A12,'Auswertung Yuri'!$AD:$AD,0)),\"\")","v":""},{"$f":"+IFERROR(INDEX('Auswertung Generals'!$AE:$AE,MATCH(A12,'Auswertung Generals'!$AD:$AD,0)),\"\")","v":""},"Auswertung AoE II",null,null,{"$f":"+IF(ISERROR(+INDIRECT(CONCATENATE(\"'\",J12,\"'!\",(ADDRESS((COUNTIF($J$3:J12,IF(B12<>0,CONCATENATE(\"Auswertung \",B12,\"\"))))+2,2)))))=FALSE,+INDIRECT(CONCATENATE(\"'\",J12,\"'!\",(ADDRESS((COUNTIF($J$3:J12,IF(B12<>0,CONCATENATE(\"Auswertung \",B12,\"\"))))+4,2)))),\"\")","v":110},{"$f":"IF(ISERROR(+INDIRECT(CONCATENATE(\"'\",J12,\"'!\",(ADDRESS((COUNTIF($J$3:J12,IF(B12<>0,CONCATENATE(\"Auswertung \",B12,\"\"))))+2,2+1)))))=FALSE,+INDIRECT(CONCATENATE(\"'\",J12,\"'!\",(ADDRESS((COUNTIF($J$3:J12,IF(B12<>0,CONCATENATE(\"Auswertung \",B12,\"\"))))+4,2+1)))),\"\")","v":"Hun"},{"$f":"+IF(ISERROR(+INDIRECT(CONCATENATE(\"'\",J12,\"'!\",(ADDRESS((COUNTIF($J$3:J12,IF(B12<>0,CONCATENATE(\"Auswertung \",B12,\"\"))))+2,4)))))=FALSE,+INDIRECT(CONCATENATE(\"'\",J12,\"'!\",(ADDRESS((COUNTIF($J$3:J12,IF(B12<>0,CONCATENATE(\"Auswertung \",B12,\"\"))))+4,4)))),\"\")","v":228},{"$f":"+IF(ISERROR(+INDIRECT(CONCATENATE(\"'\",J12,\"'!\",(ADDRESS((COUNTIF($J$3:J12,IF(B12<>0,CONCATENATE(\"Auswertung \",B12,\"\"))))+2,5)))))=FALSE,+INDIRECT(CONCATENATE(\"'\",J12,\"'!\",(ADDRESS((COUNTIF($J$3:J12,IF(B12<>0,CONCATENATE(\"Auswertung \",B12,\"\"))))+4,5)))),\"\")","v":"Hun"},{"$f":"+IF(ISERROR(+INDIRECT(CONCATENATE(\"'\",J12,\"'!\",(ADDRESS((COUNTIF($J$3:J12,IF(B12<>0,CONCATENATE(\"Auswertung \",B12,\"\"))))+2,6)))))=FALSE,+INDIRECT(CONCATENATE(\"'\",J12,\"'!\",(ADDRESS((COUNTIF($J$3:J12,IF(B12<>0,CONCATENATE(\"Auswertung \",B12,\"\"))))+4,6)))),\"\")","v":325},{"$f":"+IF(ISERROR(+INDIRECT(CONCATENATE(\"'\",J12,\"'!\",(ADDRESS((COUNTIF($J$3:J12,IF(B12<>0,CONCATENATE(\"Auswertung \",B12,\"\"))))+2,7)))))=FALSE,+INDIRECT(CONCATENATE(\"'\",J12,\"'!\",(ADDRESS((COUNTIF($J$3:J12,IF(B12<>0,CONCATENATE(\"Auswertung \",B12,\"\"))))+4,7)))),\"\")","v":"Inka"},{"$f":"+IF(ISERROR(+INDIRECT(CONCATENATE(\"'\",J12,\"'!\",(ADDRESS((COUNTIF($J$3:J12,IF(B12<>0,CONCATENATE(\"Auswertung \",B12,\"\"))))+2,10)))))=FALSE,+INDIRECT(CONCATENATE(\"'\",J12,\"'!\",(ADDRESS((COUNTIF($J$3:J12,IF(B12<>0,CONCATENATE(\"Auswertung \",B12,\"\"))))+4,8)))),\"\")","v":337},{"$f":"+IF(ISERROR(+INDIRECT(CONCATENATE(\"'\",J12,\"'!\",(ADDRESS((COUNTIF($J$3:J12,IF(B12<>0,CONCATENATE(\"Auswertung \",B12,\"\"))))+2,11)))))=FALSE,+INDIRECT(CONCATENATE(\"'\",J12,\"'!\",(ADDRESS((COUNTIF($J$3:J12,IF(B12<>0,CONCATENATE(\"Auswertung \",B12,\"\"))))+4,9)))),\"\")","v":"Inka"},{"$f":"+IF(ISERROR(+INDIRECT(CONCATENATE(\"'\",J12,\"'!\",(ADDRESS((COUNTIF($J$3:J12,IF(B12<>0,CONCATENATE(\"Auswertung \",B12,\"\"))))+2,10)))))=FALSE,+INDIRECT(CONCATENATE(\"'\",J12,\"'!\",(ADDRESS((COUNTIF($J$3:J12,IF(B12<>0,CONCATENATE(\"Auswertung \",B12,\"\"))))+4,10)))),\"\")","v":298},{"$f":"+IF(ISERROR(+INDIRECT(CONCATENATE(\"'\",J12,\"'!\",(ADDRESS((COUNTIF($J$3:J12,IF(B12<>0,CONCATENATE(\"Auswertung \",B12,\"\"))))+2,11)))))=FALSE,+INDIRECT(CONCATENATE(\"'\",J12,\"'!\",(ADDRESS((COUNTIF($J$3:J12,IF(B12<>0,CONCATENATE(\"Auswertung \",B12,\"\"))))+4,11)))),\"\")","v":"Sici"},{"$f":"+IF(ISERROR(+INDIRECT(CONCATENATE(\"'\",J12,\"'!\",(ADDRESS((COUNTIF($J$3:J12,IF(D12<>0,CONCATENATE(\"Auswertung \",D12,\"\"))))+2,12)))))=FALSE,+INDIRECT(CONCATENATE(\"'\",J12,\"'!\",(ADDRESS((COUNTIF($J$3:J12,IF(D12<>0,CONCATENATE(\"Auswertung \",B12,\"\"))))+4,12)))),\"\")","v":204},{"$f":"+IF(ISERROR(+INDIRECT(CONCATENATE(\"'\",J12,\"'!\",(ADDRESS((COUNTIF($J$3:J12,IF(D12<>0,CONCATENATE(\"Auswertung \",D12,\"\"))))+2,13)))))=FALSE,+INDIRECT(CONCATENATE(\"'\",J12,\"'!\",(ADDRESS((COUNTIF($J$3:J12,IF(D12<>0,CONCATENATE(\"Auswertung \",B12,\"\"))))+4,13)))),\"\")","v":"Sici"},null,{"$f":"+IFERROR(INDIRECT(CONCATENATE(\"'\",J12,\"'!\",(ADDRESS((COUNTIF($J$3:J12,IF(B12<>0,J12)))+4,16)))),\"\")","v":1},3.419,{"$f":"+SUM($M$4:M12)/COUNT($M$4:M12)/1000*2","v":0.17755555555555555},{"$f":"+IFERROR(INDIRECT(CONCATENATE(\"'\",J12,\"'!\",(ADDRESS((COUNTIF($J$3:J12,IF(B12<>0,J12)))+4,18)))),\"\")","v":-1},3.4969999999999999,{"$f":"+IFERROR(INDIRECT(CONCATENATE(\"'\",J12,\"'!\",(ADDRESS((COUNTIF($J$3:J12,IF(B12<>0,J12)))+4,20)))),\"\")","v":-1},3.1E-2,{"$f":"+IFERROR(INDIRECT(CONCATENATE(\"'\",J12,\"'!\",(ADDRESS((COUNTIF($J$3:J12,IF(B12<>0,J12)))+4,22)))),\"\")","v":1},4.9000000000000002E-2,{"$f":"+IFERROR(INDIRECT(CONCATENATE(\"'\",J12,\"'!\",(ADDRESS((COUNTIF($J$3:J12,IF(B12<>0,J12)))+4,24)))),\"\")","v":-1},-3.6909999999999998,{"$f":"+IFERROR(INDIRECT(CONCATENATE(\"'\",J12,\"'!\",(ADDRESS((COUNTIF($J$3:J12,IF(B12<>0,J12)))+4,26)))),\"\")","v":1},1.6910000000000001,9,{"$f":"+SUM(COUNTIF($Z$3:Z12,1),COUNTIF($Z$3:Z12,-1))","v":9},{"$f":"+SUM($M$4:M12)","v":799},88.777777777777771,{"$f":"+SUM(COUNTIF($Z$3:Z12,1))","v":6},{"$f":"+SUM(COUNTIF($Z$3:Z12,-1))","v":3},3,{"$f":"AN12*(HARMEAN((IF(SUM(COUNTIF($Z$3:Z12,1),COUNTIF($Z$3:Z12,-1))=0,1,SUM(COUNTIF($Z$3:Z12,1),COUNTIF($Z$3:Z12,-1)))),(IF(SUM(COUNTIF($AC$3:AC12,1),COUNTIF($AC$3:AC12,-1))=0,1,SUM(COUNTIF($AC$3:AC12,1),COUNTIF($AC$3:AC12,-1)))),(IF(SUM(COUNTIF($AE$3:AE12,1),COUNTIF($AE$3:AE12,-1))=0,1,SUM(COUNTIF($AE$3:AE12,1),COUNTIF($AE$3:AE12,-1)))),(IF(SUM(COUNTIF($AG$3:AG12,1),COUNTIF($AG$3:AG12,-1))=0,1,SUM(COUNTIF($AG$3:AG12,1),COUNTIF($AG$3:AG12,-1)))),(IF(SUM(COUNTIF($AI$3:AI12,1),COUNTIF($AI$3:AI12,-1))=0,1,SUM(COUNTIF($AI$3:AI12,1),COUNTIF($AI$3:AI12,-1)))),(IF(SUM(COUNTIF($AK$3:AK12,1),COUNTIF($AK$3:AK12,-1))=0,1,SUM(COUNTIF($AK$3:AK12,1),COUNTIF($AK$3:AK12,-1)))))/1000)","v":8.0999999999999989E-2},3.419,null,{"$f":"+SUM(COUNTIF($AC$3:AC12,1),COUNTIF($AC$3:AC12,-1))","v":9},{"$f":"+SUM($O$4:O12)","v":886},98.444444444444443,{"$f":"+SUM(COUNTIF($AC$3:AC12,1))","v":6},{"$f":"+SUM(COUNTIF($AC$3:AC12,-1))","v":3},3,{"$f":"AW12*(HARMEAN((IF(SUM(COUNTIF($Z$3:Z12,1),COUNTIF($Z$3:Z12,-1))=0,1,SUM(COUNTIF($Z$3:Z12,1),COUNTIF($Z$3:Z12,-1)))),(IF(SUM(COUNTIF($AC$3:AC12,1),COUNTIF($AC$3:AC12,-1))=0,1,SUM(COUNTIF($AC$3:AC12,1),COUNTIF($AC$3:AC12,-1)))),(IF(SUM(COUNTIF($AE$3:AE12,1),COUNTIF($AE$3:AE12,-1))=0,1,SUM(COUNTIF($AE$3:AE12,1),COUNTIF($AE$3:AE12,-1)))),(IF(SUM(COUNTIF($AG$3:AG12,1),COUNTIF($AG$3:AG12,-1))=0,1,SUM(COUNTIF($AG$3:AG12,1),COUNTIF($AG$3:AG12,-1)))),(IF(SUM(COUNTIF($AI$3:AI12,1),COUNTIF($AI$3:AI12,-1))=0,1,SUM(COUNTIF($AI$3:AI12,1),COUNTIF($AI$3:AI12,-1)))),(IF(SUM(COUNTIF($AK$3:AK12,1),COUNTIF($AK$3:AK12,-1))=0,1,SUM(COUNTIF($AK$3:AK12,1),COUNTIF($AK$3:AK12,-1)))))/1000)","v":8.0999999999999989E-2},3.4969999999999999,null,{"$f":"+SUM(COUNTIF($AE$3:AE12,1),COUNTIF(AE$3:$AE12,-1))","v":9},{"$f":"+SUM($Q$4:Q12)","v":1035},115,{"$f":"+SUM(COUNTIF($AE$3:AE12,1))","v":4},{"$f":"+SUM(COUNTIF($AE$3:AE12,-1))","v":5},-1,{"$f":"BF12*(HARMEAN((IF(SUM(COUNTIF($Z$3:Z12,1),COUNTIF($Z$3:Z12,-1))=0,1,SUM(COUNTIF($Z$3:Z12,1),COUNTIF($Z$3:Z12,-1)))),(IF(SUM(COUNTIF($AC$3:AC12,1),COUNTIF($AC$3:AC12,-1))=0,1,SUM(COUNTIF($AC$3:AC12,1),COUNTIF($AC$3:AC12,-1)))),(IF(SUM(COUNTIF($AE$3:AE12,1),COUNTIF($AE$3:AE12,-1))=0,1,SUM(COUNTIF($AE$3:AE12,1),COUNTIF($AE$3:AE12,-1)))),(IF(SUM(COUNTIF($AG$3:AG12,1),COUNTIF($AG$3:AG12,-1))=0,1,SUM(COUNTIF($AG$3:AG12,1),COUNTIF($AG$3:AG12,-1)))),(IF(SUM(COUNTIF($AI$3:AI12,1),COUNTIF($AI$3:AI12,-1))=0,1,SUM(COUNTIF($AI$3:AI12,1),COUNTIF($AI$3:AI12,-1)))),(IF(SUM(COUNTIF($AK$3:AK12,1),COUNTIF($AK$3:AK12,-1))=0,1,SUM(COUNTIF($AK$3:AK12,1),COUNTIF($AK$3:AK12,-1)))))/1000)","v":8.0999999999999989E-2},3.1E-2,null,{"$f":"+SUM(COUNTIF($AG$3:AG12,1),COUNTIF($AG$3:AG12,-1))","v":9},{"$f":"+SUM($S$4:S12)","v":1054},117.11111111111111,{"$f":"+SUM(COUNTIF($AG$3:AG12,1))","v":4},{"$f":"+SUM(COUNTIF($AG$3:AG12,-1))","v":5},-1,{"$f":"BO12*(HARMEAN((IF(SUM(COUNTIF($Z$3:Z12,1),COUNTIF($Z$3:Z12,-1))=0,1,SUM(COUNTIF($Z$3:Z12,1),COUNTIF($Z$3:Z12,-1)))),(IF(SUM(COUNTIF($AC$3:AC12,1),COUNTIF($AC$3:AC12,-1))=0,1,SUM(COUNTIF($AC$3:AC12,1),COUNTIF($AC$3:AC12,-1)))),(IF(SUM(COUNTIF($AE$3:AE12,1),COUNTIF($AE$3:AE12,-1))=0,1,SUM(COUNTIF($AE$3:AE12,1),COUNTIF($AE$3:AE12,-1)))),(IF(SUM(COUNTIF($AG$3:AG12,1),COUNTIF($AG$3:AG12,-1))=0,1,SUM(COUNTIF($AG$3:AG12,1),COUNTIF($AG$3:AG12,-1)))),(IF(SUM(COUNTIF($AI$3:AI12,1),COUNTIF($AI$3:AI12,-1))=0,1,SUM(COUNTIF($AI$3:AI12,1),COUNTIF($AI$3:AI12,-1)))),(IF(SUM(COUNTIF($AK$3:AK12,1),COUNTIF($AK$3:AK12,-1))=0,1,SUM(COUNTIF($AK$3:AK12,1),COUNTIF($AK$3:AK12,-1)))))/1000)","v":8.0999999999999989E-2},4.9000000000000002E-2,null,{"$f":"+SUM(COUNTIF($AI$3:AI12,1),COUNTIF($AI$3:AI12,-1))","v":9},{"$f":"+SUM($U$4:U12)","v":899},99.888888888888886,{"$f":"+SUM(COUNTIF($AI$3:AI12,1))","v":2},{"$f":"+SUM(COUNTIF($AI$3:AI12,-1))","v":7},-5,{"$f":"+BX12*(HARMEAN((IF(SUM(COUNTIF($Z$3:Z12,1),COUNTIF($Z$3:Z12,-1))=0,1,SUM(COUNTIF($Z$3:Z12,1),COUNTIF($Z$3:Z12,-1)))),(IF(SUM(COUNTIF($AC$3:AC12,1),COUNTIF($AC$3:AC12,-1))=0,1,SUM(COUNTIF($AC$3:AC12,1),COUNTIF($AC$3:AC12,-1)))),(IF(SUM(COUNTIF($AE$3:AE12,1),COUNTIF($AE$3:AE12,-1))=0,1,SUM(COUNTIF($AE$3:AE12,1),COUNTIF($AE$3:AE12,-1)))),(IF(SUM(COUNTIF($AG$3:AG12,1),COUNTIF($AG$3:AG12,-1))=0,1,SUM(COUNTIF($AG$3:AG12,1),COUNTIF($AG$3:AG12,-1)))),(IF(SUM(COUNTIF($AI$3:AI12,1),COUNTIF($AI$3:AI12,-1))=0,1,SUM(COUNTIF($AI$3:AI12,1),COUNTIF($AI$3:AI12,-1)))),(IF(SUM(COUNTIF($AK$3:AK12,1),COUNTIF($AK$3:AK12,-1))=0,1,SUM(COUNTIF($AK$3:AK12,1),COUNTIF($AK$3:AK12,-1)))))/1000)","v":8.0999999999999989E-2},-3.6909999999999998,null,{"$f":"+SUM(COUNTIF($AK$3:AK12,1),COUNTIF($AK$3:AK12,-1))","v":9},{"$f":"+SUM($W$4:W12)","v":879},97.666666666666671,{"$f":"+SUM(COUNTIF($AK$3:AK12,1))","v":5},{"$f":"+SUM(COUNTIF($AK$3:AK12,-1))","v":4},1,{"$f":"+CG12*(HARMEAN((IF(SUM(COUNTIF($Z$3:Z12,1),COUNTIF($Z$3:Z12,-1))=0,1,SUM(COUNTIF($Z$3:Z12,1),COUNTIF($Z$3:Z12,-1)))),(IF(SUM(COUNTIF($AC$3:AC12,1),COUNTIF($AC$3:AC12,-1))=0,1,SUM(COUNTIF($AC$3:AC12,1),COUNTIF($AC$3:AC12,-1)))),(IF(SUM(COUNTIF($AE$3:AE12,1),COUNTIF($AE$3:AE12,-1))=0,1,SUM(COUNTIF($AE$3:AE12,1),COUNTIF($AE$3:AE12,-1)))),(IF(SUM(COUNTIF($AG$3:AG12,1),COUNTIF($AG$3:AG12,-1))=0,1,SUM(COUNTIF($AG$3:AG12,1),COUNTIF($AG$3:AG12,-1)))),(IF(SUM(COUNTIF($AI$3:AI12,1),COUNTIF($AI$3:AI12,-1))=0,1,SUM(COUNTIF($AI$3:AI12,1),COUNTIF($AI$3:AI12,-1)))),(IF(SUM(COUNTIF($AK$3:AK12,1),COUNTIF($AK$3:AK12,-1))=0,1,SUM(COUNTIF($AK$3:AK12,1),COUNTIF($AK$3:AK12,-1)))))/1000)","v":8.0999999999999989E-2},1.6910000000000001]
[10,"AoM",null,{"$f":"+IFERROR(INDEX('Auswertung AoE II'!$AE:$AE,MATCH(A13,'Auswertung AoE II'!$AD:$AD,0)),\"\")","v":""},{"$f":"+IFERROR(INDEX('Auswertung AoE III'!$AE:$AE,MATCH(A13,'Auswertung AoE III'!$AD:$AD,0)),\"\")","v":""},{"$f":"+IFERROR(INDEX('Auswertung AoM'!$AE:$AE,MATCH(A13,'Auswertung AoM'!$AD:$AD,0)),\"\")","v":"AoM"},{"$f":"+IFERROR(INDEX('Auswertung RA'!$AE:$AE,MATCH(A13,'Auswertung RA'!$AD:$AD,0)),\"\")","v":""},{"$f":"+IFERROR(INDEX('Auswertung Yuri'!$AE:$AE,MATCH(A13,'Auswertung Yuri'!$AD:$AD,0)),\"\")","v":""},{"$f":"+IFERROR(INDEX('Auswertung Generals'!$AE:$AE,MATCH(A13,'Auswertung Generals'!$AD:$AD,0)),\"\")","v":""},"Auswertung AoM",null,null,{"$f":"+IF(ISERROR(+INDIRECT(CONCATENATE(\"'\",J13,\"'!\",(ADDRESS((COUNTIF($J$3:J13,IF(B13<>0,CONCATENATE(\"Auswertung \",B13,\"\"))))+2,2)))))=FALSE,+INDIRECT(CONCATENATE(\"'\",J13,\"'!\",(ADDRESS((COUNTIF($J$3:J13,IF(B13<>0,CONCATENATE(\"Auswertung \",B13,\"\"))))+4,2)))),\"\")","v":71},{"$f":"IF(ISERROR(+INDIRECT(CONCATENATE(\"'\",J13,\"'!\",(ADDRESS((COUNTIF($J$3:J13,IF(B13<>0,CONCATENATE(\"Auswertung \",B13,\"\"))))+2,2+1)))))=FALSE,+INDIRECT(CONCATENATE(\"'\",J13,\"'!\",(ADDRESS((COUNTIF($J$3:J13,IF(B13<>0,CONCATENATE(\"Auswertung \",B13,\"\"))))+4,2+1)))),\"\")","v":"Isis"},{"$f":"+IF(ISERROR(+INDIRECT(CONCATENATE(\"'\",J13,\"'!\",(ADDRESS((COUNTIF($J$3:J13,IF(B13<>0,CONCATENATE(\"Auswertung \",B13,\"\"))))+2,4)))))=FALSE,+INDIRECT(CONCATENATE(\"'\",J13,\"'!\",(ADDRESS((COUNTIF($J$3:J13,IF(B13<>0,CONCATENATE(\"Auswertung \",B13,\"\"))))+4,4)))),\"\")","v":41},{"$f":"+IF(ISERROR(+INDIRECT(CONCATENATE(\"'\",J13,\"'!\",(ADDRESS((COUNTIF($J$3:J13,IF(B13<>0,CONCATENATE(\"Auswertung \",B13,\"\"))))+2,5)))))=FALSE,+INDIRECT(CONCATENATE(\"'\",J13,\"'!\",(ADDRESS((COUNTIF($J$3:J13,IF(B13<>0,CONCATENATE(\"Auswertung \",B13,\"\"))))+4,5)))),\"\")","v":"Re"},{"$f":"+IF(ISERROR(+INDIRECT(CONCATENATE(\"'\",J13,\"'!\",(ADDRESS((COUNTIF($J$3:J13,IF(B13<>0,CONCATENATE(\"Auswertung \",B13,\"\"))))+2,6)))))=FALSE,+INDIRECT(CONCATENATE(\"'\",J13,\"'!\",(ADDRESS((COUNTIF($J$3:J13,IF(B13<>0,CONCATENATE(\"Auswertung \",B13,\"\"))))+4,6)))),\"\")","v":37},{"$f":"+IF(ISERROR(+INDIRECT(CONCATENATE(\"'\",J13,\"'!\",(ADDRESS((COUNTIF($J$3:J13,IF(B13<>0,CONCATENATE(\"Auswertung \",B13,\"\"))))+2,7)))))=FALSE,+INDIRECT(CONCATENATE(\"'\",J13,\"'!\",(ADDRESS((COUNTIF($J$3:J13,IF(B13<>0,CONCATENATE(\"Auswertung \",B13,\"\"))))+4,7)))),\"\")","v":"Thor"},{"$f":"+IF(ISERROR(+INDIRECT(CONCATENATE(\"'\",J13,\"'!\",(ADDRESS((COUNTIF($J$3:J13,IF(B13<>0,CONCATENATE(\"Auswertung \",B13,\"\"))))+2,10)))))=FALSE,+INDIRECT(CONCATENATE(\"'\",J13,\"'!\",(ADDRESS((COUNTIF($J$3:J13,IF(B13<>0,CONCATENATE(\"Auswertung \",B13,\"\"))))+4,8)))),\"\")","v":74},{"$f":"+IF(ISERROR(+INDIRECT(CONCATENATE(\"'\",J13,\"'!\",(ADDRESS((COUNTIF($J$3:J13,IF(B13<>0,CONCATENATE(\"Auswertung \",B13,\"\"))))+2,11)))))=FALSE,+INDIRECT(CONCATENATE(\"'\",J13,\"'!\",(ADDRESS((COUNTIF($J$3:J13,IF(B13<>0,CONCATENATE(\"Auswertung \",B13,\"\"))))+4,9)))),\"\")","v":"Re"},{"$f":"+IF(ISERROR(+INDIRECT(CONCATENATE(\"'\",J13,\"'!\",(ADDRESS((COUNTIF($J$3:J13,IF(B13<>0,CONCATENATE(\"Auswertung \",B13,\"\"))))+2,10)))))=FALSE,+INDIRECT(CONCATENATE(\"'\",J13,\"'!\",(ADDRESS((COUNTIF($J$3:J13,IF(B13<>0,CONCATENATE(\"Auswertung \",B13,\"\"))))+4,10)))),\"\")","v":46},{"$f":"+IF(ISERROR(+INDIRECT(CONCATENATE(\"'\",J13,\"'!\",(ADDRESS((COUNTIF($J$3:J13,IF(B13<>0,CONCATENATE(\"Auswertung \",B13,\"\"))))+2,11)))))=FALSE,+INDIRECT(CONCATENATE(\"'\",J13,\"'!\",(ADDRESS((COUNTIF($J$3:J13,IF(B13<>0,CONCATENATE(\"Auswertung \",B13,\"\"))))+4,11)))),\"\")","v":"Thor"},{"$f":"+IF(ISERROR(+INDIRECT(CONCATENATE(\"'\",J13,\"'!\",(ADDRESS((COUNTIF($J$3:J13,IF(D13<>0,CONCATENATE(\"Auswertung \",D13,\"\"))))+2,12)))))=FALSE,+INDIRECT(CONCATENATE(\"'\",J13,\"'!\",(ADDRESS((COUNTIF($J$3:J13,IF(D13<>0,CONCATENATE(\"Auswertung \",B13,\"\"))))+4,12)))),\"\")","v":55},{"$f":"+IF(ISERROR(+INDIRECT(CONCATENATE(\"'\",J13,\"'!\",(ADDRESS((COUNTIF($J$3:J13,IF(D13<>0,CONCATENATE(\"Auswertung \",D13,\"\"))))+2,13)))))=FALSE,+INDIRECT(CONCATENATE(\"'\",J13,\"'!\",(ADDRESS((COUNTIF($J$3:J13,IF(D13<>0,CONCATENATE(\"Auswertung \",B13,\"\"))))+4,13)))),\"\")","v":"Isis"},null,{"$f":"+IFERROR(INDIRECT(CONCATENATE(\"'\",J13,\"'!\",(ADDRESS((COUNTIF($J$3:J13,IF(B13<>0,J13)))+4,16)))),\"\")","v":1},4.87,{"$f":"+SUM($M$4:M13)/COUNT($M$4:M13)/1000*2","v":0.17399999999999999},{"$f":"+IFERROR(INDIRECT(CONCATENATE(\"'\",J13,\"'!\",(ADDRESS((COUNTIF($J$3:J13,IF(B13<>0,J13)))+4,18)))),\"\")","v":1},4.9269999999999996,{"$f":"+IFERROR(INDIRECT(CONCATENATE(\"'\",J13,\"'!\",(ADDRESS((COUNTIF($J$3:J13,IF(B13<>0,J13)))+4,20)))),\"\")","v":1},1.0720000000000001,{"$f":"+IFERROR(INDIRECT(CONCATENATE(\"'\",J13,\"'!\",(ADDRESS((COUNTIF($J$3:J13,IF(B13<>0,J13)))+4,22)))),\"\")","v":-1},-0.872,{"$f":"+IFERROR(INDIRECT(CONCATENATE(\"'\",J13,\"'!\",(ADDRESS((COUNTIF($J$3:J13,IF(B13<>0,J13)))+4,24)))),\"\")","v":-1},-5.0549999999999997,{"$f":"+IFERROR(INDIRECT(CONCATENATE(\"'\",J13,\"'!\",(ADDRESS((COUNTIF($J$3:J13,IF(B13<>0,J13)))+4,26)))),\"\")","v":-1},0.93400000000000005,10,{"$f":"+SUM(COUNTIF($Z$3:Z13,1),COUNTIF($Z$3:Z13,-1))","v":10},{"$f":"+SUM($M$4:M13)","v":870},87,{"$f":"+SUM(COUNTIF($Z$3:Z13,1))","v":7},{"$f":"+SUM(COUNTIF($Z$3:Z13,-1))","v":3},4,{"$f":"AN13*(HARMEAN((IF(SUM(COUNTIF($Z$3:Z13,1),COUNTIF($Z$3:Z13,-1))=0,1,SUM(COUNTIF($Z$3:Z13,1),COUNTIF($Z$3:Z13,-1)))),(IF(SUM(COUNTIF($AC$3:AC13,1),COUNTIF($AC$3:AC13,-1))=0,1,SUM(COUNTIF($AC$3:AC13,1),COUNTIF($AC$3:AC13,-1)))),(IF(SUM(COUNTIF($AE$3:AE13,1),COUNTIF($AE$3:AE13,-1))=0,1,SUM(COUNTIF($AE$3:AE13,1),COUNTIF($AE$3:AE13,-1)))),(IF(SUM(COUNTIF($AG$3:AG13,1),COUNTIF($AG$3:AG13,-1))=0,1,SUM(COUNTIF($AG$3:AG13,1),COUNTIF($AG$3:AG13,-1)))),(IF(SUM(COUNTIF($AI$3:AI13,1),COUNTIF($AI$3:AI13,-1))=0,1,SUM(COUNTIF($AI$3:AI13,1),COUNTIF($AI$3:AI13,-1)))),(IF(SUM(COUNTIF($AK$3:AK13,1),COUNTIF($AK$3:AK13,-1))=0,1,SUM(COUNTIF($AK$3:AK13,1),COUNTIF($AK$3:AK13,-1)))))/1000)","v":0.1},4.87,null,{"$f":"+SUM(COUNTIF($AC$3:AC13,1),COUNTIF($AC$3:AC13,-1))","v":10},{"$f":"+SUM($O$4:O13)","v":927},92.7,{"$f":"+SUM(COUNTIF($AC$3:AC13,1))","v":7},{"$f":"+SUM(COUNTIF($AC$3:AC13,-1))","v":3},4,{"$f":"AW13*(HARMEAN((IF(SUM(COUNTIF($Z$3:Z13,1),COUNTIF($Z$3:Z13,-1))=0,1,SUM(COUNTIF($Z$3:Z13,1),COUNTIF($Z$3:Z13,-1)))),(IF(SUM(COUNTIF($AC$3:AC13,1),COUNTIF($AC$3:AC13,-1))=0,1,SUM(COUNTIF($AC$3:AC13,1),COUNTIF($AC$3:AC13,-1)))),(IF(SUM(COUNTIF($AE$3:AE13,1),COUNTIF($AE$3:AE13,-1))=0,1,SUM(COUNTIF($AE$3:AE13,1),COUNTIF($AE$3:AE13,-1)))),(IF(SUM(COUNTIF($AG$3:AG13,1),COUNTIF($AG$3:AG13,-1))=0,1,SUM(COUNTIF($AG$3:AG13,1),COUNTIF($AG$3:AG13,-1)))),(IF(SUM(COUNTIF($AI$3:AI13,1),COUNTIF($AI$3:AI13,-1))=0,1,SUM(COUNTIF($AI$3:AI13,1),COUNTIF($AI$3:AI13,-1)))),(IF(SUM(COUNTIF($AK$3:AK13,1),COUNTIF($AK$3:AK13,-1))=0,1,SUM(COUNTIF($AK$3:AK13,1),COUNTIF($AK$3:AK13,-1)))))/1000)","v":0.1},4.9269999999999996,null,{"$f":"+SUM(COUNTIF($AE$3:AE13,1),COUNTIF(AE$3:$AE13,-1))","v":10},{"$f":"+SUM($Q$4:Q13)","v":1072},107.2,{"$f":"+SUM(COUNTIF($AE$3:AE13,1))","v":5},{"$f":"+SUM(COUNTIF($AE$3:AE13,-1))","v":5},0,{"$f":"BF13*(HARMEAN((IF(SUM(COUNTIF($Z$3:Z13,1),COUNTIF($Z$3:Z13,-1))=0,1,SUM(COUNTIF($Z$3:Z13,1),COUNTIF($Z$3:Z13,-1)))),(IF(SUM(COUNTIF($AC$3:AC13,1),COUNTIF($AC$3:AC13,-1))=0,1,SUM(COUNTIF($AC$3:AC13,1),COUNTIF($AC$3:AC13,-1)))),(IF(SUM(COUNTIF($AE$3:AE13,1),COUNTIF($AE$3:AE13,-1))=0,1,SUM(COUNTIF($AE$3:AE13,1),COUNTIF($AE$3:AE13,-1)))),(IF(SUM(COUNTIF($AG$3:AG13,1),COUNTIF($AG$3:AG13,-1))=0,1,SUM(COUNTIF($AG$3:AG13,1),COUNTIF($AG$3:AG13,-1)))),(IF(SUM(COUNTIF($AI$3:AI13,1),COUNTIF($AI$3:AI13,-1))=0,1,SUM(COUNTIF($AI$3:AI13,1),COUNTIF($AI$3:AI13,-1)))),(IF(SUM(COUNTIF($AK$3:AK13,1),COUNTIF($AK$3:AK13,-1))=0,1,SUM(COUNTIF($AK$3:AK13,1),COUNTIF($AK$3:AK13,-1)))))/1000)","v":0.1},1.0720000000000001,null,{"$f":"+SUM(COUNTIF($AG$3:AG13,1),COUNTIF($AG$3:AG13,-1))","v":10},{"$f":"+SUM($S$4:S13)","v":1128},112.8,{"$f":"+SUM(COUNTIF($AG$3:AG13,1))","v":4},{"$f":"+SUM(COUNTIF($AG$3:AG13,-1))","v":6},-2,{"$f":"BO13*(HARMEAN((IF(SUM(COUNTIF($Z$3:Z13,1),COUNTIF($Z$3:Z13,-1))=0,1,SUM(COUNTIF($Z$3:Z13,1),COUNTIF($Z$3:Z13,-1)))),(IF(SUM(COUNTIF($AC$3:AC13,1),COUNTIF($AC$3:AC13,-1))=0,1,SUM(COUNTIF($AC$3:AC13,1),COUNTIF($AC$3:AC13,-1)))),(IF(SUM(COUNTIF($AE$3:AE13,1),COUNTIF($AE$3:AE13,-1))=0,1,SUM(COUNTIF($AE$3:AE13,1),COUNTIF($AE$3:AE13,-1)))),(IF(SUM(COUNTIF($AG$3:AG13,1),COUNTIF($AG$3:AG13,-1))=0,1,SUM(COUNTIF($AG$3:AG13,1),COUNTIF($AG$3:AG13,-1)))),(IF(SUM(COUNTIF($AI$3:AI13,1),COUNTIF($AI$3:AI13,-1))=0,1,SUM(COUNTIF($AI$3:AI13,1),COUNTIF($AI$3:AI13,-1)))),(IF(SUM(COUNTIF($AK$3:AK13,1),COUNTIF($AK$3:AK13,-1))=0,1,SUM(COUNTIF($AK$3:AK13,1),COUNTIF($AK$3:AK13,-1)))))/1000)","v":0.1},-0.872,null,{"$f":"+SUM(COUNTIF($AI$3:AI13,1),COUNTIF($AI$3:AI13,-1))","v":10},{"$f":"+SUM($U$4:U13)","v":945},94.5,{"$f":"+SUM(COUNTIF($AI$3:AI13,1))","v":2},{"$f":"+SUM(COUNTIF($AI$3:AI13,-1))","v":8},-6,{"$f":"+BX13*(HARMEAN((IF(SUM(COUNTIF($Z$3:Z13,1),COUNTIF($Z$3:Z13,-1))=0,1,SUM(COUNTIF($Z$3:Z13,1),COUNTIF($Z$3:Z13,-1)))),(IF(SUM(COUNTIF($AC$3:AC13,1),COUNTIF($AC$3:AC13,-1))=0,1,SUM(COUNTIF($AC$3:AC13,1),COUNTIF($AC$3:AC13,-1)))),(IF(SUM(COUNTIF($AE$3:AE13,1),COUNTIF($AE$3:AE13,-1))=0,1,SUM(COUNTIF($AE$3:AE13,1),COUNTIF($AE$3:AE13,-1)))),(IF(SUM(COUNTIF($AG$3:AG13,1),COUNTIF($AG$3:AG13,-1))=0,1,SUM(COUNTIF($AG$3:AG13,1),COUNTIF($AG$3:AG13,-1)))),(IF(SUM(COUNTIF($AI$3:AI13,1),COUNTIF($AI$3:AI13,-1))=0,1,SUM(COUNTIF($AI$3:AI13,1),COUNTIF($AI$3:AI13,-1)))),(IF(SUM(COUNTIF($AK$3:AK13,1),COUNTIF($AK$3:AK13,-1))=0,1,SUM(COUNTIF($AK$3:AK13,1),COUNTIF($AK$3:AK13,-1)))))/1000)","v":0.1},-5.0549999999999997,null,{"$f":"+SUM(COUNTIF($AK$3:AK13,1),COUNTIF($AK$3:AK13,-1))","v":10},{"$f":"+SUM($W$4:W13)","v":934},93.4,{"$f":"+SUM(COUNTIF($AK$3:AK13,1))","v":5},{"$f":"+SUM(COUNTIF($AK$3:AK13,-1))","v":5},0,{"$f":"+CG13*(HARMEAN((IF(SUM(COUNTIF($Z$3:Z13,1),COUNTIF($Z$3:Z13,-1))=0,1,SUM(COUNTIF($Z$3:Z13,1),COUNTIF($Z$3:Z13,-1)))),(IF(SUM(COUNTIF($AC$3:AC13,1),COUNTIF($AC$3:AC13,-1))=0,1,SUM(COUNTIF($AC$3:AC13,1),COUNTIF($AC$3:AC13,-1)))),(IF(SUM(COUNTIF($AE$3:AE13,1),COUNTIF($AE$3:AE13,-1))=0,1,SUM(COUNTIF($AE$3:AE13,1),COUNTIF($AE$3:AE13,-1)))),(IF(SUM(COUNTIF($AG$3:AG13,1),COUNTIF($AG$3:AG13,-1))=0,1,SUM(COUNTIF($AG$3:AG13,1),COUNTIF($AG$3:AG13,-1)))),(IF(SUM(COUNTIF($AI$3:AI13,1),COUNTIF($AI$3:AI13,-1))=0,1,SUM(COUNTIF($AI$3:AI13,1),COUNTIF($AI$3:AI13,-1)))),(IF(SUM(COUNTIF($AK$3:AK13,1),COUNTIF($AK$3:AK13,-1))=0,1,SUM(COUNTIF($AK$3:AK13,1),COUNTIF($AK$3:AK13,-1)))))/1000)","v":0.1},0.93400000000000005]
[11,"RA",null,{"$f":"+IFERROR(INDEX('Auswertung AoE II'!$AE:$AE,MATCH(A14,'Auswertung AoE II'!$AD:$AD,0)),\"\")","v":""},{"$f":"+IFERROR(INDEX('Auswertung AoE III'!$AE:$AE,MATCH(A14,'Auswertung AoE III'!$AD:$AD,0)),\"\")","v":""},{"$f":"+IFERROR(INDEX('Auswertung AoM'!$AE:$AE,MATCH(A14,'Auswertung AoM'!$AD:$AD,0)),\"\")","v":""},{"$f":"+IFERROR(INDEX('Auswertung RA'!$AE:$AE,MATCH(A14,'Auswertung RA'!$AD:$AD,0)),\"\")","v":"RA"},{"$f":"+IFERROR(INDEX('Auswertung Yuri'!$AE:$AE,MATCH(A14,'Auswertung Yuri'!$AD:$AD,0)),\"\")","v":""},{"$f":"+IFERROR(INDEX('Auswertung Generals'!$AE:$AE,MATCH(A14,'Auswertung Generals'!$AD:$AD,0)),\"\")","v":""},"Auswertung RA",null,null,{"$f":"+IF(ISERROR(+INDIRECT(CONCATENATE(\"'\",J14,\"'!\",(ADDRESS((COUNTIF($J$3:J14,IF(B14<>0,CONCATENATE(\"Auswertung \",B14,\"\"))))+2,2)))))=FALSE,+INDIRECT(CONCATENATE(\"'\",J14,\"'!\",(ADDRESS((COUNTIF($J$3:J14,IF(B14<>0,CONCATENATE(\"Auswertung \",B14,\"\"))))+4,2)))),\"\")","v":105},{"$f":"IF(ISERROR(+INDIRECT(CONCATENATE(\"'\",J14,\"'!\",(ADDRESS((COUNTIF($J$3:J14,IF(B14<>0,CONCATENATE(\"Auswertung \",B14,\"\"))))+2,2+1)))))=FALSE,+INDIRECT(CONCATENATE(\"'\",J14,\"'!\",(ADDRESS((COUNTIF($J$3:J14,IF(B14<>0,CONCATENATE(\"Auswertung \",B14,\"\"))))+4,2+1)))),\"\")","v":"A"},{"$f":"+IF(ISERROR(+INDIRECT(CONCATENATE(\"'\",J14,\"'!\",(ADDRESS((COUNTIF($J$3:J14,IF(B14<>0,CONCATENATE(\"Auswertung \",B14,\"\"))))+2,4)))))=FALSE,+INDIRECT(CONCATENATE(\"'\",J14,\"'!\",(ADDRESS((COUNTIF($J$3:J14,IF(B14<>0,CONCATENATE(\"Auswertung \",B14,\"\"))))+4,4)))),\"\")","v":99},{"$f":"+IF(ISERROR(+INDIRECT(CONCATENATE(\"'\",J14,\"'!\",(ADDRESS((COUNTIF($J$3:J14,IF(B14<>0,CONCATENATE(\"Auswertung \",B14,\"\"))))+2,5)))))=FALSE,+INDIRECT(CONCATENATE(\"'\",J14,\"'!\",(ADDRESS((COUNTIF($J$3:J14,IF(B14<>0,CONCATENATE(\"Auswertung \",B14,\"\"))))+4,5)))),\"\")","v":"S"},{"$f":"+IF(ISERROR(+INDIRECT(CONCATENATE(\"'\",J14,\"'!\",(ADDRESS((COUNTIF($J$3:J14,IF(B14<>0,CONCATENATE(\"Auswertung \",B14,\"\"))))+2,6)))))=FALSE,+INDIRECT(CONCATENATE(\"'\",J14,\"'!\",(ADDRESS((COUNTIF($J$3:J14,IF(B14<>0,CONCATENATE(\"Auswertung \",B14,\"\"))))+4,6)))),\"\")","v":74},{"$f":"+IF(ISERROR(+INDIRECT(CONCATENATE(\"'\",J14,\"'!\",(ADDRESS((COUNTIF($J$3:J14,IF(B14<>0,CONCATENATE(\"Auswertung \",B14,\"\"))))+2,7)))))=FALSE,+INDIRECT(CONCATENATE(\"'\",J14,\"'!\",(ADDRESS((COUNTIF($J$3:J14,IF(B14<>0,CONCATENATE(\"Auswertung \",B14,\"\"))))+4,7)))),\"\")","v":"S"},{"$f":"+IF(ISERROR(+INDIRECT(CONCATENATE(\"'\",J14,\"'!\",(ADDRESS((COUNTIF($J$3:J14,IF(B14<>0,CONCATENATE(\"Auswertung \",B14,\"\"))))+2,10)))))=FALSE,+INDIRECT(CONCATENATE(\"'\",J14,\"'!\",(ADDRESS((COUNTIF($J$3:J14,IF(B14<>0,CONCATENATE(\"Auswertung \",B14,\"\"))))+4,8)))),\"\")","v":69},{"$f":"+IF(ISERROR(+INDIRECT(CONCATENATE(\"'\",J14,\"'!\",(ADDRESS((COUNTIF($J$3:J14,IF(B14<>0,CONCATENATE(\"Auswertung \",B14,\"\"))))+2,11)))))=FALSE,+INDIRECT(CONCATENATE(\"'\",J14,\"'!\",(ADDRESS((COUNTIF($J$3:J14,IF(B14<>0,CONCATENATE(\"Auswertung \",B14,\"\"))))+4,9)))),\"\")","v":"A"},{"$f":"+IF(ISERROR(+INDIRECT(CONCATENATE(\"'\",J14,\"'!\",(ADDRESS((COUNTIF($J$3:J14,IF(B14<>0,CONCATENATE(\"Auswertung \",B14,\"\"))))+2,10)))))=FALSE,+INDIRECT(CONCATENATE(\"'\",J14,\"'!\",(ADDRESS((COUNTIF($J$3:J14,IF(B14<>0,CONCATENATE(\"Auswertung \",B14,\"\"))))+4,10)))),\"\")","v":27},{"$f":"+IF(ISERROR(+INDIRECT(CONCATENATE(\"'\",J14,\"'!\",(ADDRESS((COUNTIF($J$3:J14,IF(B14<>0,CONCATENATE(\"Auswertung \",B14,\"\"))))+2,11)))))=FALSE,+INDIRECT(CONCATENATE(\"'\",J14,\"'!\",(ADDRESS((COUNTIF($J$3:J14,IF(B14<>0,CONCATENATE(\"Auswertung \",B14,\"\"))))+4,11)))),\"\")","v":"S"},{"$f":"+IF(ISERROR(+INDIRECT(CONCATENATE(\"'\",J14,\"'!\",(ADDRESS((COUNTIF($J$3:J14,IF(D14<>0,CONCATENATE(\"Auswertung \",D14,\"\"))))+2,12)))))=FALSE,+INDIRECT(CONCATENATE(\"'\",J14,\"'!\",(ADDRESS((COUNTIF($J$3:J14,IF(D14<>0,CONCATENATE(\"Auswertung \",B14,\"\"))))+4,12)))),\"\")","v":73},{"$f":"+IF(ISERROR(+INDIRECT(CONCATENATE(\"'\",J14,\"'!\",(ADDRESS((COUNTIF($J$3:J14,IF(D14<>0,CONCATENATE(\"Auswertung \",D14,\"\"))))+2,13)))))=FALSE,+INDIRECT(CONCATENATE(\"'\",J14,\"'!\",(ADDRESS((COUNTIF($J$3:J14,IF(D14<>0,CONCATENATE(\"Auswertung \",B14,\"\"))))+4,13)))),\"\")","v":"S"},null,{"$f":"+IFERROR(INDIRECT(CONCATENATE(\"'\",J14,\"'!\",(ADDRESS((COUNTIF($J$3:J14,IF(B14<>0,J14)))+4,16)))),\"\")","v":-1},4.3730000000000002,{"$f":"+SUM($M$4:M14)/COUNT($M$4:M14)/1000*2","v":0.17727272727272728},{"$f":"+IFERROR(INDIRECT(CONCATENATE(\"'\",J14,\"'!\",(ADDRESS((COUNTIF($J$3:J14,IF(B14<>0,J14)))+4,18)))),\"\")","v":1},6.6289999999999996,{"$f":"+IFERROR(INDIRECT(CONCATENATE(\"'\",J14,\"'!\",(ADDRESS((COUNTIF($J$3:J14,IF(B14<>0,J14)))+4,20)))),\"\")","v":-1},0.161,{"$f":"+IFERROR(INDIRECT(CONCATENATE(\"'\",J14,\"'!\",(ADDRESS((COUNTIF($J$3:J14,IF(B14<>0,J14)))+4,22)))),\"\")","v":1},0.217,{"$f":"+IFERROR(INDIRECT(CONCATENATE(\"'\",J14,\"'!\",(ADDRESS((COUNTIF($J$3:J14,IF(B14<>0,J14)))+4,24)))),\"\")","v":-1},-6.6310000000000002,{"$f":"+IFERROR(INDIRECT(CONCATENATE(\"'\",J14,\"'!\",(ADDRESS((COUNTIF($J$3:J14,IF(B14<>0,J14)))+4,26)))),\"\")","v":1},2.2080000000000002,11,{"$f":"+SUM(COUNTIF($Z$3:Z14,1),COUNTIF($Z$3:Z14,-1))","v":11},{"$f":"+SUM($M$4:M14)","v":975},88.63636363636364,{"$f":"+SUM(COUNTIF($Z$3:Z14,1))","v":7},{"$f":"+SUM(COUNTIF($Z$3:Z14,-1))","v":4},3,{"$f":"AN14*(HARMEAN((IF(SUM(COUNTIF($Z$3:Z14,1),COUNTIF($Z$3:Z14,-1))=0,1,SUM(COUNTIF($Z$3:Z14,1),COUNTIF($Z$3:Z14,-1)))),(IF(SUM(COUNTIF($AC$3:AC14,1),COUNTIF($AC$3:AC14,-1))=0,1,SUM(COUNTIF($AC$3:AC14,1),COUNTIF($AC$3:AC14,-1)))),(IF(SUM(COUNTIF($AE$3:AE14,1),COUNTIF($AE$3:AE14,-1))=0,1,SUM(COUNTIF($AE$3:AE14,1),COUNTIF($AE$3:AE14,-1)))),(IF(SUM(COUNTIF($AG$3:AG14,1),COUNTIF($AG$3:AG14,-1))=0,1,SUM(COUNTIF($AG$3:AG14,1),COUNTIF($AG$3:AG14,-1)))),(IF(SUM(COUNTIF($AI$3:AI14,1),COUNTIF($AI$3:AI14,-1))=0,1,SUM(COUNTIF($AI$3:AI14,1),COUNTIF($AI$3:AI14,-1)))),(IF(SUM(COUNTIF($AK$3:AK14,1),COUNTIF($AK$3:AK14,-1))=0,1,SUM(COUNTIF($AK$3:AK14,1),COUNTIF($AK$3:AK14,-1)))))/1000)","v":0.12099999999999997},4.3730000000000002,null,{"$f":"+SUM(COUNTIF($AC$3:AC14,1),COUNTIF($AC$3:AC14,-1))","v":11},{"$f":"+SUM($O$4:O14)","v":1026},93.272727272727266,{"$f":"+SUM(COUNTIF($AC$3:AC14,1))","v":8},{"$f":"+SUM(COUNTIF($AC$3:AC14,-1))","v":3},5,{"$f":"AW14*(HARMEAN((IF(SUM(COUNTIF($Z$3:Z14,1),COUNTIF($Z$3:Z14,-1))=0,1,SUM(COUNTIF($Z$3:Z14,1),COUNTIF($Z$3:Z14,-1)))),(IF(SUM(COUNTIF($AC$3:AC14,1),COUNTIF($AC$3:AC14,-1))=0,1,SUM(COUNTIF($AC$3:AC14,1),COUNTIF($AC$3:AC14,-1)))),(IF(SUM(COUNTIF($AE$3:AE14,1),COUNTIF($AE$3:AE14,-1))=0,1,SUM(COUNTIF($AE$3:AE14,1),COUNTIF($AE$3:AE14,-1)))),(IF(SUM(COUNTIF($AG$3:AG14,1),COUNTIF($AG$3:AG14,-1))=0,1,SUM(COUNTIF($AG$3:AG14,1),COUNTIF($AG$3:AG14,-1)))),(IF(SUM(COUNTIF($AI$3:AI14,1),COUNTIF($AI$3:AI14,-1))=0,1,SUM(COUNTIF($AI$3:AI14,1),COUNTIF($AI$3:AI14,-1)))),(IF(SUM(COUNTIF($AK$3:AK14,1),COUNTIF($AK$3:AK14,-1))=0,1,SUM(COUNTIF($AK$3:AK14,1),COUNTIF($AK$3:AK14,-1)))))/1000)","v":0.12099999999999997},6.6289999999999996,null,{"$f":"+SUM(COUNTIF($AE$3:AE14,1),COUNTIF(AE$3:$AE14,-1))","v":11},{"$f":"+SUM($Q$4:Q14)","v":1146},104.18181818181819,{"$f":"+SUM(COUNTIF($AE$3:AE14,1))","v":5},{"$f":"+SUM(COUNTIF($AE$3:AE14,-1))","v":6},-1,{"$f":"BF14*(HARMEAN((IF(SUM(COUNTIF($Z$3:Z14,1),COUNTIF($Z$3:Z14,-1))=0,1,SUM(COUNTIF($Z$3:Z14,1),COUNTIF($Z$3:Z14,-1)))),(IF(SUM(COUNTIF($AC$3:AC14,1),COUNTIF($AC$3:AC14,-1))=0,1,SUM(COUNTIF($AC$3:AC14,1),COUNTIF($AC$3:AC14,-1)))),(IF(SUM(COUNTIF($AE$3:AE14,1),COUNTIF($AE$3:AE14,-1))=0,1,SUM(COUNTIF($AE$3:AE14,1),COUNTIF($AE$3:AE14,-1)))),(IF(SUM(COUNTIF($AG$3:AG14,1),COUNTIF($AG$3:AG14,-1))=0,1,SUM(COUNTIF($AG$3:AG14,1),COUNTIF($AG$3:AG14,-1)))),(IF(SUM(COUNTIF($AI$3:AI14,1),COUNTIF($AI$3:AI14,-1))=0,1,SUM(COUNTIF($AI$3:AI14,1),COUNTIF($AI$3:AI14,-1)))),(IF(SUM(COUNTIF($AK$3:AK14,1),COUNTIF($AK$3:AK14,-1))=0,1,SUM(COUNTIF($AK$3:AK14,1),COUNTIF($AK$3:AK14,-1)))))/1000)","v":0.12099999999999997},0.161,null,{"$f":"+SUM(COUNTIF($AG$3:AG14,1),COUNTIF($AG$3:AG14,-1))","v":11},{"$f":"+SUM($S$4:S14)","v":1197},108.81818181818181,{"$f":"+SUM(COUNTIF($AG$3:AG14,1))","v":5},{"$f":"+SUM(COUNTIF($AG$3:AG14,-1))","v":6},-1,{"$f":"BO14*(HARMEAN((IF(SUM(COUNTIF($Z$3:Z14,1),COUNTIF($Z$3:Z14,-1))=0,1,SUM(COUNTIF($Z$3:Z14,1),COUNTIF($Z$3:Z14,-1)))),(IF(SUM(COUNTIF($AC$3:AC14,1),COUNTIF($AC$3:AC14,-1))=0,1,SUM(COUNTIF($AC$3:AC14,1),COUNTIF($AC$3:AC14,-1)))),(IF(SUM(COUNTIF($AE$3:AE14,1),COUNTIF($AE$3:AE14,-1))=0,1,SUM(COUNTIF($AE$3:AE14,1),COUNTIF($AE$3:AE14,-1)))),(IF(SUM(COUNTIF($AG$3:AG14,1),COUNTIF($AG$3:AG14,-1))=0,1,SUM(COUNTIF($AG$3:AG14,1),COUNTIF($AG$3:AG14,-1)))),(IF(SUM(COUNTIF($AI$3:AI14,1),COUNTIF($AI$3:AI14,-1))=0,1,SUM(COUNTIF($AI$3:AI14,1),COUNTIF($AI$3:AI14,-1)))),(IF(SUM(COUNTIF($AK$3:AK14,1),COUNTIF($AK$3:AK14,-1))=0,1,SUM(COUNTIF($AK$3:AK14,1),COUNTIF($AK$3:AK14,-1)))))/1000)","v":0.12099999999999997},0.217,null,{"$f":"+SUM(COUNTIF($AI$3:AI14,1),COUNTIF($AI$3:AI14,-1))","v":11},{"$f":"+SUM($U$4:U14)","v":972},88.36363636363636,{"$f":"+SUM(COUNTIF($AI$3:AI14,1))","v":2},{"$f":"+SUM(COUNTIF($AI$3:AI14,-1))","v":9},-7,{"$f":"+BX14*(HARMEAN((IF(SUM(COUNTIF($Z$3:Z14,1),COUNTIF($Z$3:Z14,-1))=0,1,SUM(COUNTIF($Z$3:Z14,1),COUNTIF($Z$3:Z14,-1)))),(IF(SUM(COUNTIF($AC$3:AC14,1),COUNTIF($AC$3:AC14,-1))=0,1,SUM(COUNTIF($AC$3:AC14,1),COUNTIF($AC$3:AC14,-1)))),(IF(SUM(COUNTIF($AE$3:AE14,1),COUNTIF($AE$3:AE14,-1))=0,1,SUM(COUNTIF($AE$3:AE14,1),COUNTIF($AE$3:AE14,-1)))),(IF(SUM(COUNTIF($AG$3:AG14,1),COUNTIF($AG$3:AG14,-1))=0,1,SUM(COUNTIF($AG$3:AG14,1),COUNTIF($AG$3:AG14,-1)))),(IF(SUM(COUNTIF($AI$3:AI14,1),COUNTIF($AI$3:AI14,-1))=0,1,SUM(COUNTIF($AI$3:AI14,1),COUNTIF($AI$3:AI14,-1)))),(IF(SUM(COUNTIF($AK$3:AK14,1),COUNTIF($AK$3:AK14,-1))=0,1,SUM(COUNTIF($AK$3:AK14,1),COUNTIF($AK$3:AK14,-1)))))/1000)","v":0.12099999999999997},-6.6310000000000002,null,{"$f":"+SUM(COUNTIF($AK$3:AK14,1),COUNTIF($AK$3:AK14,-1))","v":11},{"$f":"+SUM($W$4:W14)","v":1007},91.545454545454547,{"$f":"+SUM(COUNTIF($AK$3:AK14,1))","v":6},{"$f":"+SUM(COUNTIF($AK$3:AK14,-1))","v":5},1,{"$f":"+CG14*(HARMEAN((IF(SUM(COUNTIF($Z$3:Z14,1),COUNTIF($Z$3:Z14,-1))=0,1,SUM(COUNTIF($Z$3:Z14,1),COUNTIF($Z$3:Z14,-1)))),(IF(SUM(COUNTIF($AC$3:AC14,1),COUNTIF($AC$3:AC14,-1))=0,1,SUM(COUNTIF($AC$3:AC14,1),COUNTIF($AC$3:AC14,-1)))),(IF(SUM(COUNTIF($AE$3:AE14,1),COUNTIF($AE$3:AE14,-1))=0,1,SUM(COUNTIF($AE$3:AE14,1),COUNTIF($AE$3:AE14,-1)))),(IF(SUM(COUNTIF($AG$3:AG14,1),COUNTIF($AG$3:AG14,-1))=0,1,SUM(COUNTIF($AG$3:AG14,1),COUNTIF($AG$3:AG14,-1)))),(IF(SUM(COUNTIF($AI$3:AI14,1),COUNTIF($AI$3:AI14,-1))=0,1,SUM(COUNTIF($AI$3:AI14,1),COUNTIF($AI$3:AI14,-1)))),(IF(SUM(COUNTIF($AK$3:AK14,1),COUNTIF($AK$3:AK14,-1))=0,1,SUM(COUNTIF($AK$3:AK14,1),COUNTIF($AK$3:AK14,-1)))))/1000)","v":0.12099999999999997},2.2080000000000002]
[12,"Generals",null,{"$f":"+IFERROR(INDEX('Auswertung AoE II'!$AE:$AE,MATCH(A15,'Auswertung AoE II'!$AD:$AD,0)),\"\")","v":""},{"$f":"+IFERROR(INDEX('Auswertung AoE III'!$AE:$AE,MATCH(A15,'Auswertung AoE III'!$AD:$AD,0)),\"\")","v":""},{"$f":"+IFERROR(INDEX('Auswertung AoM'!$AE:$AE,MATCH(A15,'Auswertung AoM'!$AD:$AD,0)),\"\")","v":""},{"$f":"+IFERROR(INDEX('Auswertung RA'!$AE:$AE,MATCH(A15,'Auswertung RA'!$AD:$AD,0)),\"\")","v":""},{"$f":"+IFERROR(INDEX('Auswertung Yuri'!$AE:$AE,MATCH(A15,'Auswertung Yuri'!$AD:$AD,0)),\"\")","v":""},{"$f":"+IFERROR(INDEX('Auswertung Generals'!$AE:$AE,MATCH(A15,'Auswertung Generals'!$AD:$AD,0)),\"\")","v":"Generals"},"Auswertung Generals",null,null,{"$f":"+IF(ISERROR(+INDIRECT(CONCATENATE(\"'\",J15,\"'!\",(ADDRESS((COUNTIF($J$3:J15,IF(B15<>0,CONCATENATE(\"Auswertung \",B15,\"\"))))+2,2)))))=FALSE,+INDIRECT(CONCATENATE(\"'\",J15,\"'!\",(ADDRESS((COUNTIF($J$3:J15,IF(B15<>0,CONCATENATE(\"Auswertung \",B15,\"\"))))+4,2)))),\"\")","v":86},{"$f":"IF(ISERROR(+INDIRECT(CONCATENATE(\"'\",J15,\"'!\",(ADDRESS((COUNTIF($J$3:J15,IF(B15<>0,CONCATENATE(\"Auswertung \",B15,\"\"))))+2,2+1)))))=FALSE,+INDIRECT(CONCATENATE(\"'\",J15,\"'!\",(ADDRESS((COUNTIF($J$3:J15,IF(B15<>0,CONCATENATE(\"Auswertung \",B15,\"\"))))+4,2+1)))),\"\")","v":"WA"},{"$f":"+IF(ISERROR(+INDIRECT(CONCATENATE(\"'\",J15,\"'!\",(ADDRESS((COUNTIF($J$3:J15,IF(B15<>0,CONCATENATE(\"Auswertung \",B15,\"\"))))+2,4)))))=FALSE,+INDIRECT(CONCATENATE(\"'\",J15,\"'!\",(ADDRESS((COUNTIF($J$3:J15,IF(B15<>0,CONCATENATE(\"Auswertung \",B15,\"\"))))+4,4)))),\"\")","v":83},{"$f":"+IF(ISERROR(+INDIRECT(CONCATENATE(\"'\",J15,\"'!\",(ADDRESS((COUNTIF($J$3:J15,IF(B15<>0,CONCATENATE(\"Auswertung \",B15,\"\"))))+2,5)))))=FALSE,+INDIRECT(CONCATENATE(\"'\",J15,\"'!\",(ADDRESS((COUNTIF($J$3:J15,IF(B15<>0,CONCATENATE(\"Auswertung \",B15,\"\"))))+4,5)))),\"\")","v":"WA"},{"$f":"+IF(ISERROR(+INDIRECT(CONCATENATE(\"'\",J15,\"'!\",(ADDRESS((COUNTIF($J$3:J15,IF(B15<>0,CONCATENATE(\"Auswertung \",B15,\"\"))))+2,6)))))=FALSE,+INDIRECT(CONCATENATE(\"'\",J15,\"'!\",(ADDRESS((COUNTIF($J$3:J15,IF(B15<>0,CONCATENATE(\"Auswertung \",B15,\"\"))))+4,6)))),\"\")","v":34},{"$f":"+IF(ISERROR(+INDIRECT(CONCATENATE(\"'\",J15,\"'!\",(ADDRESS((COUNTIF($J$3:J15,IF(B15<>0,CONCATENATE(\"Auswertung \",B15,\"\"))))+2,7)))))=FALSE,+INDIRECT(CONCATENATE(\"'\",J15,\"'!\",(ADDRESS((COUNTIF($J$3:J15,IF(B15<>0,CONCATENATE(\"Auswertung \",B15,\"\"))))+4,7)))),\"\")","v":"AP"},{"$f":"+IF(ISERROR(+INDIRECT(CONCATENATE(\"'\",J15,\"'!\",(ADDRESS((COUNTIF($J$3:J15,IF(B15<>0,CONCATENATE(\"Auswertung \",B15,\"\"))))+2,10)))))=FALSE,+INDIRECT(CONCATENATE(\"'\",J15,\"'!\",(ADDRESS((COUNTIF($J$3:J15,IF(B15<>0,CONCATENATE(\"Auswertung \",B15,\"\"))))+4,8)))),\"\")","v":115},{"$f":"+IF(ISERROR(+INDIRECT(CONCATENATE(\"'\",J15,\"'!\",(ADDRESS((COUNTIF($J$3:J15,IF(B15<>0,CONCATENATE(\"Auswertung \",B15,\"\"))))+2,11)))))=FALSE,+INDIRECT(CONCATENATE(\"'\",J15,\"'!\",(ADDRESS((COUNTIF($J$3:J15,IF(B15<>0,CONCATENATE(\"Auswertung \",B15,\"\"))))+4,9)))),\"\")","v":"AP"},{"$f":"+IF(ISERROR(+INDIRECT(CONCATENATE(\"'\",J15,\"'!\",(ADDRESS((COUNTIF($J$3:J15,IF(B15<>0,CONCATENATE(\"Auswertung \",B15,\"\"))))+2,10)))))=FALSE,+INDIRECT(CONCATENATE(\"'\",J15,\"'!\",(ADDRESS((COUNTIF($J$3:J15,IF(B15<>0,CONCATENATE(\"Auswertung \",B15,\"\"))))+4,10)))),\"\")","v":44},{"$f":"+IF(ISERROR(+INDIRECT(CONCATENATE(\"'\",J15,\"'!\",(ADDRESS((COUNTIF($J$3:J15,IF(B15<>0,CONCATENATE(\"Auswertung \",B15,\"\"))))+2,11)))))=FALSE,+INDIRECT(CONCATENATE(\"'\",J15,\"'!\",(ADDRESS((COUNTIF($J$3:J15,IF(B15<>0,CONCATENATE(\"Auswertung \",B15,\"\"))))+4,11)))),\"\")","v":"IBG"},{"$f":"+IF(ISERROR(+INDIRECT(CONCATENATE(\"'\",J15,\"'!\",(ADDRESS((COUNTIF($J$3:J15,IF(D15<>0,CONCATENATE(\"Auswertung \",D15,\"\"))))+2,12)))))=FALSE,+INDIRECT(CONCATENATE(\"'\",J15,\"'!\",(ADDRESS((COUNTIF($J$3:J15,IF(D15<>0,CONCATENATE(\"Auswertung \",B15,\"\"))))+4,12)))),\"\")","v":8},{"$f":"+IF(ISERROR(+INDIRECT(CONCATENATE(\"'\",J15,\"'!\",(ADDRESS((COUNTIF($J$3:J15,IF(D15<>0,CONCATENATE(\"Auswertung \",D15,\"\"))))+2,13)))))=FALSE,+INDIRECT(CONCATENATE(\"'\",J15,\"'!\",(ADDRESS((COUNTIF($J$3:J15,IF(D15<>0,CONCATENATE(\"Auswertung \",B15,\"\"))))+4,13)))),\"\")","v":"IBG"},null,{"$f":"+IFERROR(INDIRECT(CONCATENATE(\"'\",J15,\"'!\",(ADDRESS((COUNTIF($J$3:J15,IF(B15<>0,J15)))+4,16)))),\"\")","v":-1},3.673,{"$f":"+SUM($M$4:M15)/COUNT($M$4:M15)/1000*2","v":0.17683333333333334},{"$f":"+IFERROR(INDIRECT(CONCATENATE(\"'\",J15,\"'!\",(ADDRESS((COUNTIF($J$3:J15,IF(B15<>0,J15)))+4,18)))),\"\")","v":1},8.5310000000000006,{"$f":"+IFERROR(INDIRECT(CONCATENATE(\"'\",J15,\"'!\",(ADDRESS((COUNTIF($J$3:J15,IF(B15<>0,J15)))+4,20)))),\"\")","v":-1},-0.98399999999999999,{"$f":"+IFERROR(INDIRECT(CONCATENATE(\"'\",J15,\"'!\",(ADDRESS((COUNTIF($J$3:J15,IF(B15<>0,J15)))+4,22)))),\"\")","v":1},1.5740000000000001,{"$f":"+IFERROR(INDIRECT(CONCATENATE(\"'\",J15,\"'!\",(ADDRESS((COUNTIF($J$3:J15,IF(B15<>0,J15)))+4,24)))),\"\")","v":1},-5.9809999999999999,{"$f":"+IFERROR(INDIRECT(CONCATENATE(\"'\",J15,\"'!\",(ADDRESS((COUNTIF($J$3:J15,IF(B15<>0,J15)))+4,26)))),\"\")","v":-1},1.218,12,{"$f":"+SUM(COUNTIF($Z$3:Z15,1),COUNTIF($Z$3:Z15,-1))","v":12},{"$f":"+SUM($M$4:M15)","v":1061},88.416666666666671,{"$f":"+SUM(COUNTIF($Z$3:Z15,1))","v":7},{"$f":"+SUM(COUNTIF($Z$3:Z15,-1))","v":5},2,{"$f":"AN15*(HARMEAN((IF(SUM(COUNTIF($Z$3:Z15,1),COUNTIF($Z$3:Z15,-1))=0,1,SUM(COUNTIF($Z$3:Z15,1),COUNTIF($Z$3:Z15,-1)))),(IF(SUM(COUNTIF($AC$3:AC15,1),COUNTIF($AC$3:AC15,-1))=0,1,SUM(COUNTIF($AC$3:AC15,1),COUNTIF($AC$3:AC15,-1)))),(IF(SUM(COUNTIF($AE$3:AE15,1),COUNTIF($AE$3:AE15,-1))=0,1,SUM(COUNTIF($AE$3:AE15,1),COUNTIF($AE$3:AE15,-1)))),(IF(SUM(COUNTIF($AG$3:AG15,1),COUNTIF($AG$3:AG15,-1))=0,1,SUM(COUNTIF($AG$3:AG15,1),COUNTIF($AG$3:AG15,-1)))),(IF(SUM(COUNTIF($AI$3:AI15,1),COUNTIF($AI$3:AI15,-1))=0,1,SUM(COUNTIF($AI$3:AI15,1),COUNTIF($AI$3:AI15,-1)))),(IF(SUM(COUNTIF($AK$3:AK15,1),COUNTIF($AK$3:AK15,-1))=0,1,SUM(COUNTIF($AK$3:AK15,1),COUNTIF($AK$3:AK15,-1)))))/1000)","v":0.14400000000000002},3.673,null,{"$f":"+SUM(COUNTIF($AC$3:AC15,1),COUNTIF($AC$3:AC15,-1))","v":12},{"$f":"+SUM($O$4:O15)","v":1109},92.416666666666671,{"$f":"+SUM(COUNTIF($AC$3:AC15,1))","v":9},{"$f":"+SUM(COUNTIF($AC$3:AC15,-1))","v":3},6,{"$f":"AW15*(HARMEAN((IF(SUM(COUNTIF($Z$3:Z15,1),COUNTIF($Z$3:Z15,-1))=0,1,SUM(COUNTIF($Z$3:Z15,1),COUNTIF($Z$3:Z15,-1)))),(IF(SUM(COUNTIF($AC$3:AC15,1),COUNTIF($AC$3:AC15,-1))=0,1,SUM(COUNTIF($AC$3:AC15,1),COUNTIF($AC$3:AC15,-1)))),(IF(SUM(COUNTIF($AE$3:AE15,1),COUNTIF($AE$3:AE15,-1))=0,1,SUM(COUNTIF($AE$3:AE15,1),COUNTIF($AE$3:AE15,-1)))),(IF(SUM(COUNTIF($AG$3:AG15,1),COUNTIF($AG$3:AG15,-1))=0,1,SUM(COUNTIF($AG$3:AG15,1),COUNTIF($AG$3:AG15,-1)))),(IF(SUM(COUNTIF($AI$3:AI15,1),COUNTIF($AI$3:AI15,-1))=0,1,SUM(COUNTIF($AI$3:AI15,1),COUNTIF($AI$3:AI15,-1)))),(IF(SUM(COUNTIF($AK$3:AK15,1),COUNTIF($AK$3:AK15,-1))=0,1,SUM(COUNTIF($AK$3:AK15,1),COUNTIF($AK$3:AK15,-1)))))/1000)","v":0.14400000000000002},8.5310000000000006,null,{"$f":"+SUM(COUNTIF($AE$3:AE15,1),COUNTIF(AE$3:$AE15,-1))","v":12},{"$f":"+SUM($Q$4:Q15)","v":1180},98.333333333333329,{"$f":"+SUM(COUNTIF($AE$3:AE15,1))","v":5},{"$f":"+SUM(COUNTIF($AE$3:AE15,-1))","v":7},-2,{"$f":"BF15*(HARMEAN((IF(SUM(COUNTIF($Z$3:Z15,1),COUNTIF($Z$3:Z15,-1))=0,1,SUM(COUNTIF($Z$3:Z15,1),COUNTIF($Z$3:Z15,-1)))),(IF(SUM(COUNTIF($AC$3:AC15,1),COUNTIF($AC$3:AC15,-1))=0,1,SUM(COUNTIF($AC$3:AC15,1),COUNTIF($AC$3:AC15,-1)))),(IF(SUM(COUNTIF($AE$3:AE15,1),COUNTIF($AE$3:AE15,-1))=0,1,SUM(COUNTIF($AE$3:AE15,1),COUNTIF($AE$3:AE15,-1)))),(IF(SUM(COUNTIF($AG$3:AG15,1),COUNTIF($AG$3:AG15,-1))=0,1,SUM(COUNTIF($AG$3:AG15,1),COUNTIF($AG$3:AG15,-1)))),(IF(SUM(COUNTIF($AI$3:AI15,1),COUNTIF($AI$3:AI15,-1))=0,1,SUM(COUNTIF($AI$3:AI15,1),COUNTIF($AI$3:AI15,-1)))),(IF(SUM(COUNTIF($AK$3:AK15,1),COUNTIF($AK$3:AK15,-1))=0,1,SUM(COUNTIF($AK$3:AK15,1),COUNTIF($AK$3:AK15,-1)))))/1000)","v":0.14400000000000002},-0.98399999999999999,null,{"$f":"+SUM(COUNTIF($AG$3:AG15,1),COUNTIF($AG$3:AG15,-1))","v":12},{"$f":"+SUM($S$4:S15)","v":1312},109.33333333333333,{"$f":"+SUM(COUNTIF($AG$3:AG15,1))","v":6},{"$f":"+SUM(COUNTIF($AG$3:AG15,-1))","v":6},0,{"$f":"BO15*(HARMEAN((IF(SUM(COUNTIF($Z$3:Z15,1),COUNTIF($Z$3:Z15,-1))=0,1,SUM(COUNTIF($Z$3:Z15,1),COUNTIF($Z$3:Z15,-1)))),(IF(SUM(COUNTIF($AC$3:AC15,1),COUNTIF($AC$3:AC15,-1))=0,1,SUM(COUNTIF($AC$3:AC15,1),COUNTIF($AC$3:AC15,-1)))),(IF(SUM(COUNTIF($AE$3:AE15,1),COUNTIF($AE$3:AE15,-1))=0,1,SUM(COUNTIF($AE$3:AE15,1),COUNTIF($AE$3:AE15,-1)))),(IF(SUM(COUNTIF($AG$3:AG15,1),COUNTIF($AG$3:AG15,-1))=0,1,SUM(COUNTIF($AG$3:AG15,1),COUNTIF($AG$3:AG15,-1)))),(IF(SUM(COUNTIF($AI$3:AI15,1),COUNTIF($AI$3:AI15,-1))=0,1,SUM(COUNTIF($AI$3:AI15,1),COUNTIF($AI$3:AI15,-1)))),(IF(SUM(COUNTIF($AK$3:AK15,1),COUNTIF($AK$3:AK15,-1))=0,1,SUM(COUNTIF($AK$3:AK15,1),COUNTIF($AK$3:AK15,-1)))))/1000)","v":0.14400000000000002},1.5740000000000001,null,{"$f":"+SUM(COUNTIF($AI$3:AI15,1),COUNTIF($AI$3:AI15,-1))","v":12},{"$f":"+SUM($U$4:U15)","v":1016},84.666666666666671,{"$f":"+SUM(COUNTIF($AI$3:AI15,1))","v":3},{"$f":"+SUM(COUNTIF($AI$3:AI15,-1))","v":9},-6,{"$f":"+BX15*(HARMEAN((IF(SUM(COUNTIF($Z$3:Z15,1),COUNTIF($Z$3:Z15,-1))=0,1,SUM(COUNTIF($Z$3:Z15,1),COUNTIF($Z$3:Z15,-1)))),(IF(SUM(COUNTIF($AC$3:AC15,1),COUNTIF($AC$3:AC15,-1))=0,1,SUM(COUNTIF($AC$3:AC15,1),COUNTIF($AC$3:AC15,-1)))),(IF(SUM(COUNTIF($AE$3:AE15,1),COUNTIF($AE$3:AE15,-1))=0,1,SUM(COUNTIF($AE$3:AE15,1),COUNTIF($AE$3:AE15,-1)))),(IF(SUM(COUNTIF($AG$3:AG15,1),COUNTIF($AG$3:AG15,-1))=0,1,SUM(COUNTIF($AG$3:AG15,1),COUNTIF($AG$3:AG15,-1)))),(IF(SUM(COUNTIF($AI$3:AI15,1),COUNTIF($AI$3:AI15,-1))=0,1,SUM(COUNTIF($AI$3:AI15,1),COUNTIF($AI$3:AI15,-1)))),(IF(SUM(COUNTIF($AK$3:AK15,1),COUNTIF($AK$3:AK15,-1))=0,1,SUM(COUNTIF($AK$3:AK15,1),COUNTIF($AK$3:AK15,-1)))))/1000)","v":0.14400000000000002},-5.9809999999999999,null,{"$f":"+SUM(COUNTIF($AK$3:AK15,1),COUNTIF($AK$3:AK15,-1))","v":12},{"$f":"+SUM($W$4:W15)","v":1015},84.583333333333329,{"$f":"+SUM(COUNTIF($AK$3:AK15,1))","v":6},{"$f":"+SUM(COUNTIF($AK$3:AK15,-1))","v":6},0,{"$f":"+CG15*(HARMEAN((IF(SUM(COUNTIF($Z$3:Z15,1),COUNTIF($Z$3:Z15,-1))=0,1,SUM(COUNTIF($Z$3:Z15,1),COUNTIF($Z$3:Z15,-1)))),(IF(SUM(COUNTIF($AC$3:AC15,1),COUNTIF($AC$3:AC15,-1))=0,1,SUM(COUNTIF($AC$3:AC15,1),COUNTIF($AC$3:AC15,-1)))),(IF(SUM(COUNTIF($AE$3:AE15,1),COUNTIF($AE$3:AE15,-1))=0,1,SUM(COUNTIF($AE$3:AE15,1),COUNTIF($AE$3:AE15,-1)))),(IF(SUM(COUNTIF($AG$3:AG15,1),COUNTIF($AG$3:AG15,-1))=0,1,SUM(COUNTIF($AG$3:AG15,1),COUNTIF($AG$3:AG15,-1)))),(IF(SUM(COUNTIF($AI$3:AI15,1),COUNTIF($AI$3:AI15,-1))=0,1,SUM(COUNTIF($AI$3:AI15,1),COUNTIF($AI$3:AI15,-1)))),(IF(SUM(COUNTIF($AK$3:AK15,1),COUNTIF($AK$3:AK15,-1))=0,1,SUM(COUNTIF($AK$3:AK15,1),COUNTIF($AK$3:AK15,-1)))))/1000)","v":0.14400000000000002},1.218]
[13,"RA",null,{"$f":"+IFERROR(INDEX('Auswertung AoE II'!$AE:$AE,MATCH(A16,'Auswertung AoE II'!$AD:$AD,0)),\"\")","v":""},{"$f":"+IFERROR(INDEX('Auswertung AoE III'!$AE:$AE,MATCH(A16,'Auswertung AoE III'!$AD:$AD,0)),\"\")","v":""},{"$f":"+IFERROR(INDEX('Auswertung AoM'!$AE:$AE,MATCH(A16,'Auswertung AoM'!$AD:$AD,0)),\"\")","v":""},{"$f":"+IFERROR(INDEX('Auswertung RA'!$AE:$AE,MATCH(A16,'Auswertung RA'!$AD:$AD,0)),\"\")","v":"RA"},{"$f":"+IFERROR(INDEX('Auswertung Yuri'!$AE:$AE,MATCH(A16,'Auswertung Yuri'!$AD:$AD,0)),\"\")","v":""},{"$f":"+IFERROR(INDEX('Auswertung Generals'!$AE:$AE,MATCH(A16,'Auswertung Generals'!$AD:$AD,0)),\"\")","v":""},"Auswertung RA",null,null,{"$f":"+IF(ISERROR(+INDIRECT(CONCATENATE(\"'\",J16,\"'!\",(ADDRESS((COUNTIF($J$3:J16,IF(B16<>0,CONCATENATE(\"Auswertung \",B16,\"\"))))+2,2)))))=FALSE,+INDIRECT(CONCATENATE(\"'\",J16,\"'!\",(ADDRESS((COUNTIF($J$3:J16,IF(B16<>0,CONCATENATE(\"Auswertung \",B16,\"\"))))+4,2)))),\"\")","v":96},{"$f":"IF(ISERROR(+INDIRECT(CONCATENATE(\"'\",J16,\"'!\",(ADDRESS((COUNTIF($J$3:J16,IF(B16<>0,CONCATENATE(\"Auswertung \",B16,\"\"))))+2,2+1)))))=FALSE,+INDIRECT(CONCATENATE(\"'\",J16,\"'!\",(ADDRESS((COUNTIF($J$3:J16,IF(B16<>0,CONCATENATE(\"Auswertung \",B16,\"\"))))+4,2+1)))),\"\")","v":"S"},{"$f":"+IF(ISERROR(+INDIRECT(CONCATENATE(\"'\",J16,\"'!\",(ADDRESS((COUNTIF($J$3:J16,IF(B16<>0,CONCATENATE(\"Auswertung \",B16,\"\"))))+2,4)))))=FALSE,+INDIRECT(CONCATENATE(\"'\",J16,\"'!\",(ADDRESS((COUNTIF($J$3:J16,IF(B16<>0,CONCATENATE(\"Auswertung \",B16,\"\"))))+4,4)))),\"\")","v":16},{"$f":"+IF(ISERROR(+INDIRECT(CONCATENATE(\"'\",J16,\"'!\",(ADDRESS((COUNTIF($J$3:J16,IF(B16<>0,CONCATENATE(\"Auswertung \",B16,\"\"))))+2,5)))))=FALSE,+INDIRECT(CONCATENATE(\"'\",J16,\"'!\",(ADDRESS((COUNTIF($J$3:J16,IF(B16<>0,CONCATENATE(\"Auswertung \",B16,\"\"))))+4,5)))),\"\")","v":"S"},{"$f":"+IF(ISERROR(+INDIRECT(CONCATENATE(\"'\",J16,\"'!\",(ADDRESS((COUNTIF($J$3:J16,IF(B16<>0,CONCATENATE(\"Auswertung \",B16,\"\"))))+2,6)))))=FALSE,+INDIRECT(CONCATENATE(\"'\",J16,\"'!\",(ADDRESS((COUNTIF($J$3:J16,IF(B16<>0,CONCATENATE(\"Auswertung \",B16,\"\"))))+4,6)))),\"\")","v":45},{"$f":"+IF(ISERROR(+INDIRECT(CONCATENATE(\"'\",J16,\"'!\",(ADDRESS((COUNTIF($J$3:J16,IF(B16<>0,CONCATENATE(\"Auswertung \",B16,\"\"))))+2,7)))))=FALSE,+INDIRECT(CONCATENATE(\"'\",J16,\"'!\",(ADDRESS((COUNTIF($J$3:J16,IF(B16<>0,CONCATENATE(\"Auswertung \",B16,\"\"))))+4,7)))),\"\")","v":"A"},{"$f":"+IF(ISERROR(+INDIRECT(CONCATENATE(\"'\",J16,\"'!\",(ADDRESS((COUNTIF($J$3:J16,IF(B16<>0,CONCATENATE(\"Auswertung \",B16,\"\"))))+2,10)))))=FALSE,+INDIRECT(CONCATENATE(\"'\",J16,\"'!\",(ADDRESS((COUNTIF($J$3:J16,IF(B16<>0,CONCATENATE(\"Auswertung \",B16,\"\"))))+4,8)))),\"\")","v":17},{"$f":"+IF(ISERROR(+INDIRECT(CONCATENATE(\"'\",J16,\"'!\",(ADDRESS((COUNTIF($J$3:J16,IF(B16<>0,CONCATENATE(\"Auswertung \",B16,\"\"))))+2,11)))))=FALSE,+INDIRECT(CONCATENATE(\"'\",J16,\"'!\",(ADDRESS((COUNTIF($J$3:J16,IF(B16<>0,CONCATENATE(\"Auswertung \",B16,\"\"))))+4,9)))),\"\")","v":"A"},{"$f":"+IF(ISERROR(+INDIRECT(CONCATENATE(\"'\",J16,\"'!\",(ADDRESS((COUNTIF($J$3:J16,IF(B16<>0,CONCATENATE(\"Auswertung \",B16,\"\"))))+2,10)))))=FALSE,+INDIRECT(CONCATENATE(\"'\",J16,\"'!\",(ADDRESS((COUNTIF($J$3:J16,IF(B16<>0,CONCATENATE(\"Auswertung \",B16,\"\"))))+4,10)))),\"\")","v":104},{"$f":"+IF(ISERROR(+INDIRECT(CONCATENATE(\"'\",J16,\"'!\",(ADDRESS((COUNTIF($J$3:J16,IF(B16<>0,CONCATENATE(\"Auswertung \",B16,\"\"))))+2,11)))))=FALSE,+INDIRECT(CONCATENATE(\"'\",J16,\"'!\",(ADDRESS((COUNTIF($J$3:J16,IF(B16<>0,CONCATENATE(\"Auswertung \",B16,\"\"))))+4,11)))),\"\")","v":"S"},{"$f":"+IF(ISERROR(+INDIRECT(CONCATENATE(\"'\",J16,\"'!\",(ADDRESS((COUNTIF($J$3:J16,IF(D16<>0,CONCATENATE(\"Auswertung \",D16,\"\"))))+2,12)))))=FALSE,+INDIRECT(CONCATENATE(\"'\",J16,\"'!\",(ADDRESS((COUNTIF($J$3:J16,IF(D16<>0,CONCATENATE(\"Auswertung \",B16,\"\"))))+4,12)))),\"\")","v":11},{"$f":"+IF(ISERROR(+INDIRECT(CONCATENATE(\"'\",J16,\"'!\",(ADDRESS((COUNTIF($J$3:J16,IF(D16<>0,CONCATENATE(\"Auswertung \",D16,\"\"))))+2,13)))))=FALSE,+INDIRECT(CONCATENATE(\"'\",J16,\"'!\",(ADDRESS((COUNTIF($J$3:J16,IF(D16<>0,CONCATENATE(\"Auswertung \",B16,\"\"))))+4,13)))),\"\")","v":"S"},null,{"$f":"+IFERROR(INDIRECT(CONCATENATE(\"'\",J16,\"'!\",(ADDRESS((COUNTIF($J$3:J16,IF(B16<>0,J16)))+4,16)))),\"\")","v":1},5.4039999999999999,{"$f":"+SUM($M$4:M16)/COUNT($M$4:M16)/1000*2","v":0.17799999999999999},{"$f":"+IFERROR(INDIRECT(CONCATENATE(\"'\",J16,\"'!\",(ADDRESS((COUNTIF($J$3:J16,IF(B16<>0,J16)))+4,18)))),\"\")","v":-1},7.9630000000000001,{"$f":"+IFERROR(INDIRECT(CONCATENATE(\"'\",J16,\"'!\",(ADDRESS((COUNTIF($J$3:J16,IF(B16<>0,J16)))+4,20)))),\"\")","v":1},0.29299999999999998,{"$f":"+IFERROR(INDIRECT(CONCATENATE(\"'\",J16,\"'!\",(ADDRESS((COUNTIF($J$3:J16,IF(B16<>0,J16)))+4,22)))),\"\")","v":-1},0.42799999999999999,{"$f":"+IFERROR(INDIRECT(CONCATENATE(\"'\",J16,\"'!\",(ADDRESS((COUNTIF($J$3:J16,IF(B16<>0,J16)))+4,24)))),\"\")","v":-1},-7.6440000000000001,{"$f":"+IFERROR(INDIRECT(CONCATENATE(\"'\",J16,\"'!\",(ADDRESS((COUNTIF($J$3:J16,IF(B16<>0,J16)))+4,26)))),\"\")","v":1},2.6339999999999999,13,{"$f":"+SUM(COUNTIF($Z$3:Z16,1),COUNTIF($Z$3:Z16,-1))","v":13},{"$f":"+SUM($M$4:M16)","v":1157},89,{"$f":"+SUM(COUNTIF($Z$3:Z16,1))","v":8},{"$f":"+SUM(COUNTIF($Z$3:Z16,-1))","v":5},3,{"$f":"AN16*(HARMEAN((IF(SUM(COUNTIF($Z$3:Z16,1),COUNTIF($Z$3:Z16,-1))=0,1,SUM(COUNTIF($Z$3:Z16,1),COUNTIF($Z$3:Z16,-1)))),(IF(SUM(COUNTIF($AC$3:AC16,1),COUNTIF($AC$3:AC16,-1))=0,1,SUM(COUNTIF($AC$3:AC16,1),COUNTIF($AC$3:AC16,-1)))),(IF(SUM(COUNTIF($AE$3:AE16,1),COUNTIF($AE$3:AE16,-1))=0,1,SUM(COUNTIF($AE$3:AE16,1),COUNTIF($AE$3:AE16,-1)))),(IF(SUM(COUNTIF($AG$3:AG16,1),COUNTIF($AG$3:AG16,-1))=0,1,SUM(COUNTIF($AG$3:AG16,1),COUNTIF($AG$3:AG16,-1)))),(IF(SUM(COUNTIF($AI$3:AI16,1),COUNTIF($AI$3:AI16,-1))=0,1,SUM(COUNTIF($AI$3:AI16,1),COUNTIF($AI$3:AI16,-1)))),(IF(SUM(COUNTIF($AK$3:AK16,1),COUNTIF($AK$3:AK16,-1))=0,1,SUM(COUNTIF($AK$3:AK16,1),COUNTIF($AK$3:AK16,-1)))))/1000)","v":0.16899999999999998},5.4039999999999999,null,{"$f":"+SUM(COUNTIF($AC$3:AC16,1),COUNTIF($AC$3:AC16,-1))","v":13},{"$f":"+SUM($O$4:O16)","v":1125},86.538461538461533,{"$f":"+SUM(COUNTIF($AC$3:AC16,1))","v":9},{"$f":"+SUM(COUNTIF($AC$3:AC16,-1))","v":4},5,{"$f":"AW16*(HARMEAN((IF(SUM(COUNTIF($Z$3:Z16,1),COUNTIF($Z$3:Z16,-1))=0,1,SUM(COUNTIF($Z$3:Z16,1),COUNTIF($Z$3:Z16,-1)))),(IF(SUM(COUNTIF($AC$3:AC16,1),COUNTIF($AC$3:AC16,-1))=0,1,SUM(COUNTIF($AC$3:AC16,1),COUNTIF($AC$3:AC16,-1)))),(IF(SUM(COUNTIF($AE$3:AE16,1),COUNTIF($AE$3:AE16,-1))=0,1,SUM(COUNTIF($AE$3:AE16,1),COUNTIF($AE$3:AE16,-1)))),(IF(SUM(COUNTIF($AG$3:AG16,1),COUNTIF($AG$3:AG16,-1))=0,1,SUM(COUNTIF($AG$3:AG16,1),COUNTIF($AG$3:AG16,-1)))),(IF(SUM(COUNTIF($AI$3:AI16,1),COUNTIF($AI$3:AI16,-1))=0,1,SUM(COUNTIF($AI$3:AI16,1),COUNTIF($AI$3:AI16,-1)))),(IF(SUM(COUNTIF($AK$3:AK16,1),COUNTIF($AK$3:AK16,-1))=0,1,SUM(COUNTIF($AK$3:AK16,1),COUNTIF($AK$3:AK16,-1)))))/1000)","v":0.16899999999999998},7.9630000000000001,null,{"$f":"+SUM(COUNTIF($AE$3:AE16,1),COUNTIF(AE$3:$AE16,-1))","v":13},{"$f":"+SUM($Q$4:Q16)","v":1225},94.230769230769226,{"$f":"+SUM(COUNTIF($AE$3:AE16,1))","v":6},{"$f":"+SUM(COUNTIF($AE$3:AE16,-1))","v":7},-1,{"$f":"BF16*(HARMEAN((IF(SUM(COUNTIF($Z$3:Z16,1),COUNTIF($Z$3:Z16,-1))=0,1,SUM(COUNTIF($Z$3:Z16,1),COUNTIF($Z$3:Z16,-1)))),(IF(SUM(COUNTIF($AC$3:AC16,1),COUNTIF($AC$3:AC16,-1))=0,1,SUM(COUNTIF($AC$3:AC16,1),COUNTIF($AC$3:AC16,-1)))),(IF(SUM(COUNTIF($AE$3:AE16,1),COUNTIF($AE$3:AE16,-1))=0,1,SUM(COUNTIF($AE$3:AE16,1),COUNTIF($AE$3:AE16,-1)))),(IF(SUM(COUNTIF($AG$3:AG16,1),COUNTIF($AG$3:AG16,-1))=0,1,SUM(COUNTIF($AG$3:AG16,1),COUNTIF($AG$3:AG16,-1)))),(IF(SUM(COUNTIF($AI$3:AI16,1),COUNTIF($AI$3:AI16,-1))=0,1,SUM(COUNTIF($AI$3:AI16,1),COUNTIF($AI$3:AI16,-1)))),(IF(SUM(COUNTIF($AK$3:AK16,1),COUNTIF($AK$3:AK16,-1))=0,1,SUM(COUNTIF($AK$3:AK16,1),COUNTIF($AK$3:AK16,-1)))))/1000)","v":0.16899999999999998},0.29299999999999998,null,{"$f":"+SUM(COUNTIF($AG$3:AG16,1),COUNTIF($AG$3:AG16,-1))","v":13},{"$f":"+SUM($S$4:S16)","v":1329},102.23076923076923,{"$f":"+SUM(COUNTIF($AG$3:AG16,1))","v":6},{"$f":"+SUM(COUNTIF($AG$3:AG16,-1))","v":7},-1,{"$f":"BO16*(HARMEAN((IF(SUM(COUNTIF($Z$3:Z16,1),COUNTIF($Z$3:Z16,-1))=0,1,SUM(COUNTIF($Z$3:Z16,1),COUNTIF($Z$3:Z16,-1)))),(IF(SUM(COUNTIF($AC$3:AC16,1),COUNTIF($AC$3:AC16,-1))=0,1,SUM(COUNTIF($AC$3:AC16,1),COUNTIF($AC$3:AC16,-1)))),(IF(SUM(COUNTIF($AE$3:AE16,1),COUNTIF($AE$3:AE16,-1))=0,1,SUM(COUNTIF($AE$3:AE16,1),COUNTIF($AE$3:AE16,-1)))),(IF(SUM(COUNTIF($AG$3:AG16,1),COUNTIF($AG$3:AG16,-1))=0,1,SUM(COUNTIF($AG$3:AG16,1),COUNTIF($AG$3:AG16,-1)))),(IF(SUM(COUNTIF($AI$3:AI16,1),COUNTIF($AI$3:AI16,-1))=0,1,SUM(COUNTIF($AI$3:AI16,1),COUNTIF($AI$3:AI16,-1)))),(IF(SUM(COUNTIF($AK$3:AK16,1),COUNTIF($AK$3:AK16,-1))=0,1,SUM(COUNTIF($AK$3:AK16,1),COUNTIF($AK$3:AK16,-1)))))/1000)","v":0.16899999999999998},0.42799999999999999,null,{"$f":"+SUM(COUNTIF($AI$3:AI16,1),COUNTIF($AI$3:AI16,-1))","v":13},{"$f":"+SUM($U$4:U16)","v":1120},86.15384615384616,{"$f":"+SUM(COUNTIF($AI$3:AI16,1))","v":3},{"$f":"+SUM(COUNTIF($AI$3:AI16,-1))","v":10},-7,{"$f":"+BX16*(HARMEAN((IF(SUM(COUNTIF($Z$3:Z16,1),COUNTIF($Z$3:Z16,-1))=0,1,SUM(COUNTIF($Z$3:Z16,1),COUNTIF($Z$3:Z16,-1)))),(IF(SUM(COUNTIF($AC$3:AC16,1),COUNTIF($AC$3:AC16,-1))=0,1,SUM(COUNTIF($AC$3:AC16,1),COUNTIF($AC$3:AC16,-1)))),(IF(SUM(COUNTIF($AE$3:AE16,1),COUNTIF($AE$3:AE16,-1))=0,1,SUM(COUNTIF($AE$3:AE16,1),COUNTIF($AE$3:AE16,-1)))),(IF(SUM(COUNTIF($AG$3:AG16,1),COUNTIF($AG$3:AG16,-1))=0,1,SUM(COUNTIF($AG$3:AG16,1),COUNTIF($AG$3:AG16,-1)))),(IF(SUM(COUNTIF($AI$3:AI16,1),COUNTIF($AI$3:AI16,-1))=0,1,SUM(COUNTIF($AI$3:AI16,1),COUNTIF($AI$3:AI16,-1)))),(IF(SUM(COUNTIF($AK$3:AK16,1),COUNTIF($AK$3:AK16,-1))=0,1,SUM(COUNTIF($AK$3:AK16,1),COUNTIF($AK$3:AK16,-1)))))/1000)","v":0.16899999999999998},-7.6440000000000001,null,{"$f":"+SUM(COUNTIF($AK$3:AK16,1),COUNTIF($AK$3:AK16,-1))","v":13},{"$f":"+SUM($W$4:W16)","v":1026},78.92307692307692,{"$f":"+SUM(COUNTIF($AK$3:AK16,1))","v":7},{"$f":"+SUM(COUNTIF($AK$3:AK16,-1))","v":6},1,{"$f":"+CG16*(HARMEAN((IF(SUM(COUNTIF($Z$3:Z16,1),COUNTIF($Z$3:Z16,-1))=0,1,SUM(COUNTIF($Z$3:Z16,1),COUNTIF($Z$3:Z16,-1)))),(IF(SUM(COUNTIF($AC$3:AC16,1),COUNTIF($AC$3:AC16,-1))=0,1,SUM(COUNTIF($AC$3:AC16,1),COUNTIF($AC$3:AC16,-1)))),(IF(SUM(COUNTIF($AE$3:AE16,1),COUNTIF($AE$3:AE16,-1))=0,1,SUM(COUNTIF($AE$3:AE16,1),COUNTIF($AE$3:AE16,-1)))),(IF(SUM(COUNTIF($AG$3:AG16,1),COUNTIF($AG$3:AG16,-1))=0,1,SUM(COUNTIF($AG$3:AG16,1),COUNTIF($AG$3:AG16,-1)))),(IF(SUM(COUNTIF($AI$3:AI16,1),COUNTIF($AI$3:AI16,-1))=0,1,SUM(COUNTIF($AI$3:AI16,1),COUNTIF($AI$3:AI16,-1)))),(IF(SUM(COUNTIF($AK$3:AK16,1),COUNTIF($AK$3:AK16,-1))=0,1,SUM(COUNTIF($AK$3:AK16,1),COUNTIF($AK$3:AK16,-1)))))/1000)","v":0.16899999999999998},2.6339999999999999]
[14,"AoE II",null,{"$f":"+IFERROR(INDEX('Auswertung AoE II'!$AE:$AE,MATCH(A17,'Auswertung AoE II'!$AD:$AD,0)),\"\")","v":"AoE II"},{"$f":"+IFERROR(INDEX('Auswertung AoE III'!$AE:$AE,MATCH(A17,'Auswertung AoE III'!$AD:$AD,0)),\"\")","v":""},{"$f":"+IFERROR(INDEX('Auswertung AoM'!$AE:$AE,MATCH(A17,'Auswertung AoM'!$AD:$AD,0)),\"\")","v":""},{"$f":"+IFERROR(INDEX('Auswertung RA'!$AE:$AE,MATCH(A17,'Auswertung RA'!$AD:$AD,0)),\"\")","v":""},{"$f":"+IFERROR(INDEX('Auswertung Yuri'!$AE:$AE,MATCH(A17,'Auswertung Yuri'!$AD:$AD,0)),\"\")","v":""},{"$f":"+IFERROR(INDEX('Auswertung Generals'!$AE:$AE,MATCH(A17,'Auswertung Generals'!$AD:$AD,0)),\"\")","v":""},"Auswertung AoE II",null,null,{"$f":"+IF(ISERROR(+INDIRECT(CONCATENATE(\"'\",J17,\"'!\",(ADDRESS((COUNTIF($J$3:J17,IF(B17<>0,CONCATENATE(\"Auswertung \",B17,\"\"))))+2,2)))))=FALSE,+INDIRECT(CONCATENATE(\"'\",J17,\"'!\",(ADDRESS((COUNTIF($J$3:J17,IF(B17<>0,CONCATENATE(\"Auswertung \",B17,\"\"))))+4,2)))),\"\")","v":51},{"$f":"IF(ISERROR(+INDIRECT(CONCATENATE(\"'\",J17,\"'!\",(ADDRESS((COUNTIF($J$3:J17,IF(B17<>0,CONCATENATE(\"Auswertung \",B17,\"\"))))+2,2+1)))))=FALSE,+INDIRECT(CONCATENATE(\"'\",J17,\"'!\",(ADDRESS((COUNTIF($J$3:J17,IF(B17<>0,CONCATENATE(\"Auswertung \",B17,\"\"))))+4,2+1)))),\"\")","v":"Berb"},{"$f":"+IF(ISERROR(+INDIRECT(CONCATENATE(\"'\",J17,\"'!\",(ADDRESS((COUNTIF($J$3:J17,IF(B17<>0,CONCATENATE(\"Auswertung \",B17,\"\"))))+2,4)))))=FALSE,+INDIRECT(CONCATENATE(\"'\",J17,\"'!\",(ADDRESS((COUNTIF($J$3:J17,IF(B17<>0,CONCATENATE(\"Auswertung \",B17,\"\"))))+4,4)))),\"\")","v":91},{"$f":"+IF(ISERROR(+INDIRECT(CONCATENATE(\"'\",J17,\"'!\",(ADDRESS((COUNTIF($J$3:J17,IF(B17<>0,CONCATENATE(\"Auswertung \",B17,\"\"))))+2,5)))))=FALSE,+INDIRECT(CONCATENATE(\"'\",J17,\"'!\",(ADDRESS((COUNTIF($J$3:J17,IF(B17<>0,CONCATENATE(\"Auswertung \",B17,\"\"))))+4,5)))),\"\")","v":"Burg"},{"$f":"+IF(ISERROR(+INDIRECT(CONCATENATE(\"'\",J17,\"'!\",(ADDRESS((COUNTIF($J$3:J17,IF(B17<>0,CONCATENATE(\"Auswertung \",B17,\"\"))))+2,6)))))=FALSE,+INDIRECT(CONCATENATE(\"'\",J17,\"'!\",(ADDRESS((COUNTIF($J$3:J17,IF(B17<>0,CONCATENATE(\"Auswertung \",B17,\"\"))))+4,6)))),\"\")","v":55},{"$f":"+IF(ISERROR(+INDIRECT(CONCATENATE(\"'\",J17,\"'!\",(ADDRESS((COUNTIF($J$3:J17,IF(B17<>0,CONCATENATE(\"Auswertung \",B17,\"\"))))+2,7)))))=FALSE,+INDIRECT(CONCATENATE(\"'\",J17,\"'!\",(ADDRESS((COUNTIF($J$3:J17,IF(B17<>0,CONCATENATE(\"Auswertung \",B17,\"\"))))+4,7)))),\"\")","v":"Berb"},{"$f":"+IF(ISERROR(+INDIRECT(CONCATENATE(\"'\",J17,\"'!\",(ADDRESS((COUNTIF($J$3:J17,IF(B17<>0,CONCATENATE(\"Auswertung \",B17,\"\"))))+2,10)))))=FALSE,+INDIRECT(CONCATENATE(\"'\",J17,\"'!\",(ADDRESS((COUNTIF($J$3:J17,IF(B17<>0,CONCATENATE(\"Auswertung \",B17,\"\"))))+4,8)))),\"\")","v":96},{"$f":"+IF(ISERROR(+INDIRECT(CONCATENATE(\"'\",J17,\"'!\",(ADDRESS((COUNTIF($J$3:J17,IF(B17<>0,CONCATENATE(\"Auswertung \",B17,\"\"))))+2,11)))))=FALSE,+INDIRECT(CONCATENATE(\"'\",J17,\"'!\",(ADDRESS((COUNTIF($J$3:J17,IF(B17<>0,CONCATENATE(\"Auswertung \",B17,\"\"))))+4,9)))),\"\")","v":"Groo"},{"$f":"+IF(ISERROR(+INDIRECT(CONCATENATE(\"'\",J17,\"'!\",(ADDRESS((COUNTIF($J$3:J17,IF(B17<>0,CONCATENATE(\"Auswertung \",B17,\"\"))))+2,10)))))=FALSE,+INDIRECT(CONCATENATE(\"'\",J17,\"'!\",(ADDRESS((COUNTIF($J$3:J17,IF(B17<>0,CONCATENATE(\"Auswertung \",B17,\"\"))))+4,10)))),\"\")","v":13},{"$f":"+IF(ISERROR(+INDIRECT(CONCATENATE(\"'\",J17,\"'!\",(ADDRESS((COUNTIF($J$3:J17,IF(B17<>0,CONCATENATE(\"Auswertung \",B17,\"\"))))+2,11)))))=FALSE,+INDIRECT(CONCATENATE(\"'\",J17,\"'!\",(ADDRESS((COUNTIF($J$3:J17,IF(B17<>0,CONCATENATE(\"Auswertung \",B17,\"\"))))+4,11)))),\"\")","v":"Geo"},{"$f":"+IF(ISERROR(+INDIRECT(CONCATENATE(\"'\",J17,\"'!\",(ADDRESS((COUNTIF($J$3:J17,IF(D17<>0,CONCATENATE(\"Auswertung \",D17,\"\"))))+2,12)))))=FALSE,+INDIRECT(CONCATENATE(\"'\",J17,\"'!\",(ADDRESS((COUNTIF($J$3:J17,IF(D17<>0,CONCATENATE(\"Auswertung \",B17,\"\"))))+4,12)))),\"\")","v":64},{"$f":"+IF(ISERROR(+INDIRECT(CONCATENATE(\"'\",J17,\"'!\",(ADDRESS((COUNTIF($J$3:J17,IF(D17<>0,CONCATENATE(\"Auswertung \",D17,\"\"))))+2,13)))))=FALSE,+INDIRECT(CONCATENATE(\"'\",J17,\"'!\",(ADDRESS((COUNTIF($J$3:J17,IF(D17<>0,CONCATENATE(\"Auswertung \",B17,\"\"))))+4,13)))),\"\")","v":"Burg"},null,{"$f":"+IFERROR(INDIRECT(CONCATENATE(\"'\",J17,\"'!\",(ADDRESS((COUNTIF($J$3:J17,IF(B17<>0,J17)))+4,16)))),\"\")","v":1},7.2910000000000004,{"$f":"+SUM($M$4:M17)/COUNT($M$4:M17)/1000*2","v":0.17257142857142857},{"$f":"+IFERROR(INDIRECT(CONCATENATE(\"'\",J17,\"'!\",(ADDRESS((COUNTIF($J$3:J17,IF(B17<>0,J17)))+4,18)))),\"\")","v":-1},7.3019999999999996,{"$f":"+IFERROR(INDIRECT(CONCATENATE(\"'\",J17,\"'!\",(ADDRESS((COUNTIF($J$3:J17,IF(B17<>0,J17)))+4,20)))),\"\")","v":-1},-1.008,{"$f":"+IFERROR(INDIRECT(CONCATENATE(\"'\",J17,\"'!\",(ADDRESS((COUNTIF($J$3:J17,IF(B17<>0,J17)))+4,22)))),\"\")","v":1},1.9950000000000001,{"$f":"+IFERROR(INDIRECT(CONCATENATE(\"'\",J17,\"'!\",(ADDRESS((COUNTIF($J$3:J17,IF(B17<>0,J17)))+4,24)))),\"\")","v":-1},-9.6140000000000008,{"$f":"+IFERROR(INDIRECT(CONCATENATE(\"'\",J17,\"'!\",(ADDRESS((COUNTIF($J$3:J17,IF(B17<>0,J17)))+4,26)))),\"\")","v":1},4.3259999999999996,14,{"$f":"+SUM(COUNTIF($Z$3:Z17,1),COUNTIF($Z$3:Z17,-1))","v":14},{"$f":"+SUM($M$4:M17)","v":1208},{"$f":"+AO17/AN17","v":86.285714285714292},{"$f":"+SUM(COUNTIF($Z$3:Z17,1))","v":9},{"$f":"+SUM(COUNTIF($Z$3:Z17,-1))","v":5},{"$f":"+AQ17-AR17","v":4},{"$f":"AN17*(HARMEAN((IF(SUM(COUNTIF($Z$3:Z17,1),COUNTIF($Z$3:Z17,-1))=0,1,SUM(COUNTIF($Z$3:Z17,1),COUNTIF($Z$3:Z17,-1)))),(IF(SUM(COUNTIF($AC$3:AC17,1),COUNTIF($AC$3:AC17,-1))=0,1,SUM(COUNTIF($AC$3:AC17,1),COUNTIF($AC$3:AC17,-1)))),(IF(SUM(COUNTIF($AE$3:AE17,1),COUNTIF($AE$3:AE17,-1))=0,1,SUM(COUNTIF($AE$3:AE17,1),COUNTIF($AE$3:AE17,-1)))),(IF(SUM(COUNTIF($AG$3:AG17,1),COUNTIF($AG$3:AG17,-1))=0,1,SUM(COUNTIF($AG$3:AG17,1),COUNTIF($AG$3:AG17,-1)))),(IF(SUM(COUNTIF($AI$3:AI17,1),COUNTIF($AI$3:AI17,-1))=0,1,SUM(COUNTIF($AI$3:AI17,1),COUNTIF($AI$3:AI17,-1)))),(IF(SUM(COUNTIF($AK$3:AK17,1),COUNTIF($AK$3:AK17,-1))=0,1,SUM(COUNTIF($AK$3:AK17,1),COUNTIF($AK$3:AK17,-1)))))/1000)","v":0.19600000000000006},{"$f":"IF(AN17=0,\"-\",IF(AN17=0,0,ROUND(((AQ17/AN17-AR17/AN17)*100+AP17/10)*AT17,3)))","v":7.2910000000000004},null,{"$f":"+SUM(COUNTIF($AC$3:AC17,1),COUNTIF($AC$3:AC17,-1))","v":14},{"$f":"+SUM($O$4:O17)","v":1216},{"$f":"+AX17/AW17","v":86.857142857142861},{"$f":"+SUM(COUNTIF($AC$3:AC17,1))","v":9},{"$f":"+SUM(COUNTIF($AC$3:AC17,-1))","v":5},{"$f":"+AZ17-BA17","v":4},{"$f":"AW17*(HARMEAN((IF(SUM(COUNTIF($Z$3:Z17,1),COUNTIF($Z$3:Z17,-1))=0,1,SUM(COUNTIF($Z$3:Z17,1),COUNTIF($Z$3:Z17,-1)))),(IF(SUM(COUNTIF($AC$3:AC17,1),COUNTIF($AC$3:AC17,-1))=0,1,SUM(COUNTIF($AC$3:AC17,1),COUNTIF($AC$3:AC17,-1)))),(IF(SUM(COUNTIF($AE$3:AE17,1),COUNTIF($AE$3:AE17,-1))=0,1,SUM(COUNTIF($AE$3:AE17,1),COUNTIF($AE$3:AE17,-1)))),(IF(SUM(COUNTIF($AG$3:AG17,1),COUNTIF($AG$3:AG17,-1))=0,1,SUM(COUNTIF($AG$3:AG17,1),COUNTIF($AG$3:AG17,-1)))),(IF(SUM(COUNTIF($AI$3:AI17,1),COUNTIF($AI$3:AI17,-1))=0,1,SUM(COUNTIF($AI$3:AI17,1),COUNTIF($AI$3:AI17,-1)))),(IF(SUM(COUNTIF($AK$3:AK17,1),COUNTIF($AK$3:AK17,-1))=0,1,SUM(COUNTIF($AK$3:AK17,1),COUNTIF($AK$3:AK17,-1)))))/1000)","v":0.19600000000000006},{"$f":"IF(AW17=0,\"-\",IF(AN17=0,0,ROUND(((AZ17/AW17-BA17/AW17)*100+AY17/10)*BC17,3)))","v":7.3019999999999996},null,{"$f":"+SUM(COUNTIF($AE$3:AE17,1),COUNTIF(AE$3:$AE17,-1))","v":14},{"$f":"+SUM($Q$4:Q17)","v":1280},{"$f":"+BG17/BF17","v":91.428571428571431},{"$f":"+SUM(COUNTIF($AE$3:AE17,1))","v":6},{"$f":"+SUM(COUNTIF($AE$3:AE17,-1))","v":8},{"$f":"+BI17-BJ17","v":-2},{"$f":"BF17*(HARMEAN((IF(SUM(COUNTIF($Z$3:Z17,1),COUNTIF($Z$3:Z17,-1))=0,1,SUM(COUNTIF($Z$3:Z17,1),COUNTIF($Z$3:Z17,-1)))),(IF(SUM(COUNTIF($AC$3:AC17,1),COUNTIF($AC$3:AC17,-1))=0,1,SUM(COUNTIF($AC$3:AC17,1),COUNTIF($AC$3:AC17,-1)))),(IF(SUM(COUNTIF($AE$3:AE17,1),COUNTIF($AE$3:AE17,-1))=0,1,SUM(COUNTIF($AE$3:AE17,1),COUNTIF($AE$3:AE17,-1)))),(IF(SUM(COUNTIF($AG$3:AG17,1),COUNTIF($AG$3:AG17,-1))=0,1,SUM(COUNTIF($AG$3:AG17,1),COUNTIF($AG$3:AG17,-1)))),(IF(SUM(COUNTIF($AI$3:AI17,1),COUNTIF($AI$3:AI17,-1))=0,1,SUM(COUNTIF($AI$3:AI17,1),COUNTIF($AI$3:AI17,-1)))),(IF(SUM(COUNTIF($AK$3:AK17,1),COUNTIF($AK$3:AK17,-1))=0,1,SUM(COUNTIF($AK$3:AK17,1),COUNTIF($AK$3:AK17,-1)))))/1000)","v":0.19600000000000006},{"$f":"IF(BF17=0,\"-\",IF(BF17=0,0,ROUND(((BI17/BF17-BJ17/BF17)*100+BH17/10)*BL17,3)))","v":-1.008},null,{"$f":"+SUM(COUNTIF($AG$3:AG17,1),COUNTIF($AG$3:AG17,-1))","v":14},{"$f":"+SUM($S$4:S17)","v":1425},{"$f":"+BP17/BO17","v":101.78571428571429},{"$f":"+SUM(COUNTIF($AG$3:AG17,1))","v":7},{"$f":"+SUM(COUNTIF($AG$3:AG17,-1))","v":7},{"$f":"+BR17-BS17","v":0},{"$f":"BO17*(HARMEAN((IF(SUM(COUNTIF($Z$3:Z17,1),COUNTIF($Z$3:Z17,-1))=0,1,SUM(COUNTIF($Z$3:Z17,1),COUNTIF($Z$3:Z17,-1)))),(IF(SUM(COUNTIF($AC$3:AC17,1),COUNTIF($AC$3:AC17,-1))=0,1,SUM(COUNTIF($AC$3:AC17,1),COUNTIF($AC$3:AC17,-1)))),(IF(SUM(COUNTIF($AE$3:AE17,1),COUNTIF($AE$3:AE17,-1))=0,1,SUM(COUNTIF($AE$3:AE17,1),COUNTIF($AE$3:AE17,-1)))),(IF(SUM(COUNTIF($AG$3:AG17,1),COUNTIF($AG$3:AG17,-1))=0,1,SUM(COUNTIF($AG$3:AG17,1),COUNTIF($AG$3:AG17,-1)))),(IF(SUM(COUNTIF($AI$3:AI17,1),COUNTIF($AI$3:AI17,-1))=0,1,SUM(COUNTIF($AI$3:AI17,1),COUNTIF($AI$3:AI17,-1)))),(IF(SUM(COUNTIF($AK$3:AK17,1),COUNTIF($AK$3:AK17,-1))=0,1,SUM(COUNTIF($AK$3:AK17,1),COUNTIF($AK$3:AK17,-1)))))/1000)","v":0.19600000000000006},{"$f":"IF(BO17=0,\"-\",IF(BO17=0,0,ROUND(((BR17/BO17-BS17/BO17)*100+BQ17/10)*BU17,3)))","v":1.9950000000000001},null,{"$f":"+SUM(COUNTIF($AI$3:AI17,1),COUNTIF($AI$3:AI17,-1))","v":14},{"$f":"+SUM($U$4:U17)","v":1133},80.928571428571431,{"$f":"+SUM(COUNTIF($AI$3:AI17,1))","v":3},{"$f":"+SUM(COUNTIF($AI$3:AI17,-1))","v":11},-8,{"$f":"+BX17*(HARMEAN((IF(SUM(COUNTIF($Z$3:Z17,1),COUNTIF($Z$3:Z17,-1))=0,1,SUM(COUNTIF($Z$3:Z17,1),COUNTIF($Z$3:Z17,-1)))),(IF(SUM(COUNTIF($AC$3:AC17,1),COUNTIF($AC$3:AC17,-1))=0,1,SUM(COUNTIF($AC$3:AC17,1),COUNTIF($AC$3:AC17,-1)))),(IF(SUM(COUNTIF($AE$3:AE17,1),COUNTIF($AE$3:AE17,-1))=0,1,SUM(COUNTIF($AE$3:AE17,1),COUNTIF($AE$3:AE17,-1)))),(IF(SUM(COUNTIF($AG$3:AG17,1),COUNTIF($AG$3:AG17,-1))=0,1,SUM(COUNTIF($AG$3:AG17,1),COUNTIF($AG$3:AG17,-1)))),(IF(SUM(COUNTIF($AI$3:AI17,1),COUNTIF($AI$3:AI17,-1))=0,1,SUM(COUNTIF($AI$3:AI17,1),COUNTIF($AI$3:AI17,-1)))),(IF(SUM(COUNTIF($AK$3:AK17,1),COUNTIF($AK$3:AK17,-1))=0,1,SUM(COUNTIF($AK$3:AK17,1),COUNTIF($AK$3:AK17,-1)))))/1000)","v":0.19600000000000006},-9.6140000000000008,null,{"$f":"+SUM(COUNTIF($AK$3:AK17,1),COUNTIF($AK$3:AK17,-1))","v":14},{"$f":"+SUM($W$4:W17)","v":1090},77.857142857142861,{"$f":"+SUM(COUNTIF($AK$3:AK17,1))","v":8},{"$f":"+SUM(COUNTIF($AK$3:AK17,-1))","v":6},2,{"$f":"+CG17*(HARMEAN((IF(SUM(COUNTIF($Z$3:Z17,1),COUNTIF($Z$3:Z17,-1))=0,1,SUM(COUNTIF($Z$3:Z17,1),COUNTIF($Z$3:Z17,-1)))),(IF(SUM(COUNTIF($AC$3:AC17,1),COUNTIF($AC$3:AC17,-1))=0,1,SUM(COUNTIF($AC$3:AC17,1),COUNTIF($AC$3:AC17,-1)))),(IF(SUM(COUNTIF($AE$3:AE17,1),COUNTIF($AE$3:AE17,-1))=0,1,SUM(COUNTIF($AE$3:AE17,1),COUNTIF($AE$3:AE17,-1)))),(IF(SUM(COUNTIF($AG$3:AG17,1),COUNTIF($AG$3:AG17,-1))=0,1,SUM(COUNTIF($AG$3:AG17,1),COUNTIF($AG$3:AG17,-1)))),(IF(SUM(COUNTIF($AI$3:AI17,1),COUNTIF($AI$3:AI17,-1))=0,1,SUM(COUNTIF($AI$3:AI17,1),COUNTIF($AI$3:AI17,-1)))),(IF(SUM(COUNTIF($AK$3:AK17,1),COUNTIF($AK$3:AK17,-1))=0,1,SUM(COUNTIF($AK$3:AK17,1),COUNTIF($AK$3:AK17,-1)))))/1000)","v":0.19600000000000006},4.3259999999999996]
[15,"AoM",null,{"$f":"+IFERROR(INDEX('Auswertung AoE II'!$AE:$AE,MATCH(A18,'Auswertung AoE II'!$AD:$AD,0)),\"\")","v":""},{"$f":"+IFERROR(INDEX('Auswertung AoE III'!$AE:$AE,MATCH(A18,'Auswertung AoE III'!$AD:$AD,0)),\"\")","v":""},{"$f":"+IFERROR(INDEX('Auswertung AoM'!$AE:$AE,MATCH(A18,'Auswertung AoM'!$AD:$AD,0)),\"\")","v":"AoM"},{"$f":"+IFERROR(INDEX('Auswertung RA'!$AE:$AE,MATCH(A18,'Auswertung RA'!$AD:$AD,0)),\"\")","v":""},{"$f":"+IFERROR(INDEX('Auswertung Yuri'!$AE:$AE,MATCH(A18,'Auswertung Yuri'!$AD:$AD,0)),\"\")","v":""},{"$f":"+IFERROR(INDEX('Auswertung Generals'!$AE:$AE,MATCH(A18,'Auswertung Generals'!$AD:$AD,0)),\"\")","v":""},"Auswertung AoM",null,null,{"$f":"+IF(ISERROR(+INDIRECT(CONCATENATE(\"'\",J18,\"'!\",(ADDRESS((COUNTIF($J$3:J18,IF(B18<>0,CONCATENATE(\"Auswertung \",B18,\"\"))))+2,2)))))=FALSE,+INDIRECT(CONCATENATE(\"'\",J18,\"'!\",(ADDRESS((COUNTIF($J$3:J18,IF(B18<>0,CONCATENATE(\"Auswertung \",B18,\"\"))))+4,2)))),\"\")","v":120},{"$f":"IF(ISERROR(+INDIRECT(CONCATENATE(\"'\",J18,\"'!\",(ADDRESS((COUNTIF($J$3:J18,IF(B18<>0,CONCATENATE(\"Auswertung \",B18,\"\"))))+2,2+1)))))=FALSE,+INDIRECT(CONCATENATE(\"'\",J18,\"'!\",(ADDRESS((COUNTIF($J$3:J18,IF(B18<>0,CONCATENATE(\"Auswertung \",B18,\"\"))))+4,2+1)))),\"\")","v":"Re"},{"$f":"+IF(ISERROR(+INDIRECT(CONCATENATE(\"'\",J18,\"'!\",(ADDRESS((COUNTIF($J$3:J18,IF(B18<>0,CONCATENATE(\"Auswertung \",B18,\"\"))))+2,4)))))=FALSE,+INDIRECT(CONCATENATE(\"'\",J18,\"'!\",(ADDRESS((COUNTIF($J$3:J18,IF(B18<>0,CONCATENATE(\"Auswertung \",B18,\"\"))))+4,4)))),\"\")","v":87},{"$f":"+IF(ISERROR(+INDIRECT(CONCATENATE(\"'\",J18,\"'!\",(ADDRESS((COUNTIF($J$3:J18,IF(B18<>0,CONCATENATE(\"Auswertung \",B18,\"\"))))+2,5)))))=FALSE,+INDIRECT(CONCATENATE(\"'\",J18,\"'!\",(ADDRESS((COUNTIF($J$3:J18,IF(B18<>0,CONCATENATE(\"Auswertung \",B18,\"\"))))+4,5)))),\"\")","v":"Uranos"},{"$f":"+IF(ISERROR(+INDIRECT(CONCATENATE(\"'\",J18,\"'!\",(ADDRESS((COUNTIF($J$3:J18,IF(B18<>0,CONCATENATE(\"Auswertung \",B18,\"\"))))+2,6)))))=FALSE,+INDIRECT(CONCATENATE(\"'\",J18,\"'!\",(ADDRESS((COUNTIF($J$3:J18,IF(B18<>0,CONCATENATE(\"Auswertung \",B18,\"\"))))+4,6)))),\"\")","v":78},{"$f":"+IF(ISERROR(+INDIRECT(CONCATENATE(\"'\",J18,\"'!\",(ADDRESS((COUNTIF($J$3:J18,IF(B18<>0,CONCATENATE(\"Auswertung \",B18,\"\"))))+2,7)))))=FALSE,+INDIRECT(CONCATENATE(\"'\",J18,\"'!\",(ADDRESS((COUNTIF($J$3:J18,IF(B18<>0,CONCATENATE(\"Auswertung \",B18,\"\"))))+4,7)))),\"\")","v":"Re"},{"$f":"+IF(ISERROR(+INDIRECT(CONCATENATE(\"'\",J18,\"'!\",(ADDRESS((COUNTIF($J$3:J18,IF(B18<>0,CONCATENATE(\"Auswertung \",B18,\"\"))))+2,10)))))=FALSE,+INDIRECT(CONCATENATE(\"'\",J18,\"'!\",(ADDRESS((COUNTIF($J$3:J18,IF(B18<>0,CONCATENATE(\"Auswertung \",B18,\"\"))))+4,8)))),\"\")","v":49},{"$f":"+IF(ISERROR(+INDIRECT(CONCATENATE(\"'\",J18,\"'!\",(ADDRESS((COUNTIF($J$3:J18,IF(B18<>0,CONCATENATE(\"Auswertung \",B18,\"\"))))+2,11)))))=FALSE,+INDIRECT(CONCATENATE(\"'\",J18,\"'!\",(ADDRESS((COUNTIF($J$3:J18,IF(B18<>0,CONCATENATE(\"Auswertung \",B18,\"\"))))+4,9)))),\"\")","v":"Gaia"},{"$f":"+IF(ISERROR(+INDIRECT(CONCATENATE(\"'\",J18,\"'!\",(ADDRESS((COUNTIF($J$3:J18,IF(B18<>0,CONCATENATE(\"Auswertung \",B18,\"\"))))+2,10)))))=FALSE,+INDIRECT(CONCATENATE(\"'\",J18,\"'!\",(ADDRESS((COUNTIF($J$3:J18,IF(B18<>0,CONCATENATE(\"Auswertung \",B18,\"\"))))+4,10)))),\"\")","v":62},{"$f":"+IF(ISERROR(+INDIRECT(CONCATENATE(\"'\",J18,\"'!\",(ADDRESS((COUNTIF($J$3:J18,IF(B18<>0,CONCATENATE(\"Auswertung \",B18,\"\"))))+2,11)))))=FALSE,+INDIRECT(CONCATENATE(\"'\",J18,\"'!\",(ADDRESS((COUNTIF($J$3:J18,IF(B18<>0,CONCATENATE(\"Auswertung \",B18,\"\"))))+4,11)))),\"\")","v":"Gaia"},{"$f":"+IF(ISERROR(+INDIRECT(CONCATENATE(\"'\",J18,\"'!\",(ADDRESS((COUNTIF($J$3:J18,IF(D18<>0,CONCATENATE(\"Auswertung \",D18,\"\"))))+2,12)))))=FALSE,+INDIRECT(CONCATENATE(\"'\",J18,\"'!\",(ADDRESS((COUNTIF($J$3:J18,IF(D18<>0,CONCATENATE(\"Auswertung \",B18,\"\"))))+4,12)))),\"\")","v":53},{"$f":"+IF(ISERROR(+INDIRECT(CONCATENATE(\"'\",J18,\"'!\",(ADDRESS((COUNTIF($J$3:J18,IF(D18<>0,CONCATENATE(\"Auswertung \",D18,\"\"))))+2,13)))))=FALSE,+INDIRECT(CONCATENATE(\"'\",J18,\"'!\",(ADDRESS((COUNTIF($J$3:J18,IF(D18<>0,CONCATENATE(\"Auswertung \",B18,\"\"))))+4,13)))),\"\")","v":"Uranos"},null,{"$f":"+IFERROR(INDIRECT(CONCATENATE(\"'\",J18,\"'!\",(ADDRESS((COUNTIF($J$3:J18,IF(B18<>0,J18)))+4,16)))),\"\")","v":1},9.4920000000000009,{"$f":"+SUM($M$4:M18)/COUNT($M$4:M18)/1000*2","v":0.17706666666666665},{"$f":"+IFERROR(INDIRECT(CONCATENATE(\"'\",J18,\"'!\",(ADDRESS((COUNTIF($J$3:J18,IF(B18<>0,J18)))+4,18)))),\"\")","v":1},9.4550000000000001,{"$f":"+IFERROR(INDIRECT(CONCATENATE(\"'\",J18,\"'!\",(ADDRESS((COUNTIF($J$3:J18,IF(B18<>0,J18)))+4,20)))),\"\")","v":-1},-2.4630000000000001,{"$f":"+IFERROR(INDIRECT(CONCATENATE(\"'\",J18,\"'!\",(ADDRESS((COUNTIF($J$3:J18,IF(B18<>0,J18)))+4,22)))),\"\")","v":1},3.7109999999999999,{"$f":"+IFERROR(INDIRECT(CONCATENATE(\"'\",J18,\"'!\",(ADDRESS((COUNTIF($J$3:J18,IF(B18<>0,J18)))+4,24)))),\"\")","v":-1},-11.708,{"$f":"+IFERROR(INDIRECT(CONCATENATE(\"'\",J18,\"'!\",(ADDRESS((COUNTIF($J$3:J18,IF(B18<>0,J18)))+4,26)))),\"\")","v":-1},3.2149999999999999,15,{"$f":"+SUM(COUNTIF($Z$3:Z18,1),COUNTIF($Z$3:Z18,-1))","v":15},{"$f":"+SUM($M$4:M18)","v":1328},88.533333333333331,{"$f":"+SUM(COUNTIF($Z$3:Z18,1))","v":10},{"$f":"+SUM(COUNTIF($Z$3:Z18,-1))","v":5},5,{"$f":"AN18*(HARMEAN((IF(SUM(COUNTIF($Z$3:Z18,1),COUNTIF($Z$3:Z18,-1))=0,1,SUM(COUNTIF($Z$3:Z18,1),COUNTIF($Z$3:Z18,-1)))),(IF(SUM(COUNTIF($AC$3:AC18,1),COUNTIF($AC$3:AC18,-1))=0,1,SUM(COUNTIF($AC$3:AC18,1),COUNTIF($AC$3:AC18,-1)))),(IF(SUM(COUNTIF($AE$3:AE18,1),COUNTIF($AE$3:AE18,-1))=0,1,SUM(COUNTIF($AE$3:AE18,1),COUNTIF($AE$3:AE18,-1)))),(IF(SUM(COUNTIF($AG$3:AG18,1),COUNTIF($AG$3:AG18,-1))=0,1,SUM(COUNTIF($AG$3:AG18,1),COUNTIF($AG$3:AG18,-1)))),(IF(SUM(COUNTIF($AI$3:AI18,1),COUNTIF($AI$3:AI18,-1))=0,1,SUM(COUNTIF($AI$3:AI18,1),COUNTIF($AI$3:AI18,-1)))),(IF(SUM(COUNTIF($AK$3:AK18,1),COUNTIF($AK$3:AK18,-1))=0,1,SUM(COUNTIF($AK$3:AK18,1),COUNTIF($AK$3:AK18,-1)))))/1000)","v":0.22499999999999998},9.4920000000000009,null,{"$f":"+SUM(COUNTIF($AC$3:AC18,1),COUNTIF($AC$3:AC18,-1))","v":15},{"$f":"+SUM($O$4:O18)","v":1303},86.86666666666666,{"$f":"+SUM(COUNTIF($AC$3:AC18,1))","v":10},{"$f":"+SUM(COUNTIF($AC$3:AC18,-1))","v":5},5,{"$f":"AW18*(HARMEAN((IF(SUM(COUNTIF($Z$3:Z18,1),COUNTIF($Z$3:Z18,-1))=0,1,SUM(COUNTIF($Z$3:Z18,1),COUNTIF($Z$3:Z18,-1)))),(IF(SUM(COUNTIF($AC$3:AC18,1),COUNTIF($AC$3:AC18,-1))=0,1,SUM(COUNTIF($AC$3:AC18,1),COUNTIF($AC$3:AC18,-1)))),(IF(SUM(COUNTIF($AE$3:AE18,1),COUNTIF($AE$3:AE18,-1))=0,1,SUM(COUNTIF($AE$3:AE18,1),COUNTIF($AE$3:AE18,-1)))),(IF(SUM(COUNTIF($AG$3:AG18,1),COUNTIF($AG$3:AG18,-1))=0,1,SUM(COUNTIF($AG$3:AG18,1),COUNTIF($AG$3:AG18,-1)))),(IF(SUM(COUNTIF($AI$3:AI18,1),COUNTIF($AI$3:AI18,-1))=0,1,SUM(COUNTIF($AI$3:AI18,1),COUNTIF($AI$3:AI18,-1)))),(IF(SUM(COUNTIF($AK$3:AK18,1),COUNTIF($AK$3:AK18,-1))=0,1,SUM(COUNTIF($AK$3:AK18,1),COUNTIF($AK$3:AK18,-1)))))/1000)","v":0.22499999999999998},9.4550000000000001,null,{"$f":"+SUM(COUNTIF($AE$3:AE18,1),COUNTIF(AE$3:$AE18,-1))","v":15},{"$f":"+SUM($Q$4:Q18)","v":1358},90.533333333333331,{"$f":"+SUM(COUNTIF($AE$3:AE18,1))","v":6},{"$f":"+SUM(COUNTIF($AE$3:AE18,-1))","v":9},-3,{"$f":"BF18*(HARMEAN((IF(SUM(COUNTIF($Z$3:Z18,1),COUNTIF($Z$3:Z18,-1))=0,1,SUM(COUNTIF($Z$3:Z18,1),COUNTIF($Z$3:Z18,-1)))),(IF(SUM(COUNTIF($AC$3:AC18,1),COUNTIF($AC$3:AC18,-1))=0,1,SUM(COUNTIF($AC$3:AC18,1),COUNTIF($AC$3:AC18,-1)))),(IF(SUM(COUNTIF($AE$3:AE18,1),COUNTIF($AE$3:AE18,-1))=0,1,SUM(COUNTIF($AE$3:AE18,1),COUNTIF($AE$3:AE18,-1)))),(IF(SUM(COUNTIF($AG$3:AG18,1),COUNTIF($AG$3:AG18,-1))=0,1,SUM(COUNTIF($AG$3:AG18,1),COUNTIF($AG$3:AG18,-1)))),(IF(SUM(COUNTIF($AI$3:AI18,1),COUNTIF($AI$3:AI18,-1))=0,1,SUM(COUNTIF($AI$3:AI18,1),COUNTIF($AI$3:AI18,-1)))),(IF(SUM(COUNTIF($AK$3:AK18,1),COUNTIF($AK$3:AK18,-1))=0,1,SUM(COUNTIF($AK$3:AK18,1),COUNTIF($AK$3:AK18,-1)))))/1000)","v":0.22499999999999998},-2.4630000000000001,null,{"$f":"+SUM(COUNTIF($AG$3:AG18,1),COUNTIF($AG$3:AG18,-1))","v":15},{"$f":"+SUM($S$4:S18)","v":1474},98.266666666666666,{"$f":"+SUM(COUNTIF($AG$3:AG18,1))","v":8},{"$f":"+SUM(COUNTIF($AG$3:AG18,-1))","v":7},1,{"$f":"BO18*(HARMEAN((IF(SUM(COUNTIF($Z$3:Z18,1),COUNTIF($Z$3:Z18,-1))=0,1,SUM(COUNTIF($Z$3:Z18,1),COUNTIF($Z$3:Z18,-1)))),(IF(SUM(COUNTIF($AC$3:AC18,1),COUNTIF($AC$3:AC18,-1))=0,1,SUM(COUNTIF($AC$3:AC18,1),COUNTIF($AC$3:AC18,-1)))),(IF(SUM(COUNTIF($AE$3:AE18,1),COUNTIF($AE$3:AE18,-1))=0,1,SUM(COUNTIF($AE$3:AE18,1),COUNTIF($AE$3:AE18,-1)))),(IF(SUM(COUNTIF($AG$3:AG18,1),COUNTIF($AG$3:AG18,-1))=0,1,SUM(COUNTIF($AG$3:AG18,1),COUNTIF($AG$3:AG18,-1)))),(IF(SUM(COUNTIF($AI$3:AI18,1),COUNTIF($AI$3:AI18,-1))=0,1,SUM(COUNTIF($AI$3:AI18,1),COUNTIF($AI$3:AI18,-1)))),(IF(SUM(COUNTIF($AK$3:AK18,1),COUNTIF($AK$3:AK18,-1))=0,1,SUM(COUNTIF($AK$3:AK18,1),COUNTIF($AK$3:AK18,-1)))))/1000)","v":0.22499999999999998},3.7109999999999999,null,{"$f":"+SUM(COUNTIF($AI$3:AI18,1),COUNTIF($AI$3:AI18,-1))","v":15},{"$f":"+SUM($U$4:U18)","v":1195},79.666666666666671,{"$f":"+SUM(COUNTIF($AI$3:AI18,1))","v":3},{"$f":"+SUM(COUNTIF($AI$3:AI18,-1))","v":12},-9,{"$f":"+BX18*(HARMEAN((IF(SUM(COUNTIF($Z$3:Z18,1),COUNTIF($Z$3:Z18,-1))=0,1,SUM(COUNTIF($Z$3:Z18,1),COUNTIF($Z$3:Z18,-1)))),(IF(SUM(COUNTIF($AC$3:AC18,1),COUNTIF($AC$3:AC18,-1))=0,1,SUM(COUNTIF($AC$3:AC18,1),COUNTIF($AC$3:AC18,-1)))),(IF(SUM(COUNTIF($AE$3:AE18,1),COUNTIF($AE$3:AE18,-1))=0,1,SUM(COUNTIF($AE$3:AE18,1),COUNTIF($AE$3:AE18,-1)))),(IF(SUM(COUNTIF($AG$3:AG18,1),COUNTIF($AG$3:AG18,-1))=0,1,SUM(COUNTIF($AG$3:AG18,1),COUNTIF($AG$3:AG18,-1)))),(IF(SUM(COUNTIF($AI$3:AI18,1),COUNTIF($AI$3:AI18,-1))=0,1,SUM(COUNTIF($AI$3:AI18,1),COUNTIF($AI$3:AI18,-1)))),(IF(SUM(COUNTIF($AK$3:AK18,1),COUNTIF($AK$3:AK18,-1))=0,1,SUM(COUNTIF($AK$3:AK18,1),COUNTIF($AK$3:AK18,-1)))))/1000)","v":0.22499999999999998},-11.708,null,{"$f":"+SUM(COUNTIF($AK$3:AK18,1),COUNTIF($AK$3:AK18,-1))","v":15},{"$f":"+SUM($W$4:W18)","v":1143},76.2,{"$f":"+SUM(COUNTIF($AK$3:AK18,1))","v":8},{"$f":"+SUM(COUNTIF($AK$3:AK18,-1))","v":7},1,{"$f":"+CG18*(HARMEAN((IF(SUM(COUNTIF($Z$3:Z18,1),COUNTIF($Z$3:Z18,-1))=0,1,SUM(COUNTIF($Z$3:Z18,1),COUNTIF($Z$3:Z18,-1)))),(IF(SUM(COUNTIF($AC$3:AC18,1),COUNTIF($AC$3:AC18,-1))=0,1,SUM(COUNTIF($AC$3:AC18,1),COUNTIF($AC$3:AC18,-1)))),(IF(SUM(COUNTIF($AE$3:AE18,1),COUNTIF($AE$3:AE18,-1))=0,1,SUM(COUNTIF($AE$3:AE18,1),COUNTIF($AE$3:AE18,-1)))),(IF(SUM(COUNTIF($AG$3:AG18,1),COUNTIF($AG$3:AG18,-1))=0,1,SUM(COUNTIF($AG$3:AG18,1),COUNTIF($AG$3:AG18,-1)))),(IF(SUM(COUNTIF($AI$3:AI18,1),COUNTIF($AI$3:AI18,-1))=0,1,SUM(COUNTIF($AI$3:AI18,1),COUNTIF($AI$3:AI18,-1)))),(IF(SUM(COUNTIF($AK$3:AK18,1),COUNTIF($AK$3:AK18,-1))=0,1,SUM(COUNTIF($AK$3:AK18,1),COUNTIF($AK$3:AK18,-1)))))/1000)","v":0.22499999999999998},3.2149999999999999]
[16,"Yuri",null,{"$f":"+IFERROR(INDEX('Auswertung AoE II'!$AE:$AE,MATCH(A19,'Auswertung AoE II'!$AD:$AD,0)),\"\")","v":""},{"$f":"+IFERROR(INDEX('Auswertung AoE III'!$AE:$AE,MATCH(A19,'Auswertung AoE III'!$AD:$AD,0)),\"\")","v":""},{"$f":"+IFERROR(INDEX('Auswertung AoM'!$AE:$AE,MATCH(A19,'Auswertung AoM'!$AD:$AD,0)),\"\")","v":""},{"$f":"+IFERROR(INDEX('Auswertung RA'!$AE:$AE,MATCH(A19,'Auswertung RA'!$AD:$AD,0)),\"\")","v":""},{"$f":"+IFERROR(INDEX('Auswertung Yuri'!$AE:$AE,MATCH(A19,'Auswertung Yuri'!$AD:$AD,0)),\"\")","v":"Yuri"},{"$f":"+IFERROR(INDEX('Auswertung Generals'!$AE:$AE,MATCH(A19,'Auswertung Generals'!$AD:$AD,0)),\"\")","v":""},"Auswertung Yuri",null,null,{"$f":"+IF(ISERROR(+INDIRECT(CONCATENATE(\"'\",J19,\"'!\",(ADDRESS((COUNTIF($J$3:J19,IF(B19<>0,CONCATENATE(\"Auswertung \",B19,\"\"))))+2,2)))))=FALSE,+INDIRECT(CONCATENATE(\"'\",J19,\"'!\",(ADDRESS((COUNTIF($J$3:J19,IF(B19<>0,CONCATENATE(\"Auswertung \",B19,\"\"))))+4,2)))),\"\")","v":67},{"$f":"IF(ISERROR(+INDIRECT(CONCATENATE(\"'\",J19,\"'!\",(ADDRESS((COUNTIF($J$3:J19,IF(B19<>0,CONCATENATE(\"Auswertung \",B19,\"\"))))+2,2+1)))))=FALSE,+INDIRECT(CONCATENATE(\"'\",J19,\"'!\",(ADDRESS((COUNTIF($J$3:J19,IF(B19<>0,CONCATENATE(\"Auswertung \",B19,\"\"))))+4,2+1)))),\"\")","v":"Irak"},{"$f":"+IF(ISERROR(+INDIRECT(CONCATENATE(\"'\",J19,\"'!\",(ADDRESS((COUNTIF($J$3:J19,IF(B19<>0,CONCATENATE(\"Auswertung \",B19,\"\"))))+2,4)))))=FALSE,+INDIRECT(CONCATENATE(\"'\",J19,\"'!\",(ADDRESS((COUNTIF($J$3:J19,IF(B19<>0,CONCATENATE(\"Auswertung \",B19,\"\"))))+4,4)))),\"\")","v":74},{"$f":"+IF(ISERROR(+INDIRECT(CONCATENATE(\"'\",J19,\"'!\",(ADDRESS((COUNTIF($J$3:J19,IF(B19<>0,CONCATENATE(\"Auswertung \",B19,\"\"))))+2,5)))))=FALSE,+INDIRECT(CONCATENATE(\"'\",J19,\"'!\",(ADDRESS((COUNTIF($J$3:J19,IF(B19<>0,CONCATENATE(\"Auswertung \",B19,\"\"))))+4,5)))),\"\")","v":"Irak"},{"$f":"+IF(ISERROR(+INDIRECT(CONCATENATE(\"'\",J19,\"'!\",(ADDRESS((COUNTIF($J$3:J19,IF(B19<>0,CONCATENATE(\"Auswertung \",B19,\"\"))))+2,6)))))=FALSE,+INDIRECT(CONCATENATE(\"'\",J19,\"'!\",(ADDRESS((COUNTIF($J$3:J19,IF(B19<>0,CONCATENATE(\"Auswertung \",B19,\"\"))))+4,6)))),\"\")","v":92},{"$f":"+IF(ISERROR(+INDIRECT(CONCATENATE(\"'\",J19,\"'!\",(ADDRESS((COUNTIF($J$3:J19,IF(B19<>0,CONCATENATE(\"Auswertung \",B19,\"\"))))+2,7)))))=FALSE,+INDIRECT(CONCATENATE(\"'\",J19,\"'!\",(ADDRESS((COUNTIF($J$3:J19,IF(B19<>0,CONCATENATE(\"Auswertung \",B19,\"\"))))+4,7)))),\"\")","v":"Yur"},{"$f":"+IF(ISERROR(+INDIRECT(CONCATENATE(\"'\",J19,\"'!\",(ADDRESS((COUNTIF($J$3:J19,IF(B19<>0,CONCATENATE(\"Auswertung \",B19,\"\"))))+2,10)))))=FALSE,+INDIRECT(CONCATENATE(\"'\",J19,\"'!\",(ADDRESS((COUNTIF($J$3:J19,IF(B19<>0,CONCATENATE(\"Auswertung \",B19,\"\"))))+4,8)))),\"\")","v":63},{"$f":"+IF(ISERROR(+INDIRECT(CONCATENATE(\"'\",J19,\"'!\",(ADDRESS((COUNTIF($J$3:J19,IF(B19<>0,CONCATENATE(\"Auswertung \",B19,\"\"))))+2,11)))))=FALSE,+INDIRECT(CONCATENATE(\"'\",J19,\"'!\",(ADDRESS((COUNTIF($J$3:J19,IF(B19<>0,CONCATENATE(\"Auswertung \",B19,\"\"))))+4,9)))),\"\")","v":"Fran"},{"$f":"+IF(ISERROR(+INDIRECT(CONCATENATE(\"'\",J19,\"'!\",(ADDRESS((COUNTIF($J$3:J19,IF(B19<>0,CONCATENATE(\"Auswertung \",B19,\"\"))))+2,10)))))=FALSE,+INDIRECT(CONCATENATE(\"'\",J19,\"'!\",(ADDRESS((COUNTIF($J$3:J19,IF(B19<>0,CONCATENATE(\"Auswertung \",B19,\"\"))))+4,10)))),\"\")","v":25},{"$f":"+IF(ISERROR(+INDIRECT(CONCATENATE(\"'\",J19,\"'!\",(ADDRESS((COUNTIF($J$3:J19,IF(B19<>0,CONCATENATE(\"Auswertung \",B19,\"\"))))+2,11)))))=FALSE,+INDIRECT(CONCATENATE(\"'\",J19,\"'!\",(ADDRESS((COUNTIF($J$3:J19,IF(B19<>0,CONCATENATE(\"Auswertung \",B19,\"\"))))+4,11)))),\"\")","v":"Fran"},{"$f":"+IF(ISERROR(+INDIRECT(CONCATENATE(\"'\",J19,\"'!\",(ADDRESS((COUNTIF($J$3:J19,IF(D19<>0,CONCATENATE(\"Auswertung \",D19,\"\"))))+2,12)))))=FALSE,+INDIRECT(CONCATENATE(\"'\",J19,\"'!\",(ADDRESS((COUNTIF($J$3:J19,IF(D19<>0,CONCATENATE(\"Auswertung \",B19,\"\"))))+4,12)))),\"\")","v":36},{"$f":"+IF(ISERROR(+INDIRECT(CONCATENATE(\"'\",J19,\"'!\",(ADDRESS((COUNTIF($J$3:J19,IF(D19<>0,CONCATENATE(\"Auswertung \",D19,\"\"))))+2,13)))))=FALSE,+INDIRECT(CONCATENATE(\"'\",J19,\"'!\",(ADDRESS((COUNTIF($J$3:J19,IF(D19<>0,CONCATENATE(\"Auswertung \",B19,\"\"))))+4,13)))),\"\")","v":"Yur"},null,{"$f":"+IFERROR(INDIRECT(CONCATENATE(\"'\",J19,\"'!\",(ADDRESS((COUNTIF($J$3:J19,IF(B19<>0,J19)))+4,16)))),\"\")","v":-1},8.6319999999999997,{"$f":"+SUM($M$4:M19)/COUNT($M$4:M19)/1000*2","v":0.174375},{"$f":"+IFERROR(INDIRECT(CONCATENATE(\"'\",J19,\"'!\",(ADDRESS((COUNTIF($J$3:J19,IF(B19<>0,J19)))+4,18)))),\"\")","v":1},11.803000000000001,{"$f":"+IFERROR(INDIRECT(CONCATENATE(\"'\",J19,\"'!\",(ADDRESS((COUNTIF($J$3:J19,IF(B19<>0,J19)))+4,20)))),\"\")","v":1},-0.88,{"$f":"+IFERROR(INDIRECT(CONCATENATE(\"'\",J19,\"'!\",(ADDRESS((COUNTIF($J$3:J19,IF(B19<>0,J19)))+4,22)))),\"\")","v":-1},2.4590000000000001,{"$f":"+IFERROR(INDIRECT(CONCATENATE(\"'\",J19,\"'!\",(ADDRESS((COUNTIF($J$3:J19,IF(B19<>0,J19)))+4,24)))),\"\")","v":1},-10.848000000000001,{"$f":"+IFERROR(INDIRECT(CONCATENATE(\"'\",J19,\"'!\",(ADDRESS((COUNTIF($J$3:J19,IF(B19<>0,J19)))+4,26)))),\"\")","v":-1},1.8859999999999999,16,{"$f":"+SUM(COUNTIF($Z$3:Z19,1),COUNTIF($Z$3:Z19,-1))","v":16},{"$f":"+SUM($M$4:M19)","v":1395},87.1875,{"$f":"+SUM(COUNTIF($Z$3:Z19,1))","v":10},{"$f":"+SUM(COUNTIF($Z$3:Z19,-1))","v":6},4,{"$f":"AN19*(HARMEAN((IF(SUM(COUNTIF($Z$3:Z19,1),COUNTIF($Z$3:Z19,-1))=0,1,SUM(COUNTIF($Z$3:Z19,1),COUNTIF($Z$3:Z19,-1)))),(IF(SUM(COUNTIF($AC$3:AC19,1),COUNTIF($AC$3:AC19,-1))=0,1,SUM(COUNTIF($AC$3:AC19,1),COUNTIF($AC$3:AC19,-1)))),(IF(SUM(COUNTIF($AE$3:AE19,1),COUNTIF($AE$3:AE19,-1))=0,1,SUM(COUNTIF($AE$3:AE19,1),COUNTIF($AE$3:AE19,-1)))),(IF(SUM(COUNTIF($AG$3:AG19,1),COUNTIF($AG$3:AG19,-1))=0,1,SUM(COUNTIF($AG$3:AG19,1),COUNTIF($AG$3:AG19,-1)))),(IF(SUM(COUNTIF($AI$3:AI19,1),COUNTIF($AI$3:AI19,-1))=0,1,SUM(COUNTIF($AI$3:AI19,1),COUNTIF($AI$3:AI19,-1)))),(IF(SUM(COUNTIF($AK$3:AK19,1),COUNTIF($AK$3:AK19,-1))=0,1,SUM(COUNTIF($AK$3:AK19,1),COUNTIF($AK$3:AK19,-1)))))/1000)","v":0.25600000000000001},8.6319999999999997,null,{"$f":"+SUM(COUNTIF($AC$3:AC19,1),COUNTIF($AC$3:AC19,-1))","v":16},{"$f":"+SUM($O$4:O19)","v":1377},86.0625,{"$f":"+SUM(COUNTIF($AC$3:AC19,1))","v":11},{"$f":"+SUM(COUNTIF($AC$3:AC19,-1))","v":5},6,{"$f":"AW19*(HARMEAN((IF(SUM(COUNTIF($Z$3:Z19,1),COUNTIF($Z$3:Z19,-1))=0,1,SUM(COUNTIF($Z$3:Z19,1),COUNTIF($Z$3:Z19,-1)))),(IF(SUM(COUNTIF($AC$3:AC19,1),COUNTIF($AC$3:AC19,-1))=0,1,SUM(COUNTIF($AC$3:AC19,1),COUNTIF($AC$3:AC19,-1)))),(IF(SUM(COUNTIF($AE$3:AE19,1),COUNTIF($AE$3:AE19,-1))=0,1,SUM(COUNTIF($AE$3:AE19,1),COUNTIF($AE$3:AE19,-1)))),(IF(SUM(COUNTIF($AG$3:AG19,1),COUNTIF($AG$3:AG19,-1))=0,1,SUM(COUNTIF($AG$3:AG19,1),COUNTIF($AG$3:AG19,-1)))),(IF(SUM(COUNTIF($AI$3:AI19,1),COUNTIF($AI$3:AI19,-1))=0,1,SUM(COUNTIF($AI$3:AI19,1),COUNTIF($AI$3:AI19,-1)))),(IF(SUM(COUNTIF($AK$3:AK19,1),COUNTIF($AK$3:AK19,-1))=0,1,SUM(COUNTIF($AK$3:AK19,1),COUNTIF($AK$3:AK19,-1)))))/1000)","v":0.25600000000000001},11.803000000000001,null,{"$f":"+SUM(COUNTIF($AE$3:AE19,1),COUNTIF(AE$3:$AE19,-1))","v":16},{"$f":"+SUM($Q$4:Q19)","v":1450},90.625,{"$f":"+SUM(COUNTIF($AE$3:AE19,1))","v":7},{"$f":"+SUM(COUNTIF($AE$3:AE19,-1))","v":9},-2,{"$f":"BF19*(HARMEAN((IF(SUM(COUNTIF($Z$3:Z19,1),COUNTIF($Z$3:Z19,-1))=0,1,SUM(COUNTIF($Z$3:Z19,1),COUNTIF($Z$3:Z19,-1)))),(IF(SUM(COUNTIF($AC$3:AC19,1),COUNTIF($AC$3:AC19,-1))=0,1,SUM(COUNTIF($AC$3:AC19,1),COUNTIF($AC$3:AC19,-1)))),(IF(SUM(COUNTIF($AE$3:AE19,1),COUNTIF($AE$3:AE19,-1))=0,1,SUM(COUNTIF($AE$3:AE19,1),COUNTIF($AE$3:AE19,-1)))),(IF(SUM(COUNTIF($AG$3:AG19,1),COUNTIF($AG$3:AG19,-1))=0,1,SUM(COUNTIF($AG$3:AG19,1),COUNTIF($AG$3:AG19,-1)))),(IF(SUM(COUNTIF($AI$3:AI19,1),COUNTIF($AI$3:AI19,-1))=0,1,SUM(COUNTIF($AI$3:AI19,1),COUNTIF($AI$3:AI19,-1)))),(IF(SUM(COUNTIF($AK$3:AK19,1),COUNTIF($AK$3:AK19,-1))=0,1,SUM(COUNTIF($AK$3:AK19,1),COUNTIF($AK$3:AK19,-1)))))/1000)","v":0.25600000000000001},-0.88,null,{"$f":"+SUM(COUNTIF($AG$3:AG19,1),COUNTIF($AG$3:AG19,-1))","v":16},{"$f":"+SUM($S$4:S19)","v":1537},96.0625,{"$f":"+SUM(COUNTIF($AG$3:AG19,1))","v":8},{"$f":"+SUM(COUNTIF($AG$3:AG19,-1))","v":8},0,{"$f":"BO19*(HARMEAN((IF(SUM(COUNTIF($Z$3:Z19,1),COUNTIF($Z$3:Z19,-1))=0,1,SUM(COUNTIF($Z$3:Z19,1),COUNTIF($Z$3:Z19,-1)))),(IF(SUM(COUNTIF($AC$3:AC19,1),COUNTIF($AC$3:AC19,-1))=0,1,SUM(COUNTIF($AC$3:AC19,1),COUNTIF($AC$3:AC19,-1)))),(IF(SUM(COUNTIF($AE$3:AE19,1),COUNTIF($AE$3:AE19,-1))=0,1,SUM(COUNTIF($AE$3:AE19,1),COUNTIF($AE$3:AE19,-1)))),(IF(SUM(COUNTIF($AG$3:AG19,1),COUNTIF($AG$3:AG19,-1))=0,1,SUM(COUNTIF($AG$3:AG19,1),COUNTIF($AG$3:AG19,-1)))),(IF(SUM(COUNTIF($AI$3:AI19,1),COUNTIF($AI$3:AI19,-1))=0,1,SUM(COUNTIF($AI$3:AI19,1),COUNTIF($AI$3:AI19,-1)))),(IF(SUM(COUNTIF($AK$3:AK19,1),COUNTIF($AK$3:AK19,-1))=0,1,SUM(COUNTIF($AK$3:AK19,1),COUNTIF($AK$3:AK19,-1)))))/1000)","v":0.25600000000000001},2.4590000000000001,null,{"$f":"+SUM(COUNTIF($AI$3:AI19,1),COUNTIF($AI$3:AI19,-1))","v":16},{"$f":"+SUM($U$4:U19)","v":1220},76.25,{"$f":"+SUM(COUNTIF($AI$3:AI19,1))","v":4},{"$f":"+SUM(COUNTIF($AI$3:AI19,-1))","v":12},-8,{"$f":"+BX19*(HARMEAN((IF(SUM(COUNTIF($Z$3:Z19,1),COUNTIF($Z$3:Z19,-1))=0,1,SUM(COUNTIF($Z$3:Z19,1),COUNTIF($Z$3:Z19,-1)))),(IF(SUM(COUNTIF($AC$3:AC19,1),COUNTIF($AC$3:AC19,-1))=0,1,SUM(COUNTIF($AC$3:AC19,1),COUNTIF($AC$3:AC19,-1)))),(IF(SUM(COUNTIF($AE$3:AE19,1),COUNTIF($AE$3:AE19,-1))=0,1,SUM(COUNTIF($AE$3:AE19,1),COUNTIF($AE$3:AE19,-1)))),(IF(SUM(COUNTIF($AG$3:AG19,1),COUNTIF($AG$3:AG19,-1))=0,1,SUM(COUNTIF($AG$3:AG19,1),COUNTIF($AG$3:AG19,-1)))),(IF(SUM(COUNTIF($AI$3:AI19,1),COUNTIF($AI$3:AI19,-1))=0,1,SUM(COUNTIF($AI$3:AI19,1),COUNTIF($AI$3:AI19,-1)))),(IF(SUM(COUNTIF($AK$3:AK19,1),COUNTIF($AK$3:AK19,-1))=0,1,SUM(COUNTIF($AK$3:AK19,1),COUNTIF($AK$3:AK19,-1)))))/1000)","v":0.25600000000000001},-10.848000000000001,null,{"$f":"+SUM(COUNTIF($AK$3:AK19,1),COUNTIF($AK$3:AK19,-1))","v":16},{"$f":"+SUM($W$4:W19)","v":1179},73.6875,{"$f":"+SUM(COUNTIF($AK$3:AK19,1))","v":8},{"$f":"+SUM(COUNTIF($AK$3:AK19,-1))","v":8},0,{"$f":"+CG19*(HARMEAN((IF(SUM(COUNTIF($Z$3:Z19,1),COUNTIF($Z$3:Z19,-1))=0,1,SUM(COUNTIF($Z$3:Z19,1),COUNTIF($Z$3:Z19,-1)))),(IF(SUM(COUNTIF($AC$3:AC19,1),COUNTIF($AC$3:AC19,-1))=0,1,SUM(COUNTIF($AC$3:AC19,1),COUNTIF($AC$3:AC19,-1)))),(IF(SUM(COUNTIF($AE$3:AE19,1),COUNTIF($AE$3:AE19,-1))=0,1,SUM(COUNTIF($AE$3:AE19,1),COUNTIF($AE$3:AE19,-1)))),(IF(SUM(COUNTIF($AG$3:AG19,1),COUNTIF($AG$3:AG19,-1))=0,1,SUM(COUNTIF($AG$3:AG19,1),COUNTIF($AG$3:AG19,-1)))),(IF(SUM(COUNTIF($AI$3:AI19,1),COUNTIF($AI$3:AI19,-1))=0,1,SUM(COUNTIF($AI$3:AI19,1),COUNTIF($AI$3:AI19,-1)))),(IF(SUM(COUNTIF($AK$3:AK19,1),COUNTIF($AK$3:AK19,-1))=0,1,SUM(COUNTIF($AK$3:AK19,1),COUNTIF($AK$3:AK19,-1)))))/1000)","v":0.25600000000000001},1.8859999999999999]
[17,"Generals",null,{"$f":"+IFERROR(INDEX('Auswertung AoE II'!$AE:$AE,MATCH(A20,'Auswertung AoE II'!$AD:$AD,0)),\"\")","v":""},{"$f":"+IFERROR(INDEX('Auswertung AoE III'!$AE:$AE,MATCH(A20,'Auswertung AoE III'!$AD:$AD,0)),\"\")","v":""},{"$f":"+IFERROR(INDEX('Auswertung AoM'!$AE:$AE,MATCH(A20,'Auswertung AoM'!$AD:$AD,0)),\"\")","v":""},{"$f":"+IFERROR(INDEX('Auswertung RA'!$AE:$AE,MATCH(A20,'Auswertung RA'!$AD:$AD,0)),\"\")","v":""},{"$f":"+IFERROR(INDEX('Auswertung Yuri'!$AE:$AE,MATCH(A20,'Auswertung Yuri'!$AD:$AD,0)),\"\")","v":""},{"$f":"+IFERROR(INDEX('Auswertung Generals'!$AE:$AE,MATCH(A20,'Auswertung Generals'!$AD:$AD,0)),\"\")","v":"Generals"},"Auswertung Generals",null,null,{"$f":"+IF(ISERROR(+INDIRECT(CONCATENATE(\"'\",J20,\"'!\",(ADDRESS((COUNTIF($J$3:J20,IF(B20<>0,CONCATENATE(\"Auswertung \",B20,\"\"))))+2,2)))))=FALSE,+INDIRECT(CONCATENATE(\"'\",J20,\"'!\",(ADDRESS((COUNTIF($J$3:J20,IF(B20<>0,CONCATENATE(\"Auswertung \",B20,\"\"))))+4,2)))),\"\")","v":48},{"$f":"IF(ISERROR(+INDIRECT(CONCATENATE(\"'\",J20,\"'!\",(ADDRESS((COUNTIF($J$3:J20,IF(B20<>0,CONCATENATE(\"Auswertung \",B20,\"\"))))+2,2+1)))))=FALSE,+INDIRECT(CONCATENATE(\"'\",J20,\"'!\",(ADDRESS((COUNTIF($J$3:J20,IF(B20<>0,CONCATENATE(\"Auswertung \",B20,\"\"))))+4,2+1)))),\"\")","v":"AP"},{"$f":"+IF(ISERROR(+INDIRECT(CONCATENATE(\"'\",J20,\"'!\",(ADDRESS((COUNTIF($J$3:J20,IF(B20<>0,CONCATENATE(\"Auswertung \",B20,\"\"))))+2,4)))))=FALSE,+INDIRECT(CONCATENATE(\"'\",J20,\"'!\",(ADDRESS((COUNTIF($J$3:J20,IF(B20<>0,CONCATENATE(\"Auswertung \",B20,\"\"))))+4,4)))),\"\")","v":45},{"$f":"+IF(ISERROR(+INDIRECT(CONCATENATE(\"'\",J20,\"'!\",(ADDRESS((COUNTIF($J$3:J20,IF(B20<>0,CONCATENATE(\"Auswertung \",B20,\"\"))))+2,5)))))=FALSE,+INDIRECT(CONCATENATE(\"'\",J20,\"'!\",(ADDRESS((COUNTIF($J$3:J20,IF(B20<>0,CONCATENATE(\"Auswertung \",B20,\"\"))))+4,5)))),\"\")","v":"IBG"},{"$f":"+IF(ISERROR(+INDIRECT(CONCATENATE(\"'\",J20,\"'!\",(ADDRESS((COUNTIF($J$3:J20,IF(B20<>0,CONCATENATE(\"Auswertung \",B20,\"\"))))+2,6)))))=FALSE,+INDIRECT(CONCATENATE(\"'\",J20,\"'!\",(ADDRESS((COUNTIF($J$3:J20,IF(B20<>0,CONCATENATE(\"Auswertung \",B20,\"\"))))+4,6)))),\"\")","v":57},{"$f":"+IF(ISERROR(+INDIRECT(CONCATENATE(\"'\",J20,\"'!\",(ADDRESS((COUNTIF($J$3:J20,IF(B20<>0,CONCATENATE(\"Auswertung \",B20,\"\"))))+2,7)))))=FALSE,+INDIRECT(CONCATENATE(\"'\",J20,\"'!\",(ADDRESS((COUNTIF($J$3:J20,IF(B20<>0,CONCATENATE(\"Auswertung \",B20,\"\"))))+4,7)))),\"\")","v":"AP"},{"$f":"+IF(ISERROR(+INDIRECT(CONCATENATE(\"'\",J20,\"'!\",(ADDRESS((COUNTIF($J$3:J20,IF(B20<>0,CONCATENATE(\"Auswertung \",B20,\"\"))))+2,10)))))=FALSE,+INDIRECT(CONCATENATE(\"'\",J20,\"'!\",(ADDRESS((COUNTIF($J$3:J20,IF(B20<>0,CONCATENATE(\"Auswertung \",B20,\"\"))))+4,8)))),\"\")","v":33},{"$f":"+IF(ISERROR(+INDIRECT(CONCATENATE(\"'\",J20,\"'!\",(ADDRESS((COUNTIF($J$3:J20,IF(B20<>0,CONCATENATE(\"Auswertung \",B20,\"\"))))+2,11)))))=FALSE,+INDIRECT(CONCATENATE(\"'\",J20,\"'!\",(ADDRESS((COUNTIF($J$3:J20,IF(B20<>0,CONCATENATE(\"Auswertung \",B20,\"\"))))+4,9)))),\"\")","v":"AP"},{"$f":"+IF(ISERROR(+INDIRECT(CONCATENATE(\"'\",J20,\"'!\",(ADDRESS((COUNTIF($J$3:J20,IF(B20<>0,CONCATENATE(\"Auswertung \",B20,\"\"))))+2,10)))))=FALSE,+INDIRECT(CONCATENATE(\"'\",J20,\"'!\",(ADDRESS((COUNTIF($J$3:J20,IF(B20<>0,CONCATENATE(\"Auswertung \",B20,\"\"))))+4,10)))),\"\")","v":22},{"$f":"+IF(ISERROR(+INDIRECT(CONCATENATE(\"'\",J20,\"'!\",(ADDRESS((COUNTIF($J$3:J20,IF(B20<>0,CONCATENATE(\"Auswertung \",B20,\"\"))))+2,11)))))=FALSE,+INDIRECT(CONCATENATE(\"'\",J20,\"'!\",(ADDRESS((COUNTIF($J$3:J20,IF(B20<>0,CONCATENATE(\"Auswertung \",B20,\"\"))))+4,11)))),\"\")","v":"IBG"},{"$f":"+IF(ISERROR(+INDIRECT(CONCATENATE(\"'\",J20,\"'!\",(ADDRESS((COUNTIF($J$3:J20,IF(D20<>0,CONCATENATE(\"Auswertung \",D20,\"\"))))+2,12)))))=FALSE,+INDIRECT(CONCATENATE(\"'\",J20,\"'!\",(ADDRESS((COUNTIF($J$3:J20,IF(D20<>0,CONCATENATE(\"Auswertung \",B20,\"\"))))+4,12)))),\"\")","v":16},{"$f":"+IF(ISERROR(+INDIRECT(CONCATENATE(\"'\",J20,\"'!\",(ADDRESS((COUNTIF($J$3:J20,IF(D20<>0,CONCATENATE(\"Auswertung \",D20,\"\"))))+2,13)))))=FALSE,+INDIRECT(CONCATENATE(\"'\",J20,\"'!\",(ADDRESS((COUNTIF($J$3:J20,IF(D20<>0,CONCATENATE(\"Auswertung \",B20,\"\"))))+4,13)))),\"\")","v":"AP"},null,{"$f":"+IFERROR(INDIRECT(CONCATENATE(\"'\",J20,\"'!\",(ADDRESS((COUNTIF($J$3:J20,IF(B20<>0,J20)))+4,16)))),\"\")","v":1},10.952999999999999,{"$f":"+SUM($M$4:M20)/COUNT($M$4:M20)/1000*2","v":0.16976470588235293},{"$f":"+IFERROR(INDIRECT(CONCATENATE(\"'\",J20,\"'!\",(ADDRESS((COUNTIF($J$3:J20,IF(B20<>0,J20)))+4,18)))),\"\")","v":-1},10.917,{"$f":"+IFERROR(INDIRECT(CONCATENATE(\"'\",J20,\"'!\",(ADDRESS((COUNTIF($J$3:J20,IF(B20<>0,J20)))+4,20)))),\"\")","v":1},0.86199999999999999,{"$f":"+IFERROR(INDIRECT(CONCATENATE(\"'\",J20,\"'!\",(ADDRESS((COUNTIF($J$3:J20,IF(B20<>0,J20)))+4,22)))),\"\")","v":-1},0.96899999999999997,{"$f":"+IFERROR(INDIRECT(CONCATENATE(\"'\",J20,\"'!\",(ADDRESS((COUNTIF($J$3:J20,IF(B20<>0,J20)))+4,24)))),\"\")","v":1},-9.7889999999999997,{"$f":"+IFERROR(INDIRECT(CONCATENATE(\"'\",J20,\"'!\",(ADDRESS((COUNTIF($J$3:J20,IF(B20<>0,J20)))+4,26)))),\"\")","v":-1},0.33200000000000002,17,{"$f":"+SUM(COUNTIF($Z$3:Z20,1),COUNTIF($Z$3:Z20,-1))","v":17},{"$f":"+SUM($M$4:M20)","v":1443},84.882352941176464,{"$f":"+SUM(COUNTIF($Z$3:Z20,1))","v":11},{"$f":"+SUM(COUNTIF($Z$3:Z20,-1))","v":6},5,{"$f":"AN20*(HARMEAN((IF(SUM(COUNTIF($Z$3:Z20,1),COUNTIF($Z$3:Z20,-1))=0,1,SUM(COUNTIF($Z$3:Z20,1),COUNTIF($Z$3:Z20,-1)))),(IF(SUM(COUNTIF($AC$3:AC20,1),COUNTIF($AC$3:AC20,-1))=0,1,SUM(COUNTIF($AC$3:AC20,1),COUNTIF($AC$3:AC20,-1)))),(IF(SUM(COUNTIF($AE$3:AE20,1),COUNTIF($AE$3:AE20,-1))=0,1,SUM(COUNTIF($AE$3:AE20,1),COUNTIF($AE$3:AE20,-1)))),(IF(SUM(COUNTIF($AG$3:AG20,1),COUNTIF($AG$3:AG20,-1))=0,1,SUM(COUNTIF($AG$3:AG20,1),COUNTIF($AG$3:AG20,-1)))),(IF(SUM(COUNTIF($AI$3:AI20,1),COUNTIF($AI$3:AI20,-1))=0,1,SUM(COUNTIF($AI$3:AI20,1),COUNTIF($AI$3:AI20,-1)))),(IF(SUM(COUNTIF($AK$3:AK20,1),COUNTIF($AK$3:AK20,-1))=0,1,SUM(COUNTIF($AK$3:AK20,1),COUNTIF($AK$3:AK20,-1)))))/1000)","v":0.28900000000000003},10.952999999999999,null,{"$f":"+SUM(COUNTIF($AC$3:AC20,1),COUNTIF($AC$3:AC20,-1))","v":17},{"$f":"+SUM($O$4:O20)","v":1422},83.647058823529406,{"$f":"+SUM(COUNTIF($AC$3:AC20,1))","v":11},{"$f":"+SUM(COUNTIF($AC$3:AC20,-1))","v":6},5,{"$f":"AW20*(HARMEAN((IF(SUM(COUNTIF($Z$3:Z20,1),COUNTIF($Z$3:Z20,-1))=0,1,SUM(COUNTIF($Z$3:Z20,1),COUNTIF($Z$3:Z20,-1)))),(IF(SUM(COUNTIF($AC$3:AC20,1),COUNTIF($AC$3:AC20,-1))=0,1,SUM(COUNTIF($AC$3:AC20,1),COUNTIF($AC$3:AC20,-1)))),(IF(SUM(COUNTIF($AE$3:AE20,1),COUNTIF($AE$3:AE20,-1))=0,1,SUM(COUNTIF($AE$3:AE20,1),COUNTIF($AE$3:AE20,-1)))),(IF(SUM(COUNTIF($AG$3:AG20,1),COUNTIF($AG$3:AG20,-1))=0,1,SUM(COUNTIF($AG$3:AG20,1),COUNTIF($AG$3:AG20,-1)))),(IF(SUM(COUNTIF($AI$3:AI20,1),COUNTIF($AI$3:AI20,-1))=0,1,SUM(COUNTIF($AI$3:AI20,1),COUNTIF($AI$3:AI20,-1)))),(IF(SUM(COUNTIF($AK$3:AK20,1),COUNTIF($AK$3:AK20,-1))=0,1,SUM(COUNTIF($AK$3:AK20,1),COUNTIF($AK$3:AK20,-1)))))/1000)","v":0.28900000000000003},10.917,null,{"$f":"+SUM(COUNTIF($AE$3:AE20,1),COUNTIF(AE$3:$AE20,-1))","v":17},{"$f":"+SUM($Q$4:Q20)","v":1507},88.647058823529406,{"$f":"+SUM(COUNTIF($AE$3:AE20,1))","v":8},{"$f":"+SUM(COUNTIF($AE$3:AE20,-1))","v":9},-1,{"$f":"BF20*(HARMEAN((IF(SUM(COUNTIF($Z$3:Z20,1),COUNTIF($Z$3:Z20,-1))=0,1,SUM(COUNTIF($Z$3:Z20,1),COUNTIF($Z$3:Z20,-1)))),(IF(SUM(COUNTIF($AC$3:AC20,1),COUNTIF($AC$3:AC20,-1))=0,1,SUM(COUNTIF($AC$3:AC20,1),COUNTIF($AC$3:AC20,-1)))),(IF(SUM(COUNTIF($AE$3:AE20,1),COUNTIF($AE$3:AE20,-1))=0,1,SUM(COUNTIF($AE$3:AE20,1),COUNTIF($AE$3:AE20,-1)))),(IF(SUM(COUNTIF($AG$3:AG20,1),COUNTIF($AG$3:AG20,-1))=0,1,SUM(COUNTIF($AG$3:AG20,1),COUNTIF($AG$3:AG20,-1)))),(IF(SUM(COUNTIF($AI$3:AI20,1),COUNTIF($AI$3:AI20,-1))=0,1,SUM(COUNTIF($AI$3:AI20,1),COUNTIF($AI$3:AI20,-1)))),(IF(SUM(COUNTIF($AK$3:AK20,1),COUNTIF($AK$3:AK20,-1))=0,1,SUM(COUNTIF($AK$3:AK20,1),COUNTIF($AK$3:AK20,-1)))))/1000)","v":0.28900000000000003},0.86199999999999999,null,{"$f":"+SUM(COUNTIF($AG$3:AG20,1),COUNTIF($AG$3:AG20,-1))","v":17},{"$f":"+SUM($S$4:S20)","v":1570},92.352941176470594,{"$f":"+SUM(COUNTIF($AG$3:AG20,1))","v":8},{"$f":"+SUM(COUNTIF($AG$3:AG20,-1))","v":9},-1,{"$f":"BO20*(HARMEAN((IF(SUM(COUNTIF($Z$3:Z20,1),COUNTIF($Z$3:Z20,-1))=0,1,SUM(COUNTIF($Z$3:Z20,1),COUNTIF($Z$3:Z20,-1)))),(IF(SUM(COUNTIF($AC$3:AC20,1),COUNTIF($AC$3:AC20,-1))=0,1,SUM(COUNTIF($AC$3:AC20,1),COUNTIF($AC$3:AC20,-1)))),(IF(SUM(COUNTIF($AE$3:AE20,1),COUNTIF($AE$3:AE20,-1))=0,1,SUM(COUNTIF($AE$3:AE20,1),COUNTIF($AE$3:AE20,-1)))),(IF(SUM(COUNTIF($AG$3:AG20,1),COUNTIF($AG$3:AG20,-1))=0,1,SUM(COUNTIF($AG$3:AG20,1),COUNTIF($AG$3:AG20,-1)))),(IF(SUM(COUNTIF($AI$3:AI20,1),COUNTIF($AI$3:AI20,-1))=0,1,SUM(COUNTIF($AI$3:AI20,1),COUNTIF($AI$3:AI20,-1)))),(IF(SUM(COUNTIF($AK$3:AK20,1),COUNTIF($AK$3:AK20,-1))=0,1,SUM(COUNTIF($AK$3:AK20,1),COUNTIF($AK$3:AK20,-1)))))/1000)","v":0.28900000000000003},0.96899999999999997,null,{"$f":"+SUM(COUNTIF($AI$3:AI20,1),COUNTIF($AI$3:AI20,-1))","v":17},{"$f":"+SUM($U$4:U20)","v":1242},73.058823529411768,{"$f":"+SUM(COUNTIF($AI$3:AI20,1))","v":5},{"$f":"+SUM(COUNTIF($AI$3:AI20,-1))","v":12},-7,{"$f":"+BX20*(HARMEAN((IF(SUM(COUNTIF($Z$3:Z20,1),COUNTIF($Z$3:Z20,-1))=0,1,SUM(COUNTIF($Z$3:Z20,1),COUNTIF($Z$3:Z20,-1)))),(IF(SUM(COUNTIF($AC$3:AC20,1),COUNTIF($AC$3:AC20,-1))=0,1,SUM(COUNTIF($AC$3:AC20,1),COUNTIF($AC$3:AC20,-1)))),(IF(SUM(COUNTIF($AE$3:AE20,1),COUNTIF($AE$3:AE20,-1))=0,1,SUM(COUNTIF($AE$3:AE20,1),COUNTIF($AE$3:AE20,-1)))),(IF(SUM(COUNTIF($AG$3:AG20,1),COUNTIF($AG$3:AG20,-1))=0,1,SUM(COUNTIF($AG$3:AG20,1),COUNTIF($AG$3:AG20,-1)))),(IF(SUM(COUNTIF($AI$3:AI20,1),COUNTIF($AI$3:AI20,-1))=0,1,SUM(COUNTIF($AI$3:AI20,1),COUNTIF($AI$3:AI20,-1)))),(IF(SUM(COUNTIF($AK$3:AK20,1),COUNTIF($AK$3:AK20,-1))=0,1,SUM(COUNTIF($AK$3:AK20,1),COUNTIF($AK$3:AK20,-1)))))/1000)","v":0.28900000000000003},-9.7889999999999997,null,{"$f":"+SUM(COUNTIF($AK$3:AK20,1),COUNTIF($AK$3:AK20,-1))","v":17},{"$f":"+SUM($W$4:W20)","v":1195},70.294117647058826,{"$f":"+SUM(COUNTIF($AK$3:AK20,1))","v":8},{"$f":"+SUM(COUNTIF($AK$3:AK20,-1))","v":9},-1,{"$f":"+CG20*(HARMEAN((IF(SUM(COUNTIF($Z$3:Z20,1),COUNTIF($Z$3:Z20,-1))=0,1,SUM(COUNTIF($Z$3:Z20,1),COUNTIF($Z$3:Z20,-1)))),(IF(SUM(COUNTIF($AC$3:AC20,1),COUNTIF($AC$3:AC20,-1))=0,1,SUM(COUNTIF($AC$3:AC20,1),COUNTIF($AC$3:AC20,-1)))),(IF(SUM(COUNTIF($AE$3:AE20,1),COUNTIF($AE$3:AE20,-1))=0,1,SUM(COUNTIF($AE$3:AE20,1),COUNTIF($AE$3:AE20,-1)))),(IF(SUM(COUNTIF($AG$3:AG20,1),COUNTIF($AG$3:AG20,-1))=0,1,SUM(COUNTIF($AG$3:AG20,1),COUNTIF($AG$3:AG20,-1)))),(IF(SUM(COUNTIF($AI$3:AI20,1),COUNTIF($AI$3:AI20,-1))=0,1,SUM(COUNTIF($AI$3:AI20,1),COUNTIF($AI$3:AI20,-1)))),(IF(SUM(COUNTIF($AK$3:AK20,1),COUNTIF($AK$3:AK20,-1))=0,1,SUM(COUNTIF($AK$3:AK20,1),COUNTIF($AK$3:AK20,-1)))))/1000)","v":0.28900000000000003},0.33200000000000002]
[18,"AoE III",null,{"$f":"+IFERROR(INDEX('Auswertung AoE II'!$AE:$AE,MATCH(A21,'Auswertung AoE II'!$AD:$AD,0)),\"\")","v":""},{"$f":"+IFERROR(INDEX('Auswertung AoE III'!$AE:$AE,MATCH(A21,'Auswertung AoE III'!$AD:$AD,0)),\"\")","v":"AoE III"},{"$f":"+IFERROR(INDEX('Auswertung AoM'!$AE:$AE,MATCH(A21,'Auswertung AoM'!$AD:$AD,0)),\"\")","v":""},{"$f":"+IFERROR(INDEX('Auswertung RA'!$AE:$AE,MATCH(A21,'Auswertung RA'!$AD:$AD,0)),\"\")","v":""},{"$f":"+IFERROR(INDEX('Auswertung Yuri'!$AE:$AE,MATCH(A21,'Auswertung Yuri'!$AD:$AD,0)),\"\")","v":""},{"$f":"+IFERROR(INDEX('Auswertung Generals'!$AE:$AE,MATCH(A21,'Auswertung Generals'!$AD:$AD,0)),\"\")","v":""},"Auswertung AoE III",null,null,{"$f":"+IF(ISERROR(+INDIRECT(CONCATENATE(\"'\",J21,\"'!\",(ADDRESS((COUNTIF($J$3:J21,IF(B21<>0,CONCATENATE(\"Auswertung \",B21,\"\"))))+2,2)))))=FALSE,+INDIRECT(CONCATENATE(\"'\",J21,\"'!\",(ADDRESS((COUNTIF($J$3:J21,IF(B21<>0,CONCATENATE(\"Auswertung \",B21,\"\"))))+4,2)))),\"\")","v":198},{"$f":"IF(ISERROR(+INDIRECT(CONCATENATE(\"'\",J21,\"'!\",(ADDRESS((COUNTIF($J$3:J21,IF(B21<>0,CONCATENATE(\"Auswertung \",B21,\"\"))))+2,2+1)))))=FALSE,+INDIRECT(CONCATENATE(\"'\",J21,\"'!\",(ADDRESS((COUNTIF($J$3:J21,IF(B21<>0,CONCATENATE(\"Auswertung \",B21,\"\"))))+4,2+1)))),\"\")","v":"Spa"},{"$f":"+IF(ISERROR(+INDIRECT(CONCATENATE(\"'\",J21,\"'!\",(ADDRESS((COUNTIF($J$3:J21,IF(B21<>0,CONCATENATE(\"Auswertung \",B21,\"\"))))+2,4)))))=FALSE,+INDIRECT(CONCATENATE(\"'\",J21,\"'!\",(ADDRESS((COUNTIF($J$3:J21,IF(B21<>0,CONCATENATE(\"Auswertung \",B21,\"\"))))+4,4)))),\"\")","v":108},{"$f":"+IF(ISERROR(+INDIRECT(CONCATENATE(\"'\",J21,\"'!\",(ADDRESS((COUNTIF($J$3:J21,IF(B21<>0,CONCATENATE(\"Auswertung \",B21,\"\"))))+2,5)))))=FALSE,+INDIRECT(CONCATENATE(\"'\",J21,\"'!\",(ADDRESS((COUNTIF($J$3:J21,IF(B21<>0,CONCATENATE(\"Auswertung \",B21,\"\"))))+4,5)))),\"\")","v":"Chi"},{"$f":"+IF(ISERROR(+INDIRECT(CONCATENATE(\"'\",J21,\"'!\",(ADDRESS((COUNTIF($J$3:J21,IF(B21<>0,CONCATENATE(\"Auswertung \",B21,\"\"))))+2,6)))))=FALSE,+INDIRECT(CONCATENATE(\"'\",J21,\"'!\",(ADDRESS((COUNTIF($J$3:J21,IF(B21<>0,CONCATENATE(\"Auswertung \",B21,\"\"))))+4,6)))),\"\")","v":341},{"$f":"+IF(ISERROR(+INDIRECT(CONCATENATE(\"'\",J21,\"'!\",(ADDRESS((COUNTIF($J$3:J21,IF(B21<>0,CONCATENATE(\"Auswertung \",B21,\"\"))))+2,7)))))=FALSE,+INDIRECT(CONCATENATE(\"'\",J21,\"'!\",(ADDRESS((COUNTIF($J$3:J21,IF(B21<>0,CONCATENATE(\"Auswertung \",B21,\"\"))))+4,7)))),\"\")","v":"Port"},{"$f":"+IF(ISERROR(+INDIRECT(CONCATENATE(\"'\",J21,\"'!\",(ADDRESS((COUNTIF($J$3:J21,IF(B21<>0,CONCATENATE(\"Auswertung \",B21,\"\"))))+2,10)))))=FALSE,+INDIRECT(CONCATENATE(\"'\",J21,\"'!\",(ADDRESS((COUNTIF($J$3:J21,IF(B21<>0,CONCATENATE(\"Auswertung \",B21,\"\"))))+4,8)))),\"\")","v":257},{"$f":"+IF(ISERROR(+INDIRECT(CONCATENATE(\"'\",J21,\"'!\",(ADDRESS((COUNTIF($J$3:J21,IF(B21<>0,CONCATENATE(\"Auswertung \",B21,\"\"))))+2,11)))))=FALSE,+INDIRECT(CONCATENATE(\"'\",J21,\"'!\",(ADDRESS((COUNTIF($J$3:J21,IF(B21<>0,CONCATENATE(\"Auswertung \",B21,\"\"))))+4,9)))),\"\")","v":"Port"},{"$f":"+IF(ISERROR(+INDIRECT(CONCATENATE(\"'\",J21,\"'!\",(ADDRESS((COUNTIF($J$3:J21,IF(B21<>0,CONCATENATE(\"Auswertung \",B21,\"\"))))+2,10)))))=FALSE,+INDIRECT(CONCATENATE(\"'\",J21,\"'!\",(ADDRESS((COUNTIF($J$3:J21,IF(B21<>0,CONCATENATE(\"Auswertung \",B21,\"\"))))+4,10)))),\"\")","v":253},{"$f":"+IF(ISERROR(+INDIRECT(CONCATENATE(\"'\",J21,\"'!\",(ADDRESS((COUNTIF($J$3:J21,IF(B21<>0,CONCATENATE(\"Auswertung \",B21,\"\"))))+2,11)))))=FALSE,+INDIRECT(CONCATENATE(\"'\",J21,\"'!\",(ADDRESS((COUNTIF($J$3:J21,IF(B21<>0,CONCATENATE(\"Auswertung \",B21,\"\"))))+4,11)))),\"\")","v":"Chi"},{"$f":"+IF(ISERROR(+INDIRECT(CONCATENATE(\"'\",J21,\"'!\",(ADDRESS((COUNTIF($J$3:J21,IF(D21<>0,CONCATENATE(\"Auswertung \",D21,\"\"))))+2,12)))))=FALSE,+INDIRECT(CONCATENATE(\"'\",J21,\"'!\",(ADDRESS((COUNTIF($J$3:J21,IF(D21<>0,CONCATENATE(\"Auswertung \",B21,\"\"))))+4,12)))),\"\")","v":230},{"$f":"+IF(ISERROR(+INDIRECT(CONCATENATE(\"'\",J21,\"'!\",(ADDRESS((COUNTIF($J$3:J21,IF(D21<>0,CONCATENATE(\"Auswertung \",D21,\"\"))))+2,13)))))=FALSE,+INDIRECT(CONCATENATE(\"'\",J21,\"'!\",(ADDRESS((COUNTIF($J$3:J21,IF(D21<>0,CONCATENATE(\"Auswertung \",B21,\"\"))))+4,13)))),\"\")","v":"Spa"},null,{"$f":"+IFERROR(INDIRECT(CONCATENATE(\"'\",J21,\"'!\",(ADDRESS((COUNTIF($J$3:J21,IF(B21<>0,J21)))+4,16)))),\"\")","v":-1},10.154,{"$f":"+SUM($M$4:M21)/COUNT($M$4:M21)/1000*2","v":0.18233333333333335},{"$f":"+IFERROR(INDIRECT(CONCATENATE(\"'\",J21,\"'!\",(ADDRESS((COUNTIF($J$3:J21,IF(B21<>0,J21)))+4,18)))),\"\")","v":-1},9.9540000000000006,{"$f":"+IFERROR(INDIRECT(CONCATENATE(\"'\",J21,\"'!\",(ADDRESS((COUNTIF($J$3:J21,IF(B21<>0,J21)))+4,20)))),\"\")","v":1},3.3260000000000001,{"$f":"+IFERROR(INDIRECT(CONCATENATE(\"'\",J21,\"'!\",(ADDRESS((COUNTIF($J$3:J21,IF(B21<>0,J21)))+4,22)))),\"\")","v":-1},-0.311,{"$f":"+IFERROR(INDIRECT(CONCATENATE(\"'\",J21,\"'!\",(ADDRESS((COUNTIF($J$3:J21,IF(B21<>0,J21)))+4,24)))),\"\")","v":1},-8.109,{"$f":"+IFERROR(INDIRECT(CONCATENATE(\"'\",J21,\"'!\",(ADDRESS((COUNTIF($J$3:J21,IF(B21<>0,J21)))+4,26)))),\"\")","v":1},2.5649999999999999,18,{"$f":"+SUM(COUNTIF($Z$3:Z21,1),COUNTIF($Z$3:Z21,-1))","v":18},{"$f":"+SUM($M$4:M21)","v":1641},91.166666666666671,{"$f":"+SUM(COUNTIF($Z$3:Z21,1))","v":11},{"$f":"+SUM(COUNTIF($Z$3:Z21,-1))","v":7},4,{"$f":"AN21*(HARMEAN((IF(SUM(COUNTIF($Z$3:Z21,1),COUNTIF($Z$3:Z21,-1))=0,1,SUM(COUNTIF($Z$3:Z21,1),COUNTIF($Z$3:Z21,-1)))),(IF(SUM(COUNTIF($AC$3:AC21,1),COUNTIF($AC$3:AC21,-1))=0,1,SUM(COUNTIF($AC$3:AC21,1),COUNTIF($AC$3:AC21,-1)))),(IF(SUM(COUNTIF($AE$3:AE21,1),COUNTIF($AE$3:AE21,-1))=0,1,SUM(COUNTIF($AE$3:AE21,1),COUNTIF($AE$3:AE21,-1)))),(IF(SUM(COUNTIF($AG$3:AG21,1),COUNTIF($AG$3:AG21,-1))=0,1,SUM(COUNTIF($AG$3:AG21,1),COUNTIF($AG$3:AG21,-1)))),(IF(SUM(COUNTIF($AI$3:AI21,1),COUNTIF($AI$3:AI21,-1))=0,1,SUM(COUNTIF($AI$3:AI21,1),COUNTIF($AI$3:AI21,-1)))),(IF(SUM(COUNTIF($AK$3:AK21,1),COUNTIF($AK$3:AK21,-1))=0,1,SUM(COUNTIF($AK$3:AK21,1),COUNTIF($AK$3:AK21,-1)))))/1000)","v":0.32399999999999995},10.154,null,{"$f":"+SUM(COUNTIF($AC$3:AC21,1),COUNTIF($AC$3:AC21,-1))","v":18},{"$f":"+SUM($O$4:O21)","v":1530},85,{"$f":"+SUM(COUNTIF($AC$3:AC21,1))","v":11},{"$f":"+SUM(COUNTIF($AC$3:AC21,-1))","v":7},4,{"$f":"AW21*(HARMEAN((IF(SUM(COUNTIF($Z$3:Z21,1),COUNTIF($Z$3:Z21,-1))=0,1,SUM(COUNTIF($Z$3:Z21,1),COUNTIF($Z$3:Z21,-1)))),(IF(SUM(COUNTIF($AC$3:AC21,1),COUNTIF($AC$3:AC21,-1))=0,1,SUM(COUNTIF($AC$3:AC21,1),COUNTIF($AC$3:AC21,-1)))),(IF(SUM(COUNTIF($AE$3:AE21,1),COUNTIF($AE$3:AE21,-1))=0,1,SUM(COUNTIF($AE$3:AE21,1),COUNTIF($AE$3:AE21,-1)))),(IF(SUM(COUNTIF($AG$3:AG21,1),COUNTIF($AG$3:AG21,-1))=0,1,SUM(COUNTIF($AG$3:AG21,1),COUNTIF($AG$3:AG21,-1)))),(IF(SUM(COUNTIF($AI$3:AI21,1),COUNTIF($AI$3:AI21,-1))=0,1,SUM(COUNTIF($AI$3:AI21,1),COUNTIF($AI$3:AI21,-1)))),(IF(SUM(COUNTIF($AK$3:AK21,1),COUNTIF($AK$3:AK21,-1))=0,1,SUM(COUNTIF($AK$3:AK21,1),COUNTIF($AK$3:AK21,-1)))))/1000)","v":0.32399999999999995},9.9540000000000006,null,{"$f":"+SUM(COUNTIF($AE$3:AE21,1),COUNTIF(AE$3:$AE21,-1))","v":18},{"$f":"+SUM($Q$4:Q21)","v":1848},102.66666666666667,{"$f":"+SUM(COUNTIF($AE$3:AE21,1))","v":9},{"$f":"+SUM(COUNTIF($AE$3:AE21,-1))","v":9},0,{"$f":"BF21*(HARMEAN((IF(SUM(COUNTIF($Z$3:Z21,1),COUNTIF($Z$3:Z21,-1))=0,1,SUM(COUNTIF($Z$3:Z21,1),COUNTIF($Z$3:Z21,-1)))),(IF(SUM(COUNTIF($AC$3:AC21,1),COUNTIF($AC$3:AC21,-1))=0,1,SUM(COUNTIF($AC$3:AC21,1),COUNTIF($AC$3:AC21,-1)))),(IF(SUM(COUNTIF($AE$3:AE21,1),COUNTIF($AE$3:AE21,-1))=0,1,SUM(COUNTIF($AE$3:AE21,1),COUNTIF($AE$3:AE21,-1)))),(IF(SUM(COUNTIF($AG$3:AG21,1),COUNTIF($AG$3:AG21,-1))=0,1,SUM(COUNTIF($AG$3:AG21,1),COUNTIF($AG$3:AG21,-1)))),(IF(SUM(COUNTIF($AI$3:AI21,1),COUNTIF($AI$3:AI21,-1))=0,1,SUM(COUNTIF($AI$3:AI21,1),COUNTIF($AI$3:AI21,-1)))),(IF(SUM(COUNTIF($AK$3:AK21,1),COUNTIF($AK$3:AK21,-1))=0,1,SUM(COUNTIF($AK$3:AK21,1),COUNTIF($AK$3:AK21,-1)))))/1000)","v":0.32399999999999995},3.3260000000000001,null,{"$f":"+SUM(COUNTIF($AG$3:AG21,1),COUNTIF($AG$3:AG21,-1))","v":18},{"$f":"+SUM($S$4:S21)","v":1827},101.5,{"$f":"+SUM(COUNTIF($AG$3:AG21,1))","v":8},{"$f":"+SUM(COUNTIF($AG$3:AG21,-1))","v":10},-2,{"$f":"BO21*(HARMEAN((IF(SUM(COUNTIF($Z$3:Z21,1),COUNTIF($Z$3:Z21,-1))=0,1,SUM(COUNTIF($Z$3:Z21,1),COUNTIF($Z$3:Z21,-1)))),(IF(SUM(COUNTIF($AC$3:AC21,1),COUNTIF($AC$3:AC21,-1))=0,1,SUM(COUNTIF($AC$3:AC21,1),COUNTIF($AC$3:AC21,-1)))),(IF(SUM(COUNTIF($AE$3:AE21,1),COUNTIF($AE$3:AE21,-1))=0,1,SUM(COUNTIF($AE$3:AE21,1),COUNTIF($AE$3:AE21,-1)))),(IF(SUM(COUNTIF($AG$3:AG21,1),COUNTIF($AG$3:AG21,-1))=0,1,SUM(COUNTIF($AG$3:AG21,1),COUNTIF($AG$3:AG21,-1)))),(IF(SUM(COUNTIF($AI$3:AI21,1),COUNTIF($AI$3:AI21,-1))=0,1,SUM(COUNTIF($AI$3:AI21,1),COUNTIF($AI$3:AI21,-1)))),(IF(SUM(COUNTIF($AK$3:AK21,1),COUNTIF($AK$3:AK21,-1))=0,1,SUM(COUNTIF($AK$3:AK21,1),COUNTIF($AK$3:AK21,-1)))))/1000)","v":0.32399999999999995},-0.311,null,{"$f":"+SUM(COUNTIF($AI$3:AI21,1),COUNTIF($AI$3:AI21,-1))","v":18},{"$f":"+SUM($U$4:U21)","v":1495},83.055555555555557,{"$f":"+SUM(COUNTIF($AI$3:AI21,1))","v":6},{"$f":"+SUM(COUNTIF($AI$3:AI21,-1))","v":12},-6,{"$f":"+BX21*(HARMEAN((IF(SUM(COUNTIF($Z$3:Z21,1),COUNTIF($Z$3:Z21,-1))=0,1,SUM(COUNTIF($Z$3:Z21,1),COUNTIF($Z$3:Z21,-1)))),(IF(SUM(COUNTIF($AC$3:AC21,1),COUNTIF($AC$3:AC21,-1))=0,1,SUM(COUNTIF($AC$3:AC21,1),COUNTIF($AC$3:AC21,-1)))),(IF(SUM(COUNTIF($AE$3:AE21,1),COUNTIF($AE$3:AE21,-1))=0,1,SUM(COUNTIF($AE$3:AE21,1),COUNTIF($AE$3:AE21,-1)))),(IF(SUM(COUNTIF($AG$3:AG21,1),COUNTIF($AG$3:AG21,-1))=0,1,SUM(COUNTIF($AG$3:AG21,1),COUNTIF($AG$3:AG21,-1)))),(IF(SUM(COUNTIF($AI$3:AI21,1),COUNTIF($AI$3:AI21,-1))=0,1,SUM(COUNTIF($AI$3:AI21,1),COUNTIF($AI$3:AI21,-1)))),(IF(SUM(COUNTIF($AK$3:AK21,1),COUNTIF($AK$3:AK21,-1))=0,1,SUM(COUNTIF($AK$3:AK21,1),COUNTIF($AK$3:AK21,-1)))))/1000)","v":0.32399999999999995},-8.109,null,{"$f":"+SUM(COUNTIF($AK$3:AK21,1),COUNTIF($AK$3:AK21,-1))","v":18},{"$f":"+SUM($W$4:W21)","v":1425},79.166666666666671,{"$f":"+SUM(COUNTIF($AK$3:AK21,1))","v":9},{"$f":"+SUM(COUNTIF($AK$3:AK21,-1))","v":9},0,{"$f":"+CG21*(HARMEAN((IF(SUM(COUNTIF($Z$3:Z21,1),COUNTIF($Z$3:Z21,-1))=0,1,SUM(COUNTIF($Z$3:Z21,1),COUNTIF($Z$3:Z21,-1)))),(IF(SUM(COUNTIF($AC$3:AC21,1),COUNTIF($AC$3:AC21,-1))=0,1,SUM(COUNTIF($AC$3:AC21,1),COUNTIF($AC$3:AC21,-1)))),(IF(SUM(COUNTIF($AE$3:AE21,1),COUNTIF($AE$3:AE21,-1))=0,1,SUM(COUNTIF($AE$3:AE21,1),COUNTIF($AE$3:AE21,-1)))),(IF(SUM(COUNTIF($AG$3:AG21,1),COUNTIF($AG$3:AG21,-1))=0,1,SUM(COUNTIF($AG$3:AG21,1),COUNTIF($AG$3:AG21,-1)))),(IF(SUM(COUNTIF($AI$3:AI21,1),COUNTIF($AI$3:AI21,-1))=0,1,SUM(COUNTIF($AI$3:AI21,1),COUNTIF($AI$3:AI21,-1)))),(IF(SUM(COUNTIF($AK$3:AK21,1),COUNTIF($AK$3:AK21,-1))=0,1,SUM(COUNTIF($AK$3:AK21,1),COUNTIF($AK$3:AK21,-1)))))/1000)","v":0.32399999999999995},2.5649999999999999]
[19,"RA",null,{"$f":"+IFERROR(INDEX('Auswertung AoE II'!$AE:$AE,MATCH(A22,'Auswertung AoE II'!$AD:$AD,0)),\"\")","v":""},{"$f":"+IFERROR(INDEX('Auswertung AoE III'!$AE:$AE,MATCH(A22,'Auswertung AoE III'!$AD:$AD,0)),\"\")","v":""},{"$f":"+IFERROR(INDEX('Auswertung AoM'!$AE:$AE,MATCH(A22,'Auswertung AoM'!$AD:$AD,0)),\"\")","v":""},{"$f":"+IFERROR(INDEX('Auswertung RA'!$AE:$AE,MATCH(A22,'Auswertung RA'!$AD:$AD,0)),\"\")","v":"RA"},{"$f":"+IFERROR(INDEX('Auswertung Yuri'!$AE:$AE,MATCH(A22,'Auswertung Yuri'!$AD:$AD,0)),\"\")","v":""},{"$f":"+IFERROR(INDEX('Auswertung Generals'!$AE:$AE,MATCH(A22,'Auswertung Generals'!$AD:$AD,0)),\"\")","v":""},"Auswertung RA",null,null,{"$f":"+IF(ISERROR(+INDIRECT(CONCATENATE(\"'\",J22,\"'!\",(ADDRESS((COUNTIF($J$3:J22,IF(B22<>0,CONCATENATE(\"Auswertung \",B22,\"\"))))+2,2)))))=FALSE,+INDIRECT(CONCATENATE(\"'\",J22,\"'!\",(ADDRESS((COUNTIF($J$3:J22,IF(B22<>0,CONCATENATE(\"Auswertung \",B22,\"\"))))+4,2)))),\"\")","v":76},{"$f":"IF(ISERROR(+INDIRECT(CONCATENATE(\"'\",J22,\"'!\",(ADDRESS((COUNTIF($J$3:J22,IF(B22<>0,CONCATENATE(\"Auswertung \",B22,\"\"))))+2,2+1)))))=FALSE,+INDIRECT(CONCATENATE(\"'\",J22,\"'!\",(ADDRESS((COUNTIF($J$3:J22,IF(B22<>0,CONCATENATE(\"Auswertung \",B22,\"\"))))+4,2+1)))),\"\")","v":"S"},{"$f":"+IF(ISERROR(+INDIRECT(CONCATENATE(\"'\",J22,\"'!\",(ADDRESS((COUNTIF($J$3:J22,IF(B22<>0,CONCATENATE(\"Auswertung \",B22,\"\"))))+2,4)))))=FALSE,+INDIRECT(CONCATENATE(\"'\",J22,\"'!\",(ADDRESS((COUNTIF($J$3:J22,IF(B22<>0,CONCATENATE(\"Auswertung \",B22,\"\"))))+4,4)))),\"\")","v":37},{"$f":"+IF(ISERROR(+INDIRECT(CONCATENATE(\"'\",J22,\"'!\",(ADDRESS((COUNTIF($J$3:J22,IF(B22<>0,CONCATENATE(\"Auswertung \",B22,\"\"))))+2,5)))))=FALSE,+INDIRECT(CONCATENATE(\"'\",J22,\"'!\",(ADDRESS((COUNTIF($J$3:J22,IF(B22<>0,CONCATENATE(\"Auswertung \",B22,\"\"))))+4,5)))),\"\")","v":"S"},{"$f":"+IF(ISERROR(+INDIRECT(CONCATENATE(\"'\",J22,\"'!\",(ADDRESS((COUNTIF($J$3:J22,IF(B22<>0,CONCATENATE(\"Auswertung \",B22,\"\"))))+2,6)))))=FALSE,+INDIRECT(CONCATENATE(\"'\",J22,\"'!\",(ADDRESS((COUNTIF($J$3:J22,IF(B22<>0,CONCATENATE(\"Auswertung \",B22,\"\"))))+4,6)))),\"\")","v":71},{"$f":"+IF(ISERROR(+INDIRECT(CONCATENATE(\"'\",J22,\"'!\",(ADDRESS((COUNTIF($J$3:J22,IF(B22<>0,CONCATENATE(\"Auswertung \",B22,\"\"))))+2,7)))))=FALSE,+INDIRECT(CONCATENATE(\"'\",J22,\"'!\",(ADDRESS((COUNTIF($J$3:J22,IF(B22<>0,CONCATENATE(\"Auswertung \",B22,\"\"))))+4,7)))),\"\")","v":"S"},{"$f":"+IF(ISERROR(+INDIRECT(CONCATENATE(\"'\",J22,\"'!\",(ADDRESS((COUNTIF($J$3:J22,IF(B22<>0,CONCATENATE(\"Auswertung \",B22,\"\"))))+2,10)))))=FALSE,+INDIRECT(CONCATENATE(\"'\",J22,\"'!\",(ADDRESS((COUNTIF($J$3:J22,IF(B22<>0,CONCATENATE(\"Auswertung \",B22,\"\"))))+4,8)))),\"\")","v":16},{"$f":"+IF(ISERROR(+INDIRECT(CONCATENATE(\"'\",J22,\"'!\",(ADDRESS((COUNTIF($J$3:J22,IF(B22<>0,CONCATENATE(\"Auswertung \",B22,\"\"))))+2,11)))))=FALSE,+INDIRECT(CONCATENATE(\"'\",J22,\"'!\",(ADDRESS((COUNTIF($J$3:J22,IF(B22<>0,CONCATENATE(\"Auswertung \",B22,\"\"))))+4,9)))),\"\")","v":"S"},{"$f":"+IF(ISERROR(+INDIRECT(CONCATENATE(\"'\",J22,\"'!\",(ADDRESS((COUNTIF($J$3:J22,IF(B22<>0,CONCATENATE(\"Auswertung \",B22,\"\"))))+2,10)))))=FALSE,+INDIRECT(CONCATENATE(\"'\",J22,\"'!\",(ADDRESS((COUNTIF($J$3:J22,IF(B22<>0,CONCATENATE(\"Auswertung \",B22,\"\"))))+4,10)))),\"\")","v":35},{"$f":"+IF(ISERROR(+INDIRECT(CONCATENATE(\"'\",J22,\"'!\",(ADDRESS((COUNTIF($J$3:J22,IF(B22<>0,CONCATENATE(\"Auswertung \",B22,\"\"))))+2,11)))))=FALSE,+INDIRECT(CONCATENATE(\"'\",J22,\"'!\",(ADDRESS((COUNTIF($J$3:J22,IF(B22<>0,CONCATENATE(\"Auswertung \",B22,\"\"))))+4,11)))),\"\")","v":"A"},{"$f":"+IF(ISERROR(+INDIRECT(CONCATENATE(\"'\",J22,\"'!\",(ADDRESS((COUNTIF($J$3:J22,IF(D22<>0,CONCATENATE(\"Auswertung \",D22,\"\"))))+2,12)))))=FALSE,+INDIRECT(CONCATENATE(\"'\",J22,\"'!\",(ADDRESS((COUNTIF($J$3:J22,IF(D22<>0,CONCATENATE(\"Auswertung \",B22,\"\"))))+4,12)))),\"\")","v":51},{"$f":"+IF(ISERROR(+INDIRECT(CONCATENATE(\"'\",J22,\"'!\",(ADDRESS((COUNTIF($J$3:J22,IF(D22<>0,CONCATENATE(\"Auswertung \",D22,\"\"))))+2,13)))))=FALSE,+INDIRECT(CONCATENATE(\"'\",J22,\"'!\",(ADDRESS((COUNTIF($J$3:J22,IF(D22<>0,CONCATENATE(\"Auswertung \",B22,\"\"))))+4,13)))),\"\")","v":"A"},null,{"$f":"+IFERROR(INDIRECT(CONCATENATE(\"'\",J22,\"'!\",(ADDRESS((COUNTIF($J$3:J22,IF(B22<>0,J22)))+4,16)))),\"\")","v":-1},8.9619999999999997,{"$f":"+SUM($M$4:M22)/COUNT($M$4:M22)/1000*2","v":0.18073684210526314},{"$f":"+IFERROR(INDIRECT(CONCATENATE(\"'\",J22,\"'!\",(ADDRESS((COUNTIF($J$3:J22,IF(B22<>0,J22)))+4,18)))),\"\")","v":1},12.477,{"$f":"+IFERROR(INDIRECT(CONCATENATE(\"'\",J22,\"'!\",(ADDRESS((COUNTIF($J$3:J22,IF(B22<>0,J22)))+4,20)))),\"\")","v":1},5.5460000000000003,{"$f":"+IFERROR(INDIRECT(CONCATENATE(\"'\",J22,\"'!\",(ADDRESS((COUNTIF($J$3:J22,IF(B22<>0,J22)))+4,22)))),\"\")","v":-1},-2.198,{"$f":"+IFERROR(INDIRECT(CONCATENATE(\"'\",J22,\"'!\",(ADDRESS((COUNTIF($J$3:J22,IF(B22<>0,J22)))+4,24)))),\"\")","v":1},-6.593,{"$f":"+IFERROR(INDIRECT(CONCATENATE(\"'\",J22,\"'!\",(ADDRESS((COUNTIF($J$3:J22,IF(B22<>0,J22)))+4,26)))),\"\")","v":-1},0.90400000000000003,19,{"$f":"+SUM(COUNTIF($Z$3:Z22,1),COUNTIF($Z$3:Z22,-1))","v":19},{"$f":"+SUM($M$4:M22)","v":1717},90.368421052631575,{"$f":"+SUM(COUNTIF($Z$3:Z22,1))","v":11},{"$f":"+SUM(COUNTIF($Z$3:Z22,-1))","v":8},3,{"$f":"AN22*(HARMEAN((IF(SUM(COUNTIF($Z$3:Z22,1),COUNTIF($Z$3:Z22,-1))=0,1,SUM(COUNTIF($Z$3:Z22,1),COUNTIF($Z$3:Z22,-1)))),(IF(SUM(COUNTIF($AC$3:AC22,1),COUNTIF($AC$3:AC22,-1))=0,1,SUM(COUNTIF($AC$3:AC22,1),COUNTIF($AC$3:AC22,-1)))),(IF(SUM(COUNTIF($AE$3:AE22,1),COUNTIF($AE$3:AE22,-1))=0,1,SUM(COUNTIF($AE$3:AE22,1),COUNTIF($AE$3:AE22,-1)))),(IF(SUM(COUNTIF($AG$3:AG22,1),COUNTIF($AG$3:AG22,-1))=0,1,SUM(COUNTIF($AG$3:AG22,1),COUNTIF($AG$3:AG22,-1)))),(IF(SUM(COUNTIF($AI$3:AI22,1),COUNTIF($AI$3:AI22,-1))=0,1,SUM(COUNTIF($AI$3:AI22,1),COUNTIF($AI$3:AI22,-1)))),(IF(SUM(COUNTIF($AK$3:AK22,1),COUNTIF($AK$3:AK22,-1))=0,1,SUM(COUNTIF($AK$3:AK22,1),COUNTIF($AK$3:AK22,-1)))))/1000)","v":0.36099999999999999},8.9619999999999997,null,{"$f":"+SUM(COUNTIF($AC$3:AC22,1),COUNTIF($AC$3:AC22,-1))","v":19},{"$f":"+SUM($O$4:O22)","v":1567},82.473684210526315,{"$f":"+SUM(COUNTIF($AC$3:AC22,1))","v":12},{"$f":"+SUM(COUNTIF($AC$3:AC22,-1))","v":7},5,{"$f":"AW22*(HARMEAN((IF(SUM(COUNTIF($Z$3:Z22,1),COUNTIF($Z$3:Z22,-1))=0,1,SUM(COUNTIF($Z$3:Z22,1),COUNTIF($Z$3:Z22,-1)))),(IF(SUM(COUNTIF($AC$3:AC22,1),COUNTIF($AC$3:AC22,-1))=0,1,SUM(COUNTIF($AC$3:AC22,1),COUNTIF($AC$3:AC22,-1)))),(IF(SUM(COUNTIF($AE$3:AE22,1),COUNTIF($AE$3:AE22,-1))=0,1,SUM(COUNTIF($AE$3:AE22,1),COUNTIF($AE$3:AE22,-1)))),(IF(SUM(COUNTIF($AG$3:AG22,1),COUNTIF($AG$3:AG22,-1))=0,1,SUM(COUNTIF($AG$3:AG22,1),COUNTIF($AG$3:AG22,-1)))),(IF(SUM(COUNTIF($AI$3:AI22,1),COUNTIF($AI$3:AI22,-1))=0,1,SUM(COUNTIF($AI$3:AI22,1),COUNTIF($AI$3:AI22,-1)))),(IF(SUM(COUNTIF($AK$3:AK22,1),COUNTIF($AK$3:AK22,-1))=0,1,SUM(COUNTIF($AK$3:AK22,1),COUNTIF($AK$3:AK22,-1)))))/1000)","v":0.36099999999999999},12.477,null,{"$f":"+SUM(COUNTIF($AE$3:AE22,1),COUNTIF(AE$3:$AE22,-1))","v":19},{"$f":"+SUM($Q$4:Q22)","v":1919},101,{"$f":"+SUM(COUNTIF($AE$3:AE22,1))","v":10},{"$f":"+SUM(COUNTIF($AE$3:AE22,-1))","v":9},1,{"$f":"BF22*(HARMEAN((IF(SUM(COUNTIF($Z$3:Z22,1),COUNTIF($Z$3:Z22,-1))=0,1,SUM(COUNTIF($Z$3:Z22,1),COUNTIF($Z$3:Z22,-1)))),(IF(SUM(COUNTIF($AC$3:AC22,1),COUNTIF($AC$3:AC22,-1))=0,1,SUM(COUNTIF($AC$3:AC22,1),COUNTIF($AC$3:AC22,-1)))),(IF(SUM(COUNTIF($AE$3:AE22,1),COUNTIF($AE$3:AE22,-1))=0,1,SUM(COUNTIF($AE$3:AE22,1),COUNTIF($AE$3:AE22,-1)))),(IF(SUM(COUNTIF($AG$3:AG22,1),COUNTIF($AG$3:AG22,-1))=0,1,SUM(COUNTIF($AG$3:AG22,1),COUNTIF($AG$3:AG22,-1)))),(IF(SUM(COUNTIF($AI$3:AI22,1),COUNTIF($AI$3:AI22,-1))=0,1,SUM(COUNTIF($AI$3:AI22,1),COUNTIF($AI$3:AI22,-1)))),(IF(SUM(COUNTIF($AK$3:AK22,1),COUNTIF($AK$3:AK22,-1))=0,1,SUM(COUNTIF($AK$3:AK22,1),COUNTIF($AK$3:AK22,-1)))))/1000)","v":0.36099999999999999},5.5460000000000003,null,{"$f":"+SUM(COUNTIF($AG$3:AG22,1),COUNTIF($AG$3:AG22,-1))","v":19},{"$f":"+SUM($S$4:S22)","v":1843},97,{"$f":"+SUM(COUNTIF($AG$3:AG22,1))","v":8},{"$f":"+SUM(COUNTIF($AG$3:AG22,-1))","v":11},-3,{"$f":"BO22*(HARMEAN((IF(SUM(COUNTIF($Z$3:Z22,1),COUNTIF($Z$3:Z22,-1))=0,1,SUM(COUNTIF($Z$3:Z22,1),COUNTIF($Z$3:Z22,-1)))),(IF(SUM(COUNTIF($AC$3:AC22,1),COUNTIF($AC$3:AC22,-1))=0,1,SUM(COUNTIF($AC$3:AC22,1),COUNTIF($AC$3:AC22,-1)))),(IF(SUM(COUNTIF($AE$3:AE22,1),COUNTIF($AE$3:AE22,-1))=0,1,SUM(COUNTIF($AE$3:AE22,1),COUNTIF($AE$3:AE22,-1)))),(IF(SUM(COUNTIF($AG$3:AG22,1),COUNTIF($AG$3:AG22,-1))=0,1,SUM(COUNTIF($AG$3:AG22,1),COUNTIF($AG$3:AG22,-1)))),(IF(SUM(COUNTIF($AI$3:AI22,1),COUNTIF($AI$3:AI22,-1))=0,1,SUM(COUNTIF($AI$3:AI22,1),COUNTIF($AI$3:AI22,-1)))),(IF(SUM(COUNTIF($AK$3:AK22,1),COUNTIF($AK$3:AK22,-1))=0,1,SUM(COUNTIF($AK$3:AK22,1),COUNTIF($AK$3:AK22,-1)))))/1000)","v":0.36099999999999999},-2.198,null,{"$f":"+SUM(COUNTIF($AI$3:AI22,1),COUNTIF($AI$3:AI22,-1))","v":19},{"$f":"+SUM($U$4:U22)","v":1530},80.526315789473685,{"$f":"+SUM(COUNTIF($AI$3:AI22,1))","v":7},{"$f":"+SUM(COUNTIF($AI$3:AI22,-1))","v":12},-5,{"$f":"+BX22*(HARMEAN((IF(SUM(COUNTIF($Z$3:Z22,1),COUNTIF($Z$3:Z22,-1))=0,1,SUM(COUNTIF($Z$3:Z22,1),COUNTIF($Z$3:Z22,-1)))),(IF(SUM(COUNTIF($AC$3:AC22,1),COUNTIF($AC$3:AC22,-1))=0,1,SUM(COUNTIF($AC$3:AC22,1),COUNTIF($AC$3:AC22,-1)))),(IF(SUM(COUNTIF($AE$3:AE22,1),COUNTIF($AE$3:AE22,-1))=0,1,SUM(COUNTIF($AE$3:AE22,1),COUNTIF($AE$3:AE22,-1)))),(IF(SUM(COUNTIF($AG$3:AG22,1),COUNTIF($AG$3:AG22,-1))=0,1,SUM(COUNTIF($AG$3:AG22,1),COUNTIF($AG$3:AG22,-1)))),(IF(SUM(COUNTIF($AI$3:AI22,1),COUNTIF($AI$3:AI22,-1))=0,1,SUM(COUNTIF($AI$3:AI22,1),COUNTIF($AI$3:AI22,-1)))),(IF(SUM(COUNTIF($AK$3:AK22,1),COUNTIF($AK$3:AK22,-1))=0,1,SUM(COUNTIF($AK$3:AK22,1),COUNTIF($AK$3:AK22,-1)))))/1000)","v":0.36099999999999999},-6.593,null,{"$f":"+SUM(COUNTIF($AK$3:AK22,1),COUNTIF($AK$3:AK22,-1))","v":19},{"$f":"+SUM($W$4:W22)","v":1476},77.684210526315795,{"$f":"+SUM(COUNTIF($AK$3:AK22,1))","v":9},{"$f":"+SUM(COUNTIF($AK$3:AK22,-1))","v":10},-1,{"$f":"+CG22*(HARMEAN((IF(SUM(COUNTIF($Z$3:Z22,1),COUNTIF($Z$3:Z22,-1))=0,1,SUM(COUNTIF($Z$3:Z22,1),COUNTIF($Z$3:Z22,-1)))),(IF(SUM(COUNTIF($AC$3:AC22,1),COUNTIF($AC$3:AC22,-1))=0,1,SUM(COUNTIF($AC$3:AC22,1),COUNTIF($AC$3:AC22,-1)))),(IF(SUM(COUNTIF($AE$3:AE22,1),COUNTIF($AE$3:AE22,-1))=0,1,SUM(COUNTIF($AE$3:AE22,1),COUNTIF($AE$3:AE22,-1)))),(IF(SUM(COUNTIF($AG$3:AG22,1),COUNTIF($AG$3:AG22,-1))=0,1,SUM(COUNTIF($AG$3:AG22,1),COUNTIF($AG$3:AG22,-1)))),(IF(SUM(COUNTIF($AI$3:AI22,1),COUNTIF($AI$3:AI22,-1))=0,1,SUM(COUNTIF($AI$3:AI22,1),COUNTIF($AI$3:AI22,-1)))),(IF(SUM(COUNTIF($AK$3:AK22,1),COUNTIF($AK$3:AK22,-1))=0,1,SUM(COUNTIF($AK$3:AK22,1),COUNTIF($AK$3:AK22,-1)))))/1000)","v":0.36099999999999999},0.90400000000000003]
[20,"AoE II",null,{"$f":"+IFERROR(INDEX('Auswertung AoE II'!$AE:$AE,MATCH(A23,'Auswertung AoE II'!$AD:$AD,0)),\"\")","v":"AoE II"},{"$f":"+IFERROR(INDEX('Auswertung AoE III'!$AE:$AE,MATCH(A23,'Auswertung AoE III'!$AD:$AD,0)),\"\")","v":""},{"$f":"+IFERROR(INDEX('Auswertung AoM'!$AE:$AE,MATCH(A23,'Auswertung AoM'!$AD:$AD,0)),\"\")","v":""},{"$f":"+IFERROR(INDEX('Auswertung RA'!$AE:$AE,MATCH(A23,'Auswertung RA'!$AD:$AD,0)),\"\")","v":""},{"$f":"+IFERROR(INDEX('Auswertung Yuri'!$AE:$AE,MATCH(A23,'Auswertung Yuri'!$AD:$AD,0)),\"\")","v":""},{"$f":"+IFERROR(INDEX('Auswertung Generals'!$AE:$AE,MATCH(A23,'Auswertung Generals'!$AD:$AD,0)),\"\")","v":""},"Auswertung AoE II",null,null,{"$f":"+IF(ISERROR(+INDIRECT(CONCATENATE(\"'\",J23,\"'!\",(ADDRESS((COUNTIF($J$3:J23,IF(B23<>0,CONCATENATE(\"Auswertung \",B23,\"\"))))+2,2)))))=FALSE,+INDIRECT(CONCATENATE(\"'\",J23,\"'!\",(ADDRESS((COUNTIF($J$3:J23,IF(B23<>0,CONCATENATE(\"Auswertung \",B23,\"\"))))+4,2)))),\"\")","v":254},{"$f":"IF(ISERROR(+INDIRECT(CONCATENATE(\"'\",J23,\"'!\",(ADDRESS((COUNTIF($J$3:J23,IF(B23<>0,CONCATENATE(\"Auswertung \",B23,\"\"))))+2,2+1)))))=FALSE,+INDIRECT(CONCATENATE(\"'\",J23,\"'!\",(ADDRESS((COUNTIF($J$3:J23,IF(B23<>0,CONCATENATE(\"Auswertung \",B23,\"\"))))+4,2+1)))),\"\")","v":"Khmer"},{"$f":"+IF(ISERROR(+INDIRECT(CONCATENATE(\"'\",J23,\"'!\",(ADDRESS((COUNTIF($J$3:J23,IF(B23<>0,CONCATENATE(\"Auswertung \",B23,\"\"))))+2,4)))))=FALSE,+INDIRECT(CONCATENATE(\"'\",J23,\"'!\",(ADDRESS((COUNTIF($J$3:J23,IF(B23<>0,CONCATENATE(\"Auswertung \",B23,\"\"))))+4,4)))),\"\")","v":194},{"$f":"+IF(ISERROR(+INDIRECT(CONCATENATE(\"'\",J23,\"'!\",(ADDRESS((COUNTIF($J$3:J23,IF(B23<>0,CONCATENATE(\"Auswertung \",B23,\"\"))))+2,5)))))=FALSE,+INDIRECT(CONCATENATE(\"'\",J23,\"'!\",(ADDRESS((COUNTIF($J$3:J23,IF(B23<>0,CONCATENATE(\"Auswertung \",B23,\"\"))))+4,5)))),\"\")","v":"Khmer"},{"$f":"+IF(ISERROR(+INDIRECT(CONCATENATE(\"'\",J23,\"'!\",(ADDRESS((COUNTIF($J$3:J23,IF(B23<>0,CONCATENATE(\"Auswertung \",B23,\"\"))))+2,6)))))=FALSE,+INDIRECT(CONCATENATE(\"'\",J23,\"'!\",(ADDRESS((COUNTIF($J$3:J23,IF(B23<>0,CONCATENATE(\"Auswertung \",B23,\"\"))))+4,6)))),\"\")","v":247},{"$f":"+IF(ISERROR(+INDIRECT(CONCATENATE(\"'\",J23,\"'!\",(ADDRESS((COUNTIF($J$3:J23,IF(B23<>0,CONCATENATE(\"Auswertung \",B23,\"\"))))+2,7)))))=FALSE,+INDIRECT(CONCATENATE(\"'\",J23,\"'!\",(ADDRESS((COUNTIF($J$3:J23,IF(B23<>0,CONCATENATE(\"Auswertung \",B23,\"\"))))+4,7)))),\"\")","v":"Jap"},{"$f":"+IF(ISERROR(+INDIRECT(CONCATENATE(\"'\",J23,\"'!\",(ADDRESS((COUNTIF($J$3:J23,IF(B23<>0,CONCATENATE(\"Auswertung \",B23,\"\"))))+2,10)))))=FALSE,+INDIRECT(CONCATENATE(\"'\",J23,\"'!\",(ADDRESS((COUNTIF($J$3:J23,IF(B23<>0,CONCATENATE(\"Auswertung \",B23,\"\"))))+4,8)))),\"\")","v":379},{"$f":"+IF(ISERROR(+INDIRECT(CONCATENATE(\"'\",J23,\"'!\",(ADDRESS((COUNTIF($J$3:J23,IF(B23<>0,CONCATENATE(\"Auswertung \",B23,\"\"))))+2,11)))))=FALSE,+INDIRECT(CONCATENATE(\"'\",J23,\"'!\",(ADDRESS((COUNTIF($J$3:J23,IF(B23<>0,CONCATENATE(\"Auswertung \",B23,\"\"))))+4,9)))),\"\")","v":"Inka"},{"$f":"+IF(ISERROR(+INDIRECT(CONCATENATE(\"'\",J23,\"'!\",(ADDRESS((COUNTIF($J$3:J23,IF(B23<>0,CONCATENATE(\"Auswertung \",B23,\"\"))))+2,10)))))=FALSE,+INDIRECT(CONCATENATE(\"'\",J23,\"'!\",(ADDRESS((COUNTIF($J$3:J23,IF(B23<>0,CONCATENATE(\"Auswertung \",B23,\"\"))))+4,10)))),\"\")","v":183},{"$f":"+IF(ISERROR(+INDIRECT(CONCATENATE(\"'\",J23,\"'!\",(ADDRESS((COUNTIF($J$3:J23,IF(B23<>0,CONCATENATE(\"Auswertung \",B23,\"\"))))+2,11)))))=FALSE,+INDIRECT(CONCATENATE(\"'\",J23,\"'!\",(ADDRESS((COUNTIF($J$3:J23,IF(B23<>0,CONCATENATE(\"Auswertung \",B23,\"\"))))+4,11)))),\"\")","v":"Jap"},{"$f":"+IF(ISERROR(+INDIRECT(CONCATENATE(\"'\",J23,\"'!\",(ADDRESS((COUNTIF($J$3:J23,IF(D23<>0,CONCATENATE(\"Auswertung \",D23,\"\"))))+2,12)))))=FALSE,+INDIRECT(CONCATENATE(\"'\",J23,\"'!\",(ADDRESS((COUNTIF($J$3:J23,IF(D23<>0,CONCATENATE(\"Auswertung \",B23,\"\"))))+4,12)))),\"\")","v":211},{"$f":"+IF(ISERROR(+INDIRECT(CONCATENATE(\"'\",J23,\"'!\",(ADDRESS((COUNTIF($J$3:J23,IF(D23<>0,CONCATENATE(\"Auswertung \",D23,\"\"))))+2,13)))))=FALSE,+INDIRECT(CONCATENATE(\"'\",J23,\"'!\",(ADDRESS((COUNTIF($J$3:J23,IF(D23<>0,CONCATENATE(\"Auswertung \",B23,\"\"))))+4,13)))),\"\")","v":"Inka"},null,{"$f":"+IFERROR(INDIRECT(CONCATENATE(\"'\",J23,\"'!\",(ADDRESS((COUNTIF($J$3:J23,IF(B23<>0,J23)))+4,16)))),\"\")","v":1},11.942,{"$f":"+SUM($M$4:M23)/COUNT($M$4:M23)/1000*2","v":0.1971},{"$f":"+IFERROR(INDIRECT(CONCATENATE(\"'\",J23,\"'!\",(ADDRESS((COUNTIF($J$3:J23,IF(B23<>0,J23)))+4,18)))),\"\")","v":-1},11.522,{"$f":"+IFERROR(INDIRECT(CONCATENATE(\"'\",J23,\"'!\",(ADDRESS((COUNTIF($J$3:J23,IF(B23<>0,J23)))+4,20)))),\"\")","v":-1},4.3319999999999999,{"$f":"+IFERROR(INDIRECT(CONCATENATE(\"'\",J23,\"'!\",(ADDRESS((COUNTIF($J$3:J23,IF(B23<>0,J23)))+4,22)))),\"\")","v":1},0.44400000000000001,{"$f":"+IFERROR(INDIRECT(CONCATENATE(\"'\",J23,\"'!\",(ADDRESS((COUNTIF($J$3:J23,IF(B23<>0,J23)))+4,24)))),\"\")","v":1},-4.5739999999999998,{"$f":"+IFERROR(INDIRECT(CONCATENATE(\"'\",J23,\"'!\",(ADDRESS((COUNTIF($J$3:J23,IF(B23<>0,J23)))+4,26)))),\"\")","v":-1},-0.626,20,{"$f":"+SUM(COUNTIF($Z$3:Z23,1),COUNTIF($Z$3:Z23,-1))","v":20},{"$f":"+SUM($M$4:M23)","v":1971},98.55,{"$f":"+SUM(COUNTIF($Z$3:Z23,1))","v":12},{"$f":"+SUM(COUNTIF($Z$3:Z23,-1))","v":8},4,{"$f":"AN23*(HARMEAN((IF(SUM(COUNTIF($Z$3:Z23,1),COUNTIF($Z$3:Z23,-1))=0,1,SUM(COUNTIF($Z$3:Z23,1),COUNTIF($Z$3:Z23,-1)))),(IF(SUM(COUNTIF($AC$3:AC23,1),COUNTIF($AC$3:AC23,-1))=0,1,SUM(COUNTIF($AC$3:AC23,1),COUNTIF($AC$3:AC23,-1)))),(IF(SUM(COUNTIF($AE$3:AE23,1),COUNTIF($AE$3:AE23,-1))=0,1,SUM(COUNTIF($AE$3:AE23,1),COUNTIF($AE$3:AE23,-1)))),(IF(SUM(COUNTIF($AG$3:AG23,1),COUNTIF($AG$3:AG23,-1))=0,1,SUM(COUNTIF($AG$3:AG23,1),COUNTIF($AG$3:AG23,-1)))),(IF(SUM(COUNTIF($AI$3:AI23,1),COUNTIF($AI$3:AI23,-1))=0,1,SUM(COUNTIF($AI$3:AI23,1),COUNTIF($AI$3:AI23,-1)))),(IF(SUM(COUNTIF($AK$3:AK23,1),COUNTIF($AK$3:AK23,-1))=0,1,SUM(COUNTIF($AK$3:AK23,1),COUNTIF($AK$3:AK23,-1)))))/1000)","v":0.4},11.942,null,{"$f":"+SUM(COUNTIF($AC$3:AC23,1),COUNTIF($AC$3:AC23,-1))","v":20},{"$f":"+SUM($O$4:O23)","v":1761},88.05,{"$f":"+SUM(COUNTIF($AC$3:AC23,1))","v":12},{"$f":"+SUM(COUNTIF($AC$3:AC23,-1))","v":8},4,{"$f":"AW23*(HARMEAN((IF(SUM(COUNTIF($Z$3:Z23,1),COUNTIF($Z$3:Z23,-1))=0,1,SUM(COUNTIF($Z$3:Z23,1),COUNTIF($Z$3:Z23,-1)))),(IF(SUM(COUNTIF($AC$3:AC23,1),COUNTIF($AC$3:AC23,-1))=0,1,SUM(COUNTIF($AC$3:AC23,1),COUNTIF($AC$3:AC23,-1)))),(IF(SUM(COUNTIF($AE$3:AE23,1),COUNTIF($AE$3:AE23,-1))=0,1,SUM(COUNTIF($AE$3:AE23,1),COUNTIF($AE$3:AE23,-1)))),(IF(SUM(COUNTIF($AG$3:AG23,1),COUNTIF($AG$3:AG23,-1))=0,1,SUM(COUNTIF($AG$3:AG23,1),COUNTIF($AG$3:AG23,-1)))),(IF(SUM(COUNTIF($AI$3:AI23,1),COUNTIF($AI$3:AI23,-1))=0,1,SUM(COUNTIF($AI$3:AI23,1),COUNTIF($AI$3:AI23,-1)))),(IF(SUM(COUNTIF($AK$3:AK23,1),COUNTIF($AK$3:AK23,-1))=0,1,SUM(COUNTIF($AK$3:AK23,1),COUNTIF($AK$3:AK23,-1)))))/1000)","v":0.4},11.522,null,{"$f":"+SUM(COUNTIF($AE$3:AE23,1),COUNTIF(AE$3:$AE23,-1))","v":20},{"$f":"+SUM($Q$4:Q23)","v":2166},108.3,{"$f":"+SUM(COUNTIF($AE$3:AE23,1))","v":10},{"$f":"+SUM(COUNTIF($AE$3:AE23,-1))","v":10},0,{"$f":"BF23*(HARMEAN((IF(SUM(COUNTIF($Z$3:Z23,1),COUNTIF($Z$3:Z23,-1))=0,1,SUM(COUNTIF($Z$3:Z23,1),COUNTIF($Z$3:Z23,-1)))),(IF(SUM(COUNTIF($AC$3:AC23,1),COUNTIF($AC$3:AC23,-1))=0,1,SUM(COUNTIF($AC$3:AC23,1),COUNTIF($AC$3:AC23,-1)))),(IF(SUM(COUNTIF($AE$3:AE23,1),COUNTIF($AE$3:AE23,-1))=0,1,SUM(COUNTIF($AE$3:AE23,1),COUNTIF($AE$3:AE23,-1)))),(IF(SUM(COUNTIF($AG$3:AG23,1),COUNTIF($AG$3:AG23,-1))=0,1,SUM(COUNTIF($AG$3:AG23,1),COUNTIF($AG$3:AG23,-1)))),(IF(SUM(COUNTIF($AI$3:AI23,1),COUNTIF($AI$3:AI23,-1))=0,1,SUM(COUNTIF($AI$3:AI23,1),COUNTIF($AI$3:AI23,-1)))),(IF(SUM(COUNTIF($AK$3:AK23,1),COUNTIF($AK$3:AK23,-1))=0,1,SUM(COUNTIF($AK$3:AK23,1),COUNTIF($AK$3:AK23,-1)))))/1000)","v":0.4},4.3319999999999999,null,{"$f":"+SUM(COUNTIF($AG$3:AG23,1),COUNTIF($AG$3:AG23,-1))","v":20},{"$f":"+SUM($S$4:S23)","v":2222},111.1,{"$f":"+SUM(COUNTIF($AG$3:AG23,1))","v":9},{"$f":"+SUM(COUNTIF($AG$3:AG23,-1))","v":11},-2,{"$f":"BO23*(HARMEAN((IF(SUM(COUNTIF($Z$3:Z23,1),COUNTIF($Z$3:Z23,-1))=0,1,SUM(COUNTIF($Z$3:Z23,1),COUNTIF($Z$3:Z23,-1)))),(IF(SUM(COUNTIF($AC$3:AC23,1),COUNTIF($AC$3:AC23,-1))=0,1,SUM(COUNTIF($AC$3:AC23,1),COUNTIF($AC$3:AC23,-1)))),(IF(SUM(COUNTIF($AE$3:AE23,1),COUNTIF($AE$3:AE23,-1))=0,1,SUM(COUNTIF($AE$3:AE23,1),COUNTIF($AE$3:AE23,-1)))),(IF(SUM(COUNTIF($AG$3:AG23,1),COUNTIF($AG$3:AG23,-1))=0,1,SUM(COUNTIF($AG$3:AG23,1),COUNTIF($AG$3:AG23,-1)))),(IF(SUM(COUNTIF($AI$3:AI23,1),COUNTIF($AI$3:AI23,-1))=0,1,SUM(COUNTIF($AI$3:AI23,1),COUNTIF($AI$3:AI23,-1)))),(IF(SUM(COUNTIF($AK$3:AK23,1),COUNTIF($AK$3:AK23,-1))=0,1,SUM(COUNTIF($AK$3:AK23,1),COUNTIF($AK$3:AK23,-1)))))/1000)","v":0.4},0.44400000000000001,null,{"$f":"+SUM(COUNTIF($AI$3:AI23,1),COUNTIF($AI$3:AI23,-1))","v":20},{"$f":"+SUM($U$4:U23)","v":1713},85.65,{"$f":"+SUM(COUNTIF($AI$3:AI23,1))","v":8},{"$f":"+SUM(COUNTIF($AI$3:AI23,-1))","v":12},-4,{"$f":"+BX23*(HARMEAN((IF(SUM(COUNTIF($Z$3:Z23,1),COUNTIF($Z$3:Z23,-1))=0,1,SUM(COUNTIF($Z$3:Z23,1),COUNTIF($Z$3:Z23,-1)))),(IF(SUM(COUNTIF($AC$3:AC23,1),COUNTIF($AC$3:AC23,-1))=0,1,SUM(COUNTIF($AC$3:AC23,1),COUNTIF($AC$3:AC23,-1)))),(IF(SUM(COUNTIF($AE$3:AE23,1),COUNTIF($AE$3:AE23,-1))=0,1,SUM(COUNTIF($AE$3:AE23,1),COUNTIF($AE$3:AE23,-1)))),(IF(SUM(COUNTIF($AG$3:AG23,1),COUNTIF($AG$3:AG23,-1))=0,1,SUM(COUNTIF($AG$3:AG23,1),COUNTIF($AG$3:AG23,-1)))),(IF(SUM(COUNTIF($AI$3:AI23,1),COUNTIF($AI$3:AI23,-1))=0,1,SUM(COUNTIF($AI$3:AI23,1),COUNTIF($AI$3:AI23,-1)))),(IF(SUM(COUNTIF($AK$3:AK23,1),COUNTIF($AK$3:AK23,-1))=0,1,SUM(COUNTIF($AK$3:AK23,1),COUNTIF($AK$3:AK23,-1)))))/1000)","v":0.4},-4.5739999999999998,null,{"$f":"+SUM(COUNTIF($AK$3:AK23,1),COUNTIF($AK$3:AK23,-1))","v":20},{"$f":"+SUM($W$4:W23)","v":1687},84.35,{"$f":"+SUM(COUNTIF($AK$3:AK23,1))","v":9},{"$f":"+SUM(COUNTIF($AK$3:AK23,-1))","v":11},-2,{"$f":"+CG23*(HARMEAN((IF(SUM(COUNTIF($Z$3:Z23,1),COUNTIF($Z$3:Z23,-1))=0,1,SUM(COUNTIF($Z$3:Z23,1),COUNTIF($Z$3:Z23,-1)))),(IF(SUM(COUNTIF($AC$3:AC23,1),COUNTIF($AC$3:AC23,-1))=0,1,SUM(COUNTIF($AC$3:AC23,1),COUNTIF($AC$3:AC23,-1)))),(IF(SUM(COUNTIF($AE$3:AE23,1),COUNTIF($AE$3:AE23,-1))=0,1,SUM(COUNTIF($AE$3:AE23,1),COUNTIF($AE$3:AE23,-1)))),(IF(SUM(COUNTIF($AG$3:AG23,1),COUNTIF($AG$3:AG23,-1))=0,1,SUM(COUNTIF($AG$3:AG23,1),COUNTIF($AG$3:AG23,-1)))),(IF(SUM(COUNTIF($AI$3:AI23,1),COUNTIF($AI$3:AI23,-1))=0,1,SUM(COUNTIF($AI$3:AI23,1),COUNTIF($AI$3:AI23,-1)))),(IF(SUM(COUNTIF($AK$3:AK23,1),COUNTIF($AK$3:AK23,-1))=0,1,SUM(COUNTIF($AK$3:AK23,1),COUNTIF($AK$3:AK23,-1)))))/1000)","v":0.4},-0.626]
[21,"Yuri",null,{"$f":"+IFERROR(INDEX('Auswertung AoE II'!$AE:$AE,MATCH(A24,'Auswertung AoE II'!$AD:$AD,0)),\"\")","v":""},{"$f":"+IFERROR(INDEX('Auswertung AoE III'!$AE:$AE,MATCH(A24,'Auswertung AoE III'!$AD:$AD,0)),\"\")","v":""},{"$f":"+IFERROR(INDEX('Auswertung AoM'!$AE:$AE,MATCH(A24,'Auswertung AoM'!$AD:$AD,0)),\"\")","v":""},{"$f":"+IFERROR(INDEX('Auswertung RA'!$AE:$AE,MATCH(A24,'Auswertung RA'!$AD:$AD,0)),\"\")","v":""},{"$f":"+IFERROR(INDEX('Auswertung Yuri'!$AE:$AE,MATCH(A24,'Auswertung Yuri'!$AD:$AD,0)),\"\")","v":"Yuri"},{"$f":"+IFERROR(INDEX('Auswertung Generals'!$AE:$AE,MATCH(A24,'Auswertung Generals'!$AD:$AD,0)),\"\")","v":""},"Auswertung Yuri",null,null,{"$f":"+IF(ISERROR(+INDIRECT(CONCATENATE(\"'\",J24,\"'!\",(ADDRESS((COUNTIF($J$3:J24,IF(B24<>0,CONCATENATE(\"Auswertung \",B24,\"\"))))+2,2)))))=FALSE,+INDIRECT(CONCATENATE(\"'\",J24,\"'!\",(ADDRESS((COUNTIF($J$3:J24,IF(B24<>0,CONCATENATE(\"Auswertung \",B24,\"\"))))+4,2)))),\"\")","v":56},{"$f":"IF(ISERROR(+INDIRECT(CONCATENATE(\"'\",J24,\"'!\",(ADDRESS((COUNTIF($J$3:J24,IF(B24<>0,CONCATENATE(\"Auswertung \",B24,\"\"))))+2,2+1)))))=FALSE,+INDIRECT(CONCATENATE(\"'\",J24,\"'!\",(ADDRESS((COUNTIF($J$3:J24,IF(B24<>0,CONCATENATE(\"Auswertung \",B24,\"\"))))+4,2+1)))),\"\")","v":"Deu"},{"$f":"+IF(ISERROR(+INDIRECT(CONCATENATE(\"'\",J24,\"'!\",(ADDRESS((COUNTIF($J$3:J24,IF(B24<>0,CONCATENATE(\"Auswertung \",B24,\"\"))))+2,4)))))=FALSE,+INDIRECT(CONCATENATE(\"'\",J24,\"'!\",(ADDRESS((COUNTIF($J$3:J24,IF(B24<>0,CONCATENATE(\"Auswertung \",B24,\"\"))))+4,4)))),\"\")","v":57},{"$f":"+IF(ISERROR(+INDIRECT(CONCATENATE(\"'\",J24,\"'!\",(ADDRESS((COUNTIF($J$3:J24,IF(B24<>0,CONCATENATE(\"Auswertung \",B24,\"\"))))+2,5)))))=FALSE,+INDIRECT(CONCATENATE(\"'\",J24,\"'!\",(ADDRESS((COUNTIF($J$3:J24,IF(B24<>0,CONCATENATE(\"Auswertung \",B24,\"\"))))+4,5)))),\"\")","v":"Deu"},{"$f":"+IF(ISERROR(+INDIRECT(CONCATENATE(\"'\",J24,\"'!\",(ADDRESS((COUNTIF($J$3:J24,IF(B24<>0,CONCATENATE(\"Auswertung \",B24,\"\"))))+2,6)))))=FALSE,+INDIRECT(CONCATENATE(\"'\",J24,\"'!\",(ADDRESS((COUNTIF($J$3:J24,IF(B24<>0,CONCATENATE(\"Auswertung \",B24,\"\"))))+4,6)))),\"\")","v":65},{"$f":"+IF(ISERROR(+INDIRECT(CONCATENATE(\"'\",J24,\"'!\",(ADDRESS((COUNTIF($J$3:J24,IF(B24<>0,CONCATENATE(\"Auswertung \",B24,\"\"))))+2,7)))))=FALSE,+INDIRECT(CONCATENATE(\"'\",J24,\"'!\",(ADDRESS((COUNTIF($J$3:J24,IF(B24<>0,CONCATENATE(\"Auswertung \",B24,\"\"))))+4,7)))),\"\")","v":"Yur"},{"$f":"+IF(ISERROR(+INDIRECT(CONCATENATE(\"'\",J24,\"'!\",(ADDRESS((COUNTIF($J$3:J24,IF(B24<>0,CONCATENATE(\"Auswertung \",B24,\"\"))))+2,10)))))=FALSE,+INDIRECT(CONCATENATE(\"'\",J24,\"'!\",(ADDRESS((COUNTIF($J$3:J24,IF(B24<>0,CONCATENATE(\"Auswertung \",B24,\"\"))))+4,8)))),\"\")","v":51},{"$f":"+IF(ISERROR(+INDIRECT(CONCATENATE(\"'\",J24,\"'!\",(ADDRESS((COUNTIF($J$3:J24,IF(B24<>0,CONCATENATE(\"Auswertung \",B24,\"\"))))+2,11)))))=FALSE,+INDIRECT(CONCATENATE(\"'\",J24,\"'!\",(ADDRESS((COUNTIF($J$3:J24,IF(B24<>0,CONCATENATE(\"Auswertung \",B24,\"\"))))+4,9)))),\"\")","v":"Yur"},{"$f":"+IF(ISERROR(+INDIRECT(CONCATENATE(\"'\",J24,\"'!\",(ADDRESS((COUNTIF($J$3:J24,IF(B24<>0,CONCATENATE(\"Auswertung \",B24,\"\"))))+2,10)))))=FALSE,+INDIRECT(CONCATENATE(\"'\",J24,\"'!\",(ADDRESS((COUNTIF($J$3:J24,IF(B24<>0,CONCATENATE(\"Auswertung \",B24,\"\"))))+4,10)))),\"\")","v":56},{"$f":"+IF(ISERROR(+INDIRECT(CONCATENATE(\"'\",J24,\"'!\",(ADDRESS((COUNTIF($J$3:J24,IF(B24<>0,CONCATENATE(\"Auswertung \",B24,\"\"))))+2,11)))))=FALSE,+INDIRECT(CONCATENATE(\"'\",J24,\"'!\",(ADDRESS((COUNTIF($J$3:J24,IF(B24<>0,CONCATENATE(\"Auswertung \",B24,\"\"))))+4,11)))),\"\")","v":"Lyb"},{"$f":"+IF(ISERROR(+INDIRECT(CONCATENATE(\"'\",J24,\"'!\",(ADDRESS((COUNTIF($J$3:J24,IF(D24<>0,CONCATENATE(\"Auswertung \",D24,\"\"))))+2,12)))))=FALSE,+INDIRECT(CONCATENATE(\"'\",J24,\"'!\",(ADDRESS((COUNTIF($J$3:J24,IF(D24<>0,CONCATENATE(\"Auswertung \",B24,\"\"))))+4,12)))),\"\")","v":71},{"$f":"+IF(ISERROR(+INDIRECT(CONCATENATE(\"'\",J24,\"'!\",(ADDRESS((COUNTIF($J$3:J24,IF(D24<>0,CONCATENATE(\"Auswertung \",D24,\"\"))))+2,13)))))=FALSE,+INDIRECT(CONCATENATE(\"'\",J24,\"'!\",(ADDRESS((COUNTIF($J$3:J24,IF(D24<>0,CONCATENATE(\"Auswertung \",B24,\"\"))))+4,13)))),\"\")","v":"Lyb"},null,{"$f":"+IFERROR(INDIRECT(CONCATENATE(\"'\",J24,\"'!\",(ADDRESS((COUNTIF($J$3:J24,IF(B24<>0,J24)))+4,16)))),\"\")","v":-1},10.557,{"$f":"+SUM($M$4:M24)/COUNT($M$4:M24)/1000*2","v":0.19304761904761902},{"$f":"+IFERROR(INDIRECT(CONCATENATE(\"'\",J24,\"'!\",(ADDRESS((COUNTIF($J$3:J24,IF(B24<>0,J24)))+4,18)))),\"\")","v":1},14.318,{"$f":"+IFERROR(INDIRECT(CONCATENATE(\"'\",J24,\"'!\",(ADDRESS((COUNTIF($J$3:J24,IF(B24<>0,J24)))+4,20)))),\"\")","v":1},6.7850000000000001,{"$f":"+IFERROR(INDIRECT(CONCATENATE(\"'\",J24,\"'!\",(ADDRESS((COUNTIF($J$3:J24,IF(B24<>0,J24)))+4,22)))),\"\")","v":-1},-1.5269999999999999,{"$f":"+IFERROR(INDIRECT(CONCATENATE(\"'\",J24,\"'!\",(ADDRESS((COUNTIF($J$3:J24,IF(B24<>0,J24)))+4,24)))),\"\")","v":-1},-6.7850000000000001,{"$f":"+IFERROR(INDIRECT(CONCATENATE(\"'\",J24,\"'!\",(ADDRESS((COUNTIF($J$3:J24,IF(B24<>0,J24)))+4,26)))),\"\")","v":1},1.5920000000000001,21,{"$f":"+SUM(COUNTIF($Z$3:Z24,1),COUNTIF($Z$3:Z24,-1))","v":21},{"$f":"+SUM($M$4:M24)","v":2027},96.523809523809518,{"$f":"+SUM(COUNTIF($Z$3:Z24,1))","v":12},{"$f":"+SUM(COUNTIF($Z$3:Z24,-1))","v":9},3,{"$f":"AN24*(HARMEAN((IF(SUM(COUNTIF($Z$3:Z24,1),COUNTIF($Z$3:Z24,-1))=0,1,SUM(COUNTIF($Z$3:Z24,1),COUNTIF($Z$3:Z24,-1)))),(IF(SUM(COUNTIF($AC$3:AC24,1),COUNTIF($AC$3:AC24,-1))=0,1,SUM(COUNTIF($AC$3:AC24,1),COUNTIF($AC$3:AC24,-1)))),(IF(SUM(COUNTIF($AE$3:AE24,1),COUNTIF($AE$3:AE24,-1))=0,1,SUM(COUNTIF($AE$3:AE24,1),COUNTIF($AE$3:AE24,-1)))),(IF(SUM(COUNTIF($AG$3:AG24,1),COUNTIF($AG$3:AG24,-1))=0,1,SUM(COUNTIF($AG$3:AG24,1),COUNTIF($AG$3:AG24,-1)))),(IF(SUM(COUNTIF($AI$3:AI24,1),COUNTIF($AI$3:AI24,-1))=0,1,SUM(COUNTIF($AI$3:AI24,1),COUNTIF($AI$3:AI24,-1)))),(IF(SUM(COUNTIF($AK$3:AK24,1),COUNTIF($AK$3:AK24,-1))=0,1,SUM(COUNTIF($AK$3:AK24,1),COUNTIF($AK$3:AK24,-1)))))/1000)","v":0.441},10.557,null,{"$f":"+SUM(COUNTIF($AC$3:AC24,1),COUNTIF($AC$3:AC24,-1))","v":21},{"$f":"+SUM($O$4:O24)","v":1818},86.571428571428569,{"$f":"+SUM(COUNTIF($AC$3:AC24,1))","v":13},{"$f":"+SUM(COUNTIF($AC$3:AC24,-1))","v":8},5,{"$f":"AW24*(HARMEAN((IF(SUM(COUNTIF($Z$3:Z24,1),COUNTIF($Z$3:Z24,-1))=0,1,SUM(COUNTIF($Z$3:Z24,1),COUNTIF($Z$3:Z24,-1)))),(IF(SUM(COUNTIF($AC$3:AC24,1),COUNTIF($AC$3:AC24,-1))=0,1,SUM(COUNTIF($AC$3:AC24,1),COUNTIF($AC$3:AC24,-1)))),(IF(SUM(COUNTIF($AE$3:AE24,1),COUNTIF($AE$3:AE24,-1))=0,1,SUM(COUNTIF($AE$3:AE24,1),COUNTIF($AE$3:AE24,-1)))),(IF(SUM(COUNTIF($AG$3:AG24,1),COUNTIF($AG$3:AG24,-1))=0,1,SUM(COUNTIF($AG$3:AG24,1),COUNTIF($AG$3:AG24,-1)))),(IF(SUM(COUNTIF($AI$3:AI24,1),COUNTIF($AI$3:AI24,-1))=0,1,SUM(COUNTIF($AI$3:AI24,1),COUNTIF($AI$3:AI24,-1)))),(IF(SUM(COUNTIF($AK$3:AK24,1),COUNTIF($AK$3:AK24,-1))=0,1,SUM(COUNTIF($AK$3:AK24,1),COUNTIF($AK$3:AK24,-1)))))/1000)","v":0.441},14.318,null,{"$f":"+SUM(COUNTIF($AE$3:AE24,1),COUNTIF(AE$3:$AE24,-1))","v":21},{"$f":"+SUM($Q$4:Q24)","v":2231},106.23809523809524,{"$f":"+SUM(COUNTIF($AE$3:AE24,1))","v":11},{"$f":"+SUM(COUNTIF($AE$3:AE24,-1))","v":10},1,{"$f":"BF24*(HARMEAN((IF(SUM(COUNTIF($Z$3:Z24,1),COUNTIF($Z$3:Z24,-1))=0,1,SUM(COUNTIF($Z$3:Z24,1),COUNTIF($Z$3:Z24,-1)))),(IF(SUM(COUNTIF($AC$3:AC24,1),COUNTIF($AC$3:AC24,-1))=0,1,SUM(COUNTIF($AC$3:AC24,1),COUNTIF($AC$3:AC24,-1)))),(IF(SUM(COUNTIF($AE$3:AE24,1),COUNTIF($AE$3:AE24,-1))=0,1,SUM(COUNTIF($AE$3:AE24,1),COUNTIF($AE$3:AE24,-1)))),(IF(SUM(COUNTIF($AG$3:AG24,1),COUNTIF($AG$3:AG24,-1))=0,1,SUM(COUNTIF($AG$3:AG24,1),COUNTIF($AG$3:AG24,-1)))),(IF(SUM(COUNTIF($AI$3:AI24,1),COUNTIF($AI$3:AI24,-1))=0,1,SUM(COUNTIF($AI$3:AI24,1),COUNTIF($AI$3:AI24,-1)))),(IF(SUM(COUNTIF($AK$3:AK24,1),COUNTIF($AK$3:AK24,-1))=0,1,SUM(COUNTIF($AK$3:AK24,1),COUNTIF($AK$3:AK24,-1)))))/1000)","v":0.441},6.7850000000000001,null,{"$f":"+SUM(COUNTIF($AG$3:AG24,1),COUNTIF($AG$3:AG24,-1))","v":21},{"$f":"+SUM($S$4:S24)","v":2273},108.23809523809524,{"$f":"+SUM(COUNTIF($AG$3:AG24,1))","v":9},{"$f":"+SUM(COUNTIF($AG$3:AG24,-1))","v":12},-3,{"$f":"BO24*(HARMEAN((IF(SUM(COUNTIF($Z$3:Z24,1),COUNTIF($Z$3:Z24,-1))=0,1,SUM(COUNTIF($Z$3:Z24,1),COUNTIF($Z$3:Z24,-1)))),(IF(SUM(COUNTIF($AC$3:AC24,1),COUNTIF($AC$3:AC24,-1))=0,1,SUM(COUNTIF($AC$3:AC24,1),COUNTIF($AC$3:AC24,-1)))),(IF(SUM(COUNTIF($AE$3:AE24,1),COUNTIF($AE$3:AE24,-1))=0,1,SUM(COUNTIF($AE$3:AE24,1),COUNTIF($AE$3:AE24,-1)))),(IF(SUM(COUNTIF($AG$3:AG24,1),COUNTIF($AG$3:AG24,-1))=0,1,SUM(COUNTIF($AG$3:AG24,1),COUNTIF($AG$3:AG24,-1)))),(IF(SUM(COUNTIF($AI$3:AI24,1),COUNTIF($AI$3:AI24,-1))=0,1,SUM(COUNTIF($AI$3:AI24,1),COUNTIF($AI$3:AI24,-1)))),(IF(SUM(COUNTIF($AK$3:AK24,1),COUNTIF($AK$3:AK24,-1))=0,1,SUM(COUNTIF($AK$3:AK24,1),COUNTIF($AK$3:AK24,-1)))))/1000)","v":0.441},-1.5269999999999999,null,{"$f":"+SUM(COUNTIF($AI$3:AI24,1),COUNTIF($AI$3:AI24,-1))","v":21},{"$f":"+SUM($U$4:U24)","v":1769},84.238095238095241,{"$f":"+SUM(COUNTIF($AI$3:AI24,1))","v":8},{"$f":"+SUM(COUNTIF($AI$3:AI24,-1))","v":13},-5,{"$f":"+BX24*(HARMEAN((IF(SUM(COUNTIF($Z$3:Z24,1),COUNTIF($Z$3:Z24,-1))=0,1,SUM(COUNTIF($Z$3:Z24,1),COUNTIF($Z$3:Z24,-1)))),(IF(SUM(COUNTIF($AC$3:AC24,1),COUNTIF($AC$3:AC24,-1))=0,1,SUM(COUNTIF($AC$3:AC24,1),COUNTIF($AC$3:AC24,-1)))),(IF(SUM(COUNTIF($AE$3:AE24,1),COUNTIF($AE$3:AE24,-1))=0,1,SUM(COUNTIF($AE$3:AE24,1),COUNTIF($AE$3:AE24,-1)))),(IF(SUM(COUNTIF($AG$3:AG24,1),COUNTIF($AG$3:AG24,-1))=0,1,SUM(COUNTIF($AG$3:AG24,1),COUNTIF($AG$3:AG24,-1)))),(IF(SUM(COUNTIF($AI$3:AI24,1),COUNTIF($AI$3:AI24,-1))=0,1,SUM(COUNTIF($AI$3:AI24,1),COUNTIF($AI$3:AI24,-1)))),(IF(SUM(COUNTIF($AK$3:AK24,1),COUNTIF($AK$3:AK24,-1))=0,1,SUM(COUNTIF($AK$3:AK24,1),COUNTIF($AK$3:AK24,-1)))))/1000)","v":0.441},-6.7850000000000001,null,{"$f":"+SUM(COUNTIF($AK$3:AK24,1),COUNTIF($AK$3:AK24,-1))","v":21},{"$f":"+SUM($W$4:W24)","v":1758},83.714285714285708,{"$f":"+SUM(COUNTIF($AK$3:AK24,1))","v":10},{"$f":"+SUM(COUNTIF($AK$3:AK24,-1))","v":11},-1,{"$f":"+CG24*(HARMEAN((IF(SUM(COUNTIF($Z$3:Z24,1),COUNTIF($Z$3:Z24,-1))=0,1,SUM(COUNTIF($Z$3:Z24,1),COUNTIF($Z$3:Z24,-1)))),(IF(SUM(COUNTIF($AC$3:AC24,1),COUNTIF($AC$3:AC24,-1))=0,1,SUM(COUNTIF($AC$3:AC24,1),COUNTIF($AC$3:AC24,-1)))),(IF(SUM(COUNTIF($AE$3:AE24,1),COUNTIF($AE$3:AE24,-1))=0,1,SUM(COUNTIF($AE$3:AE24,1),COUNTIF($AE$3:AE24,-1)))),(IF(SUM(COUNTIF($AG$3:AG24,1),COUNTIF($AG$3:AG24,-1))=0,1,SUM(COUNTIF($AG$3:AG24,1),COUNTIF($AG$3:AG24,-1)))),(IF(SUM(COUNTIF($AI$3:AI24,1),COUNTIF($AI$3:AI24,-1))=0,1,SUM(COUNTIF($AI$3:AI24,1),COUNTIF($AI$3:AI24,-1)))),(IF(SUM(COUNTIF($AK$3:AK24,1),COUNTIF($AK$3:AK24,-1))=0,1,SUM(COUNTIF($AK$3:AK24,1),COUNTIF($AK$3:AK24,-1)))))/1000)","v":0.441},1.5920000000000001]
[22,"AoE III",null,{"$f":"+IFERROR(INDEX('Auswertung AoE II'!$AE:$AE,MATCH(A25,'Auswertung AoE II'!$AD:$AD,0)),\"\")","v":""},{"$f":"+IFERROR(INDEX('Auswertung AoE III'!$AE:$AE,MATCH(A25,'Auswertung AoE III'!$AD:$AD,0)),\"\")","v":"AoE III"},{"$f":"+IFERROR(INDEX('Auswertung AoM'!$AE:$AE,MATCH(A25,'Auswertung AoM'!$AD:$AD,0)),\"\")","v":""},{"$f":"+IFERROR(INDEX('Auswertung RA'!$AE:$AE,MATCH(A25,'Auswertung RA'!$AD:$AD,0)),\"\")","v":""},{"$f":"+IFERROR(INDEX('Auswertung Yuri'!$AE:$AE,MATCH(A25,'Auswertung Yuri'!$AD:$AD,0)),\"\")","v":""},{"$f":"+IFERROR(INDEX('Auswertung Generals'!$AE:$AE,MATCH(A25,'Auswertung Generals'!$AD:$AD,0)),\"\")","v":""},"Auswertung AoE III",null,null,{"$f":"+IF(ISERROR(+INDIRECT(CONCATENATE(\"'\",J25,\"'!\",(ADDRESS((COUNTIF($J$3:J25,IF(B25<>0,CONCATENATE(\"Auswertung \",B25,\"\"))))+2,2)))))=FALSE,+INDIRECT(CONCATENATE(\"'\",J25,\"'!\",(ADDRESS((COUNTIF($J$3:J25,IF(B25<>0,CONCATENATE(\"Auswertung \",B25,\"\"))))+4,2)))),\"\")","v":446},{"$f":"IF(ISERROR(+INDIRECT(CONCATENATE(\"'\",J25,\"'!\",(ADDRESS((COUNTIF($J$3:J25,IF(B25<>0,CONCATENATE(\"Auswertung \",B25,\"\"))))+2,2+1)))))=FALSE,+INDIRECT(CONCATENATE(\"'\",J25,\"'!\",(ADDRESS((COUNTIF($J$3:J25,IF(B25<>0,CONCATENATE(\"Auswertung \",B25,\"\"))))+4,2+1)))),\"\")","v":"Osm"},{"$f":"+IF(ISERROR(+INDIRECT(CONCATENATE(\"'\",J25,\"'!\",(ADDRESS((COUNTIF($J$3:J25,IF(B25<>0,CONCATENATE(\"Auswertung \",B25,\"\"))))+2,4)))))=FALSE,+INDIRECT(CONCATENATE(\"'\",J25,\"'!\",(ADDRESS((COUNTIF($J$3:J25,IF(B25<>0,CONCATENATE(\"Auswertung \",B25,\"\"))))+4,4)))),\"\")","v":182},{"$f":"+IF(ISERROR(+INDIRECT(CONCATENATE(\"'\",J25,\"'!\",(ADDRESS((COUNTIF($J$3:J25,IF(B25<>0,CONCATENATE(\"Auswertung \",B25,\"\"))))+2,5)))))=FALSE,+INDIRECT(CONCATENATE(\"'\",J25,\"'!\",(ADDRESS((COUNTIF($J$3:J25,IF(B25<>0,CONCATENATE(\"Auswertung \",B25,\"\"))))+4,5)))),\"\")","v":"Spa"},{"$f":"+IF(ISERROR(+INDIRECT(CONCATENATE(\"'\",J25,\"'!\",(ADDRESS((COUNTIF($J$3:J25,IF(B25<>0,CONCATENATE(\"Auswertung \",B25,\"\"))))+2,6)))))=FALSE,+INDIRECT(CONCATENATE(\"'\",J25,\"'!\",(ADDRESS((COUNTIF($J$3:J25,IF(B25<>0,CONCATENATE(\"Auswertung \",B25,\"\"))))+4,6)))),\"\")","v":382},{"$f":"+IF(ISERROR(+INDIRECT(CONCATENATE(\"'\",J25,\"'!\",(ADDRESS((COUNTIF($J$3:J25,IF(B25<>0,CONCATENATE(\"Auswertung \",B25,\"\"))))+2,7)))))=FALSE,+INDIRECT(CONCATENATE(\"'\",J25,\"'!\",(ADDRESS((COUNTIF($J$3:J25,IF(B25<>0,CONCATENATE(\"Auswertung \",B25,\"\"))))+4,7)))),\"\")","v":"Chi"},{"$f":"+IF(ISERROR(+INDIRECT(CONCATENATE(\"'\",J25,\"'!\",(ADDRESS((COUNTIF($J$3:J25,IF(B25<>0,CONCATENATE(\"Auswertung \",B25,\"\"))))+2,10)))))=FALSE,+INDIRECT(CONCATENATE(\"'\",J25,\"'!\",(ADDRESS((COUNTIF($J$3:J25,IF(B25<>0,CONCATENATE(\"Auswertung \",B25,\"\"))))+4,8)))),\"\")","v":343},{"$f":"+IF(ISERROR(+INDIRECT(CONCATENATE(\"'\",J25,\"'!\",(ADDRESS((COUNTIF($J$3:J25,IF(B25<>0,CONCATENATE(\"Auswertung \",B25,\"\"))))+2,11)))))=FALSE,+INDIRECT(CONCATENATE(\"'\",J25,\"'!\",(ADDRESS((COUNTIF($J$3:J25,IF(B25<>0,CONCATENATE(\"Auswertung \",B25,\"\"))))+4,9)))),\"\")","v":"Spa"},{"$f":"+IF(ISERROR(+INDIRECT(CONCATENATE(\"'\",J25,\"'!\",(ADDRESS((COUNTIF($J$3:J25,IF(B25<>0,CONCATENATE(\"Auswertung \",B25,\"\"))))+2,10)))))=FALSE,+INDIRECT(CONCATENATE(\"'\",J25,\"'!\",(ADDRESS((COUNTIF($J$3:J25,IF(B25<>0,CONCATENATE(\"Auswertung \",B25,\"\"))))+4,10)))),\"\")","v":677},{"$f":"+IF(ISERROR(+INDIRECT(CONCATENATE(\"'\",J25,\"'!\",(ADDRESS((COUNTIF($J$3:J25,IF(B25<>0,CONCATENATE(\"Auswertung \",B25,\"\"))))+2,11)))))=FALSE,+INDIRECT(CONCATENATE(\"'\",J25,\"'!\",(ADDRESS((COUNTIF($J$3:J25,IF(B25<>0,CONCATENATE(\"Auswertung \",B25,\"\"))))+4,11)))),\"\")","v":"Osm"},{"$f":"+IF(ISERROR(+INDIRECT(CONCATENATE(\"'\",J25,\"'!\",(ADDRESS((COUNTIF($J$3:J25,IF(D25<>0,CONCATENATE(\"Auswertung \",D25,\"\"))))+2,12)))))=FALSE,+INDIRECT(CONCATENATE(\"'\",J25,\"'!\",(ADDRESS((COUNTIF($J$3:J25,IF(D25<>0,CONCATENATE(\"Auswertung \",B25,\"\"))))+4,12)))),\"\")","v":418},{"$f":"+IF(ISERROR(+INDIRECT(CONCATENATE(\"'\",J25,\"'!\",(ADDRESS((COUNTIF($J$3:J25,IF(D25<>0,CONCATENATE(\"Auswertung \",D25,\"\"))))+2,13)))))=FALSE,+INDIRECT(CONCATENATE(\"'\",J25,\"'!\",(ADDRESS((COUNTIF($J$3:J25,IF(D25<>0,CONCATENATE(\"Auswertung \",B25,\"\"))))+4,13)))),\"\")","v":"Chi"},null,{"$f":"+IFERROR(INDIRECT(CONCATENATE(\"'\",J25,\"'!\",(ADDRESS((COUNTIF($J$3:J25,IF(B25<>0,J25)))+4,16)))),\"\")","v":-1},9.8409999999999993,{"$f":"+SUM($M$4:M25)/COUNT($M$4:M25)/1000*2","v":0.22481818181818181},{"$f":"+IFERROR(INDIRECT(CONCATENATE(\"'\",J25,\"'!\",(ADDRESS((COUNTIF($J$3:J25,IF(B25<>0,J25)))+4,18)))),\"\")","v":-1},13.2,{"$f":"+IFERROR(INDIRECT(CONCATENATE(\"'\",J25,\"'!\",(ADDRESS((COUNTIF($J$3:J25,IF(B25<>0,J25)))+4,20)))),\"\")","v":1},10.148999999999999,{"$f":"+IFERROR(INDIRECT(CONCATENATE(\"'\",J25,\"'!\",(ADDRESS((COUNTIF($J$3:J25,IF(B25<>0,J25)))+4,22)))),\"\")","v":1},1.355,{"$f":"+IFERROR(INDIRECT(CONCATENATE(\"'\",J25,\"'!\",(ADDRESS((COUNTIF($J$3:J25,IF(B25<>0,J25)))+4,24)))),\"\")","v":1},-3.419,{"$f":"+IFERROR(INDIRECT(CONCATENATE(\"'\",J25,\"'!\",(ADDRESS((COUNTIF($J$3:J25,IF(B25<>0,J25)))+4,26)))),\"\")","v":-1},0.38700000000000001,22,{"$f":"+SUM(COUNTIF($Z$3:Z25,1),COUNTIF($Z$3:Z25,-1))","v":22},{"$f":"+SUM($M$4:M25)","v":2473},112.40909090909091,{"$f":"+SUM(COUNTIF($Z$3:Z25,1))","v":12},{"$f":"+SUM(COUNTIF($Z$3:Z25,-1))","v":10},2,{"$f":"AN25*(HARMEAN((IF(SUM(COUNTIF($Z$3:Z25,1),COUNTIF($Z$3:Z25,-1))=0,1,SUM(COUNTIF($Z$3:Z25,1),COUNTIF($Z$3:Z25,-1)))),(IF(SUM(COUNTIF($AC$3:AC25,1),COUNTIF($AC$3:AC25,-1))=0,1,SUM(COUNTIF($AC$3:AC25,1),COUNTIF($AC$3:AC25,-1)))),(IF(SUM(COUNTIF($AE$3:AE25,1),COUNTIF($AE$3:AE25,-1))=0,1,SUM(COUNTIF($AE$3:AE25,1),COUNTIF($AE$3:AE25,-1)))),(IF(SUM(COUNTIF($AG$3:AG25,1),COUNTIF($AG$3:AG25,-1))=0,1,SUM(COUNTIF($AG$3:AG25,1),COUNTIF($AG$3:AG25,-1)))),(IF(SUM(COUNTIF($AI$3:AI25,1),COUNTIF($AI$3:AI25,-1))=0,1,SUM(COUNTIF($AI$3:AI25,1),COUNTIF($AI$3:AI25,-1)))),(IF(SUM(COUNTIF($AK$3:AK25,1),COUNTIF($AK$3:AK25,-1))=0,1,SUM(COUNTIF($AK$3:AK25,1),COUNTIF($AK$3:AK25,-1)))))/1000)","v":0.48399999999999987},9.8409999999999993,null,{"$f":"+SUM(COUNTIF($AC$3:AC25,1),COUNTIF($AC$3:AC25,-1))","v":22},{"$f":"+SUM($O$4:O25)","v":2000},90.909090909090907,{"$f":"+SUM(COUNTIF($AC$3:AC25,1))","v":13},{"$f":"+SUM(COUNTIF($AC$3:AC25,-1))","v":9},4,{"$f":"AW25*(HARMEAN((IF(SUM(COUNTIF($Z$3:Z25,1),COUNTIF($Z$3:Z25,-1))=0,1,SUM(COUNTIF($Z$3:Z25,1),COUNTIF($Z$3:Z25,-1)))),(IF(SUM(COUNTIF($AC$3:AC25,1),COUNTIF($AC$3:AC25,-1))=0,1,SUM(COUNTIF($AC$3:AC25,1),COUNTIF($AC$3:AC25,-1)))),(IF(SUM(COUNTIF($AE$3:AE25,1),COUNTIF($AE$3:AE25,-1))=0,1,SUM(COUNTIF($AE$3:AE25,1),COUNTIF($AE$3:AE25,-1)))),(IF(SUM(COUNTIF($AG$3:AG25,1),COUNTIF($AG$3:AG25,-1))=0,1,SUM(COUNTIF($AG$3:AG25,1),COUNTIF($AG$3:AG25,-1)))),(IF(SUM(COUNTIF($AI$3:AI25,1),COUNTIF($AI$3:AI25,-1))=0,1,SUM(COUNTIF($AI$3:AI25,1),COUNTIF($AI$3:AI25,-1)))),(IF(SUM(COUNTIF($AK$3:AK25,1),COUNTIF($AK$3:AK25,-1))=0,1,SUM(COUNTIF($AK$3:AK25,1),COUNTIF($AK$3:AK25,-1)))))/1000)","v":0.48399999999999987},13.2,null,{"$f":"+SUM(COUNTIF($AE$3:AE25,1),COUNTIF(AE$3:$AE25,-1))","v":22},{"$f":"+SUM($Q$4:Q25)","v":2613},118.77272727272727,{"$f":"+SUM(COUNTIF($AE$3:AE25,1))","v":12},{"$f":"+SUM(COUNTIF($AE$3:AE25,-1))","v":10},2,{"$f":"BF25*(HARMEAN((IF(SUM(COUNTIF($Z$3:Z25,1),COUNTIF($Z$3:Z25,-1))=0,1,SUM(COUNTIF($Z$3:Z25,1),COUNTIF($Z$3:Z25,-1)))),(IF(SUM(COUNTIF($AC$3:AC25,1),COUNTIF($AC$3:AC25,-1))=0,1,SUM(COUNTIF($AC$3:AC25,1),COUNTIF($AC$3:AC25,-1)))),(IF(SUM(COUNTIF($AE$3:AE25,1),COUNTIF($AE$3:AE25,-1))=0,1,SUM(COUNTIF($AE$3:AE25,1),COUNTIF($AE$3:AE25,-1)))),(IF(SUM(COUNTIF($AG$3:AG25,1),COUNTIF($AG$3:AG25,-1))=0,1,SUM(COUNTIF($AG$3:AG25,1),COUNTIF($AG$3:AG25,-1)))),(IF(SUM(COUNTIF($AI$3:AI25,1),COUNTIF($AI$3:AI25,-1))=0,1,SUM(COUNTIF($AI$3:AI25,1),COUNTIF($AI$3:AI25,-1)))),(IF(SUM(COUNTIF($AK$3:AK25,1),COUNTIF($AK$3:AK25,-1))=0,1,SUM(COUNTIF($AK$3:AK25,1),COUNTIF($AK$3:AK25,-1)))))/1000)","v":0.48399999999999987},10.148999999999999,null,{"$f":"+SUM(COUNTIF($AG$3:AG25,1),COUNTIF($AG$3:AG25,-1))","v":22},{"$f":"+SUM($S$4:S25)","v":2616},118.90909090909091,{"$f":"+SUM(COUNTIF($AG$3:AG25,1))","v":10},{"$f":"+SUM(COUNTIF($AG$3:AG25,-1))","v":12},-2,{"$f":"BO25*(HARMEAN((IF(SUM(COUNTIF($Z$3:Z25,1),COUNTIF($Z$3:Z25,-1))=0,1,SUM(COUNTIF($Z$3:Z25,1),COUNTIF($Z$3:Z25,-1)))),(IF(SUM(COUNTIF($AC$3:AC25,1),COUNTIF($AC$3:AC25,-1))=0,1,SUM(COUNTIF($AC$3:AC25,1),COUNTIF($AC$3:AC25,-1)))),(IF(SUM(COUNTIF($AE$3:AE25,1),COUNTIF($AE$3:AE25,-1))=0,1,SUM(COUNTIF($AE$3:AE25,1),COUNTIF($AE$3:AE25,-1)))),(IF(SUM(COUNTIF($AG$3:AG25,1),COUNTIF($AG$3:AG25,-1))=0,1,SUM(COUNTIF($AG$3:AG25,1),COUNTIF($AG$3:AG25,-1)))),(IF(SUM(COUNTIF($AI$3:AI25,1),COUNTIF($AI$3:AI25,-1))=0,1,SUM(COUNTIF($AI$3:AI25,1),COUNTIF($AI$3:AI25,-1)))),(IF(SUM(COUNTIF($AK$3:AK25,1),COUNTIF($AK$3:AK25,-1))=0,1,SUM(COUNTIF($AK$3:AK25,1),COUNTIF($AK$3:AK25,-1)))))/1000)","v":0.48399999999999987},1.355,null,{"$f":"+SUM(COUNTIF($AI$3:AI25,1),COUNTIF($AI$3:AI25,-1))","v":22},{"$f":"+SUM($U$4:U25)","v":2446},111.18181818181819,{"$f":"+SUM(COUNTIF($AI$3:AI25,1))","v":9},{"$f":"+SUM(COUNTIF($AI$3:AI25,-1))","v":13},-4,{"$f":"+BX25*(HARMEAN((IF(SUM(COUNTIF($Z$3:Z25,1),COUNTIF($Z$3:Z25,-1))=0,1,SUM(COUNTIF($Z$3:Z25,1),COUNTIF($Z$3:Z25,-1)))),(IF(SUM(COUNTIF($AC$3:AC25,1),COUNTIF($AC$3:AC25,-1))=0,1,SUM(COUNTIF($AC$3:AC25,1),COUNTIF($AC$3:AC25,-1)))),(IF(SUM(COUNTIF($AE$3:AE25,1),COUNTIF($AE$3:AE25,-1))=0,1,SUM(COUNTIF($AE$3:AE25,1),COUNTIF($AE$3:AE25,-1)))),(IF(SUM(COUNTIF($AG$3:AG25,1),COUNTIF($AG$3:AG25,-1))=0,1,SUM(COUNTIF($AG$3:AG25,1),COUNTIF($AG$3:AG25,-1)))),(IF(SUM(COUNTIF($AI$3:AI25,1),COUNTIF($AI$3:AI25,-1))=0,1,SUM(COUNTIF($AI$3:AI25,1),COUNTIF($AI$3:AI25,-1)))),(IF(SUM(COUNTIF($AK$3:AK25,1),COUNTIF($AK$3:AK25,-1))=0,1,SUM(COUNTIF($AK$3:AK25,1),COUNTIF($AK$3:AK25,-1)))))/1000)","v":0.48399999999999987},-3.419,null,{"$f":"+SUM(COUNTIF($AK$3:AK25,1),COUNTIF($AK$3:AK25,-1))","v":22},{"$f":"+SUM($W$4:W25)","v":2176},98.909090909090907,{"$f":"+SUM(COUNTIF($AK$3:AK25,1))","v":10},{"$f":"+SUM(COUNTIF($AK$3:AK25,-1))","v":12},-2,{"$f":"+CG25*(HARMEAN((IF(SUM(COUNTIF($Z$3:Z25,1),COUNTIF($Z$3:Z25,-1))=0,1,SUM(COUNTIF($Z$3:Z25,1),COUNTIF($Z$3:Z25,-1)))),(IF(SUM(COUNTIF($AC$3:AC25,1),COUNTIF($AC$3:AC25,-1))=0,1,SUM(COUNTIF($AC$3:AC25,1),COUNTIF($AC$3:AC25,-1)))),(IF(SUM(COUNTIF($AE$3:AE25,1),COUNTIF($AE$3:AE25,-1))=0,1,SUM(COUNTIF($AE$3:AE25,1),COUNTIF($AE$3:AE25,-1)))),(IF(SUM(COUNTIF($AG$3:AG25,1),COUNTIF($AG$3:AG25,-1))=0,1,SUM(COUNTIF($AG$3:AG25,1),COUNTIF($AG$3:AG25,-1)))),(IF(SUM(COUNTIF($AI$3:AI25,1),COUNTIF($AI$3:AI25,-1))=0,1,SUM(COUNTIF($AI$3:AI25,1),COUNTIF($AI$3:AI25,-1)))),(IF(SUM(COUNTIF($AK$3:AK25,1),COUNTIF($AK$3:AK25,-1))=0,1,SUM(COUNTIF($AK$3:AK25,1),COUNTIF($AK$3:AK25,-1)))))/1000)","v":0.48399999999999987},0.38700000000000001]
[23,"AoM",null,{"$f":"+IFERROR(INDEX('Auswertung AoE II'!$AE:$AE,MATCH(A26,'Auswertung AoE II'!$AD:$AD,0)),\"\")","v":""},{"$f":"+IFERROR(INDEX('Auswertung AoE III'!$AE:$AE,MATCH(A26,'Auswertung AoE III'!$AD:$AD,0)),\"\")","v":""},{"$f":"+IFERROR(INDEX('Auswertung AoM'!$AE:$AE,MATCH(A26,'Auswertung AoM'!$AD:$AD,0)),\"\")","v":"AoM"},{"$f":"+IFERROR(INDEX('Auswertung RA'!$AE:$AE,MATCH(A26,'Auswertung RA'!$AD:$AD,0)),\"\")","v":""},{"$f":"+IFERROR(INDEX('Auswertung Yuri'!$AE:$AE,MATCH(A26,'Auswertung Yuri'!$AD:$AD,0)),\"\")","v":""},{"$f":"+IFERROR(INDEX('Auswertung Generals'!$AE:$AE,MATCH(A26,'Auswertung Generals'!$AD:$AD,0)),\"\")","v":""},"Auswertung AoM",null,null,{"$f":"+IF(ISERROR(+INDIRECT(CONCATENATE(\"'\",J26,\"'!\",(ADDRESS((COUNTIF($J$3:J26,IF(B26<>0,CONCATENATE(\"Auswertung \",B26,\"\"))))+2,2)))))=FALSE,+INDIRECT(CONCATENATE(\"'\",J26,\"'!\",(ADDRESS((COUNTIF($J$3:J26,IF(B26<>0,CONCATENATE(\"Auswertung \",B26,\"\"))))+4,2)))),\"\")","v":402},{"$f":"IF(ISERROR(+INDIRECT(CONCATENATE(\"'\",J26,\"'!\",(ADDRESS((COUNTIF($J$3:J26,IF(B26<>0,CONCATENATE(\"Auswertung \",B26,\"\"))))+2,2+1)))))=FALSE,+INDIRECT(CONCATENATE(\"'\",J26,\"'!\",(ADDRESS((COUNTIF($J$3:J26,IF(B26<>0,CONCATENATE(\"Auswertung \",B26,\"\"))))+4,2+1)))),\"\")","v":"Zeus"},{"$f":"+IF(ISERROR(+INDIRECT(CONCATENATE(\"'\",J26,\"'!\",(ADDRESS((COUNTIF($J$3:J26,IF(B26<>0,CONCATENATE(\"Auswertung \",B26,\"\"))))+2,4)))))=FALSE,+INDIRECT(CONCATENATE(\"'\",J26,\"'!\",(ADDRESS((COUNTIF($J$3:J26,IF(B26<>0,CONCATENATE(\"Auswertung \",B26,\"\"))))+4,4)))),\"\")","v":353},{"$f":"+IF(ISERROR(+INDIRECT(CONCATENATE(\"'\",J26,\"'!\",(ADDRESS((COUNTIF($J$3:J26,IF(B26<>0,CONCATENATE(\"Auswertung \",B26,\"\"))))+2,5)))))=FALSE,+INDIRECT(CONCATENATE(\"'\",J26,\"'!\",(ADDRESS((COUNTIF($J$3:J26,IF(B26<>0,CONCATENATE(\"Auswertung \",B26,\"\"))))+4,5)))),\"\")","v":"Gaia"},{"$f":"+IF(ISERROR(+INDIRECT(CONCATENATE(\"'\",J26,\"'!\",(ADDRESS((COUNTIF($J$3:J26,IF(B26<>0,CONCATENATE(\"Auswertung \",B26,\"\"))))+2,6)))))=FALSE,+INDIRECT(CONCATENATE(\"'\",J26,\"'!\",(ADDRESS((COUNTIF($J$3:J26,IF(B26<>0,CONCATENATE(\"Auswertung \",B26,\"\"))))+4,6)))),\"\")","v":0},{"$f":"+IF(ISERROR(+INDIRECT(CONCATENATE(\"'\",J26,\"'!\",(ADDRESS((COUNTIF($J$3:J26,IF(B26<>0,CONCATENATE(\"Auswertung \",B26,\"\"))))+2,7)))))=FALSE,+INDIRECT(CONCATENATE(\"'\",J26,\"'!\",(ADDRESS((COUNTIF($J$3:J26,IF(B26<>0,CONCATENATE(\"Auswertung \",B26,\"\"))))+4,7)))),\"\")","v":0},{"$f":"+IF(ISERROR(+INDIRECT(CONCATENATE(\"'\",J26,\"'!\",(ADDRESS((COUNTIF($J$3:J26,IF(B26<>0,CONCATENATE(\"Auswertung \",B26,\"\"))))+2,10)))))=FALSE,+INDIRECT(CONCATENATE(\"'\",J26,\"'!\",(ADDRESS((COUNTIF($J$3:J26,IF(B26<>0,CONCATENATE(\"Auswertung \",B26,\"\"))))+4,8)))),\"\")","v":372},{"$f":"+IF(ISERROR(+INDIRECT(CONCATENATE(\"'\",J26,\"'!\",(ADDRESS((COUNTIF($J$3:J26,IF(B26<>0,CONCATENATE(\"Auswertung \",B26,\"\"))))+2,11)))))=FALSE,+INDIRECT(CONCATENATE(\"'\",J26,\"'!\",(ADDRESS((COUNTIF($J$3:J26,IF(B26<>0,CONCATENATE(\"Auswertung \",B26,\"\"))))+4,9)))),\"\")","v":"Gaia"},{"$f":"+IF(ISERROR(+INDIRECT(CONCATENATE(\"'\",J26,\"'!\",(ADDRESS((COUNTIF($J$3:J26,IF(B26<>0,CONCATENATE(\"Auswertung \",B26,\"\"))))+2,10)))))=FALSE,+INDIRECT(CONCATENATE(\"'\",J26,\"'!\",(ADDRESS((COUNTIF($J$3:J26,IF(B26<>0,CONCATENATE(\"Auswertung \",B26,\"\"))))+4,10)))),\"\")","v":174},{"$f":"+IF(ISERROR(+INDIRECT(CONCATENATE(\"'\",J26,\"'!\",(ADDRESS((COUNTIF($J$3:J26,IF(B26<>0,CONCATENATE(\"Auswertung \",B26,\"\"))))+2,11)))))=FALSE,+INDIRECT(CONCATENATE(\"'\",J26,\"'!\",(ADDRESS((COUNTIF($J$3:J26,IF(B26<>0,CONCATENATE(\"Auswertung \",B26,\"\"))))+4,11)))),\"\")","v":"Zeus"},{"$f":"+IF(ISERROR(+INDIRECT(CONCATENATE(\"'\",J26,\"'!\",(ADDRESS((COUNTIF($J$3:J26,IF(D26<>0,CONCATENATE(\"Auswertung \",D26,\"\"))))+2,12)))))=FALSE,+INDIRECT(CONCATENATE(\"'\",J26,\"'!\",(ADDRESS((COUNTIF($J$3:J26,IF(D26<>0,CONCATENATE(\"Auswertung \",B26,\"\"))))+4,12)))),\"\")","v":0},{"$f":"+IF(ISERROR(+INDIRECT(CONCATENATE(\"'\",J26,\"'!\",(ADDRESS((COUNTIF($J$3:J26,IF(D26<>0,CONCATENATE(\"Auswertung \",D26,\"\"))))+2,13)))))=FALSE,+INDIRECT(CONCATENATE(\"'\",J26,\"'!\",(ADDRESS((COUNTIF($J$3:J26,IF(D26<>0,CONCATENATE(\"Auswertung \",B26,\"\"))))+4,13)))),\"\")","v":0},null,{"$f":"+IFERROR(INDIRECT(CONCATENATE(\"'\",J26,\"'!\",(ADDRESS((COUNTIF($J$3:J26,IF(B26<>0,J26)))+4,16)))),\"\")","v":1},13.311,{"$f":"+SUM($M$4:M26)/COUNT($M$4:M26)/1000*2","v":0.25},{"$f":"+IFERROR(INDIRECT(CONCATENATE(\"'\",J26,\"'!\",(ADDRESS((COUNTIF($J$3:J26,IF(B26<>0,J26)))+4,18)))),\"\")","v":-1},12.128,{"$f":"+IFERROR(INDIRECT(CONCATENATE(\"'\",J26,\"'!\",(ADDRESS((COUNTIF($J$3:J26,IF(B26<>0,J26)))+4,20)))),\"\")","v":0},10.452,{"$f":"+IFERROR(INDIRECT(CONCATENATE(\"'\",J26,\"'!\",(ADDRESS((COUNTIF($J$3:J26,IF(B26<>0,J26)))+4,22)))),\"\")","v":1},4.5039999999999996,{"$f":"+IFERROR(INDIRECT(CONCATENATE(\"'\",J26,\"'!\",(ADDRESS((COUNTIF($J$3:J26,IF(B26<>0,J26)))+4,24)))),\"\")","v":-1},-5.3920000000000003,{"$f":"+IFERROR(INDIRECT(CONCATENATE(\"'\",J26,\"'!\",(ADDRESS((COUNTIF($J$3:J26,IF(B26<>0,J26)))+4,26)))),\"\")","v":0},0.39900000000000002,23,{"$f":"+SUM(COUNTIF($Z$3:Z26,1),COUNTIF($Z$3:Z26,-1))","v":23},{"$f":"+SUM($M$4:M26)","v":2875},125,{"$f":"+SUM(COUNTIF($Z$3:Z26,1))","v":13},{"$f":"+SUM(COUNTIF($Z$3:Z26,-1))","v":10},3,{"$f":"AN26*(HARMEAN((IF(SUM(COUNTIF($Z$3:Z26,1),COUNTIF($Z$3:Z26,-1))=0,1,SUM(COUNTIF($Z$3:Z26,1),COUNTIF($Z$3:Z26,-1)))),(IF(SUM(COUNTIF($AC$3:AC26,1),COUNTIF($AC$3:AC26,-1))=0,1,SUM(COUNTIF($AC$3:AC26,1),COUNTIF($AC$3:AC26,-1)))),(IF(SUM(COUNTIF($AE$3:AE26,1),COUNTIF($AE$3:AE26,-1))=0,1,SUM(COUNTIF($AE$3:AE26,1),COUNTIF($AE$3:AE26,-1)))),(IF(SUM(COUNTIF($AG$3:AG26,1),COUNTIF($AG$3:AG26,-1))=0,1,SUM(COUNTIF($AG$3:AG26,1),COUNTIF($AG$3:AG26,-1)))),(IF(SUM(COUNTIF($AI$3:AI26,1),COUNTIF($AI$3:AI26,-1))=0,1,SUM(COUNTIF($AI$3:AI26,1),COUNTIF($AI$3:AI26,-1)))),(IF(SUM(COUNTIF($AK$3:AK26,1),COUNTIF($AK$3:AK26,-1))=0,1,SUM(COUNTIF($AK$3:AK26,1),COUNTIF($AK$3:AK26,-1)))))/1000)","v":0.52110447761194023},13.311,null,{"$f":"+SUM(COUNTIF($AC$3:AC26,1),COUNTIF($AC$3:AC26,-1))","v":23},{"$f":"+SUM($O$4:O26)","v":2353},102.30434782608695,{"$f":"+SUM(COUNTIF($AC$3:AC26,1))","v":13},{"$f":"+SUM(COUNTIF($AC$3:AC26,-1))","v":10},3,{"$f":"AW26*(HARMEAN((IF(SUM(COUNTIF($Z$3:Z26,1),COUNTIF($Z$3:Z26,-1))=0,1,SUM(COUNTIF($Z$3:Z26,1),COUNTIF($Z$3:Z26,-1)))),(IF(SUM(COUNTIF($AC$3:AC26,1),COUNTIF($AC$3:AC26,-1))=0,1,SUM(COUNTIF($AC$3:AC26,1),COUNTIF($AC$3:AC26,-1)))),(IF(SUM(COUNTIF($AE$3:AE26,1),COUNTIF($AE$3:AE26,-1))=0,1,SUM(COUNTIF($AE$3:AE26,1),COUNTIF($AE$3:AE26,-1)))),(IF(SUM(COUNTIF($AG$3:AG26,1),COUNTIF($AG$3:AG26,-1))=0,1,SUM(COUNTIF($AG$3:AG26,1),COUNTIF($AG$3:AG26,-1)))),(IF(SUM(COUNTIF($AI$3:AI26,1),COUNTIF($AI$3:AI26,-1))=0,1,SUM(COUNTIF($AI$3:AI26,1),COUNTIF($AI$3:AI26,-1)))),(IF(SUM(COUNTIF($AK$3:AK26,1),COUNTIF($AK$3:AK26,-1))=0,1,SUM(COUNTIF($AK$3:AK26,1),COUNTIF($AK$3:AK26,-1)))))/1000)","v":0.52110447761194023},12.128,null,{"$f":"+SUM(COUNTIF($AE$3:AE26,1),COUNTIF(AE$3:$AE26,-1))","v":22},{"$f":"+SUM($Q$4:Q26)","v":2613},118.77272727272727,{"$f":"+SUM(COUNTIF($AE$3:AE26,1))","v":12},{"$f":"+SUM(COUNTIF($AE$3:AE26,-1))","v":10},2,{"$f":"BF26*(HARMEAN((IF(SUM(COUNTIF($Z$3:Z26,1),COUNTIF($Z$3:Z26,-1))=0,1,SUM(COUNTIF($Z$3:Z26,1),COUNTIF($Z$3:Z26,-1)))),(IF(SUM(COUNTIF($AC$3:AC26,1),COUNTIF($AC$3:AC26,-1))=0,1,SUM(COUNTIF($AC$3:AC26,1),COUNTIF($AC$3:AC26,-1)))),(IF(SUM(COUNTIF($AE$3:AE26,1),COUNTIF($AE$3:AE26,-1))=0,1,SUM(COUNTIF($AE$3:AE26,1),COUNTIF($AE$3:AE26,-1)))),(IF(SUM(COUNTIF($AG$3:AG26,1),COUNTIF($AG$3:AG26,-1))=0,1,SUM(COUNTIF($AG$3:AG26,1),COUNTIF($AG$3:AG26,-1)))),(IF(SUM(COUNTIF($AI$3:AI26,1),COUNTIF($AI$3:AI26,-1))=0,1,SUM(COUNTIF($AI$3:AI26,1),COUNTIF($AI$3:AI26,-1)))),(IF(SUM(COUNTIF($AK$3:AK26,1),COUNTIF($AK$3:AK26,-1))=0,1,SUM(COUNTIF($AK$3:AK26,1),COUNTIF($AK$3:AK26,-1)))))/1000)","v":0.49844776119402984},10.452,null,{"$f":"+SUM(COUNTIF($AG$3:AG26,1),COUNTIF($AG$3:AG26,-1))","v":23},{"$f":"+SUM($S$4:S26)","v":2988},129.91304347826087,{"$f":"+SUM(COUNTIF($AG$3:AG26,1))","v":11},{"$f":"+SUM(COUNTIF($AG$3:AG26,-1))","v":12},-1,{"$f":"BO26*(HARMEAN((IF(SUM(COUNTIF($Z$3:Z26,1),COUNTIF($Z$3:Z26,-1))=0,1,SUM(COUNTIF($Z$3:Z26,1),COUNTIF($Z$3:Z26,-1)))),(IF(SUM(COUNTIF($AC$3:AC26,1),COUNTIF($AC$3:AC26,-1))=0,1,SUM(COUNTIF($AC$3:AC26,1),COUNTIF($AC$3:AC26,-1)))),(IF(SUM(COUNTIF($AE$3:AE26,1),COUNTIF($AE$3:AE26,-1))=0,1,SUM(COUNTIF($AE$3:AE26,1),COUNTIF($AE$3:AE26,-1)))),(IF(SUM(COUNTIF($AG$3:AG26,1),COUNTIF($AG$3:AG26,-1))=0,1,SUM(COUNTIF($AG$3:AG26,1),COUNTIF($AG$3:AG26,-1)))),(IF(SUM(COUNTIF($AI$3:AI26,1),COUNTIF($AI$3:AI26,-1))=0,1,SUM(COUNTIF($AI$3:AI26,1),COUNTIF($AI$3:AI26,-1)))),(IF(SUM(COUNTIF($AK$3:AK26,1),COUNTIF($AK$3:AK26,-1))=0,1,SUM(COUNTIF($AK$3:AK26,1),COUNTIF($AK$3:AK26,-1)))))/1000)","v":0.52110447761194023},4.5039999999999996,null,{"$f":"+SUM(COUNTIF($AI$3:AI26,1),COUNTIF($AI$3:AI26,-1))","v":23},{"$f":"+SUM($U$4:U26)","v":2620},113.91304347826087,{"$f":"+SUM(COUNTIF($AI$3:AI26,1))","v":9},{"$f":"+SUM(COUNTIF($AI$3:AI26,-1))","v":14},-5,{"$f":"+BX26*(HARMEAN((IF(SUM(COUNTIF($Z$3:Z26,1),COUNTIF($Z$3:Z26,-1))=0,1,SUM(COUNTIF($Z$3:Z26,1),COUNTIF($Z$3:Z26,-1)))),(IF(SUM(COUNTIF($AC$3:AC26,1),COUNTIF($AC$3:AC26,-1))=0,1,SUM(COUNTIF($AC$3:AC26,1),COUNTIF($AC$3:AC26,-1)))),(IF(SUM(COUNTIF($AE$3:AE26,1),COUNTIF($AE$3:AE26,-1))=0,1,SUM(COUNTIF($AE$3:AE26,1),COUNTIF($AE$3:AE26,-1)))),(IF(SUM(COUNTIF($AG$3:AG26,1),COUNTIF($AG$3:AG26,-1))=0,1,SUM(COUNTIF($AG$3:AG26,1),COUNTIF($AG$3:AG26,-1)))),(IF(SUM(COUNTIF($AI$3:AI26,1),COUNTIF($AI$3:AI26,-1))=0,1,SUM(COUNTIF($AI$3:AI26,1),COUNTIF($AI$3:AI26,-1)))),(IF(SUM(COUNTIF($AK$3:AK26,1),COUNTIF($AK$3:AK26,-1))=0,1,SUM(COUNTIF($AK$3:AK26,1),COUNTIF($AK$3:AK26,-1)))))/1000)","v":0.52110447761194023},-5.3920000000000003,null,{"$f":"+SUM(COUNTIF($AK$3:AK26,1),COUNTIF($AK$3:AK26,-1))","v":22},{"$f":"+SUM($W$4:W26)","v":2176},98.909090909090907,{"$f":"+SUM(COUNTIF($AK$3:AK26,1))","v":10},{"$f":"+SUM(COUNTIF($AK$3:AK26,-1))","v":12},-2,{"$f":"+CG26*(HARMEAN((IF(SUM(COUNTIF($Z$3:Z26,1),COUNTIF($Z$3:Z26,-1))=0,1,SUM(COUNTIF($Z$3:Z26,1),COUNTIF($Z$3:Z26,-1)))),(IF(SUM(COUNTIF($AC$3:AC26,1),COUNTIF($AC$3:AC26,-1))=0,1,SUM(COUNTIF($AC$3:AC26,1),COUNTIF($AC$3:AC26,-1)))),(IF(SUM(COUNTIF($AE$3:AE26,1),COUNTIF($AE$3:AE26,-1))=0,1,SUM(COUNTIF($AE$3:AE26,1),COUNTIF($AE$3:AE26,-1)))),(IF(SUM(COUNTIF($AG$3:AG26,1),COUNTIF($AG$3:AG26,-1))=0,1,SUM(COUNTIF($AG$3:AG26,1),COUNTIF($AG$3:AG26,-1)))),(IF(SUM(COUNTIF($AI$3:AI26,1),COUNTIF($AI$3:AI26,-1))=0,1,SUM(COUNTIF($AI$3:AI26,1),COUNTIF($AI$3:AI26,-1)))),(IF(SUM(COUNTIF($AK$3:AK26,1),COUNTIF($AK$3:AK26,-1))=0,1,SUM(COUNTIF($AK$3:AK26,1),COUNTIF($AK$3:AK26,-1)))))/1000)","v":0.49844776119402984},0.39900000000000002]
[24,"AoE II",null,{"$f":"+IFERROR(INDEX('Auswertung AoE II'!$AE:$AE,MATCH(A27,'Auswertung AoE II'!$AD:$AD,0)),\"\")","v":"AoE II"},{"$f":"+IFERROR(INDEX('Auswertung AoE III'!$AE:$AE,MATCH(A27,'Auswertung AoE III'!$AD:$AD,0)),\"\")","v":""},{"$f":"+IFERROR(INDEX('Auswertung AoM'!$AE:$AE,MATCH(A27,'Auswertung AoM'!$AD:$AD,0)),\"\")","v":""},{"$f":"+IFERROR(INDEX('Auswertung RA'!$AE:$AE,MATCH(A27,'Auswertung RA'!$AD:$AD,0)),\"\")","v":""},{"$f":"+IFERROR(INDEX('Auswertung Yuri'!$AE:$AE,MATCH(A27,'Auswertung Yuri'!$AD:$AD,0)),\"\")","v":""},{"$f":"+IFERROR(INDEX('Auswertung Generals'!$AE:$AE,MATCH(A27,'Auswertung Generals'!$AD:$AD,0)),\"\")","v":""},"Auswertung AoE II",null,null,{"$f":"+IF(ISERROR(+INDIRECT(CONCATENATE(\"'\",J27,\"'!\",(ADDRESS((COUNTIF($J$3:J27,IF(B27<>0,CONCATENATE(\"Auswertung \",B27,\"\"))))+2,2)))))=FALSE,+INDIRECT(CONCATENATE(\"'\",J27,\"'!\",(ADDRESS((COUNTIF($J$3:J27,IF(B27<>0,CONCATENATE(\"Auswertung \",B27,\"\"))))+4,2)))),\"\")","v":269},{"$f":"IF(ISERROR(+INDIRECT(CONCATENATE(\"'\",J27,\"'!\",(ADDRESS((COUNTIF($J$3:J27,IF(B27<>0,CONCATENATE(\"Auswertung \",B27,\"\"))))+2,2+1)))))=FALSE,+INDIRECT(CONCATENATE(\"'\",J27,\"'!\",(ADDRESS((COUNTIF($J$3:J27,IF(B27<>0,CONCATENATE(\"Auswertung \",B27,\"\"))))+4,2+1)))),\"\")","v":"Port"},{"$f":"+IF(ISERROR(+INDIRECT(CONCATENATE(\"'\",J27,\"'!\",(ADDRESS((COUNTIF($J$3:J27,IF(B27<>0,CONCATENATE(\"Auswertung \",B27,\"\"))))+2,4)))))=FALSE,+INDIRECT(CONCATENATE(\"'\",J27,\"'!\",(ADDRESS((COUNTIF($J$3:J27,IF(B27<>0,CONCATENATE(\"Auswertung \",B27,\"\"))))+4,4)))),\"\")","v":369},{"$f":"+IF(ISERROR(+INDIRECT(CONCATENATE(\"'\",J27,\"'!\",(ADDRESS((COUNTIF($J$3:J27,IF(B27<>0,CONCATENATE(\"Auswertung \",B27,\"\"))))+2,5)))))=FALSE,+INDIRECT(CONCATENATE(\"'\",J27,\"'!\",(ADDRESS((COUNTIF($J$3:J27,IF(B27<>0,CONCATENATE(\"Auswertung \",B27,\"\"))))+4,5)))),\"\")","v":"Cumans"},{"$f":"+IF(ISERROR(+INDIRECT(CONCATENATE(\"'\",J27,\"'!\",(ADDRESS((COUNTIF($J$3:J27,IF(B27<>0,CONCATENATE(\"Auswertung \",B27,\"\"))))+2,6)))))=FALSE,+INDIRECT(CONCATENATE(\"'\",J27,\"'!\",(ADDRESS((COUNTIF($J$3:J27,IF(B27<>0,CONCATENATE(\"Auswertung \",B27,\"\"))))+4,6)))),\"\")","v":141},{"$f":"+IF(ISERROR(+INDIRECT(CONCATENATE(\"'\",J27,\"'!\",(ADDRESS((COUNTIF($J$3:J27,IF(B27<>0,CONCATENATE(\"Auswertung \",B27,\"\"))))+2,7)))))=FALSE,+INDIRECT(CONCATENATE(\"'\",J27,\"'!\",(ADDRESS((COUNTIF($J$3:J27,IF(B27<>0,CONCATENATE(\"Auswertung \",B27,\"\"))))+4,7)))),\"\")","v":"Cumans"},{"$f":"+IF(ISERROR(+INDIRECT(CONCATENATE(\"'\",J27,\"'!\",(ADDRESS((COUNTIF($J$3:J27,IF(B27<>0,CONCATENATE(\"Auswertung \",B27,\"\"))))+2,10)))))=FALSE,+INDIRECT(CONCATENATE(\"'\",J27,\"'!\",(ADDRESS((COUNTIF($J$3:J27,IF(B27<>0,CONCATENATE(\"Auswertung \",B27,\"\"))))+4,8)))),\"\")","v":441},{"$f":"+IF(ISERROR(+INDIRECT(CONCATENATE(\"'\",J27,\"'!\",(ADDRESS((COUNTIF($J$3:J27,IF(B27<>0,CONCATENATE(\"Auswertung \",B27,\"\"))))+2,11)))))=FALSE,+INDIRECT(CONCATENATE(\"'\",J27,\"'!\",(ADDRESS((COUNTIF($J$3:J27,IF(B27<>0,CONCATENATE(\"Auswertung \",B27,\"\"))))+4,9)))),\"\")","v":"Frank"},{"$f":"+IF(ISERROR(+INDIRECT(CONCATENATE(\"'\",J27,\"'!\",(ADDRESS((COUNTIF($J$3:J27,IF(B27<>0,CONCATENATE(\"Auswertung \",B27,\"\"))))+2,10)))))=FALSE,+INDIRECT(CONCATENATE(\"'\",J27,\"'!\",(ADDRESS((COUNTIF($J$3:J27,IF(B27<>0,CONCATENATE(\"Auswertung \",B27,\"\"))))+4,10)))),\"\")","v":379},{"$f":"+IF(ISERROR(+INDIRECT(CONCATENATE(\"'\",J27,\"'!\",(ADDRESS((COUNTIF($J$3:J27,IF(B27<>0,CONCATENATE(\"Auswertung \",B27,\"\"))))+2,11)))))=FALSE,+INDIRECT(CONCATENATE(\"'\",J27,\"'!\",(ADDRESS((COUNTIF($J$3:J27,IF(B27<>0,CONCATENATE(\"Auswertung \",B27,\"\"))))+4,11)))),\"\")","v":"Fran"},{"$f":"+IF(ISERROR(+INDIRECT(CONCATENATE(\"'\",J27,\"'!\",(ADDRESS((COUNTIF($J$3:J27,IF(D27<>0,CONCATENATE(\"Auswertung \",D27,\"\"))))+2,12)))))=FALSE,+INDIRECT(CONCATENATE(\"'\",J27,\"'!\",(ADDRESS((COUNTIF($J$3:J27,IF(D27<>0,CONCATENATE(\"Auswertung \",B27,\"\"))))+4,12)))),\"\")","v":402},{"$f":"+IF(ISERROR(+INDIRECT(CONCATENATE(\"'\",J27,\"'!\",(ADDRESS((COUNTIF($J$3:J27,IF(D27<>0,CONCATENATE(\"Auswertung \",D27,\"\"))))+2,13)))))=FALSE,+INDIRECT(CONCATENATE(\"'\",J27,\"'!\",(ADDRESS((COUNTIF($J$3:J27,IF(D27<>0,CONCATENATE(\"Auswertung \",B27,\"\"))))+4,13)))),\"\")","v":"Port"},null,{"$f":"+IFERROR(INDIRECT(CONCATENATE(\"'\",J27,\"'!\",(ADDRESS((COUNTIF($J$3:J27,IF(B27<>0,J27)))+4,16)))),\"\")","v":1},16.901,{"$f":"+SUM($M$4:M27)/COUNT($M$4:M27)/1000*2","v":0.26200000000000001},{"$f":"+IFERROR(INDIRECT(CONCATENATE(\"'\",J27,\"'!\",(ADDRESS((COUNTIF($J$3:J27,IF(B27<>0,J27)))+4,18)))),\"\")","v":1},15.901999999999999,{"$f":"+IFERROR(INDIRECT(CONCATENATE(\"'\",J27,\"'!\",(ADDRESS((COUNTIF($J$3:J27,IF(B27<>0,J27)))+4,20)))),\"\")","v":-1},8.8810000000000002,{"$f":"+IFERROR(INDIRECT(CONCATENATE(\"'\",J27,\"'!\",(ADDRESS((COUNTIF($J$3:J27,IF(B27<>0,J27)))+4,22)))),\"\")","v":1},8.1120000000000001,{"$f":"+IFERROR(INDIRECT(CONCATENATE(\"'\",J27,\"'!\",(ADDRESS((COUNTIF($J$3:J27,IF(B27<>0,J27)))+4,24)))),\"\")","v":-1},-7.1,{"$f":"+IFERROR(INDIRECT(CONCATENATE(\"'\",J27,\"'!\",(ADDRESS((COUNTIF($J$3:J27,IF(B27<>0,J27)))+4,26)))),\"\")","v":-1},-0.998,24,{"$f":"+SUM(COUNTIF($Z$3:Z27,1),COUNTIF($Z$3:Z27,-1))","v":24},{"$f":"+SUM($M$4:M27)","v":3144},131,{"$f":"+SUM(COUNTIF($Z$3:Z27,1))","v":14},{"$f":"+SUM(COUNTIF($Z$3:Z27,-1))","v":10},4,{"$f":"AN27*(HARMEAN((IF(SUM(COUNTIF($Z$3:Z27,1),COUNTIF($Z$3:Z27,-1))=0,1,SUM(COUNTIF($Z$3:Z27,1),COUNTIF($Z$3:Z27,-1)))),(IF(SUM(COUNTIF($AC$3:AC27,1),COUNTIF($AC$3:AC27,-1))=0,1,SUM(COUNTIF($AC$3:AC27,1),COUNTIF($AC$3:AC27,-1)))),(IF(SUM(COUNTIF($AE$3:AE27,1),COUNTIF($AE$3:AE27,-1))=0,1,SUM(COUNTIF($AE$3:AE27,1),COUNTIF($AE$3:AE27,-1)))),(IF(SUM(COUNTIF($AG$3:AG27,1),COUNTIF($AG$3:AG27,-1))=0,1,SUM(COUNTIF($AG$3:AG27,1),COUNTIF($AG$3:AG27,-1)))),(IF(SUM(COUNTIF($AI$3:AI27,1),COUNTIF($AI$3:AI27,-1))=0,1,SUM(COUNTIF($AI$3:AI27,1),COUNTIF($AI$3:AI27,-1)))),(IF(SUM(COUNTIF($AK$3:AK27,1),COUNTIF($AK$3:AK27,-1))=0,1,SUM(COUNTIF($AK$3:AK27,1),COUNTIF($AK$3:AK27,-1)))))/1000)","v":0.56777142857142859},16.901,null,{"$f":"+SUM(COUNTIF($AC$3:AC27,1),COUNTIF($AC$3:AC27,-1))","v":24},{"$f":"+SUM($O$4:O27)","v":2722},113.41666666666667,{"$f":"+SUM(COUNTIF($AC$3:AC27,1))","v":14},{"$f":"+SUM(COUNTIF($AC$3:AC27,-1))","v":10},4,{"$f":"AW27*(HARMEAN((IF(SUM(COUNTIF($Z$3:Z27,1),COUNTIF($Z$3:Z27,-1))=0,1,SUM(COUNTIF($Z$3:Z27,1),COUNTIF($Z$3:Z27,-1)))),(IF(SUM(COUNTIF($AC$3:AC27,1),COUNTIF($AC$3:AC27,-1))=0,1,SUM(COUNTIF($AC$3:AC27,1),COUNTIF($AC$3:AC27,-1)))),(IF(SUM(COUNTIF($AE$3:AE27,1),COUNTIF($AE$3:AE27,-1))=0,1,SUM(COUNTIF($AE$3:AE27,1),COUNTIF($AE$3:AE27,-1)))),(IF(SUM(COUNTIF($AG$3:AG27,1),COUNTIF($AG$3:AG27,-1))=0,1,SUM(COUNTIF($AG$3:AG27,1),COUNTIF($AG$3:AG27,-1)))),(IF(SUM(COUNTIF($AI$3:AI27,1),COUNTIF($AI$3:AI27,-1))=0,1,SUM(COUNTIF($AI$3:AI27,1),COUNTIF($AI$3:AI27,-1)))),(IF(SUM(COUNTIF($AK$3:AK27,1),COUNTIF($AK$3:AK27,-1))=0,1,SUM(COUNTIF($AK$3:AK27,1),COUNTIF($AK$3:AK27,-1)))))/1000)","v":0.56777142857142859},15.901999999999999,null,{"$f":"+SUM(COUNTIF($AE$3:AE27,1),COUNTIF(AE$3:$AE27,-1))","v":23},{"$f":"+SUM($Q$4:Q27)","v":2754},119.73913043478261,{"$f":"+SUM(COUNTIF($AE$3:AE27,1))","v":12},{"$f":"+SUM(COUNTIF($AE$3:AE27,-1))","v":11},1,{"$f":"BF27*(HARMEAN((IF(SUM(COUNTIF($Z$3:Z27,1),COUNTIF($Z$3:Z27,-1))=0,1,SUM(COUNTIF($Z$3:Z27,1),COUNTIF($Z$3:Z27,-1)))),(IF(SUM(COUNTIF($AC$3:AC27,1),COUNTIF($AC$3:AC27,-1))=0,1,SUM(COUNTIF($AC$3:AC27,1),COUNTIF($AC$3:AC27,-1)))),(IF(SUM(COUNTIF($AE$3:AE27,1),COUNTIF($AE$3:AE27,-1))=0,1,SUM(COUNTIF($AE$3:AE27,1),COUNTIF($AE$3:AE27,-1)))),(IF(SUM(COUNTIF($AG$3:AG27,1),COUNTIF($AG$3:AG27,-1))=0,1,SUM(COUNTIF($AG$3:AG27,1),COUNTIF($AG$3:AG27,-1)))),(IF(SUM(COUNTIF($AI$3:AI27,1),COUNTIF($AI$3:AI27,-1))=0,1,SUM(COUNTIF($AI$3:AI27,1),COUNTIF($AI$3:AI27,-1)))),(IF(SUM(COUNTIF($AK$3:AK27,1),COUNTIF($AK$3:AK27,-1))=0,1,SUM(COUNTIF($AK$3:AK27,1),COUNTIF($AK$3:AK27,-1)))))/1000)","v":0.54411428571428577},8.8810000000000002,null,{"$f":"+SUM(COUNTIF($AG$3:AG27,1),COUNTIF($AG$3:AG27,-1))","v":24},{"$f":"+SUM($S$4:S27)","v":3429},142.875,{"$f":"+SUM(COUNTIF($AG$3:AG27,1))","v":12},{"$f":"+SUM(COUNTIF($AG$3:AG27,-1))","v":12},0,{"$f":"BO27*(HARMEAN((IF(SUM(COUNTIF($Z$3:Z27,1),COUNTIF($Z$3:Z27,-1))=0,1,SUM(COUNTIF($Z$3:Z27,1),COUNTIF($Z$3:Z27,-1)))),(IF(SUM(COUNTIF($AC$3:AC27,1),COUNTIF($AC$3:AC27,-1))=0,1,SUM(COUNTIF($AC$3:AC27,1),COUNTIF($AC$3:AC27,-1)))),(IF(SUM(COUNTIF($AE$3:AE27,1),COUNTIF($AE$3:AE27,-1))=0,1,SUM(COUNTIF($AE$3:AE27,1),COUNTIF($AE$3:AE27,-1)))),(IF(SUM(COUNTIF($AG$3:AG27,1),COUNTIF($AG$3:AG27,-1))=0,1,SUM(COUNTIF($AG$3:AG27,1),COUNTIF($AG$3:AG27,-1)))),(IF(SUM(COUNTIF($AI$3:AI27,1),COUNTIF($AI$3:AI27,-1))=0,1,SUM(COUNTIF($AI$3:AI27,1),COUNTIF($AI$3:AI27,-1)))),(IF(SUM(COUNTIF($AK$3:AK27,1),COUNTIF($AK$3:AK27,-1))=0,1,SUM(COUNTIF($AK$3:AK27,1),COUNTIF($AK$3:AK27,-1)))))/1000)","v":0.56777142857142859},8.1120000000000001,null,{"$f":"+SUM(COUNTIF($AI$3:AI27,1),COUNTIF($AI$3:AI27,-1))","v":24},{"$f":"+SUM($U$4:U27)","v":2999},124.95833333333333,{"$f":"+SUM(COUNTIF($AI$3:AI27,1))","v":9},{"$f":"+SUM(COUNTIF($AI$3:AI27,-1))","v":15},-6,{"$f":"+BX27*(HARMEAN((IF(SUM(COUNTIF($Z$3:Z27,1),COUNTIF($Z$3:Z27,-1))=0,1,SUM(COUNTIF($Z$3:Z27,1),COUNTIF($Z$3:Z27,-1)))),(IF(SUM(COUNTIF($AC$3:AC27,1),COUNTIF($AC$3:AC27,-1))=0,1,SUM(COUNTIF($AC$3:AC27,1),COUNTIF($AC$3:AC27,-1)))),(IF(SUM(COUNTIF($AE$3:AE27,1),COUNTIF($AE$3:AE27,-1))=0,1,SUM(COUNTIF($AE$3:AE27,1),COUNTIF($AE$3:AE27,-1)))),(IF(SUM(COUNTIF($AG$3:AG27,1),COUNTIF($AG$3:AG27,-1))=0,1,SUM(COUNTIF($AG$3:AG27,1),COUNTIF($AG$3:AG27,-1)))),(IF(SUM(COUNTIF($AI$3:AI27,1),COUNTIF($AI$3:AI27,-1))=0,1,SUM(COUNTIF($AI$3:AI27,1),COUNTIF($AI$3:AI27,-1)))),(IF(SUM(COUNTIF($AK$3:AK27,1),COUNTIF($AK$3:AK27,-1))=0,1,SUM(COUNTIF($AK$3:AK27,1),COUNTIF($AK$3:AK27,-1)))))/1000)","v":0.56777142857142859},-7.1,null,{"$f":"+SUM(COUNTIF($AK$3:AK27,1),COUNTIF($AK$3:AK27,-1))","v":23},{"$f":"+SUM($W$4:W27)","v":2578},112.08695652173913,{"$f":"+SUM(COUNTIF($AK$3:AK27,1))","v":10},{"$f":"+SUM(COUNTIF($AK$3:AK27,-1))","v":13},-3,{"$f":"+CG27*(HARMEAN((IF(SUM(COUNTIF($Z$3:Z27,1),COUNTIF($Z$3:Z27,-1))=0,1,SUM(COUNTIF($Z$3:Z27,1),COUNTIF($Z$3:Z27,-1)))),(IF(SUM(COUNTIF($AC$3:AC27,1),COUNTIF($AC$3:AC27,-1))=0,1,SUM(COUNTIF($AC$3:AC27,1),COUNTIF($AC$3:AC27,-1)))),(IF(SUM(COUNTIF($AE$3:AE27,1),COUNTIF($AE$3:AE27,-1))=0,1,SUM(COUNTIF($AE$3:AE27,1),COUNTIF($AE$3:AE27,-1)))),(IF(SUM(COUNTIF($AG$3:AG27,1),COUNTIF($AG$3:AG27,-1))=0,1,SUM(COUNTIF($AG$3:AG27,1),COUNTIF($AG$3:AG27,-1)))),(IF(SUM(COUNTIF($AI$3:AI27,1),COUNTIF($AI$3:AI27,-1))=0,1,SUM(COUNTIF($AI$3:AI27,1),COUNTIF($AI$3:AI27,-1)))),(IF(SUM(COUNTIF($AK$3:AK27,1),COUNTIF($AK$3:AK27,-1))=0,1,SUM(COUNTIF($AK$3:AK27,1),COUNTIF($AK$3:AK27,-1)))))/1000)","v":0.54411428571428577},-0.998]
[25,"Yuri",null,{"$f":"+IFERROR(INDEX('Auswertung AoE II'!$AE:$AE,MATCH(A28,'Auswertung AoE II'!$AD:$AD,0)),\"\")","v":""},{"$f":"+IFERROR(INDEX('Auswertung AoE III'!$AE:$AE,MATCH(A28,'Auswertung AoE III'!$AD:$AD,0)),\"\")","v":""},{"$f":"+IFERROR(INDEX('Auswertung AoM'!$AE:$AE,MATCH(A28,'Auswertung AoM'!$AD:$AD,0)),\"\")","v":""},{"$f":"+IFERROR(INDEX('Auswertung RA'!$AE:$AE,MATCH(A28,'Auswertung RA'!$AD:$AD,0)),\"\")","v":""},{"$f":"+IFERROR(INDEX('Auswertung Yuri'!$AE:$AE,MATCH(A28,'Auswertung Yuri'!$AD:$AD,0)),\"\")","v":"Yuri"},{"$f":"+IFERROR(INDEX('Auswertung Generals'!$AE:$AE,MATCH(A28,'Auswertung Generals'!$AD:$AD,0)),\"\")","v":""},"Auswertung Yuri",null,null,{"$f":"+IF(ISERROR(+INDIRECT(CONCATENATE(\"'\",J28,\"'!\",(ADDRESS((COUNTIF($J$3:J28,IF(B28<>0,CONCATENATE(\"Auswertung \",B28,\"\"))))+2,2)))))=FALSE,+INDIRECT(CONCATENATE(\"'\",J28,\"'!\",(ADDRESS((COUNTIF($J$3:J28,IF(B28<>0,CONCATENATE(\"Auswertung \",B28,\"\"))))+4,2)))),\"\")","v":28},{"$f":"IF(ISERROR(+INDIRECT(CONCATENATE(\"'\",J28,\"'!\",(ADDRESS((COUNTIF($J$3:J28,IF(B28<>0,CONCATENATE(\"Auswertung \",B28,\"\"))))+2,2+1)))))=FALSE,+INDIRECT(CONCATENATE(\"'\",J28,\"'!\",(ADDRESS((COUNTIF($J$3:J28,IF(B28<>0,CONCATENATE(\"Auswertung \",B28,\"\"))))+4,2+1)))),\"\")","v":"Kub"},{"$f":"+IF(ISERROR(+INDIRECT(CONCATENATE(\"'\",J28,\"'!\",(ADDRESS((COUNTIF($J$3:J28,IF(B28<>0,CONCATENATE(\"Auswertung \",B28,\"\"))))+2,4)))))=FALSE,+INDIRECT(CONCATENATE(\"'\",J28,\"'!\",(ADDRESS((COUNTIF($J$3:J28,IF(B28<>0,CONCATENATE(\"Auswertung \",B28,\"\"))))+4,4)))),\"\")","v":123},{"$f":"+IF(ISERROR(+INDIRECT(CONCATENATE(\"'\",J28,\"'!\",(ADDRESS((COUNTIF($J$3:J28,IF(B28<>0,CONCATENATE(\"Auswertung \",B28,\"\"))))+2,5)))))=FALSE,+INDIRECT(CONCATENATE(\"'\",J28,\"'!\",(ADDRESS((COUNTIF($J$3:J28,IF(B28<>0,CONCATENATE(\"Auswertung \",B28,\"\"))))+4,5)))),\"\")","v":"Yur"},{"$f":"+IF(ISERROR(+INDIRECT(CONCATENATE(\"'\",J28,\"'!\",(ADDRESS((COUNTIF($J$3:J28,IF(B28<>0,CONCATENATE(\"Auswertung \",B28,\"\"))))+2,6)))))=FALSE,+INDIRECT(CONCATENATE(\"'\",J28,\"'!\",(ADDRESS((COUNTIF($J$3:J28,IF(B28<>0,CONCATENATE(\"Auswertung \",B28,\"\"))))+4,6)))),\"\")","v":48},{"$f":"+IF(ISERROR(+INDIRECT(CONCATENATE(\"'\",J28,\"'!\",(ADDRESS((COUNTIF($J$3:J28,IF(B28<>0,CONCATENATE(\"Auswertung \",B28,\"\"))))+2,7)))))=FALSE,+INDIRECT(CONCATENATE(\"'\",J28,\"'!\",(ADDRESS((COUNTIF($J$3:J28,IF(B28<>0,CONCATENATE(\"Auswertung \",B28,\"\"))))+4,7)))),\"\")","v":"Kub"},{"$f":"+IF(ISERROR(+INDIRECT(CONCATENATE(\"'\",J28,\"'!\",(ADDRESS((COUNTIF($J$3:J28,IF(B28<>0,CONCATENATE(\"Auswertung \",B28,\"\"))))+2,10)))))=FALSE,+INDIRECT(CONCATENATE(\"'\",J28,\"'!\",(ADDRESS((COUNTIF($J$3:J28,IF(B28<>0,CONCATENATE(\"Auswertung \",B28,\"\"))))+4,8)))),\"\")","v":24},{"$f":"+IF(ISERROR(+INDIRECT(CONCATENATE(\"'\",J28,\"'!\",(ADDRESS((COUNTIF($J$3:J28,IF(B28<>0,CONCATENATE(\"Auswertung \",B28,\"\"))))+2,11)))))=FALSE,+INDIRECT(CONCATENATE(\"'\",J28,\"'!\",(ADDRESS((COUNTIF($J$3:J28,IF(B28<>0,CONCATENATE(\"Auswertung \",B28,\"\"))))+4,9)))),\"\")","v":"Deu"},{"$f":"+IF(ISERROR(+INDIRECT(CONCATENATE(\"'\",J28,\"'!\",(ADDRESS((COUNTIF($J$3:J28,IF(B28<>0,CONCATENATE(\"Auswertung \",B28,\"\"))))+2,10)))))=FALSE,+INDIRECT(CONCATENATE(\"'\",J28,\"'!\",(ADDRESS((COUNTIF($J$3:J28,IF(B28<>0,CONCATENATE(\"Auswertung \",B28,\"\"))))+4,10)))),\"\")","v":56},{"$f":"+IF(ISERROR(+INDIRECT(CONCATENATE(\"'\",J28,\"'!\",(ADDRESS((COUNTIF($J$3:J28,IF(B28<>0,CONCATENATE(\"Auswertung \",B28,\"\"))))+2,11)))))=FALSE,+INDIRECT(CONCATENATE(\"'\",J28,\"'!\",(ADDRESS((COUNTIF($J$3:J28,IF(B28<>0,CONCATENATE(\"Auswertung \",B28,\"\"))))+4,11)))),\"\")","v":"Yur"},{"$f":"+IF(ISERROR(+INDIRECT(CONCATENATE(\"'\",J28,\"'!\",(ADDRESS((COUNTIF($J$3:J28,IF(D28<>0,CONCATENATE(\"Auswertung \",D28,\"\"))))+2,12)))))=FALSE,+INDIRECT(CONCATENATE(\"'\",J28,\"'!\",(ADDRESS((COUNTIF($J$3:J28,IF(D28<>0,CONCATENATE(\"Auswertung \",B28,\"\"))))+4,12)))),\"\")","v":9},{"$f":"+IF(ISERROR(+INDIRECT(CONCATENATE(\"'\",J28,\"'!\",(ADDRESS((COUNTIF($J$3:J28,IF(D28<>0,CONCATENATE(\"Auswertung \",D28,\"\"))))+2,13)))))=FALSE,+INDIRECT(CONCATENATE(\"'\",J28,\"'!\",(ADDRESS((COUNTIF($J$3:J28,IF(D28<>0,CONCATENATE(\"Auswertung \",B28,\"\"))))+4,13)))),\"\")","v":"Deu"},null,{"$f":"+IFERROR(INDIRECT(CONCATENATE(\"'\",J28,\"'!\",(ADDRESS((COUNTIF($J$3:J28,IF(B28<>0,J28)))+4,16)))),\"\")","v":-1},15.218999999999999,{"$f":"+SUM($M$4:M28)/COUNT($M$4:M28)/1000*2","v":0.25375999999999999},{"$f":"+IFERROR(INDIRECT(CONCATENATE(\"'\",J28,\"'!\",(ADDRESS((COUNTIF($J$3:J28,IF(B28<>0,J28)))+4,18)))),\"\")","v":1},19.344000000000001,{"$f":"+IFERROR(INDIRECT(CONCATENATE(\"'\",J28,\"'!\",(ADDRESS((COUNTIF($J$3:J28,IF(B28<>0,J28)))+4,20)))),\"\")","v":1},11.840999999999999,{"$f":"+IFERROR(INDIRECT(CONCATENATE(\"'\",J28,\"'!\",(ADDRESS((COUNTIF($J$3:J28,IF(B28<>0,J28)))+4,22)))),\"\")","v":1},10.98,{"$f":"+IFERROR(INDIRECT(CONCATENATE(\"'\",J28,\"'!\",(ADDRESS((COUNTIF($J$3:J28,IF(B28<>0,J28)))+4,24)))),\"\")","v":-1},-9.7270000000000003,{"$f":"+IFERROR(INDIRECT(CONCATENATE(\"'\",J28,\"'!\",(ADDRESS((COUNTIF($J$3:J28,IF(B28<>0,J28)))+4,26)))),\"\")","v":-1},-3.484,25,{"$f":"+SUM(COUNTIF($Z$3:Z28,1),COUNTIF($Z$3:Z28,-1))","v":25},{"$f":"+SUM($M$4:M28)","v":3172},126.88,{"$f":"+SUM(COUNTIF($Z$3:Z28,1))","v":14},{"$f":"+SUM(COUNTIF($Z$3:Z28,-1))","v":11},3,{"$f":"AN28*(HARMEAN((IF(SUM(COUNTIF($Z$3:Z28,1),COUNTIF($Z$3:Z28,-1))=0,1,SUM(COUNTIF($Z$3:Z28,1),COUNTIF($Z$3:Z28,-1)))),(IF(SUM(COUNTIF($AC$3:AC28,1),COUNTIF($AC$3:AC28,-1))=0,1,SUM(COUNTIF($AC$3:AC28,1),COUNTIF($AC$3:AC28,-1)))),(IF(SUM(COUNTIF($AE$3:AE28,1),COUNTIF($AE$3:AE28,-1))=0,1,SUM(COUNTIF($AE$3:AE28,1),COUNTIF($AE$3:AE28,-1)))),(IF(SUM(COUNTIF($AG$3:AG28,1),COUNTIF($AG$3:AG28,-1))=0,1,SUM(COUNTIF($AG$3:AG28,1),COUNTIF($AG$3:AG28,-1)))),(IF(SUM(COUNTIF($AI$3:AI28,1),COUNTIF($AI$3:AI28,-1))=0,1,SUM(COUNTIF($AI$3:AI28,1),COUNTIF($AI$3:AI28,-1)))),(IF(SUM(COUNTIF($AK$3:AK28,1),COUNTIF($AK$3:AK28,-1))=0,1,SUM(COUNTIF($AK$3:AK28,1),COUNTIF($AK$3:AK28,-1)))))/1000)","v":0.61643835616438358},15.218999999999999,null,{"$f":"+SUM(COUNTIF($AC$3:AC28,1),COUNTIF($AC$3:AC28,-1))","v":25},{"$f":"+SUM($O$4:O28)","v":2845},113.8,{"$f":"+SUM(COUNTIF($AC$3:AC28,1))","v":15},{"$f":"+SUM(COUNTIF($AC$3:AC28,-1))","v":10},5,{"$f":"AW28*(HARMEAN((IF(SUM(COUNTIF($Z$3:Z28,1),COUNTIF($Z$3:Z28,-1))=0,1,SUM(COUNTIF($Z$3:Z28,1),COUNTIF($Z$3:Z28,-1)))),(IF(SUM(COUNTIF($AC$3:AC28,1),COUNTIF($AC$3:AC28,-1))=0,1,SUM(COUNTIF($AC$3:AC28,1),COUNTIF($AC$3:AC28,-1)))),(IF(SUM(COUNTIF($AE$3:AE28,1),COUNTIF($AE$3:AE28,-1))=0,1,SUM(COUNTIF($AE$3:AE28,1),COUNTIF($AE$3:AE28,-1)))),(IF(SUM(COUNTIF($AG$3:AG28,1),COUNTIF($AG$3:AG28,-1))=0,1,SUM(COUNTIF($AG$3:AG28,1),COUNTIF($AG$3:AG28,-1)))),(IF(SUM(COUNTIF($AI$3:AI28,1),COUNTIF($AI$3:AI28,-1))=0,1,SUM(COUNTIF($AI$3:AI28,1),COUNTIF($AI$3:AI28,-1)))),(IF(SUM(COUNTIF($AK$3:AK28,1),COUNTIF($AK$3:AK28,-1))=0,1,SUM(COUNTIF($AK$3:AK28,1),COUNTIF($AK$3:AK28,-1)))))/1000)","v":0.61643835616438358},19.344000000000001,null,{"$f":"+SUM(COUNTIF($AE$3:AE28,1),COUNTIF(AE$3:$AE28,-1))","v":24},{"$f":"+SUM($Q$4:Q28)","v":2802},116.75,{"$f":"+SUM(COUNTIF($AE$3:AE28,1))","v":13},{"$f":"+SUM(COUNTIF($AE$3:AE28,-1))","v":11},2,{"$f":"BF28*(HARMEAN((IF(SUM(COUNTIF($Z$3:Z28,1),COUNTIF($Z$3:Z28,-1))=0,1,SUM(COUNTIF($Z$3:Z28,1),COUNTIF($Z$3:Z28,-1)))),(IF(SUM(COUNTIF($AC$3:AC28,1),COUNTIF($AC$3:AC28,-1))=0,1,SUM(COUNTIF($AC$3:AC28,1),COUNTIF($AC$3:AC28,-1)))),(IF(SUM(COUNTIF($AE$3:AE28,1),COUNTIF($AE$3:AE28,-1))=0,1,SUM(COUNTIF($AE$3:AE28,1),COUNTIF($AE$3:AE28,-1)))),(IF(SUM(COUNTIF($AG$3:AG28,1),COUNTIF($AG$3:AG28,-1))=0,1,SUM(COUNTIF($AG$3:AG28,1),COUNTIF($AG$3:AG28,-1)))),(IF(SUM(COUNTIF($AI$3:AI28,1),COUNTIF($AI$3:AI28,-1))=0,1,SUM(COUNTIF($AI$3:AI28,1),COUNTIF($AI$3:AI28,-1)))),(IF(SUM(COUNTIF($AK$3:AK28,1),COUNTIF($AK$3:AK28,-1))=0,1,SUM(COUNTIF($AK$3:AK28,1),COUNTIF($AK$3:AK28,-1)))))/1000)","v":0.59178082191780823},11.840999999999999,null,{"$f":"+SUM(COUNTIF($AG$3:AG28,1),COUNTIF($AG$3:AG28,-1))","v":25},{"$f":"+SUM($S$4:S28)","v":3453},138.12,{"$f":"+SUM(COUNTIF($AG$3:AG28,1))","v":13},{"$f":"+SUM(COUNTIF($AG$3:AG28,-1))","v":12},1,{"$f":"BO28*(HARMEAN((IF(SUM(COUNTIF($Z$3:Z28,1),COUNTIF($Z$3:Z28,-1))=0,1,SUM(COUNTIF($Z$3:Z28,1),COUNTIF($Z$3:Z28,-1)))),(IF(SUM(COUNTIF($AC$3:AC28,1),COUNTIF($AC$3:AC28,-1))=0,1,SUM(COUNTIF($AC$3:AC28,1),COUNTIF($AC$3:AC28,-1)))),(IF(SUM(COUNTIF($AE$3:AE28,1),COUNTIF($AE$3:AE28,-1))=0,1,SUM(COUNTIF($AE$3:AE28,1),COUNTIF($AE$3:AE28,-1)))),(IF(SUM(COUNTIF($AG$3:AG28,1),COUNTIF($AG$3:AG28,-1))=0,1,SUM(COUNTIF($AG$3:AG28,1),COUNTIF($AG$3:AG28,-1)))),(IF(SUM(COUNTIF($AI$3:AI28,1),COUNTIF($AI$3:AI28,-1))=0,1,SUM(COUNTIF($AI$3:AI28,1),COUNTIF($AI$3:AI28,-1)))),(IF(SUM(COUNTIF($AK$3:AK28,1),COUNTIF($AK$3:AK28,-1))=0,1,SUM(COUNTIF($AK$3:AK28,1),COUNTIF($AK$3:AK28,-1)))))/1000)","v":0.61643835616438358},10.98,null,{"$f":"+SUM(COUNTIF($AI$3:AI28,1),COUNTIF($AI$3:AI28,-1))","v":25},{"$f":"+SUM($U$4:U28)","v":3055},122.2,{"$f":"+SUM(COUNTIF($AI$3:AI28,1))","v":9},{"$f":"+SUM(COUNTIF($AI$3:AI28,-1))","v":16},-7,{"$f":"+BX28*(HARMEAN((IF(SUM(COUNTIF($Z$3:Z28,1),COUNTIF($Z$3:Z28,-1))=0,1,SUM(COUNTIF($Z$3:Z28,1),COUNTIF($Z$3:Z28,-1)))),(IF(SUM(COUNTIF($AC$3:AC28,1),COUNTIF($AC$3:AC28,-1))=0,1,SUM(COUNTIF($AC$3:AC28,1),COUNTIF($AC$3:AC28,-1)))),(IF(SUM(COUNTIF($AE$3:AE28,1),COUNTIF($AE$3:AE28,-1))=0,1,SUM(COUNTIF($AE$3:AE28,1),COUNTIF($AE$3:AE28,-1)))),(IF(SUM(COUNTIF($AG$3:AG28,1),COUNTIF($AG$3:AG28,-1))=0,1,SUM(COUNTIF($AG$3:AG28,1),COUNTIF($AG$3:AG28,-1)))),(IF(SUM(COUNTIF($AI$3:AI28,1),COUNTIF($AI$3:AI28,-1))=0,1,SUM(COUNTIF($AI$3:AI28,1),COUNTIF($AI$3:AI28,-1)))),(IF(SUM(COUNTIF($AK$3:AK28,1),COUNTIF($AK$3:AK28,-1))=0,1,SUM(COUNTIF($AK$3:AK28,1),COUNTIF($AK$3:AK28,-1)))))/1000)","v":0.61643835616438358},-9.7270000000000003,null,{"$f":"+SUM(COUNTIF($AK$3:AK28,1),COUNTIF($AK$3:AK28,-1))","v":24},{"$f":"+SUM($W$4:W28)","v":2587},107.79166666666667,{"$f":"+SUM(COUNTIF($AK$3:AK28,1))","v":10},{"$f":"+SUM(COUNTIF($AK$3:AK28,-1))","v":14},-4,{"$f":"+CG28*(HARMEAN((IF(SUM(COUNTIF($Z$3:Z28,1),COUNTIF($Z$3:Z28,-1))=0,1,SUM(COUNTIF($Z$3:Z28,1),COUNTIF($Z$3:Z28,-1)))),(IF(SUM(COUNTIF($AC$3:AC28,1),COUNTIF($AC$3:AC28,-1))=0,1,SUM(COUNTIF($AC$3:AC28,1),COUNTIF($AC$3:AC28,-1)))),(IF(SUM(COUNTIF($AE$3:AE28,1),COUNTIF($AE$3:AE28,-1))=0,1,SUM(COUNTIF($AE$3:AE28,1),COUNTIF($AE$3:AE28,-1)))),(IF(SUM(COUNTIF($AG$3:AG28,1),COUNTIF($AG$3:AG28,-1))=0,1,SUM(COUNTIF($AG$3:AG28,1),COUNTIF($AG$3:AG28,-1)))),(IF(SUM(COUNTIF($AI$3:AI28,1),COUNTIF($AI$3:AI28,-1))=0,1,SUM(COUNTIF($AI$3:AI28,1),COUNTIF($AI$3:AI28,-1)))),(IF(SUM(COUNTIF($AK$3:AK28,1),COUNTIF($AK$3:AK28,-1))=0,1,SUM(COUNTIF($AK$3:AK28,1),COUNTIF($AK$3:AK28,-1)))))/1000)","v":0.59178082191780823},-3.484]
[26,"RA",null,{"$f":"+IFERROR(INDEX('Auswertung AoE II'!$AE:$AE,MATCH(A29,'Auswertung AoE II'!$AD:$AD,0)),\"\")","v":""},{"$f":"+IFERROR(INDEX('Auswertung AoE III'!$AE:$AE,MATCH(A29,'Auswertung AoE III'!$AD:$AD,0)),\"\")","v":""},{"$f":"+IFERROR(INDEX('Auswertung AoM'!$AE:$AE,MATCH(A29,'Auswertung AoM'!$AD:$AD,0)),\"\")","v":""},{"$f":"+IFERROR(INDEX('Auswertung RA'!$AE:$AE,MATCH(A29,'Auswertung RA'!$AD:$AD,0)),\"\")","v":"RA"},{"$f":"+IFERROR(INDEX('Auswertung Yuri'!$AE:$AE,MATCH(A29,'Auswertung Yuri'!$AD:$AD,0)),\"\")","v":""},{"$f":"+IFERROR(INDEX('Auswertung Generals'!$AE:$AE,MATCH(A29,'Auswertung Generals'!$AD:$AD,0)),\"\")","v":""},"Auswertung RA",null,null,{"$f":"+IF(ISERROR(+INDIRECT(CONCATENATE(\"'\",J29,\"'!\",(ADDRESS((COUNTIF($J$3:J29,IF(B29<>0,CONCATENATE(\"Auswertung \",B29,\"\"))))+2,2)))))=FALSE,+INDIRECT(CONCATENATE(\"'\",J29,\"'!\",(ADDRESS((COUNTIF($J$3:J29,IF(B29<>0,CONCATENATE(\"Auswertung \",B29,\"\"))))+4,2)))),\"\")","v":17},{"$f":"IF(ISERROR(+INDIRECT(CONCATENATE(\"'\",J29,\"'!\",(ADDRESS((COUNTIF($J$3:J29,IF(B29<>0,CONCATENATE(\"Auswertung \",B29,\"\"))))+2,2+1)))))=FALSE,+INDIRECT(CONCATENATE(\"'\",J29,\"'!\",(ADDRESS((COUNTIF($J$3:J29,IF(B29<>0,CONCATENATE(\"Auswertung \",B29,\"\"))))+4,2+1)))),\"\")","v":"S"},{"$f":"+IF(ISERROR(+INDIRECT(CONCATENATE(\"'\",J29,\"'!\",(ADDRESS((COUNTIF($J$3:J29,IF(B29<>0,CONCATENATE(\"Auswertung \",B29,\"\"))))+2,4)))))=FALSE,+INDIRECT(CONCATENATE(\"'\",J29,\"'!\",(ADDRESS((COUNTIF($J$3:J29,IF(B29<>0,CONCATENATE(\"Auswertung \",B29,\"\"))))+4,4)))),\"\")","v":29},{"$f":"+IF(ISERROR(+INDIRECT(CONCATENATE(\"'\",J29,\"'!\",(ADDRESS((COUNTIF($J$3:J29,IF(B29<>0,CONCATENATE(\"Auswertung \",B29,\"\"))))+2,5)))))=FALSE,+INDIRECT(CONCATENATE(\"'\",J29,\"'!\",(ADDRESS((COUNTIF($J$3:J29,IF(B29<>0,CONCATENATE(\"Auswertung \",B29,\"\"))))+4,5)))),\"\")","v":"S"},{"$f":"+IF(ISERROR(+INDIRECT(CONCATENATE(\"'\",J29,\"'!\",(ADDRESS((COUNTIF($J$3:J29,IF(B29<>0,CONCATENATE(\"Auswertung \",B29,\"\"))))+2,6)))))=FALSE,+INDIRECT(CONCATENATE(\"'\",J29,\"'!\",(ADDRESS((COUNTIF($J$3:J29,IF(B29<>0,CONCATENATE(\"Auswertung \",B29,\"\"))))+4,6)))),\"\")","v":31},{"$f":"+IF(ISERROR(+INDIRECT(CONCATENATE(\"'\",J29,\"'!\",(ADDRESS((COUNTIF($J$3:J29,IF(B29<>0,CONCATENATE(\"Auswertung \",B29,\"\"))))+2,7)))))=FALSE,+INDIRECT(CONCATENATE(\"'\",J29,\"'!\",(ADDRESS((COUNTIF($J$3:J29,IF(B29<>0,CONCATENATE(\"Auswertung \",B29,\"\"))))+4,7)))),\"\")","v":"A"},{"$f":"+IF(ISERROR(+INDIRECT(CONCATENATE(\"'\",J29,\"'!\",(ADDRESS((COUNTIF($J$3:J29,IF(B29<>0,CONCATENATE(\"Auswertung \",B29,\"\"))))+2,10)))))=FALSE,+INDIRECT(CONCATENATE(\"'\",J29,\"'!\",(ADDRESS((COUNTIF($J$3:J29,IF(B29<>0,CONCATENATE(\"Auswertung \",B29,\"\"))))+4,8)))),\"\")","v":9},{"$f":"+IF(ISERROR(+INDIRECT(CONCATENATE(\"'\",J29,\"'!\",(ADDRESS((COUNTIF($J$3:J29,IF(B29<>0,CONCATENATE(\"Auswertung \",B29,\"\"))))+2,11)))))=FALSE,+INDIRECT(CONCATENATE(\"'\",J29,\"'!\",(ADDRESS((COUNTIF($J$3:J29,IF(B29<>0,CONCATENATE(\"Auswertung \",B29,\"\"))))+4,9)))),\"\")","v":"S"},{"$f":"+IF(ISERROR(+INDIRECT(CONCATENATE(\"'\",J29,\"'!\",(ADDRESS((COUNTIF($J$3:J29,IF(B29<>0,CONCATENATE(\"Auswertung \",B29,\"\"))))+2,10)))))=FALSE,+INDIRECT(CONCATENATE(\"'\",J29,\"'!\",(ADDRESS((COUNTIF($J$3:J29,IF(B29<>0,CONCATENATE(\"Auswertung \",B29,\"\"))))+4,10)))),\"\")","v":29},{"$f":"+IF(ISERROR(+INDIRECT(CONCATENATE(\"'\",J29,\"'!\",(ADDRESS((COUNTIF($J$3:J29,IF(B29<>0,CONCATENATE(\"Auswertung \",B29,\"\"))))+2,11)))))=FALSE,+INDIRECT(CONCATENATE(\"'\",J29,\"'!\",(ADDRESS((COUNTIF($J$3:J29,IF(B29<>0,CONCATENATE(\"Auswertung \",B29,\"\"))))+4,11)))),\"\")","v":"A"},{"$f":"+IF(ISERROR(+INDIRECT(CONCATENATE(\"'\",J29,\"'!\",(ADDRESS((COUNTIF($J$3:J29,IF(D29<>0,CONCATENATE(\"Auswertung \",D29,\"\"))))+2,12)))))=FALSE,+INDIRECT(CONCATENATE(\"'\",J29,\"'!\",(ADDRESS((COUNTIF($J$3:J29,IF(D29<>0,CONCATENATE(\"Auswertung \",B29,\"\"))))+4,12)))),\"\")","v":38},{"$f":"+IF(ISERROR(+INDIRECT(CONCATENATE(\"'\",J29,\"'!\",(ADDRESS((COUNTIF($J$3:J29,IF(D29<>0,CONCATENATE(\"Auswertung \",D29,\"\"))))+2,13)))))=FALSE,+INDIRECT(CONCATENATE(\"'\",J29,\"'!\",(ADDRESS((COUNTIF($J$3:J29,IF(D29<>0,CONCATENATE(\"Auswertung \",B29,\"\"))))+4,13)))),\"\")","v":"S"},null,{"$f":"+IFERROR(INDIRECT(CONCATENATE(\"'\",J29,\"'!\",(ADDRESS((COUNTIF($J$3:J29,IF(B29<>0,J29)))+4,16)))),\"\")","v":-1},13.314,{"$f":"+SUM($M$4:M29)/COUNT($M$4:M29)/1000*2","v":0.24530769230769231},{"$f":"+IFERROR(INDIRECT(CONCATENATE(\"'\",J29,\"'!\",(ADDRESS((COUNTIF($J$3:J29,IF(B29<>0,J29)))+4,18)))),\"\")","v":1},22.768999999999998,{"$f":"+IFERROR(INDIRECT(CONCATENATE(\"'\",J29,\"'!\",(ADDRESS((COUNTIF($J$3:J29,IF(B29<>0,J29)))+4,20)))),\"\")","v":1},14.965999999999999,{"$f":"+IFERROR(INDIRECT(CONCATENATE(\"'\",J29,\"'!\",(ADDRESS((COUNTIF($J$3:J29,IF(B29<>0,J29)))+4,22)))),\"\")","v":-1},8.8829999999999991,{"$f":"+IFERROR(INDIRECT(CONCATENATE(\"'\",J29,\"'!\",(ADDRESS((COUNTIF($J$3:J29,IF(B29<>0,J29)))+4,24)))),\"\")","v":-1},-12.613,{"$f":"+IFERROR(INDIRECT(CONCATENATE(\"'\",J29,\"'!\",(ADDRESS((COUNTIF($J$3:J29,IF(B29<>0,J29)))+4,26)))),\"\")","v":1},-0.96199999999999997,26,{"$f":"+SUM(COUNTIF($Z$3:Z29,1),COUNTIF($Z$3:Z29,-1))","v":26},{"$f":"+SUM($M$4:M29)","v":3189},122.65384615384616,{"$f":"+SUM(COUNTIF($Z$3:Z29,1))","v":14},{"$f":"+SUM(COUNTIF($Z$3:Z29,-1))","v":12},2,{"$f":"AN29*(HARMEAN((IF(SUM(COUNTIF($Z$3:Z29,1),COUNTIF($Z$3:Z29,-1))=0,1,SUM(COUNTIF($Z$3:Z29,1),COUNTIF($Z$3:Z29,-1)))),(IF(SUM(COUNTIF($AC$3:AC29,1),COUNTIF($AC$3:AC29,-1))=0,1,SUM(COUNTIF($AC$3:AC29,1),COUNTIF($AC$3:AC29,-1)))),(IF(SUM(COUNTIF($AE$3:AE29,1),COUNTIF($AE$3:AE29,-1))=0,1,SUM(COUNTIF($AE$3:AE29,1),COUNTIF($AE$3:AE29,-1)))),(IF(SUM(COUNTIF($AG$3:AG29,1),COUNTIF($AG$3:AG29,-1))=0,1,SUM(COUNTIF($AG$3:AG29,1),COUNTIF($AG$3:AG29,-1)))),(IF(SUM(COUNTIF($AI$3:AI29,1),COUNTIF($AI$3:AI29,-1))=0,1,SUM(COUNTIF($AI$3:AI29,1),COUNTIF($AI$3:AI29,-1)))),(IF(SUM(COUNTIF($AK$3:AK29,1),COUNTIF($AK$3:AK29,-1))=0,1,SUM(COUNTIF($AK$3:AK29,1),COUNTIF($AK$3:AK29,-1)))))/1000)","v":0.66710526315789465},13.314,null,{"$f":"+SUM(COUNTIF($AC$3:AC29,1),COUNTIF($AC$3:AC29,-1))","v":26},{"$f":"+SUM($O$4:O29)","v":2874},110.53846153846153,{"$f":"+SUM(COUNTIF($AC$3:AC29,1))","v":16},{"$f":"+SUM(COUNTIF($AC$3:AC29,-1))","v":10},6,{"$f":"AW29*(HARMEAN((IF(SUM(COUNTIF($Z$3:Z29,1),COUNTIF($Z$3:Z29,-1))=0,1,SUM(COUNTIF($Z$3:Z29,1),COUNTIF($Z$3:Z29,-1)))),(IF(SUM(COUNTIF($AC$3:AC29,1),COUNTIF($AC$3:AC29,-1))=0,1,SUM(COUNTIF($AC$3:AC29,1),COUNTIF($AC$3:AC29,-1)))),(IF(SUM(COUNTIF($AE$3:AE29,1),COUNTIF($AE$3:AE29,-1))=0,1,SUM(COUNTIF($AE$3:AE29,1),COUNTIF($AE$3:AE29,-1)))),(IF(SUM(COUNTIF($AG$3:AG29,1),COUNTIF($AG$3:AG29,-1))=0,1,SUM(COUNTIF($AG$3:AG29,1),COUNTIF($AG$3:AG29,-1)))),(IF(SUM(COUNTIF($AI$3:AI29,1),COUNTIF($AI$3:AI29,-1))=0,1,SUM(COUNTIF($AI$3:AI29,1),COUNTIF($AI$3:AI29,-1)))),(IF(SUM(COUNTIF($AK$3:AK29,1),COUNTIF($AK$3:AK29,-1))=0,1,SUM(COUNTIF($AK$3:AK29,1),COUNTIF($AK$3:AK29,-1)))))/1000)","v":0.66710526315789465},22.768999999999998,null,{"$f":"+SUM(COUNTIF($AE$3:AE29,1),COUNTIF(AE$3:$AE29,-1))","v":25},{"$f":"+SUM($Q$4:Q29)","v":2833},113.32,{"$f":"+SUM(COUNTIF($AE$3:AE29,1))","v":14},{"$f":"+SUM(COUNTIF($AE$3:AE29,-1))","v":11},3,{"$f":"BF29*(HARMEAN((IF(SUM(COUNTIF($Z$3:Z29,1),COUNTIF($Z$3:Z29,-1))=0,1,SUM(COUNTIF($Z$3:Z29,1),COUNTIF($Z$3:Z29,-1)))),(IF(SUM(COUNTIF($AC$3:AC29,1),COUNTIF($AC$3:AC29,-1))=0,1,SUM(COUNTIF($AC$3:AC29,1),COUNTIF($AC$3:AC29,-1)))),(IF(SUM(COUNTIF($AE$3:AE29,1),COUNTIF($AE$3:AE29,-1))=0,1,SUM(COUNTIF($AE$3:AE29,1),COUNTIF($AE$3:AE29,-1)))),(IF(SUM(COUNTIF($AG$3:AG29,1),COUNTIF($AG$3:AG29,-1))=0,1,SUM(COUNTIF($AG$3:AG29,1),COUNTIF($AG$3:AG29,-1)))),(IF(SUM(COUNTIF($AI$3:AI29,1),COUNTIF($AI$3:AI29,-1))=0,1,SUM(COUNTIF($AI$3:AI29,1),COUNTIF($AI$3:AI29,-1)))),(IF(SUM(COUNTIF($AK$3:AK29,1),COUNTIF($AK$3:AK29,-1))=0,1,SUM(COUNTIF($AK$3:AK29,1),COUNTIF($AK$3:AK29,-1)))))/1000)","v":0.64144736842105254},14.965999999999999,null,{"$f":"+SUM(COUNTIF($AG$3:AG29,1),COUNTIF($AG$3:AG29,-1))","v":26},{"$f":"+SUM($S$4:S29)","v":3462},133.15384615384616,{"$f":"+SUM(COUNTIF($AG$3:AG29,1))","v":13},{"$f":"+SUM(COUNTIF($AG$3:AG29,-1))","v":13},0,{"$f":"BO29*(HARMEAN((IF(SUM(COUNTIF($Z$3:Z29,1),COUNTIF($Z$3:Z29,-1))=0,1,SUM(COUNTIF($Z$3:Z29,1),COUNTIF($Z$3:Z29,-1)))),(IF(SUM(COUNTIF($AC$3:AC29,1),COUNTIF($AC$3:AC29,-1))=0,1,SUM(COUNTIF($AC$3:AC29,1),COUNTIF($AC$3:AC29,-1)))),(IF(SUM(COUNTIF($AE$3:AE29,1),COUNTIF($AE$3:AE29,-1))=0,1,SUM(COUNTIF($AE$3:AE29,1),COUNTIF($AE$3:AE29,-1)))),(IF(SUM(COUNTIF($AG$3:AG29,1),COUNTIF($AG$3:AG29,-1))=0,1,SUM(COUNTIF($AG$3:AG29,1),COUNTIF($AG$3:AG29,-1)))),(IF(SUM(COUNTIF($AI$3:AI29,1),COUNTIF($AI$3:AI29,-1))=0,1,SUM(COUNTIF($AI$3:AI29,1),COUNTIF($AI$3:AI29,-1)))),(IF(SUM(COUNTIF($AK$3:AK29,1),COUNTIF($AK$3:AK29,-1))=0,1,SUM(COUNTIF($AK$3:AK29,1),COUNTIF($AK$3:AK29,-1)))))/1000)","v":0.66710526315789465},8.8829999999999991,null,{"$f":"+SUM(COUNTIF($AI$3:AI29,1),COUNTIF($AI$3:AI29,-1))","v":26},{"$f":"+SUM($U$4:U29)","v":3084},118.61538461538461,{"$f":"+SUM(COUNTIF($AI$3:AI29,1))","v":9},{"$f":"+SUM(COUNTIF($AI$3:AI29,-1))","v":17},-8,{"$f":"+BX29*(HARMEAN((IF(SUM(COUNTIF($Z$3:Z29,1),COUNTIF($Z$3:Z29,-1))=0,1,SUM(COUNTIF($Z$3:Z29,1),COUNTIF($Z$3:Z29,-1)))),(IF(SUM(COUNTIF($AC$3:AC29,1),COUNTIF($AC$3:AC29,-1))=0,1,SUM(COUNTIF($AC$3:AC29,1),COUNTIF($AC$3:AC29,-1)))),(IF(SUM(COUNTIF($AE$3:AE29,1),COUNTIF($AE$3:AE29,-1))=0,1,SUM(COUNTIF($AE$3:AE29,1),COUNTIF($AE$3:AE29,-1)))),(IF(SUM(COUNTIF($AG$3:AG29,1),COUNTIF($AG$3:AG29,-1))=0,1,SUM(COUNTIF($AG$3:AG29,1),COUNTIF($AG$3:AG29,-1)))),(IF(SUM(COUNTIF($AI$3:AI29,1),COUNTIF($AI$3:AI29,-1))=0,1,SUM(COUNTIF($AI$3:AI29,1),COUNTIF($AI$3:AI29,-1)))),(IF(SUM(COUNTIF($AK$3:AK29,1),COUNTIF($AK$3:AK29,-1))=0,1,SUM(COUNTIF($AK$3:AK29,1),COUNTIF($AK$3:AK29,-1)))))/1000)","v":0.66710526315789465},-12.613,null,{"$f":"+SUM(COUNTIF($AK$3:AK29,1),COUNTIF($AK$3:AK29,-1))","v":25},{"$f":"+SUM($W$4:W29)","v":2625},105,{"$f":"+SUM(COUNTIF($AK$3:AK29,1))","v":11},{"$f":"+SUM(COUNTIF($AK$3:AK29,-1))","v":14},-3,{"$f":"+CG29*(HARMEAN((IF(SUM(COUNTIF($Z$3:Z29,1),COUNTIF($Z$3:Z29,-1))=0,1,SUM(COUNTIF($Z$3:Z29,1),COUNTIF($Z$3:Z29,-1)))),(IF(SUM(COUNTIF($AC$3:AC29,1),COUNTIF($AC$3:AC29,-1))=0,1,SUM(COUNTIF($AC$3:AC29,1),COUNTIF($AC$3:AC29,-1)))),(IF(SUM(COUNTIF($AE$3:AE29,1),COUNTIF($AE$3:AE29,-1))=0,1,SUM(COUNTIF($AE$3:AE29,1),COUNTIF($AE$3:AE29,-1)))),(IF(SUM(COUNTIF($AG$3:AG29,1),COUNTIF($AG$3:AG29,-1))=0,1,SUM(COUNTIF($AG$3:AG29,1),COUNTIF($AG$3:AG29,-1)))),(IF(SUM(COUNTIF($AI$3:AI29,1),COUNTIF($AI$3:AI29,-1))=0,1,SUM(COUNTIF($AI$3:AI29,1),COUNTIF($AI$3:AI29,-1)))),(IF(SUM(COUNTIF($AK$3:AK29,1),COUNTIF($AK$3:AK29,-1))=0,1,SUM(COUNTIF($AK$3:AK29,1),COUNTIF($AK$3:AK29,-1)))))/1000)","v":0.64144736842105254},-0.96199999999999997]
[27,"AoM",null,{"$f":"+IFERROR(INDEX('Auswertung AoE II'!$AE:$AE,MATCH(A30,'Auswertung AoE II'!$AD:$AD,0)),\"\")","v":""},{"$f":"+IFERROR(INDEX('Auswertung AoE III'!$AE:$AE,MATCH(A30,'Auswertung AoE III'!$AD:$AD,0)),\"\")","v":""},{"$f":"+IFERROR(INDEX('Auswertung AoM'!$AE:$AE,MATCH(A30,'Auswertung AoM'!$AD:$AD,0)),\"\")","v":"AoM"},{"$f":"+IFERROR(INDEX('Auswertung RA'!$AE:$AE,MATCH(A30,'Auswertung RA'!$AD:$AD,0)),\"\")","v":""},{"$f":"+IFERROR(INDEX('Auswertung Yuri'!$AE:$AE,MATCH(A30,'Auswertung Yuri'!$AD:$AD,0)),\"\")","v":""},{"$f":"+IFERROR(INDEX('Auswertung Generals'!$AE:$AE,MATCH(A30,'Auswertung Generals'!$AD:$AD,0)),\"\")","v":""},"Auswertung AoM",null,null,{"$f":"+IF(ISERROR(+INDIRECT(CONCATENATE(\"'\",J30,\"'!\",(ADDRESS((COUNTIF($J$3:J30,IF(B30<>0,CONCATENATE(\"Auswertung \",B30,\"\"))))+2,2)))))=FALSE,+INDIRECT(CONCATENATE(\"'\",J30,\"'!\",(ADDRESS((COUNTIF($J$3:J30,IF(B30<>0,CONCATENATE(\"Auswertung \",B30,\"\"))))+4,2)))),\"\")","v":305},{"$f":"IF(ISERROR(+INDIRECT(CONCATENATE(\"'\",J30,\"'!\",(ADDRESS((COUNTIF($J$3:J30,IF(B30<>0,CONCATENATE(\"Auswertung \",B30,\"\"))))+2,2+1)))))=FALSE,+INDIRECT(CONCATENATE(\"'\",J30,\"'!\",(ADDRESS((COUNTIF($J$3:J30,IF(B30<>0,CONCATENATE(\"Auswertung \",B30,\"\"))))+4,2+1)))),\"\")","v":"Thor"},{"$f":"+IF(ISERROR(+INDIRECT(CONCATENATE(\"'\",J30,\"'!\",(ADDRESS((COUNTIF($J$3:J30,IF(B30<>0,CONCATENATE(\"Auswertung \",B30,\"\"))))+2,4)))))=FALSE,+INDIRECT(CONCATENATE(\"'\",J30,\"'!\",(ADDRESS((COUNTIF($J$3:J30,IF(B30<>0,CONCATENATE(\"Auswertung \",B30,\"\"))))+4,4)))),\"\")","v":477},{"$f":"+IF(ISERROR(+INDIRECT(CONCATENATE(\"'\",J30,\"'!\",(ADDRESS((COUNTIF($J$3:J30,IF(B30<>0,CONCATENATE(\"Auswertung \",B30,\"\"))))+2,5)))))=FALSE,+INDIRECT(CONCATENATE(\"'\",J30,\"'!\",(ADDRESS((COUNTIF($J$3:J30,IF(B30<>0,CONCATENATE(\"Auswertung \",B30,\"\"))))+4,5)))),\"\")","v":"Zeus"},{"$f":"+IF(ISERROR(+INDIRECT(CONCATENATE(\"'\",J30,\"'!\",(ADDRESS((COUNTIF($J$3:J30,IF(B30<>0,CONCATENATE(\"Auswertung \",B30,\"\"))))+2,6)))))=FALSE,+INDIRECT(CONCATENATE(\"'\",J30,\"'!\",(ADDRESS((COUNTIF($J$3:J30,IF(B30<>0,CONCATENATE(\"Auswertung \",B30,\"\"))))+4,6)))),\"\")","v":192},{"$f":"+IF(ISERROR(+INDIRECT(CONCATENATE(\"'\",J30,\"'!\",(ADDRESS((COUNTIF($J$3:J30,IF(B30<>0,CONCATENATE(\"Auswertung \",B30,\"\"))))+2,7)))))=FALSE,+INDIRECT(CONCATENATE(\"'\",J30,\"'!\",(ADDRESS((COUNTIF($J$3:J30,IF(B30<>0,CONCATENATE(\"Auswertung \",B30,\"\"))))+4,7)))),\"\")","v":"Thor"},{"$f":"+IF(ISERROR(+INDIRECT(CONCATENATE(\"'\",J30,\"'!\",(ADDRESS((COUNTIF($J$3:J30,IF(B30<>0,CONCATENATE(\"Auswertung \",B30,\"\"))))+2,10)))))=FALSE,+INDIRECT(CONCATENATE(\"'\",J30,\"'!\",(ADDRESS((COUNTIF($J$3:J30,IF(B30<>0,CONCATENATE(\"Auswertung \",B30,\"\"))))+4,8)))),\"\")","v":502},{"$f":"+IF(ISERROR(+INDIRECT(CONCATENATE(\"'\",J30,\"'!\",(ADDRESS((COUNTIF($J$3:J30,IF(B30<>0,CONCATENATE(\"Auswertung \",B30,\"\"))))+2,11)))))=FALSE,+INDIRECT(CONCATENATE(\"'\",J30,\"'!\",(ADDRESS((COUNTIF($J$3:J30,IF(B30<>0,CONCATENATE(\"Auswertung \",B30,\"\"))))+4,9)))),\"\")","v":"Zeus"},{"$f":"+IF(ISERROR(+INDIRECT(CONCATENATE(\"'\",J30,\"'!\",(ADDRESS((COUNTIF($J$3:J30,IF(B30<>0,CONCATENATE(\"Auswertung \",B30,\"\"))))+2,10)))))=FALSE,+INDIRECT(CONCATENATE(\"'\",J30,\"'!\",(ADDRESS((COUNTIF($J$3:J30,IF(B30<>0,CONCATENATE(\"Auswertung \",B30,\"\"))))+4,10)))),\"\")","v":0},{"$f":"+IF(ISERROR(+INDIRECT(CONCATENATE(\"'\",J30,\"'!\",(ADDRESS((COUNTIF($J$3:J30,IF(B30<>0,CONCATENATE(\"Auswertung \",B30,\"\"))))+2,11)))))=FALSE,+INDIRECT(CONCATENATE(\"'\",J30,\"'!\",(ADDRESS((COUNTIF($J$3:J30,IF(B30<>0,CONCATENATE(\"Auswertung \",B30,\"\"))))+4,11)))),\"\")","v":0},{"$f":"+IF(ISERROR(+INDIRECT(CONCATENATE(\"'\",J30,\"'!\",(ADDRESS((COUNTIF($J$3:J30,IF(D30<>0,CONCATENATE(\"Auswertung \",D30,\"\"))))+2,12)))))=FALSE,+INDIRECT(CONCATENATE(\"'\",J30,\"'!\",(ADDRESS((COUNTIF($J$3:J30,IF(D30<>0,CONCATENATE(\"Auswertung \",B30,\"\"))))+4,12)))),\"\")","v":0},{"$f":"+IF(ISERROR(+INDIRECT(CONCATENATE(\"'\",J30,\"'!\",(ADDRESS((COUNTIF($J$3:J30,IF(D30<>0,CONCATENATE(\"Auswertung \",D30,\"\"))))+2,13)))))=FALSE,+INDIRECT(CONCATENATE(\"'\",J30,\"'!\",(ADDRESS((COUNTIF($J$3:J30,IF(D30<>0,CONCATENATE(\"Auswertung \",B30,\"\"))))+4,13)))),\"\")","v":0},null,{"$f":"+IFERROR(INDIRECT(CONCATENATE(\"'\",J30,\"'!\",(ADDRESS((COUNTIF($J$3:J30,IF(B30<>0,J30)))+4,16)))),\"\")","v":-1},11.824999999999999,{"$f":"+SUM($M$4:M30)/COUNT($M$4:M30)/1000*2","v":0.25881481481481483},{"$f":"+IFERROR(INDIRECT(CONCATENATE(\"'\",J30,\"'!\",(ADDRESS((COUNTIF($J$3:J30,IF(B30<>0,J30)))+4,18)))),\"\")","v":1},27.234999999999999,{"$f":"+IFERROR(INDIRECT(CONCATENATE(\"'\",J30,\"'!\",(ADDRESS((COUNTIF($J$3:J30,IF(B30<>0,J30)))+4,20)))),\"\")","v":1},18.484000000000002,{"$f":"+IFERROR(INDIRECT(CONCATENATE(\"'\",J30,\"'!\",(ADDRESS((COUNTIF($J$3:J30,IF(B30<>0,J30)))+4,22)))),\"\")","v":-1},7.7990000000000004,{"$f":"+IFERROR(INDIRECT(CONCATENATE(\"'\",J30,\"'!\",(ADDRESS((COUNTIF($J$3:J30,IF(B30<>0,J30)))+4,24)))),\"\")","v":0},-12.935,{"$f":"+IFERROR(INDIRECT(CONCATENATE(\"'\",J30,\"'!\",(ADDRESS((COUNTIF($J$3:J30,IF(B30<>0,J30)))+4,26)))),\"\")","v":0},-0.98699999999999999,27,{"$f":"+SUM(COUNTIF($Z$3:Z30,1),COUNTIF($Z$3:Z30,-1))","v":27},{"$f":"+SUM($M$4:M30)","v":3494},129.40740740740742,{"$f":"+SUM(COUNTIF($Z$3:Z30,1))","v":14},{"$f":"+SUM(COUNTIF($Z$3:Z30,-1))","v":13},1,{"$f":"AN30*(HARMEAN((IF(SUM(COUNTIF($Z$3:Z30,1),COUNTIF($Z$3:Z30,-1))=0,1,SUM(COUNTIF($Z$3:Z30,1),COUNTIF($Z$3:Z30,-1)))),(IF(SUM(COUNTIF($AC$3:AC30,1),COUNTIF($AC$3:AC30,-1))=0,1,SUM(COUNTIF($AC$3:AC30,1),COUNTIF($AC$3:AC30,-1)))),(IF(SUM(COUNTIF($AE$3:AE30,1),COUNTIF($AE$3:AE30,-1))=0,1,SUM(COUNTIF($AE$3:AE30,1),COUNTIF($AE$3:AE30,-1)))),(IF(SUM(COUNTIF($AG$3:AG30,1),COUNTIF($AG$3:AG30,-1))=0,1,SUM(COUNTIF($AG$3:AG30,1),COUNTIF($AG$3:AG30,-1)))),(IF(SUM(COUNTIF($AI$3:AI30,1),COUNTIF($AI$3:AI30,-1))=0,1,SUM(COUNTIF($AI$3:AI30,1),COUNTIF($AI$3:AI30,-1)))),(IF(SUM(COUNTIF($AK$3:AK30,1),COUNTIF($AK$3:AK30,-1))=0,1,SUM(COUNTIF($AK$3:AK30,1),COUNTIF($AK$3:AK30,-1)))))/1000)","v":0.71041979010494749},11.824999999999999,null,{"$f":"+SUM(COUNTIF($AC$3:AC30,1),COUNTIF($AC$3:AC30,-1))","v":27},{"$f":"+SUM($O$4:O30)","v":3351},124.11111111111111,{"$f":"+SUM(COUNTIF($AC$3:AC30,1))","v":17},{"$f":"+SUM(COUNTIF($AC$3:AC30,-1))","v":10},7,{"$f":"AW30*(HARMEAN((IF(SUM(COUNTIF($Z$3:Z30,1),COUNTIF($Z$3:Z30,-1))=0,1,SUM(COUNTIF($Z$3:Z30,1),COUNTIF($Z$3:Z30,-1)))),(IF(SUM(COUNTIF($AC$3:AC30,1),COUNTIF($AC$3:AC30,-1))=0,1,SUM(COUNTIF($AC$3:AC30,1),COUNTIF($AC$3:AC30,-1)))),(IF(SUM(COUNTIF($AE$3:AE30,1),COUNTIF($AE$3:AE30,-1))=0,1,SUM(COUNTIF($AE$3:AE30,1),COUNTIF($AE$3:AE30,-1)))),(IF(SUM(COUNTIF($AG$3:AG30,1),COUNTIF($AG$3:AG30,-1))=0,1,SUM(COUNTIF($AG$3:AG30,1),COUNTIF($AG$3:AG30,-1)))),(IF(SUM(COUNTIF($AI$3:AI30,1),COUNTIF($AI$3:AI30,-1))=0,1,SUM(COUNTIF($AI$3:AI30,1),COUNTIF($AI$3:AI30,-1)))),(IF(SUM(COUNTIF($AK$3:AK30,1),COUNTIF($AK$3:AK30,-1))=0,1,SUM(COUNTIF($AK$3:AK30,1),COUNTIF($AK$3:AK30,-1)))))/1000)","v":0.71041979010494749},27.234999999999999,null,{"$f":"+SUM(COUNTIF($AE$3:AE30,1),COUNTIF(AE$3:$AE30,-1))","v":26},{"$f":"+SUM($Q$4:Q30)","v":3025},116.34615384615384,{"$f":"+SUM(COUNTIF($AE$3:AE30,1))","v":15},{"$f":"+SUM(COUNTIF($AE$3:AE30,-1))","v":11},4,{"$f":"BF30*(HARMEAN((IF(SUM(COUNTIF($Z$3:Z30,1),COUNTIF($Z$3:Z30,-1))=0,1,SUM(COUNTIF($Z$3:Z30,1),COUNTIF($Z$3:Z30,-1)))),(IF(SUM(COUNTIF($AC$3:AC30,1),COUNTIF($AC$3:AC30,-1))=0,1,SUM(COUNTIF($AC$3:AC30,1),COUNTIF($AC$3:AC30,-1)))),(IF(SUM(COUNTIF($AE$3:AE30,1),COUNTIF($AE$3:AE30,-1))=0,1,SUM(COUNTIF($AE$3:AE30,1),COUNTIF($AE$3:AE30,-1)))),(IF(SUM(COUNTIF($AG$3:AG30,1),COUNTIF($AG$3:AG30,-1))=0,1,SUM(COUNTIF($AG$3:AG30,1),COUNTIF($AG$3:AG30,-1)))),(IF(SUM(COUNTIF($AI$3:AI30,1),COUNTIF($AI$3:AI30,-1))=0,1,SUM(COUNTIF($AI$3:AI30,1),COUNTIF($AI$3:AI30,-1)))),(IF(SUM(COUNTIF($AK$3:AK30,1),COUNTIF($AK$3:AK30,-1))=0,1,SUM(COUNTIF($AK$3:AK30,1),COUNTIF($AK$3:AK30,-1)))))/1000)","v":0.68410794602698644},18.484000000000002,null,{"$f":"+SUM(COUNTIF($AG$3:AG30,1),COUNTIF($AG$3:AG30,-1))","v":27},{"$f":"+SUM($S$4:S30)","v":3964},146.81481481481481,{"$f":"+SUM(COUNTIF($AG$3:AG30,1))","v":13},{"$f":"+SUM(COUNTIF($AG$3:AG30,-1))","v":14},-1,{"$f":"BO30*(HARMEAN((IF(SUM(COUNTIF($Z$3:Z30,1),COUNTIF($Z$3:Z30,-1))=0,1,SUM(COUNTIF($Z$3:Z30,1),COUNTIF($Z$3:Z30,-1)))),(IF(SUM(COUNTIF($AC$3:AC30,1),COUNTIF($AC$3:AC30,-1))=0,1,SUM(COUNTIF($AC$3:AC30,1),COUNTIF($AC$3:AC30,-1)))),(IF(SUM(COUNTIF($AE$3:AE30,1),COUNTIF($AE$3:AE30,-1))=0,1,SUM(COUNTIF($AE$3:AE30,1),COUNTIF($AE$3:AE30,-1)))),(IF(SUM(COUNTIF($AG$3:AG30,1),COUNTIF($AG$3:AG30,-1))=0,1,SUM(COUNTIF($AG$3:AG30,1),COUNTIF($AG$3:AG30,-1)))),(IF(SUM(COUNTIF($AI$3:AI30,1),COUNTIF($AI$3:AI30,-1))=0,1,SUM(COUNTIF($AI$3:AI30,1),COUNTIF($AI$3:AI30,-1)))),(IF(SUM(COUNTIF($AK$3:AK30,1),COUNTIF($AK$3:AK30,-1))=0,1,SUM(COUNTIF($AK$3:AK30,1),COUNTIF($AK$3:AK30,-1)))))/1000)","v":0.71041979010494749},7.7990000000000004,null,{"$f":"+SUM(COUNTIF($AI$3:AI30,1),COUNTIF($AI$3:AI30,-1))","v":26},{"$f":"+SUM($U$4:U30)","v":3084},118.61538461538461,{"$f":"+SUM(COUNTIF($AI$3:AI30,1))","v":9},{"$f":"+SUM(COUNTIF($AI$3:AI30,-1))","v":17},-8,{"$f":"+BX30*(HARMEAN((IF(SUM(COUNTIF($Z$3:Z30,1),COUNTIF($Z$3:Z30,-1))=0,1,SUM(COUNTIF($Z$3:Z30,1),COUNTIF($Z$3:Z30,-1)))),(IF(SUM(COUNTIF($AC$3:AC30,1),COUNTIF($AC$3:AC30,-1))=0,1,SUM(COUNTIF($AC$3:AC30,1),COUNTIF($AC$3:AC30,-1)))),(IF(SUM(COUNTIF($AE$3:AE30,1),COUNTIF($AE$3:AE30,-1))=0,1,SUM(COUNTIF($AE$3:AE30,1),COUNTIF($AE$3:AE30,-1)))),(IF(SUM(COUNTIF($AG$3:AG30,1),COUNTIF($AG$3:AG30,-1))=0,1,SUM(COUNTIF($AG$3:AG30,1),COUNTIF($AG$3:AG30,-1)))),(IF(SUM(COUNTIF($AI$3:AI30,1),COUNTIF($AI$3:AI30,-1))=0,1,SUM(COUNTIF($AI$3:AI30,1),COUNTIF($AI$3:AI30,-1)))),(IF(SUM(COUNTIF($AK$3:AK30,1),COUNTIF($AK$3:AK30,-1))=0,1,SUM(COUNTIF($AK$3:AK30,1),COUNTIF($AK$3:AK30,-1)))))/1000)","v":0.68410794602698644},-12.935,null,{"$f":"+SUM(COUNTIF($AK$3:AK30,1),COUNTIF($AK$3:AK30,-1))","v":25},{"$f":"+SUM($W$4:W30)","v":2625},105,{"$f":"+SUM(COUNTIF($AK$3:AK30,1))","v":11},{"$f":"+SUM(COUNTIF($AK$3:AK30,-1))","v":14},-3,{"$f":"+CG30*(HARMEAN((IF(SUM(COUNTIF($Z$3:Z30,1),COUNTIF($Z$3:Z30,-1))=0,1,SUM(COUNTIF($Z$3:Z30,1),COUNTIF($Z$3:Z30,-1)))),(IF(SUM(COUNTIF($AC$3:AC30,1),COUNTIF($AC$3:AC30,-1))=0,1,SUM(COUNTIF($AC$3:AC30,1),COUNTIF($AC$3:AC30,-1)))),(IF(SUM(COUNTIF($AE$3:AE30,1),COUNTIF($AE$3:AE30,-1))=0,1,SUM(COUNTIF($AE$3:AE30,1),COUNTIF($AE$3:AE30,-1)))),(IF(SUM(COUNTIF($AG$3:AG30,1),COUNTIF($AG$3:AG30,-1))=0,1,SUM(COUNTIF($AG$3:AG30,1),COUNTIF($AG$3:AG30,-1)))),(IF(SUM(COUNTIF($AI$3:AI30,1),COUNTIF($AI$3:AI30,-1))=0,1,SUM(COUNTIF($AI$3:AI30,1),COUNTIF($AI$3:AI30,-1)))),(IF(SUM(COUNTIF($AK$3:AK30,1),COUNTIF($AK$3:AK30,-1))=0,1,SUM(COUNTIF($AK$3:AK30,1),COUNTIF($AK$3:AK30,-1)))))/1000)","v":0.65779610194902538},-0.98699999999999999]
[28,"Generals",null,{"$f":"+IFERROR(INDEX('Auswertung AoE II'!$AE:$AE,MATCH(A31,'Auswertung AoE II'!$AD:$AD,0)),\"\")","v":""},{"$f":"+IFERROR(INDEX('Auswertung AoE III'!$AE:$AE,MATCH(A31,'Auswertung AoE III'!$AD:$AD,0)),\"\")","v":""},{"$f":"+IFERROR(INDEX('Auswertung AoM'!$AE:$AE,MATCH(A31,'Auswertung AoM'!$AD:$AD,0)),\"\")","v":""},{"$f":"+IFERROR(INDEX('Auswertung RA'!$AE:$AE,MATCH(A31,'Auswertung RA'!$AD:$AD,0)),\"\")","v":""},{"$f":"+IFERROR(INDEX('Auswertung Yuri'!$AE:$AE,MATCH(A31,'Auswertung Yuri'!$AD:$AD,0)),\"\")","v":""},{"$f":"+IFERROR(INDEX('Auswertung Generals'!$AE:$AE,MATCH(A31,'Auswertung Generals'!$AD:$AD,0)),\"\")","v":"Generals"},"Auswertung Generals",null,null,{"$f":"+IF(ISERROR(+INDIRECT(CONCATENATE(\"'\",J31,\"'!\",(ADDRESS((COUNTIF($J$3:J31,IF(B31<>0,CONCATENATE(\"Auswertung \",B31,\"\"))))+2,2)))))=FALSE,+INDIRECT(CONCATENATE(\"'\",J31,\"'!\",(ADDRESS((COUNTIF($J$3:J31,IF(B31<>0,CONCATENATE(\"Auswertung \",B31,\"\"))))+4,2)))),\"\")","v":112},{"$f":"IF(ISERROR(+INDIRECT(CONCATENATE(\"'\",J31,\"'!\",(ADDRESS((COUNTIF($J$3:J31,IF(B31<>0,CONCATENATE(\"Auswertung \",B31,\"\"))))+2,2+1)))))=FALSE,+INDIRECT(CONCATENATE(\"'\",J31,\"'!\",(ADDRESS((COUNTIF($J$3:J31,IF(B31<>0,CONCATENATE(\"Auswertung \",B31,\"\"))))+4,2+1)))),\"\")","v":"WA"},{"$f":"+IF(ISERROR(+INDIRECT(CONCATENATE(\"'\",J31,\"'!\",(ADDRESS((COUNTIF($J$3:J31,IF(B31<>0,CONCATENATE(\"Auswertung \",B31,\"\"))))+2,4)))))=FALSE,+INDIRECT(CONCATENATE(\"'\",J31,\"'!\",(ADDRESS((COUNTIF($J$3:J31,IF(B31<>0,CONCATENATE(\"Auswertung \",B31,\"\"))))+4,4)))),\"\")","v":34},{"$f":"+IF(ISERROR(+INDIRECT(CONCATENATE(\"'\",J31,\"'!\",(ADDRESS((COUNTIF($J$3:J31,IF(B31<>0,CONCATENATE(\"Auswertung \",B31,\"\"))))+2,5)))))=FALSE,+INDIRECT(CONCATENATE(\"'\",J31,\"'!\",(ADDRESS((COUNTIF($J$3:J31,IF(B31<>0,CONCATENATE(\"Auswertung \",B31,\"\"))))+4,5)))),\"\")","v":"WA"},{"$f":"+IF(ISERROR(+INDIRECT(CONCATENATE(\"'\",J31,\"'!\",(ADDRESS((COUNTIF($J$3:J31,IF(B31<>0,CONCATENATE(\"Auswertung \",B31,\"\"))))+2,6)))))=FALSE,+INDIRECT(CONCATENATE(\"'\",J31,\"'!\",(ADDRESS((COUNTIF($J$3:J31,IF(B31<>0,CONCATENATE(\"Auswertung \",B31,\"\"))))+4,6)))),\"\")","v":54},{"$f":"+IF(ISERROR(+INDIRECT(CONCATENATE(\"'\",J31,\"'!\",(ADDRESS((COUNTIF($J$3:J31,IF(B31<>0,CONCATENATE(\"Auswertung \",B31,\"\"))))+2,7)))))=FALSE,+INDIRECT(CONCATENATE(\"'\",J31,\"'!\",(ADDRESS((COUNTIF($J$3:J31,IF(B31<>0,CONCATENATE(\"Auswertung \",B31,\"\"))))+4,7)))),\"\")","v":"IBG"},{"$f":"+IF(ISERROR(+INDIRECT(CONCATENATE(\"'\",J31,\"'!\",(ADDRESS((COUNTIF($J$3:J31,IF(B31<>0,CONCATENATE(\"Auswertung \",B31,\"\"))))+2,10)))))=FALSE,+INDIRECT(CONCATENATE(\"'\",J31,\"'!\",(ADDRESS((COUNTIF($J$3:J31,IF(B31<>0,CONCATENATE(\"Auswertung \",B31,\"\"))))+4,8)))),\"\")","v":42},{"$f":"+IF(ISERROR(+INDIRECT(CONCATENATE(\"'\",J31,\"'!\",(ADDRESS((COUNTIF($J$3:J31,IF(B31<>0,CONCATENATE(\"Auswertung \",B31,\"\"))))+2,11)))))=FALSE,+INDIRECT(CONCATENATE(\"'\",J31,\"'!\",(ADDRESS((COUNTIF($J$3:J31,IF(B31<>0,CONCATENATE(\"Auswertung \",B31,\"\"))))+4,9)))),\"\")","v":"IBG"},{"$f":"+IF(ISERROR(+INDIRECT(CONCATENATE(\"'\",J31,\"'!\",(ADDRESS((COUNTIF($J$3:J31,IF(B31<>0,CONCATENATE(\"Auswertung \",B31,\"\"))))+2,10)))))=FALSE,+INDIRECT(CONCATENATE(\"'\",J31,\"'!\",(ADDRESS((COUNTIF($J$3:J31,IF(B31<>0,CONCATENATE(\"Auswertung \",B31,\"\"))))+4,10)))),\"\")","v":0},{"$f":"+IF(ISERROR(+INDIRECT(CONCATENATE(\"'\",J31,\"'!\",(ADDRESS((COUNTIF($J$3:J31,IF(B31<>0,CONCATENATE(\"Auswertung \",B31,\"\"))))+2,11)))))=FALSE,+INDIRECT(CONCATENATE(\"'\",J31,\"'!\",(ADDRESS((COUNTIF($J$3:J31,IF(B31<>0,CONCATENATE(\"Auswertung \",B31,\"\"))))+4,11)))),\"\")","v":0},{"$f":"+IF(ISERROR(+INDIRECT(CONCATENATE(\"'\",J31,\"'!\",(ADDRESS((COUNTIF($J$3:J31,IF(D31<>0,CONCATENATE(\"Auswertung \",D31,\"\"))))+2,12)))))=FALSE,+INDIRECT(CONCATENATE(\"'\",J31,\"'!\",(ADDRESS((COUNTIF($J$3:J31,IF(D31<>0,CONCATENATE(\"Auswertung \",B31,\"\"))))+4,12)))),\"\")","v":0},{"$f":"+IF(ISERROR(+INDIRECT(CONCATENATE(\"'\",J31,\"'!\",(ADDRESS((COUNTIF($J$3:J31,IF(D31<>0,CONCATENATE(\"Auswertung \",D31,\"\"))))+2,13)))))=FALSE,+INDIRECT(CONCATENATE(\"'\",J31,\"'!\",(ADDRESS((COUNTIF($J$3:J31,IF(D31<>0,CONCATENATE(\"Auswertung \",B31,\"\"))))+4,13)))),\"\")","v":0},null,{"$f":"+IFERROR(INDIRECT(CONCATENATE(\"'\",J31,\"'!\",(ADDRESS((COUNTIF($J$3:J31,IF(B31<>0,J31)))+4,16)))),\"\")","v":1},15.108000000000001,{"$f":"+SUM($M$4:M31)/COUNT($M$4:M31)/1000*2","v":0.25757142857142856},{"$f":"+IFERROR(INDIRECT(CONCATENATE(\"'\",J31,\"'!\",(ADDRESS((COUNTIF($J$3:J31,IF(B31<>0,J31)))+4,18)))),\"\")","v":-1},25.292000000000002,{"$f":"+IFERROR(INDIRECT(CONCATENATE(\"'\",J31,\"'!\",(ADDRESS((COUNTIF($J$3:J31,IF(B31<>0,J31)))+4,20)))),\"\")","v":1},21.771999999999998,{"$f":"+IFERROR(INDIRECT(CONCATENATE(\"'\",J31,\"'!\",(ADDRESS((COUNTIF($J$3:J31,IF(B31<>0,J31)))+4,22)))),\"\")","v":-1},5.4059999999999997,{"$f":"+IFERROR(INDIRECT(CONCATENATE(\"'\",J31,\"'!\",(ADDRESS((COUNTIF($J$3:J31,IF(B31<>0,J31)))+4,24)))),\"\")","v":0},-13.247999999999999,{"$f":"+IFERROR(INDIRECT(CONCATENATE(\"'\",J31,\"'!\",(ADDRESS((COUNTIF($J$3:J31,IF(B31<>0,J31)))+4,26)))),\"\")","v":0},-1.0109999999999999,28,{"$f":"+SUM(COUNTIF($Z$3:Z31,1),COUNTIF($Z$3:Z31,-1))","v":28},{"$f":"+SUM($M$4:M31)","v":3606},128.78571428571428,{"$f":"+SUM(COUNTIF($Z$3:Z31,1))","v":15},{"$f":"+SUM(COUNTIF($Z$3:Z31,-1))","v":13},2,{"$f":"AN31*(HARMEAN((IF(SUM(COUNTIF($Z$3:Z31,1),COUNTIF($Z$3:Z31,-1))=0,1,SUM(COUNTIF($Z$3:Z31,1),COUNTIF($Z$3:Z31,-1)))),(IF(SUM(COUNTIF($AC$3:AC31,1),COUNTIF($AC$3:AC31,-1))=0,1,SUM(COUNTIF($AC$3:AC31,1),COUNTIF($AC$3:AC31,-1)))),(IF(SUM(COUNTIF($AE$3:AE31,1),COUNTIF($AE$3:AE31,-1))=0,1,SUM(COUNTIF($AE$3:AE31,1),COUNTIF($AE$3:AE31,-1)))),(IF(SUM(COUNTIF($AG$3:AG31,1),COUNTIF($AG$3:AG31,-1))=0,1,SUM(COUNTIF($AG$3:AG31,1),COUNTIF($AG$3:AG31,-1)))),(IF(SUM(COUNTIF($AI$3:AI31,1),COUNTIF($AI$3:AI31,-1))=0,1,SUM(COUNTIF($AI$3:AI31,1),COUNTIF($AI$3:AI31,-1)))),(IF(SUM(COUNTIF($AK$3:AK31,1),COUNTIF($AK$3:AK31,-1))=0,1,SUM(COUNTIF($AK$3:AK31,1),COUNTIF($AK$3:AK31,-1)))))/1000)","v":0.75457653145165704},15.108000000000001,null,{"$f":"+SUM(COUNTIF($AC$3:AC31,1),COUNTIF($AC$3:AC31,-1))","v":28},{"$f":"+SUM($O$4:O31)","v":3385},120.89285714285714,{"$f":"+SUM(COUNTIF($AC$3:AC31,1))","v":17},{"$f":"+SUM(COUNTIF($AC$3:AC31,-1))","v":11},6,{"$f":"AW31*(HARMEAN((IF(SUM(COUNTIF($Z$3:Z31,1),COUNTIF($Z$3:Z31,-1))=0,1,SUM(COUNTIF($Z$3:Z31,1),COUNTIF($Z$3:Z31,-1)))),(IF(SUM(COUNTIF($AC$3:AC31,1),COUNTIF($AC$3:AC31,-1))=0,1,SUM(COUNTIF($AC$3:AC31,1),COUNTIF($AC$3:AC31,-1)))),(IF(SUM(COUNTIF($AE$3:AE31,1),COUNTIF($AE$3:AE31,-1))=0,1,SUM(COUNTIF($AE$3:AE31,1),COUNTIF($AE$3:AE31,-1)))),(IF(SUM(COUNTIF($AG$3:AG31,1),COUNTIF($AG$3:AG31,-1))=0,1,SUM(COUNTIF($AG$3:AG31,1),COUNTIF($AG$3:AG31,-1)))),(IF(SUM(COUNTIF($AI$3:AI31,1),COUNTIF($AI$3:AI31,-1))=0,1,SUM(COUNTIF($AI$3:AI31,1),COUNTIF($AI$3:AI31,-1)))),(IF(SUM(COUNTIF($AK$3:AK31,1),COUNTIF($AK$3:AK31,-1))=0,1,SUM(COUNTIF($AK$3:AK31,1),COUNTIF($AK$3:AK31,-1)))))/1000)","v":0.75457653145165704},25.292000000000002,null,{"$f":"+SUM(COUNTIF($AE$3:AE31,1),COUNTIF(AE$3:$AE31,-1))","v":27},{"$f":"+SUM($Q$4:Q31)","v":3079},114.03703703703704,{"$f":"+SUM(COUNTIF($AE$3:AE31,1))","v":16},{"$f":"+SUM(COUNTIF($AE$3:AE31,-1))","v":11},5,{"$f":"BF31*(HARMEAN((IF(SUM(COUNTIF($Z$3:Z31,1),COUNTIF($Z$3:Z31,-1))=0,1,SUM(COUNTIF($Z$3:Z31,1),COUNTIF($Z$3:Z31,-1)))),(IF(SUM(COUNTIF($AC$3:AC31,1),COUNTIF($AC$3:AC31,-1))=0,1,SUM(COUNTIF($AC$3:AC31,1),COUNTIF($AC$3:AC31,-1)))),(IF(SUM(COUNTIF($AE$3:AE31,1),COUNTIF($AE$3:AE31,-1))=0,1,SUM(COUNTIF($AE$3:AE31,1),COUNTIF($AE$3:AE31,-1)))),(IF(SUM(COUNTIF($AG$3:AG31,1),COUNTIF($AG$3:AG31,-1))=0,1,SUM(COUNTIF($AG$3:AG31,1),COUNTIF($AG$3:AG31,-1)))),(IF(SUM(COUNTIF($AI$3:AI31,1),COUNTIF($AI$3:AI31,-1))=0,1,SUM(COUNTIF($AI$3:AI31,1),COUNTIF($AI$3:AI31,-1)))),(IF(SUM(COUNTIF($AK$3:AK31,1),COUNTIF($AK$3:AK31,-1))=0,1,SUM(COUNTIF($AK$3:AK31,1),COUNTIF($AK$3:AK31,-1)))))/1000)","v":0.72762736961409791},21.771999999999998,null,{"$f":"+SUM(COUNTIF($AG$3:AG31,1),COUNTIF($AG$3:AG31,-1))","v":28},{"$f":"+SUM($S$4:S31)","v":4006},143.07142857142858,{"$f":"+SUM(COUNTIF($AG$3:AG31,1))","v":13},{"$f":"+SUM(COUNTIF($AG$3:AG31,-1))","v":15},-2,{"$f":"BO31*(HARMEAN((IF(SUM(COUNTIF($Z$3:Z31,1),COUNTIF($Z$3:Z31,-1))=0,1,SUM(COUNTIF($Z$3:Z31,1),COUNTIF($Z$3:Z31,-1)))),(IF(SUM(COUNTIF($AC$3:AC31,1),COUNTIF($AC$3:AC31,-1))=0,1,SUM(COUNTIF($AC$3:AC31,1),COUNTIF($AC$3:AC31,-1)))),(IF(SUM(COUNTIF($AE$3:AE31,1),COUNTIF($AE$3:AE31,-1))=0,1,SUM(COUNTIF($AE$3:AE31,1),COUNTIF($AE$3:AE31,-1)))),(IF(SUM(COUNTIF($AG$3:AG31,1),COUNTIF($AG$3:AG31,-1))=0,1,SUM(COUNTIF($AG$3:AG31,1),COUNTIF($AG$3:AG31,-1)))),(IF(SUM(COUNTIF($AI$3:AI31,1),COUNTIF($AI$3:AI31,-1))=0,1,SUM(COUNTIF($AI$3:AI31,1),COUNTIF($AI$3:AI31,-1)))),(IF(SUM(COUNTIF($AK$3:AK31,1),COUNTIF($AK$3:AK31,-1))=0,1,SUM(COUNTIF($AK$3:AK31,1),COUNTIF($AK$3:AK31,-1)))))/1000)","v":0.75457653145165704},5.4059999999999997,null,{"$f":"+SUM(COUNTIF($AI$3:AI31,1),COUNTIF($AI$3:AI31,-1))","v":26},{"$f":"+SUM($U$4:U31)","v":3084},118.61538461538461,{"$f":"+SUM(COUNTIF($AI$3:AI31,1))","v":9},{"$f":"+SUM(COUNTIF($AI$3:AI31,-1))","v":17},-8,{"$f":"+BX31*(HARMEAN((IF(SUM(COUNTIF($Z$3:Z31,1),COUNTIF($Z$3:Z31,-1))=0,1,SUM(COUNTIF($Z$3:Z31,1),COUNTIF($Z$3:Z31,-1)))),(IF(SUM(COUNTIF($AC$3:AC31,1),COUNTIF($AC$3:AC31,-1))=0,1,SUM(COUNTIF($AC$3:AC31,1),COUNTIF($AC$3:AC31,-1)))),(IF(SUM(COUNTIF($AE$3:AE31,1),COUNTIF($AE$3:AE31,-1))=0,1,SUM(COUNTIF($AE$3:AE31,1),COUNTIF($AE$3:AE31,-1)))),(IF(SUM(COUNTIF($AG$3:AG31,1),COUNTIF($AG$3:AG31,-1))=0,1,SUM(COUNTIF($AG$3:AG31,1),COUNTIF($AG$3:AG31,-1)))),(IF(SUM(COUNTIF($AI$3:AI31,1),COUNTIF($AI$3:AI31,-1))=0,1,SUM(COUNTIF($AI$3:AI31,1),COUNTIF($AI$3:AI31,-1)))),(IF(SUM(COUNTIF($AK$3:AK31,1),COUNTIF($AK$3:AK31,-1))=0,1,SUM(COUNTIF($AK$3:AK31,1),COUNTIF($AK$3:AK31,-1)))))/1000)","v":0.70067820777653866},-13.247999999999999,null,{"$f":"+SUM(COUNTIF($AK$3:AK31,1),COUNTIF($AK$3:AK31,-1))","v":25},{"$f":"+SUM($W$4:W31)","v":2625},105,{"$f":"+SUM(COUNTIF($AK$3:AK31,1))","v":11},{"$f":"+SUM(COUNTIF($AK$3:AK31,-1))","v":14},-3,{"$f":"+CG31*(HARMEAN((IF(SUM(COUNTIF($Z$3:Z31,1),COUNTIF($Z$3:Z31,-1))=0,1,SUM(COUNTIF($Z$3:Z31,1),COUNTIF($Z$3:Z31,-1)))),(IF(SUM(COUNTIF($AC$3:AC31,1),COUNTIF($AC$3:AC31,-1))=0,1,SUM(COUNTIF($AC$3:AC31,1),COUNTIF($AC$3:AC31,-1)))),(IF(SUM(COUNTIF($AE$3:AE31,1),COUNTIF($AE$3:AE31,-1))=0,1,SUM(COUNTIF($AE$3:AE31,1),COUNTIF($AE$3:AE31,-1)))),(IF(SUM(COUNTIF($AG$3:AG31,1),COUNTIF($AG$3:AG31,-1))=0,1,SUM(COUNTIF($AG$3:AG31,1),COUNTIF($AG$3:AG31,-1)))),(IF(SUM(COUNTIF($AI$3:AI31,1),COUNTIF($AI$3:AI31,-1))=0,1,SUM(COUNTIF($AI$3:AI31,1),COUNTIF($AI$3:AI31,-1)))),(IF(SUM(COUNTIF($AK$3:AK31,1),COUNTIF($AK$3:AK31,-1))=0,1,SUM(COUNTIF($AK$3:AK31,1),COUNTIF($AK$3:AK31,-1)))))/1000)","v":0.67372904593897953},-1.0109999999999999]
[29,"RA",null,{"$f":"+IFERROR(INDEX('Auswertung AoE II'!$AE:$AE,MATCH(A32,'Auswertung AoE II'!$AD:$AD,0)),\"\")","v":""},{"$f":"+IFERROR(INDEX('Auswertung AoE III'!$AE:$AE,MATCH(A32,'Auswertung AoE III'!$AD:$AD,0)),\"\")","v":""},{"$f":"+IFERROR(INDEX('Auswertung AoM'!$AE:$AE,MATCH(A32,'Auswertung AoM'!$AD:$AD,0)),\"\")","v":""},{"$f":"+IFERROR(INDEX('Auswertung RA'!$AE:$AE,MATCH(A32,'Auswertung RA'!$AD:$AD,0)),\"\")","v":"RA"},{"$f":"+IFERROR(INDEX('Auswertung Yuri'!$AE:$AE,MATCH(A32,'Auswertung Yuri'!$AD:$AD,0)),\"\")","v":""},{"$f":"+IFERROR(INDEX('Auswertung Generals'!$AE:$AE,MATCH(A32,'Auswertung Generals'!$AD:$AD,0)),\"\")","v":""},"Auswertung RA",null,null,{"$f":"+IF(ISERROR(+INDIRECT(CONCATENATE(\"'\",J32,\"'!\",(ADDRESS((COUNTIF($J$3:J32,IF(B32<>0,CONCATENATE(\"Auswertung \",B32,\"\"))))+2,2)))))=FALSE,+INDIRECT(CONCATENATE(\"'\",J32,\"'!\",(ADDRESS((COUNTIF($J$3:J32,IF(B32<>0,CONCATENATE(\"Auswertung \",B32,\"\"))))+4,2)))),\"\")","v":72},{"$f":"IF(ISERROR(+INDIRECT(CONCATENATE(\"'\",J32,\"'!\",(ADDRESS((COUNTIF($J$3:J32,IF(B32<>0,CONCATENATE(\"Auswertung \",B32,\"\"))))+2,2+1)))))=FALSE,+INDIRECT(CONCATENATE(\"'\",J32,\"'!\",(ADDRESS((COUNTIF($J$3:J32,IF(B32<>0,CONCATENATE(\"Auswertung \",B32,\"\"))))+4,2+1)))),\"\")","v":"A"},{"$f":"+IF(ISERROR(+INDIRECT(CONCATENATE(\"'\",J32,\"'!\",(ADDRESS((COUNTIF($J$3:J32,IF(B32<>0,CONCATENATE(\"Auswertung \",B32,\"\"))))+2,4)))))=FALSE,+INDIRECT(CONCATENATE(\"'\",J32,\"'!\",(ADDRESS((COUNTIF($J$3:J32,IF(B32<>0,CONCATENATE(\"Auswertung \",B32,\"\"))))+4,4)))),\"\")","v":129},{"$f":"+IF(ISERROR(+INDIRECT(CONCATENATE(\"'\",J32,\"'!\",(ADDRESS((COUNTIF($J$3:J32,IF(B32<>0,CONCATENATE(\"Auswertung \",B32,\"\"))))+2,5)))))=FALSE,+INDIRECT(CONCATENATE(\"'\",J32,\"'!\",(ADDRESS((COUNTIF($J$3:J32,IF(B32<>0,CONCATENATE(\"Auswertung \",B32,\"\"))))+4,5)))),\"\")","v":"A"},{"$f":"+IF(ISERROR(+INDIRECT(CONCATENATE(\"'\",J32,\"'!\",(ADDRESS((COUNTIF($J$3:J32,IF(B32<>0,CONCATENATE(\"Auswertung \",B32,\"\"))))+2,6)))))=FALSE,+INDIRECT(CONCATENATE(\"'\",J32,\"'!\",(ADDRESS((COUNTIF($J$3:J32,IF(B32<>0,CONCATENATE(\"Auswertung \",B32,\"\"))))+4,6)))),\"\")","v":103},{"$f":"+IF(ISERROR(+INDIRECT(CONCATENATE(\"'\",J32,\"'!\",(ADDRESS((COUNTIF($J$3:J32,IF(B32<>0,CONCATENATE(\"Auswertung \",B32,\"\"))))+2,7)))))=FALSE,+INDIRECT(CONCATENATE(\"'\",J32,\"'!\",(ADDRESS((COUNTIF($J$3:J32,IF(B32<>0,CONCATENATE(\"Auswertung \",B32,\"\"))))+4,7)))),\"\")","v":"S"},{"$f":"+IF(ISERROR(+INDIRECT(CONCATENATE(\"'\",J32,\"'!\",(ADDRESS((COUNTIF($J$3:J32,IF(B32<>0,CONCATENATE(\"Auswertung \",B32,\"\"))))+2,10)))))=FALSE,+INDIRECT(CONCATENATE(\"'\",J32,\"'!\",(ADDRESS((COUNTIF($J$3:J32,IF(B32<>0,CONCATENATE(\"Auswertung \",B32,\"\"))))+4,8)))),\"\")","v":103},{"$f":"+IF(ISERROR(+INDIRECT(CONCATENATE(\"'\",J32,\"'!\",(ADDRESS((COUNTIF($J$3:J32,IF(B32<>0,CONCATENATE(\"Auswertung \",B32,\"\"))))+2,11)))))=FALSE,+INDIRECT(CONCATENATE(\"'\",J32,\"'!\",(ADDRESS((COUNTIF($J$3:J32,IF(B32<>0,CONCATENATE(\"Auswertung \",B32,\"\"))))+4,9)))),\"\")","v":"S"},{"$f":"+IF(ISERROR(+INDIRECT(CONCATENATE(\"'\",J32,\"'!\",(ADDRESS((COUNTIF($J$3:J32,IF(B32<>0,CONCATENATE(\"Auswertung \",B32,\"\"))))+2,10)))))=FALSE,+INDIRECT(CONCATENATE(\"'\",J32,\"'!\",(ADDRESS((COUNTIF($J$3:J32,IF(B32<>0,CONCATENATE(\"Auswertung \",B32,\"\"))))+4,10)))),\"\")","v":0},{"$f":"+IF(ISERROR(+INDIRECT(CONCATENATE(\"'\",J32,\"'!\",(ADDRESS((COUNTIF($J$3:J32,IF(B32<>0,CONCATENATE(\"Auswertung \",B32,\"\"))))+2,11)))))=FALSE,+INDIRECT(CONCATENATE(\"'\",J32,\"'!\",(ADDRESS((COUNTIF($J$3:J32,IF(B32<>0,CONCATENATE(\"Auswertung \",B32,\"\"))))+4,11)))),\"\")","v":0},{"$f":"+IF(ISERROR(+INDIRECT(CONCATENATE(\"'\",J32,\"'!\",(ADDRESS((COUNTIF($J$3:J32,IF(D32<>0,CONCATENATE(\"Auswertung \",D32,\"\"))))+2,12)))))=FALSE,+INDIRECT(CONCATENATE(\"'\",J32,\"'!\",(ADDRESS((COUNTIF($J$3:J32,IF(D32<>0,CONCATENATE(\"Auswertung \",B32,\"\"))))+4,12)))),\"\")","v":0},{"$f":"+IF(ISERROR(+INDIRECT(CONCATENATE(\"'\",J32,\"'!\",(ADDRESS((COUNTIF($J$3:J32,IF(D32<>0,CONCATENATE(\"Auswertung \",D32,\"\"))))+2,13)))))=FALSE,+INDIRECT(CONCATENATE(\"'\",J32,\"'!\",(ADDRESS((COUNTIF($J$3:J32,IF(D32<>0,CONCATENATE(\"Auswertung \",B32,\"\"))))+4,13)))),\"\")","v":0},null,{"$f":"+IFERROR(INDIRECT(CONCATENATE(\"'\",J32,\"'!\",(ADDRESS((COUNTIF($J$3:J32,IF(B32<>0,J32)))+4,16)))),\"\")","v":-1},12.897,{"$f":"+SUM($M$4:M32)/COUNT($M$4:M32)/1000*2","v":0.2536551724137931},{"$f":"+IFERROR(INDIRECT(CONCATENATE(\"'\",J32,\"'!\",(ADDRESS((COUNTIF($J$3:J32,IF(B32<>0,J32)))+4,18)))),\"\")","v":1},28.988,{"$f":"+IFERROR(INDIRECT(CONCATENATE(\"'\",J32,\"'!\",(ADDRESS((COUNTIF($J$3:J32,IF(B32<>0,J32)))+4,20)))),\"\")","v":1},25.315000000000001,{"$f":"+IFERROR(INDIRECT(CONCATENATE(\"'\",J32,\"'!\",(ADDRESS((COUNTIF($J$3:J32,IF(B32<>0,J32)))+4,22)))),\"\")","v":-1},3.0579999999999998,{"$f":"+IFERROR(INDIRECT(CONCATENATE(\"'\",J32,\"'!\",(ADDRESS((COUNTIF($J$3:J32,IF(B32<>0,J32)))+4,24)))),\"\")","v":0},-13.554,{"$f":"+IFERROR(INDIRECT(CONCATENATE(\"'\",J32,\"'!\",(ADDRESS((COUNTIF($J$3:J32,IF(B32<>0,J32)))+4,26)))),\"\")","v":0},-1.034,29,{"$f":"+SUM(COUNTIF($Z$3:Z32,1),COUNTIF($Z$3:Z32,-1))","v":29},{"$f":"+SUM($M$4:M32)","v":3678},126.82758620689656,{"$f":"+SUM(COUNTIF($Z$3:Z32,1))","v":15},{"$f":"+SUM(COUNTIF($Z$3:Z32,-1))","v":14},1,{"$f":"AN32*(HARMEAN((IF(SUM(COUNTIF($Z$3:Z32,1),COUNTIF($Z$3:Z32,-1))=0,1,SUM(COUNTIF($Z$3:Z32,1),COUNTIF($Z$3:Z32,-1)))),(IF(SUM(COUNTIF($AC$3:AC32,1),COUNTIF($AC$3:AC32,-1))=0,1,SUM(COUNTIF($AC$3:AC32,1),COUNTIF($AC$3:AC32,-1)))),(IF(SUM(COUNTIF($AE$3:AE32,1),COUNTIF($AE$3:AE32,-1))=0,1,SUM(COUNTIF($AE$3:AE32,1),COUNTIF($AE$3:AE32,-1)))),(IF(SUM(COUNTIF($AG$3:AG32,1),COUNTIF($AG$3:AG32,-1))=0,1,SUM(COUNTIF($AG$3:AG32,1),COUNTIF($AG$3:AG32,-1)))),(IF(SUM(COUNTIF($AI$3:AI32,1),COUNTIF($AI$3:AI32,-1))=0,1,SUM(COUNTIF($AI$3:AI32,1),COUNTIF($AI$3:AI32,-1)))),(IF(SUM(COUNTIF($AK$3:AK32,1),COUNTIF($AK$3:AK32,-1))=0,1,SUM(COUNTIF($AK$3:AK32,1),COUNTIF($AK$3:AK32,-1)))))/1000)","v":0.79954380038655093},12.897,null,{"$f":"+SUM(COUNTIF($AC$3:AC32,1),COUNTIF($AC$3:AC32,-1))","v":29},{"$f":"+SUM($O$4:O32)","v":3514},121.17241379310344,{"$f":"+SUM(COUNTIF($AC$3:AC32,1))","v":18},{"$f":"+SUM(COUNTIF($AC$3:AC32,-1))","v":11},7,{"$f":"AW32*(HARMEAN((IF(SUM(COUNTIF($Z$3:Z32,1),COUNTIF($Z$3:Z32,-1))=0,1,SUM(COUNTIF($Z$3:Z32,1),COUNTIF($Z$3:Z32,-1)))),(IF(SUM(COUNTIF($AC$3:AC32,1),COUNTIF($AC$3:AC32,-1))=0,1,SUM(COUNTIF($AC$3:AC32,1),COUNTIF($AC$3:AC32,-1)))),(IF(SUM(COUNTIF($AE$3:AE32,1),COUNTIF($AE$3:AE32,-1))=0,1,SUM(COUNTIF($AE$3:AE32,1),COUNTIF($AE$3:AE32,-1)))),(IF(SUM(COUNTIF($AG$3:AG32,1),COUNTIF($AG$3:AG32,-1))=0,1,SUM(COUNTIF($AG$3:AG32,1),COUNTIF($AG$3:AG32,-1)))),(IF(SUM(COUNTIF($AI$3:AI32,1),COUNTIF($AI$3:AI32,-1))=0,1,SUM(COUNTIF($AI$3:AI32,1),COUNTIF($AI$3:AI32,-1)))),(IF(SUM(COUNTIF($AK$3:AK32,1),COUNTIF($AK$3:AK32,-1))=0,1,SUM(COUNTIF($AK$3:AK32,1),COUNTIF($AK$3:AK32,-1)))))/1000)","v":0.79954380038655093},28.988,null,{"$f":"+SUM(COUNTIF($AE$3:AE32,1),COUNTIF(AE$3:$AE32,-1))","v":28},{"$f":"+SUM($Q$4:Q32)","v":3182},113.64285714285714,{"$f":"+SUM(COUNTIF($AE$3:AE32,1))","v":17},{"$f":"+SUM(COUNTIF($AE$3:AE32,-1))","v":11},6,{"$f":"BF32*(HARMEAN((IF(SUM(COUNTIF($Z$3:Z32,1),COUNTIF($Z$3:Z32,-1))=0,1,SUM(COUNTIF($Z$3:Z32,1),COUNTIF($Z$3:Z32,-1)))),(IF(SUM(COUNTIF($AC$3:AC32,1),COUNTIF($AC$3:AC32,-1))=0,1,SUM(COUNTIF($AC$3:AC32,1),COUNTIF($AC$3:AC32,-1)))),(IF(SUM(COUNTIF($AE$3:AE32,1),COUNTIF($AE$3:AE32,-1))=0,1,SUM(COUNTIF($AE$3:AE32,1),COUNTIF($AE$3:AE32,-1)))),(IF(SUM(COUNTIF($AG$3:AG32,1),COUNTIF($AG$3:AG32,-1))=0,1,SUM(COUNTIF($AG$3:AG32,1),COUNTIF($AG$3:AG32,-1)))),(IF(SUM(COUNTIF($AI$3:AI32,1),COUNTIF($AI$3:AI32,-1))=0,1,SUM(COUNTIF($AI$3:AI32,1),COUNTIF($AI$3:AI32,-1)))),(IF(SUM(COUNTIF($AK$3:AK32,1),COUNTIF($AK$3:AK32,-1))=0,1,SUM(COUNTIF($AK$3:AK32,1),COUNTIF($AK$3:AK32,-1)))))/1000)","v":0.77197332451115264},25.315000000000001,null,{"$f":"+SUM(COUNTIF($AG$3:AG32,1),COUNTIF($AG$3:AG32,-1))","v":29},{"$f":"+SUM($S$4:S32)","v":4109},141.68965517241378,{"$f":"+SUM(COUNTIF($AG$3:AG32,1))","v":13},{"$f":"+SUM(COUNTIF($AG$3:AG32,-1))","v":16},-3,{"$f":"BO32*(HARMEAN((IF(SUM(COUNTIF($Z$3:Z32,1),COUNTIF($Z$3:Z32,-1))=0,1,SUM(COUNTIF($Z$3:Z32,1),COUNTIF($Z$3:Z32,-1)))),(IF(SUM(COUNTIF($AC$3:AC32,1),COUNTIF($AC$3:AC32,-1))=0,1,SUM(COUNTIF($AC$3:AC32,1),COUNTIF($AC$3:AC32,-1)))),(IF(SUM(COUNTIF($AE$3:AE32,1),COUNTIF($AE$3:AE32,-1))=0,1,SUM(COUNTIF($AE$3:AE32,1),COUNTIF($AE$3:AE32,-1)))),(IF(SUM(COUNTIF($AG$3:AG32,1),COUNTIF($AG$3:AG32,-1))=0,1,SUM(COUNTIF($AG$3:AG32,1),COUNTIF($AG$3:AG32,-1)))),(IF(SUM(COUNTIF($AI$3:AI32,1),COUNTIF($AI$3:AI32,-1))=0,1,SUM(COUNTIF($AI$3:AI32,1),COUNTIF($AI$3:AI32,-1)))),(IF(SUM(COUNTIF($AK$3:AK32,1),COUNTIF($AK$3:AK32,-1))=0,1,SUM(COUNTIF($AK$3:AK32,1),COUNTIF($AK$3:AK32,-1)))))/1000)","v":0.79954380038655093},3.0579999999999998,null,{"$f":"+SUM(COUNTIF($AI$3:AI32,1),COUNTIF($AI$3:AI32,-1))","v":26},{"$f":"+SUM($U$4:U32)","v":3084},118.61538461538461,{"$f":"+SUM(COUNTIF($AI$3:AI32,1))","v":9},{"$f":"+SUM(COUNTIF($AI$3:AI32,-1))","v":17},-8,{"$f":"+BX32*(HARMEAN((IF(SUM(COUNTIF($Z$3:Z32,1),COUNTIF($Z$3:Z32,-1))=0,1,SUM(COUNTIF($Z$3:Z32,1),COUNTIF($Z$3:Z32,-1)))),(IF(SUM(COUNTIF($AC$3:AC32,1),COUNTIF($AC$3:AC32,-1))=0,1,SUM(COUNTIF($AC$3:AC32,1),COUNTIF($AC$3:AC32,-1)))),(IF(SUM(COUNTIF($AE$3:AE32,1),COUNTIF($AE$3:AE32,-1))=0,1,SUM(COUNTIF($AE$3:AE32,1),COUNTIF($AE$3:AE32,-1)))),(IF(SUM(COUNTIF($AG$3:AG32,1),COUNTIF($AG$3:AG32,-1))=0,1,SUM(COUNTIF($AG$3:AG32,1),COUNTIF($AG$3:AG32,-1)))),(IF(SUM(COUNTIF($AI$3:AI32,1),COUNTIF($AI$3:AI32,-1))=0,1,SUM(COUNTIF($AI$3:AI32,1),COUNTIF($AI$3:AI32,-1)))),(IF(SUM(COUNTIF($AK$3:AK32,1),COUNTIF($AK$3:AK32,-1))=0,1,SUM(COUNTIF($AK$3:AK32,1),COUNTIF($AK$3:AK32,-1)))))/1000)","v":0.71683237276035594},-13.554,null,{"$f":"+SUM(COUNTIF($AK$3:AK32,1),COUNTIF($AK$3:AK32,-1))","v":25},{"$f":"+SUM($W$4:W32)","v":2625},105,{"$f":"+SUM(COUNTIF($AK$3:AK32,1))","v":11},{"$f":"+SUM(COUNTIF($AK$3:AK32,-1))","v":14},-3,{"$f":"+CG32*(HARMEAN((IF(SUM(COUNTIF($Z$3:Z32,1),COUNTIF($Z$3:Z32,-1))=0,1,SUM(COUNTIF($Z$3:Z32,1),COUNTIF($Z$3:Z32,-1)))),(IF(SUM(COUNTIF($AC$3:AC32,1),COUNTIF($AC$3:AC32,-1))=0,1,SUM(COUNTIF($AC$3:AC32,1),COUNTIF($AC$3:AC32,-1)))),(IF(SUM(COUNTIF($AE$3:AE32,1),COUNTIF($AE$3:AE32,-1))=0,1,SUM(COUNTIF($AE$3:AE32,1),COUNTIF($AE$3:AE32,-1)))),(IF(SUM(COUNTIF($AG$3:AG32,1),COUNTIF($AG$3:AG32,-1))=0,1,SUM(COUNTIF($AG$3:AG32,1),COUNTIF($AG$3:AG32,-1)))),(IF(SUM(COUNTIF($AI$3:AI32,1),COUNTIF($AI$3:AI32,-1))=0,1,SUM(COUNTIF($AI$3:AI32,1),COUNTIF($AI$3:AI32,-1)))),(IF(SUM(COUNTIF($AK$3:AK32,1),COUNTIF($AK$3:AK32,-1))=0,1,SUM(COUNTIF($AK$3:AK32,1),COUNTIF($AK$3:AK32,-1)))))/1000)","v":0.68926189688495765},-1.034]
[30,"AoE II",null,{"$f":"+IFERROR(INDEX('Auswertung AoE II'!$AE:$AE,MATCH(A33,'Auswertung AoE II'!$AD:$AD,0)),\"\")","v":"AoE II"},{"$f":"+IFERROR(INDEX('Auswertung AoE III'!$AE:$AE,MATCH(A33,'Auswertung AoE III'!$AD:$AD,0)),\"\")","v":""},{"$f":"+IFERROR(INDEX('Auswertung AoM'!$AE:$AE,MATCH(A33,'Auswertung AoM'!$AD:$AD,0)),\"\")","v":""},{"$f":"+IFERROR(INDEX('Auswertung RA'!$AE:$AE,MATCH(A33,'Auswertung RA'!$AD:$AD,0)),\"\")","v":""},{"$f":"+IFERROR(INDEX('Auswertung Yuri'!$AE:$AE,MATCH(A33,'Auswertung Yuri'!$AD:$AD,0)),\"\")","v":""},{"$f":"+IFERROR(INDEX('Auswertung Generals'!$AE:$AE,MATCH(A33,'Auswertung Generals'!$AD:$AD,0)),\"\")","v":""},"Auswertung AoE II",null,null,{"$f":"+IF(ISERROR(+INDIRECT(CONCATENATE(\"'\",J33,\"'!\",(ADDRESS((COUNTIF($J$3:J33,IF(B33<>0,CONCATENATE(\"Auswertung \",B33,\"\"))))+2,2)))))=FALSE,+INDIRECT(CONCATENATE(\"'\",J33,\"'!\",(ADDRESS((COUNTIF($J$3:J33,IF(B33<>0,CONCATENATE(\"Auswertung \",B33,\"\"))))+4,2)))),\"\")","v":164},{"$f":"IF(ISERROR(+INDIRECT(CONCATENATE(\"'\",J33,\"'!\",(ADDRESS((COUNTIF($J$3:J33,IF(B33<>0,CONCATENATE(\"Auswertung \",B33,\"\"))))+2,2+1)))))=FALSE,+INDIRECT(CONCATENATE(\"'\",J33,\"'!\",(ADDRESS((COUNTIF($J$3:J33,IF(B33<>0,CONCATENATE(\"Auswertung \",B33,\"\"))))+4,2+1)))),\"\")","v":"Byz"},{"$f":"+IF(ISERROR(+INDIRECT(CONCATENATE(\"'\",J33,\"'!\",(ADDRESS((COUNTIF($J$3:J33,IF(B33<>0,CONCATENATE(\"Auswertung \",B33,\"\"))))+2,4)))))=FALSE,+INDIRECT(CONCATENATE(\"'\",J33,\"'!\",(ADDRESS((COUNTIF($J$3:J33,IF(B33<>0,CONCATENATE(\"Auswertung \",B33,\"\"))))+4,4)))),\"\")","v":183},{"$f":"+IF(ISERROR(+INDIRECT(CONCATENATE(\"'\",J33,\"'!\",(ADDRESS((COUNTIF($J$3:J33,IF(B33<>0,CONCATENATE(\"Auswertung \",B33,\"\"))))+2,5)))))=FALSE,+INDIRECT(CONCATENATE(\"'\",J33,\"'!\",(ADDRESS((COUNTIF($J$3:J33,IF(B33<>0,CONCATENATE(\"Auswertung \",B33,\"\"))))+4,5)))),\"\")","v":"Viet"},{"$f":"+IF(ISERROR(+INDIRECT(CONCATENATE(\"'\",J33,\"'!\",(ADDRESS((COUNTIF($J$3:J33,IF(B33<>0,CONCATENATE(\"Auswertung \",B33,\"\"))))+2,6)))))=FALSE,+INDIRECT(CONCATENATE(\"'\",J33,\"'!\",(ADDRESS((COUNTIF($J$3:J33,IF(B33<>0,CONCATENATE(\"Auswertung \",B33,\"\"))))+4,6)))),\"\")","v":227},{"$f":"+IF(ISERROR(+INDIRECT(CONCATENATE(\"'\",J33,\"'!\",(ADDRESS((COUNTIF($J$3:J33,IF(B33<>0,CONCATENATE(\"Auswertung \",B33,\"\"))))+2,7)))))=FALSE,+INDIRECT(CONCATENATE(\"'\",J33,\"'!\",(ADDRESS((COUNTIF($J$3:J33,IF(B33<>0,CONCATENATE(\"Auswertung \",B33,\"\"))))+4,7)))),\"\")","v":"BYz"},{"$f":"+IF(ISERROR(+INDIRECT(CONCATENATE(\"'\",J33,\"'!\",(ADDRESS((COUNTIF($J$3:J33,IF(B33<>0,CONCATENATE(\"Auswertung \",B33,\"\"))))+2,10)))))=FALSE,+INDIRECT(CONCATENATE(\"'\",J33,\"'!\",(ADDRESS((COUNTIF($J$3:J33,IF(B33<>0,CONCATENATE(\"Auswertung \",B33,\"\"))))+4,8)))),\"\")","v":168},{"$f":"+IF(ISERROR(+INDIRECT(CONCATENATE(\"'\",J33,\"'!\",(ADDRESS((COUNTIF($J$3:J33,IF(B33<>0,CONCATENATE(\"Auswertung \",B33,\"\"))))+2,11)))))=FALSE,+INDIRECT(CONCATENATE(\"'\",J33,\"'!\",(ADDRESS((COUNTIF($J$3:J33,IF(B33<>0,CONCATENATE(\"Auswertung \",B33,\"\"))))+4,9)))),\"\")","v":"Viet"},{"$f":"+IF(ISERROR(+INDIRECT(CONCATENATE(\"'\",J33,\"'!\",(ADDRESS((COUNTIF($J$3:J33,IF(B33<>0,CONCATENATE(\"Auswertung \",B33,\"\"))))+2,10)))))=FALSE,+INDIRECT(CONCATENATE(\"'\",J33,\"'!\",(ADDRESS((COUNTIF($J$3:J33,IF(B33<>0,CONCATENATE(\"Auswertung \",B33,\"\"))))+4,10)))),\"\")","v":0},{"$f":"+IF(ISERROR(+INDIRECT(CONCATENATE(\"'\",J33,\"'!\",(ADDRESS((COUNTIF($J$3:J33,IF(B33<>0,CONCATENATE(\"Auswertung \",B33,\"\"))))+2,11)))))=FALSE,+INDIRECT(CONCATENATE(\"'\",J33,\"'!\",(ADDRESS((COUNTIF($J$3:J33,IF(B33<>0,CONCATENATE(\"Auswertung \",B33,\"\"))))+4,11)))),\"\")","v":0},{"$f":"+IF(ISERROR(+INDIRECT(CONCATENATE(\"'\",J33,\"'!\",(ADDRESS((COUNTIF($J$3:J33,IF(D33<>0,CONCATENATE(\"Auswertung \",D33,\"\"))))+2,12)))))=FALSE,+INDIRECT(CONCATENATE(\"'\",J33,\"'!\",(ADDRESS((COUNTIF($J$3:J33,IF(D33<>0,CONCATENATE(\"Auswertung \",B33,\"\"))))+4,12)))),\"\")","v":0},{"$f":"+IF(ISERROR(+INDIRECT(CONCATENATE(\"'\",J33,\"'!\",(ADDRESS((COUNTIF($J$3:J33,IF(D33<>0,CONCATENATE(\"Auswertung \",D33,\"\"))))+2,13)))))=FALSE,+INDIRECT(CONCATENATE(\"'\",J33,\"'!\",(ADDRESS((COUNTIF($J$3:J33,IF(D33<>0,CONCATENATE(\"Auswertung \",B33,\"\"))))+4,13)))),\"\")","v":0},null,{"$f":"+IFERROR(INDIRECT(CONCATENATE(\"'\",J33,\"'!\",(ADDRESS((COUNTIF($J$3:J33,IF(B33<>0,J33)))+4,16)))),\"\")","v":-1},10.824999999999999,{"$f":"+SUM($M$4:M33)/COUNT($M$4:M33)/1000*2","v":0.25613333333333332},{"$f":"+IFERROR(INDIRECT(CONCATENATE(\"'\",J33,\"'!\",(ADDRESS((COUNTIF($J$3:J33,IF(B33<>0,J33)))+4,18)))),\"\")","v":1},32.957999999999998,{"$f":"+IFERROR(INDIRECT(CONCATENATE(\"'\",J33,\"'!\",(ADDRESS((COUNTIF($J$3:J33,IF(B33<>0,J33)))+4,20)))),\"\")","v":1},29.329000000000001,{"$f":"+IFERROR(INDIRECT(CONCATENATE(\"'\",J33,\"'!\",(ADDRESS((COUNTIF($J$3:J33,IF(B33<>0,J33)))+4,22)))),\"\")","v":-1},0.78,{"$f":"+IFERROR(INDIRECT(CONCATENATE(\"'\",J33,\"'!\",(ADDRESS((COUNTIF($J$3:J33,IF(B33<>0,J33)))+4,24)))),\"\")","v":0},-13.852,{"$f":"+IFERROR(INDIRECT(CONCATENATE(\"'\",J33,\"'!\",(ADDRESS((COUNTIF($J$3:J33,IF(B33<>0,J33)))+4,26)))),\"\")","v":0},-1.0569999999999999,30,{"$f":"+SUM(COUNTIF($Z$3:Z33,1),COUNTIF($Z$3:Z33,-1))","v":30},{"$f":"+SUM($M$4:M33)","v":3842},128.06666666666666,{"$f":"+SUM(COUNTIF($Z$3:Z33,1))","v":15},{"$f":"+SUM(COUNTIF($Z$3:Z33,-1))","v":15},0,{"$f":"AN33*(HARMEAN((IF(SUM(COUNTIF($Z$3:Z33,1),COUNTIF($Z$3:Z33,-1))=0,1,SUM(COUNTIF($Z$3:Z33,1),COUNTIF($Z$3:Z33,-1)))),(IF(SUM(COUNTIF($AC$3:AC33,1),COUNTIF($AC$3:AC33,-1))=0,1,SUM(COUNTIF($AC$3:AC33,1),COUNTIF($AC$3:AC33,-1)))),(IF(SUM(COUNTIF($AE$3:AE33,1),COUNTIF($AE$3:AE33,-1))=0,1,SUM(COUNTIF($AE$3:AE33,1),COUNTIF($AE$3:AE33,-1)))),(IF(SUM(COUNTIF($AG$3:AG33,1),COUNTIF($AG$3:AG33,-1))=0,1,SUM(COUNTIF($AG$3:AG33,1),COUNTIF($AG$3:AG33,-1)))),(IF(SUM(COUNTIF($AI$3:AI33,1),COUNTIF($AI$3:AI33,-1))=0,1,SUM(COUNTIF($AI$3:AI33,1),COUNTIF($AI$3:AI33,-1)))),(IF(SUM(COUNTIF($AK$3:AK33,1),COUNTIF($AK$3:AK33,-1))=0,1,SUM(COUNTIF($AK$3:AK33,1),COUNTIF($AK$3:AK33,-1)))))/1000)","v":0.84529147982062769},10.824999999999999,null,{"$f":"+SUM(COUNTIF($AC$3:AC33,1),COUNTIF($AC$3:AC33,-1))","v":30},{"$f":"+SUM($O$4:O33)","v":3697},123.23333333333333,{"$f":"+SUM(COUNTIF($AC$3:AC33,1))","v":19},{"$f":"+SUM(COUNTIF($AC$3:AC33,-1))","v":11},8,{"$f":"AW33*(HARMEAN((IF(SUM(COUNTIF($Z$3:Z33,1),COUNTIF($Z$3:Z33,-1))=0,1,SUM(COUNTIF($Z$3:Z33,1),COUNTIF($Z$3:Z33,-1)))),(IF(SUM(COUNTIF($AC$3:AC33,1),COUNTIF($AC$3:AC33,-1))=0,1,SUM(COUNTIF($AC$3:AC33,1),COUNTIF($AC$3:AC33,-1)))),(IF(SUM(COUNTIF($AE$3:AE33,1),COUNTIF($AE$3:AE33,-1))=0,1,SUM(COUNTIF($AE$3:AE33,1),COUNTIF($AE$3:AE33,-1)))),(IF(SUM(COUNTIF($AG$3:AG33,1),COUNTIF($AG$3:AG33,-1))=0,1,SUM(COUNTIF($AG$3:AG33,1),COUNTIF($AG$3:AG33,-1)))),(IF(SUM(COUNTIF($AI$3:AI33,1),COUNTIF($AI$3:AI33,-1))=0,1,SUM(COUNTIF($AI$3:AI33,1),COUNTIF($AI$3:AI33,-1)))),(IF(SUM(COUNTIF($AK$3:AK33,1),COUNTIF($AK$3:AK33,-1))=0,1,SUM(COUNTIF($AK$3:AK33,1),COUNTIF($AK$3:AK33,-1)))))/1000)","v":0.84529147982062769},32.957999999999998,null,{"$f":"+SUM(COUNTIF($AE$3:AE33,1),COUNTIF(AE$3:$AE33,-1))","v":29},{"$f":"+SUM($Q$4:Q33)","v":3409},117.55172413793103,{"$f":"+SUM(COUNTIF($AE$3:AE33,1))","v":18},{"$f":"+SUM(COUNTIF($AE$3:AE33,-1))","v":11},7,{"$f":"BF33*(HARMEAN((IF(SUM(COUNTIF($Z$3:Z33,1),COUNTIF($Z$3:Z33,-1))=0,1,SUM(COUNTIF($Z$3:Z33,1),COUNTIF($Z$3:Z33,-1)))),(IF(SUM(COUNTIF($AC$3:AC33,1),COUNTIF($AC$3:AC33,-1))=0,1,SUM(COUNTIF($AC$3:AC33,1),COUNTIF($AC$3:AC33,-1)))),(IF(SUM(COUNTIF($AE$3:AE33,1),COUNTIF($AE$3:AE33,-1))=0,1,SUM(COUNTIF($AE$3:AE33,1),COUNTIF($AE$3:AE33,-1)))),(IF(SUM(COUNTIF($AG$3:AG33,1),COUNTIF($AG$3:AG33,-1))=0,1,SUM(COUNTIF($AG$3:AG33,1),COUNTIF($AG$3:AG33,-1)))),(IF(SUM(COUNTIF($AI$3:AI33,1),COUNTIF($AI$3:AI33,-1))=0,1,SUM(COUNTIF($AI$3:AI33,1),COUNTIF($AI$3:AI33,-1)))),(IF(SUM(COUNTIF($AK$3:AK33,1),COUNTIF($AK$3:AK33,-1))=0,1,SUM(COUNTIF($AK$3:AK33,1),COUNTIF($AK$3:AK33,-1)))))/1000)","v":0.81711509715994013},29.329000000000001,null,{"$f":"+SUM(COUNTIF($AG$3:AG33,1),COUNTIF($AG$3:AG33,-1))","v":30},{"$f":"+SUM($S$4:S33)","v":4277},142.56666666666666,{"$f":"+SUM(COUNTIF($AG$3:AG33,1))","v":13},{"$f":"+SUM(COUNTIF($AG$3:AG33,-1))","v":17},-4,{"$f":"BO33*(HARMEAN((IF(SUM(COUNTIF($Z$3:Z33,1),COUNTIF($Z$3:Z33,-1))=0,1,SUM(COUNTIF($Z$3:Z33,1),COUNTIF($Z$3:Z33,-1)))),(IF(SUM(COUNTIF($AC$3:AC33,1),COUNTIF($AC$3:AC33,-1))=0,1,SUM(COUNTIF($AC$3:AC33,1),COUNTIF($AC$3:AC33,-1)))),(IF(SUM(COUNTIF($AE$3:AE33,1),COUNTIF($AE$3:AE33,-1))=0,1,SUM(COUNTIF($AE$3:AE33,1),COUNTIF($AE$3:AE33,-1)))),(IF(SUM(COUNTIF($AG$3:AG33,1),COUNTIF($AG$3:AG33,-1))=0,1,SUM(COUNTIF($AG$3:AG33,1),COUNTIF($AG$3:AG33,-1)))),(IF(SUM(COUNTIF($AI$3:AI33,1),COUNTIF($AI$3:AI33,-1))=0,1,SUM(COUNTIF($AI$3:AI33,1),COUNTIF($AI$3:AI33,-1)))),(IF(SUM(COUNTIF($AK$3:AK33,1),COUNTIF($AK$3:AK33,-1))=0,1,SUM(COUNTIF($AK$3:AK33,1),COUNTIF($AK$3:AK33,-1)))))/1000)","v":0.84529147982062769},0.78,null,{"$f":"+SUM(COUNTIF($AI$3:AI33,1),COUNTIF($AI$3:AI33,-1))","v":26},{"$f":"+SUM($U$4:U33)","v":3084},118.61538461538461,{"$f":"+SUM(COUNTIF($AI$3:AI33,1))","v":9},{"$f":"+SUM(COUNTIF($AI$3:AI33,-1))","v":17},-8,{"$f":"+BX33*(HARMEAN((IF(SUM(COUNTIF($Z$3:Z33,1),COUNTIF($Z$3:Z33,-1))=0,1,SUM(COUNTIF($Z$3:Z33,1),COUNTIF($Z$3:Z33,-1)))),(IF(SUM(COUNTIF($AC$3:AC33,1),COUNTIF($AC$3:AC33,-1))=0,1,SUM(COUNTIF($AC$3:AC33,1),COUNTIF($AC$3:AC33,-1)))),(IF(SUM(COUNTIF($AE$3:AE33,1),COUNTIF($AE$3:AE33,-1))=0,1,SUM(COUNTIF($AE$3:AE33,1),COUNTIF($AE$3:AE33,-1)))),(IF(SUM(COUNTIF($AG$3:AG33,1),COUNTIF($AG$3:AG33,-1))=0,1,SUM(COUNTIF($AG$3:AG33,1),COUNTIF($AG$3:AG33,-1)))),(IF(SUM(COUNTIF($AI$3:AI33,1),COUNTIF($AI$3:AI33,-1))=0,1,SUM(COUNTIF($AI$3:AI33,1),COUNTIF($AI$3:AI33,-1)))),(IF(SUM(COUNTIF($AK$3:AK33,1),COUNTIF($AK$3:AK33,-1))=0,1,SUM(COUNTIF($AK$3:AK33,1),COUNTIF($AK$3:AK33,-1)))))/1000)","v":0.73258594917787734},-13.852,null,{"$f":"+SUM(COUNTIF($AK$3:AK33,1),COUNTIF($AK$3:AK33,-1))","v":25},{"$f":"+SUM($W$4:W33)","v":2625},105,{"$f":"+SUM(COUNTIF($AK$3:AK33,1))","v":11},{"$f":"+SUM(COUNTIF($AK$3:AK33,-1))","v":14},-3,{"$f":"+CG33*(HARMEAN((IF(SUM(COUNTIF($Z$3:Z33,1),COUNTIF($Z$3:Z33,-1))=0,1,SUM(COUNTIF($Z$3:Z33,1),COUNTIF($Z$3:Z33,-1)))),(IF(SUM(COUNTIF($AC$3:AC33,1),COUNTIF($AC$3:AC33,-1))=0,1,SUM(COUNTIF($AC$3:AC33,1),COUNTIF($AC$3:AC33,-1)))),(IF(SUM(COUNTIF($AE$3:AE33,1),COUNTIF($AE$3:AE33,-1))=0,1,SUM(COUNTIF($AE$3:AE33,1),COUNTIF($AE$3:AE33,-1)))),(IF(SUM(COUNTIF($AG$3:AG33,1),COUNTIF($AG$3:AG33,-1))=0,1,SUM(COUNTIF($AG$3:AG33,1),COUNTIF($AG$3:AG33,-1)))),(IF(SUM(COUNTIF($AI$3:AI33,1),COUNTIF($AI$3:AI33,-1))=0,1,SUM(COUNTIF($AI$3:AI33,1),COUNTIF($AI$3:AI33,-1)))),(IF(SUM(COUNTIF($AK$3:AK33,1),COUNTIF($AK$3:AK33,-1))=0,1,SUM(COUNTIF($AK$3:AK33,1),COUNTIF($AK$3:AK33,-1)))))/1000)","v":0.70440956651718978},-1.0569999999999999]
[31,"AoE III",null,{"$f":"+IFERROR(INDEX('Auswertung AoE II'!$AE:$AE,MATCH(A34,'Auswertung AoE II'!$AD:$AD,0)),\"\")","v":""},{"$f":"+IFERROR(INDEX('Auswertung AoE III'!$AE:$AE,MATCH(A34,'Auswertung AoE III'!$AD:$AD,0)),\"\")","v":"AoE III"},{"$f":"+IFERROR(INDEX('Auswertung AoM'!$AE:$AE,MATCH(A34,'Auswertung AoM'!$AD:$AD,0)),\"\")","v":""},{"$f":"+IFERROR(INDEX('Auswertung RA'!$AE:$AE,MATCH(A34,'Auswertung RA'!$AD:$AD,0)),\"\")","v":""},{"$f":"+IFERROR(INDEX('Auswertung Yuri'!$AE:$AE,MATCH(A34,'Auswertung Yuri'!$AD:$AD,0)),\"\")","v":""},{"$f":"+IFERROR(INDEX('Auswertung Generals'!$AE:$AE,MATCH(A34,'Auswertung Generals'!$AD:$AD,0)),\"\")","v":""},"Auswertung AoE III",null,null,{"$f":"+IF(ISERROR(+INDIRECT(CONCATENATE(\"'\",J34,\"'!\",(ADDRESS((COUNTIF($J$3:J34,IF(B34<>0,CONCATENATE(\"Auswertung \",B34,\"\"))))+2,2)))))=FALSE,+INDIRECT(CONCATENATE(\"'\",J34,\"'!\",(ADDRESS((COUNTIF($J$3:J34,IF(B34<>0,CONCATENATE(\"Auswertung \",B34,\"\"))))+4,2)))),\"\")","v":276},{"$f":"IF(ISERROR(+INDIRECT(CONCATENATE(\"'\",J34,\"'!\",(ADDRESS((COUNTIF($J$3:J34,IF(B34<>0,CONCATENATE(\"Auswertung \",B34,\"\"))))+2,2+1)))))=FALSE,+INDIRECT(CONCATENATE(\"'\",J34,\"'!\",(ADDRESS((COUNTIF($J$3:J34,IF(B34<>0,CONCATENATE(\"Auswertung \",B34,\"\"))))+4,2+1)))),\"\")","v":"Holl"},{"$f":"+IF(ISERROR(+INDIRECT(CONCATENATE(\"'\",J34,\"'!\",(ADDRESS((COUNTIF($J$3:J34,IF(B34<>0,CONCATENATE(\"Auswertung \",B34,\"\"))))+2,4)))))=FALSE,+INDIRECT(CONCATENATE(\"'\",J34,\"'!\",(ADDRESS((COUNTIF($J$3:J34,IF(B34<>0,CONCATENATE(\"Auswertung \",B34,\"\"))))+4,4)))),\"\")","v":132},{"$f":"+IF(ISERROR(+INDIRECT(CONCATENATE(\"'\",J34,\"'!\",(ADDRESS((COUNTIF($J$3:J34,IF(B34<>0,CONCATENATE(\"Auswertung \",B34,\"\"))))+2,5)))))=FALSE,+INDIRECT(CONCATENATE(\"'\",J34,\"'!\",(ADDRESS((COUNTIF($J$3:J34,IF(B34<>0,CONCATENATE(\"Auswertung \",B34,\"\"))))+4,5)))),\"\")","v":"Osm"},{"$f":"+IF(ISERROR(+INDIRECT(CONCATENATE(\"'\",J34,\"'!\",(ADDRESS((COUNTIF($J$3:J34,IF(B34<>0,CONCATENATE(\"Auswertung \",B34,\"\"))))+2,6)))))=FALSE,+INDIRECT(CONCATENATE(\"'\",J34,\"'!\",(ADDRESS((COUNTIF($J$3:J34,IF(B34<>0,CONCATENATE(\"Auswertung \",B34,\"\"))))+4,6)))),\"\")","v":198},{"$f":"+IF(ISERROR(+INDIRECT(CONCATENATE(\"'\",J34,\"'!\",(ADDRESS((COUNTIF($J$3:J34,IF(B34<>0,CONCATENATE(\"Auswertung \",B34,\"\"))))+2,7)))))=FALSE,+INDIRECT(CONCATENATE(\"'\",J34,\"'!\",(ADDRESS((COUNTIF($J$3:J34,IF(B34<>0,CONCATENATE(\"Auswertung \",B34,\"\"))))+4,7)))),\"\")","v":"GB"},{"$f":"+IF(ISERROR(+INDIRECT(CONCATENATE(\"'\",J34,\"'!\",(ADDRESS((COUNTIF($J$3:J34,IF(B34<>0,CONCATENATE(\"Auswertung \",B34,\"\"))))+2,10)))))=FALSE,+INDIRECT(CONCATENATE(\"'\",J34,\"'!\",(ADDRESS((COUNTIF($J$3:J34,IF(B34<>0,CONCATENATE(\"Auswertung \",B34,\"\"))))+4,8)))),\"\")","v":186},{"$f":"+IF(ISERROR(+INDIRECT(CONCATENATE(\"'\",J34,\"'!\",(ADDRESS((COUNTIF($J$3:J34,IF(B34<>0,CONCATENATE(\"Auswertung \",B34,\"\"))))+2,11)))))=FALSE,+INDIRECT(CONCATENATE(\"'\",J34,\"'!\",(ADDRESS((COUNTIF($J$3:J34,IF(B34<>0,CONCATENATE(\"Auswertung \",B34,\"\"))))+4,9)))),\"\")","v":"Holl"},{"$f":"+IF(ISERROR(+INDIRECT(CONCATENATE(\"'\",J34,\"'!\",(ADDRESS((COUNTIF($J$3:J34,IF(B34<>0,CONCATENATE(\"Auswertung \",B34,\"\"))))+2,10)))))=FALSE,+INDIRECT(CONCATENATE(\"'\",J34,\"'!\",(ADDRESS((COUNTIF($J$3:J34,IF(B34<>0,CONCATENATE(\"Auswertung \",B34,\"\"))))+4,10)))),\"\")","v":176},{"$f":"+IF(ISERROR(+INDIRECT(CONCATENATE(\"'\",J34,\"'!\",(ADDRESS((COUNTIF($J$3:J34,IF(B34<>0,CONCATENATE(\"Auswertung \",B34,\"\"))))+2,11)))))=FALSE,+INDIRECT(CONCATENATE(\"'\",J34,\"'!\",(ADDRESS((COUNTIF($J$3:J34,IF(B34<>0,CONCATENATE(\"Auswertung \",B34,\"\"))))+4,11)))),\"\")","v":"GB"},{"$f":"+IF(ISERROR(+INDIRECT(CONCATENATE(\"'\",J34,\"'!\",(ADDRESS((COUNTIF($J$3:J34,IF(D34<>0,CONCATENATE(\"Auswertung \",D34,\"\"))))+2,12)))))=FALSE,+INDIRECT(CONCATENATE(\"'\",J34,\"'!\",(ADDRESS((COUNTIF($J$3:J34,IF(D34<>0,CONCATENATE(\"Auswertung \",B34,\"\"))))+4,12)))),\"\")","v":106},{"$f":"+IF(ISERROR(+INDIRECT(CONCATENATE(\"'\",J34,\"'!\",(ADDRESS((COUNTIF($J$3:J34,IF(D34<>0,CONCATENATE(\"Auswertung \",D34,\"\"))))+2,13)))))=FALSE,+INDIRECT(CONCATENATE(\"'\",J34,\"'!\",(ADDRESS((COUNTIF($J$3:J34,IF(D34<>0,CONCATENATE(\"Auswertung \",B34,\"\"))))+4,13)))),\"\")","v":"Osm"},null,{"$f":"+IFERROR(INDIRECT(CONCATENATE(\"'\",J34,\"'!\",(ADDRESS((COUNTIF($J$3:J34,IF(B34<>0,J34)))+4,16)))),\"\")","v":1},14.935,{"$f":"+SUM($M$4:M34)/COUNT($M$4:M34)/1000*2","v":0.26567741935483874},{"$f":"+IFERROR(INDIRECT(CONCATENATE(\"'\",J34,\"'!\",(ADDRESS((COUNTIF($J$3:J34,IF(B34<>0,J34)))+4,18)))),\"\")","v":1},37.438000000000002,{"$f":"+IFERROR(INDIRECT(CONCATENATE(\"'\",J34,\"'!\",(ADDRESS((COUNTIF($J$3:J34,IF(B34<>0,J34)))+4,20)))),\"\")","v":-1},28.035,{"$f":"+IFERROR(INDIRECT(CONCATENATE(\"'\",J34,\"'!\",(ADDRESS((COUNTIF($J$3:J34,IF(B34<>0,J34)))+4,22)))),\"\")","v":-1},-1.5669999999999999,{"$f":"+IFERROR(INDIRECT(CONCATENATE(\"'\",J34,\"'!\",(ADDRESS((COUNTIF($J$3:J34,IF(B34<>0,J34)))+4,24)))),\"\")","v":1},-10.914,{"$f":"+IFERROR(INDIRECT(CONCATENATE(\"'\",J34,\"'!\",(ADDRESS((COUNTIF($J$3:J34,IF(B34<>0,J34)))+4,26)))),\"\")","v":-1},-3.7029999999999998,31,{"$f":"+SUM(COUNTIF($Z$3:Z34,1),COUNTIF($Z$3:Z34,-1))","v":31},{"$f":"+SUM($M$4:M34)","v":4118},132.83870967741936,{"$f":"+SUM(COUNTIF($Z$3:Z34,1))","v":16},{"$f":"+SUM(COUNTIF($Z$3:Z34,-1))","v":15},1,{"$f":"AN34*(HARMEAN((IF(SUM(COUNTIF($Z$3:Z34,1),COUNTIF($Z$3:Z34,-1))=0,1,SUM(COUNTIF($Z$3:Z34,1),COUNTIF($Z$3:Z34,-1)))),(IF(SUM(COUNTIF($AC$3:AC34,1),COUNTIF($AC$3:AC34,-1))=0,1,SUM(COUNTIF($AC$3:AC34,1),COUNTIF($AC$3:AC34,-1)))),(IF(SUM(COUNTIF($AE$3:AE34,1),COUNTIF($AE$3:AE34,-1))=0,1,SUM(COUNTIF($AE$3:AE34,1),COUNTIF($AE$3:AE34,-1)))),(IF(SUM(COUNTIF($AG$3:AG34,1),COUNTIF($AG$3:AG34,-1))=0,1,SUM(COUNTIF($AG$3:AG34,1),COUNTIF($AG$3:AG34,-1)))),(IF(SUM(COUNTIF($AI$3:AI34,1),COUNTIF($AI$3:AI34,-1))=0,1,SUM(COUNTIF($AI$3:AI34,1),COUNTIF($AI$3:AI34,-1)))),(IF(SUM(COUNTIF($AK$3:AK34,1),COUNTIF($AK$3:AK34,-1))=0,1,SUM(COUNTIF($AK$3:AK34,1),COUNTIF($AK$3:AK34,-1)))))/1000)","v":0.90464241015555158},14.935,null,{"$f":"+SUM(COUNTIF($AC$3:AC34,1),COUNTIF($AC$3:AC34,-1))","v":31},{"$f":"+SUM($O$4:O34)","v":3829},123.51612903225806,{"$f":"+SUM(COUNTIF($AC$3:AC34,1))","v":20},{"$f":"+SUM(COUNTIF($AC$3:AC34,-1))","v":11},9,{"$f":"AW34*(HARMEAN((IF(SUM(COUNTIF($Z$3:Z34,1),COUNTIF($Z$3:Z34,-1))=0,1,SUM(COUNTIF($Z$3:Z34,1),COUNTIF($Z$3:Z34,-1)))),(IF(SUM(COUNTIF($AC$3:AC34,1),COUNTIF($AC$3:AC34,-1))=0,1,SUM(COUNTIF($AC$3:AC34,1),COUNTIF($AC$3:AC34,-1)))),(IF(SUM(COUNTIF($AE$3:AE34,1),COUNTIF($AE$3:AE34,-1))=0,1,SUM(COUNTIF($AE$3:AE34,1),COUNTIF($AE$3:AE34,-1)))),(IF(SUM(COUNTIF($AG$3:AG34,1),COUNTIF($AG$3:AG34,-1))=0,1,SUM(COUNTIF($AG$3:AG34,1),COUNTIF($AG$3:AG34,-1)))),(IF(SUM(COUNTIF($AI$3:AI34,1),COUNTIF($AI$3:AI34,-1))=0,1,SUM(COUNTIF($AI$3:AI34,1),COUNTIF($AI$3:AI34,-1)))),(IF(SUM(COUNTIF($AK$3:AK34,1),COUNTIF($AK$3:AK34,-1))=0,1,SUM(COUNTIF($AK$3:AK34,1),COUNTIF($AK$3:AK34,-1)))))/1000)","v":0.90464241015555158},37.438000000000002,null,{"$f":"+SUM(COUNTIF($AE$3:AE34,1),COUNTIF(AE$3:$AE34,-1))","v":30},{"$f":"+SUM($Q$4:Q34)","v":3607},120.23333333333333,{"$f":"+SUM(COUNTIF($AE$3:AE34,1))","v":18},{"$f":"+SUM(COUNTIF($AE$3:AE34,-1))","v":12},6,{"$f":"BF34*(HARMEAN((IF(SUM(COUNTIF($Z$3:Z34,1),COUNTIF($Z$3:Z34,-1))=0,1,SUM(COUNTIF($Z$3:Z34,1),COUNTIF($Z$3:Z34,-1)))),(IF(SUM(COUNTIF($AC$3:AC34,1),COUNTIF($AC$3:AC34,-1))=0,1,SUM(COUNTIF($AC$3:AC34,1),COUNTIF($AC$3:AC34,-1)))),(IF(SUM(COUNTIF($AE$3:AE34,1),COUNTIF($AE$3:AE34,-1))=0,1,SUM(COUNTIF($AE$3:AE34,1),COUNTIF($AE$3:AE34,-1)))),(IF(SUM(COUNTIF($AG$3:AG34,1),COUNTIF($AG$3:AG34,-1))=0,1,SUM(COUNTIF($AG$3:AG34,1),COUNTIF($AG$3:AG34,-1)))),(IF(SUM(COUNTIF($AI$3:AI34,1),COUNTIF($AI$3:AI34,-1))=0,1,SUM(COUNTIF($AI$3:AI34,1),COUNTIF($AI$3:AI34,-1)))),(IF(SUM(COUNTIF($AK$3:AK34,1),COUNTIF($AK$3:AK34,-1))=0,1,SUM(COUNTIF($AK$3:AK34,1),COUNTIF($AK$3:AK34,-1)))))/1000)","v":0.87546039692472732},28.035,null,{"$f":"+SUM(COUNTIF($AG$3:AG34,1),COUNTIF($AG$3:AG34,-1))","v":31},{"$f":"+SUM($S$4:S34)","v":4463},143.96774193548387,{"$f":"+SUM(COUNTIF($AG$3:AG34,1))","v":13},{"$f":"+SUM(COUNTIF($AG$3:AG34,-1))","v":18},-5,{"$f":"BO34*(HARMEAN((IF(SUM(COUNTIF($Z$3:Z34,1),COUNTIF($Z$3:Z34,-1))=0,1,SUM(COUNTIF($Z$3:Z34,1),COUNTIF($Z$3:Z34,-1)))),(IF(SUM(COUNTIF($AC$3:AC34,1),COUNTIF($AC$3:AC34,-1))=0,1,SUM(COUNTIF($AC$3:AC34,1),COUNTIF($AC$3:AC34,-1)))),(IF(SUM(COUNTIF($AE$3:AE34,1),COUNTIF($AE$3:AE34,-1))=0,1,SUM(COUNTIF($AE$3:AE34,1),COUNTIF($AE$3:AE34,-1)))),(IF(SUM(COUNTIF($AG$3:AG34,1),COUNTIF($AG$3:AG34,-1))=0,1,SUM(COUNTIF($AG$3:AG34,1),COUNTIF($AG$3:AG34,-1)))),(IF(SUM(COUNTIF($AI$3:AI34,1),COUNTIF($AI$3:AI34,-1))=0,1,SUM(COUNTIF($AI$3:AI34,1),COUNTIF($AI$3:AI34,-1)))),(IF(SUM(COUNTIF($AK$3:AK34,1),COUNTIF($AK$3:AK34,-1))=0,1,SUM(COUNTIF($AK$3:AK34,1),COUNTIF($AK$3:AK34,-1)))))/1000)","v":0.90464241015555158},-1.5669999999999999,null,{"$f":"+SUM(COUNTIF($AI$3:AI34,1),COUNTIF($AI$3:AI34,-1))","v":27},{"$f":"+SUM($U$4:U34)","v":3260},120.74074074074075,{"$f":"+SUM(COUNTIF($AI$3:AI34,1))","v":10},{"$f":"+SUM(COUNTIF($AI$3:AI34,-1))","v":17},-7,{"$f":"+BX34*(HARMEAN((IF(SUM(COUNTIF($Z$3:Z34,1),COUNTIF($Z$3:Z34,-1))=0,1,SUM(COUNTIF($Z$3:Z34,1),COUNTIF($Z$3:Z34,-1)))),(IF(SUM(COUNTIF($AC$3:AC34,1),COUNTIF($AC$3:AC34,-1))=0,1,SUM(COUNTIF($AC$3:AC34,1),COUNTIF($AC$3:AC34,-1)))),(IF(SUM(COUNTIF($AE$3:AE34,1),COUNTIF($AE$3:AE34,-1))=0,1,SUM(COUNTIF($AE$3:AE34,1),COUNTIF($AE$3:AE34,-1)))),(IF(SUM(COUNTIF($AG$3:AG34,1),COUNTIF($AG$3:AG34,-1))=0,1,SUM(COUNTIF($AG$3:AG34,1),COUNTIF($AG$3:AG34,-1)))),(IF(SUM(COUNTIF($AI$3:AI34,1),COUNTIF($AI$3:AI34,-1))=0,1,SUM(COUNTIF($AI$3:AI34,1),COUNTIF($AI$3:AI34,-1)))),(IF(SUM(COUNTIF($AK$3:AK34,1),COUNTIF($AK$3:AK34,-1))=0,1,SUM(COUNTIF($AK$3:AK34,1),COUNTIF($AK$3:AK34,-1)))))/1000)","v":0.78791435723225456},-10.914,null,{"$f":"+SUM(COUNTIF($AK$3:AK34,1),COUNTIF($AK$3:AK34,-1))","v":26},{"$f":"+SUM($W$4:W34)","v":2731},105.03846153846153,{"$f":"+SUM(COUNTIF($AK$3:AK34,1))","v":11},{"$f":"+SUM(COUNTIF($AK$3:AK34,-1))","v":15},-4,{"$f":"+CG34*(HARMEAN((IF(SUM(COUNTIF($Z$3:Z34,1),COUNTIF($Z$3:Z34,-1))=0,1,SUM(COUNTIF($Z$3:Z34,1),COUNTIF($Z$3:Z34,-1)))),(IF(SUM(COUNTIF($AC$3:AC34,1),COUNTIF($AC$3:AC34,-1))=0,1,SUM(COUNTIF($AC$3:AC34,1),COUNTIF($AC$3:AC34,-1)))),(IF(SUM(COUNTIF($AE$3:AE34,1),COUNTIF($AE$3:AE34,-1))=0,1,SUM(COUNTIF($AE$3:AE34,1),COUNTIF($AE$3:AE34,-1)))),(IF(SUM(COUNTIF($AG$3:AG34,1),COUNTIF($AG$3:AG34,-1))=0,1,SUM(COUNTIF($AG$3:AG34,1),COUNTIF($AG$3:AG34,-1)))),(IF(SUM(COUNTIF($AI$3:AI34,1),COUNTIF($AI$3:AI34,-1))=0,1,SUM(COUNTIF($AI$3:AI34,1),COUNTIF($AI$3:AI34,-1)))),(IF(SUM(COUNTIF($AK$3:AK34,1),COUNTIF($AK$3:AK34,-1))=0,1,SUM(COUNTIF($AK$3:AK34,1),COUNTIF($AK$3:AK34,-1)))))/1000)","v":0.75873234400143041},-3.7029999999999998]
[32,"Generals",null,{"$f":"+IFERROR(INDEX('Auswertung AoE II'!$AE:$AE,MATCH(A35,'Auswertung AoE II'!$AD:$AD,0)),\"\")","v":""},{"$f":"+IFERROR(INDEX('Auswertung AoE III'!$AE:$AE,MATCH(A35,'Auswertung AoE III'!$AD:$AD,0)),\"\")","v":""},{"$f":"+IFERROR(INDEX('Auswertung AoM'!$AE:$AE,MATCH(A35,'Auswertung AoM'!$AD:$AD,0)),\"\")","v":""},{"$f":"+IFERROR(INDEX('Auswertung RA'!$AE:$AE,MATCH(A35,'Auswertung RA'!$AD:$AD,0)),\"\")","v":""},{"$f":"+IFERROR(INDEX('Auswertung Yuri'!$AE:$AE,MATCH(A35,'Auswertung Yuri'!$AD:$AD,0)),\"\")","v":""},{"$f":"+IFERROR(INDEX('Auswertung Generals'!$AE:$AE,MATCH(A35,'Auswertung Generals'!$AD:$AD,0)),\"\")","v":"Generals"},"Auswertung Generals",null,null,{"$f":"+IF(ISERROR(+INDIRECT(CONCATENATE(\"'\",J35,\"'!\",(ADDRESS((COUNTIF($J$3:J35,IF(B35<>0,CONCATENATE(\"Auswertung \",B35,\"\"))))+2,2)))))=FALSE,+INDIRECT(CONCATENATE(\"'\",J35,\"'!\",(ADDRESS((COUNTIF($J$3:J35,IF(B35<>0,CONCATENATE(\"Auswertung \",B35,\"\"))))+4,2)))),\"\")","v":103},{"$f":"IF(ISERROR(+INDIRECT(CONCATENATE(\"'\",J35,\"'!\",(ADDRESS((COUNTIF($J$3:J35,IF(B35<>0,CONCATENATE(\"Auswertung \",B35,\"\"))))+2,2+1)))))=FALSE,+INDIRECT(CONCATENATE(\"'\",J35,\"'!\",(ADDRESS((COUNTIF($J$3:J35,IF(B35<>0,CONCATENATE(\"Auswertung \",B35,\"\"))))+4,2+1)))),\"\")","v":"AP"},{"$f":"+IF(ISERROR(+INDIRECT(CONCATENATE(\"'\",J35,\"'!\",(ADDRESS((COUNTIF($J$3:J35,IF(B35<>0,CONCATENATE(\"Auswertung \",B35,\"\"))))+2,4)))))=FALSE,+INDIRECT(CONCATENATE(\"'\",J35,\"'!\",(ADDRESS((COUNTIF($J$3:J35,IF(B35<>0,CONCATENATE(\"Auswertung \",B35,\"\"))))+4,4)))),\"\")","v":82},{"$f":"+IF(ISERROR(+INDIRECT(CONCATENATE(\"'\",J35,\"'!\",(ADDRESS((COUNTIF($J$3:J35,IF(B35<>0,CONCATENATE(\"Auswertung \",B35,\"\"))))+2,5)))))=FALSE,+INDIRECT(CONCATENATE(\"'\",J35,\"'!\",(ADDRESS((COUNTIF($J$3:J35,IF(B35<>0,CONCATENATE(\"Auswertung \",B35,\"\"))))+4,5)))),\"\")","v":"IBG"},{"$f":"+IF(ISERROR(+INDIRECT(CONCATENATE(\"'\",J35,\"'!\",(ADDRESS((COUNTIF($J$3:J35,IF(B35<>0,CONCATENATE(\"Auswertung \",B35,\"\"))))+2,6)))))=FALSE,+INDIRECT(CONCATENATE(\"'\",J35,\"'!\",(ADDRESS((COUNTIF($J$3:J35,IF(B35<>0,CONCATENATE(\"Auswertung \",B35,\"\"))))+4,6)))),\"\")","v":75},{"$f":"+IF(ISERROR(+INDIRECT(CONCATENATE(\"'\",J35,\"'!\",(ADDRESS((COUNTIF($J$3:J35,IF(B35<>0,CONCATENATE(\"Auswertung \",B35,\"\"))))+2,7)))))=FALSE,+INDIRECT(CONCATENATE(\"'\",J35,\"'!\",(ADDRESS((COUNTIF($J$3:J35,IF(B35<>0,CONCATENATE(\"Auswertung \",B35,\"\"))))+4,7)))),\"\")","v":"AP"},{"$f":"+IF(ISERROR(+INDIRECT(CONCATENATE(\"'\",J35,\"'!\",(ADDRESS((COUNTIF($J$3:J35,IF(B35<>0,CONCATENATE(\"Auswertung \",B35,\"\"))))+2,10)))))=FALSE,+INDIRECT(CONCATENATE(\"'\",J35,\"'!\",(ADDRESS((COUNTIF($J$3:J35,IF(B35<>0,CONCATENATE(\"Auswertung \",B35,\"\"))))+4,8)))),\"\")","v":202},{"$f":"+IF(ISERROR(+INDIRECT(CONCATENATE(\"'\",J35,\"'!\",(ADDRESS((COUNTIF($J$3:J35,IF(B35<>0,CONCATENATE(\"Auswertung \",B35,\"\"))))+2,11)))))=FALSE,+INDIRECT(CONCATENATE(\"'\",J35,\"'!\",(ADDRESS((COUNTIF($J$3:J35,IF(B35<>0,CONCATENATE(\"Auswertung \",B35,\"\"))))+4,9)))),\"\")","v":"AP"},{"$f":"+IF(ISERROR(+INDIRECT(CONCATENATE(\"'\",J35,\"'!\",(ADDRESS((COUNTIF($J$3:J35,IF(B35<>0,CONCATENATE(\"Auswertung \",B35,\"\"))))+2,10)))))=FALSE,+INDIRECT(CONCATENATE(\"'\",J35,\"'!\",(ADDRESS((COUNTIF($J$3:J35,IF(B35<>0,CONCATENATE(\"Auswertung \",B35,\"\"))))+4,10)))),\"\")","v":188},{"$f":"+IF(ISERROR(+INDIRECT(CONCATENATE(\"'\",J35,\"'!\",(ADDRESS((COUNTIF($J$3:J35,IF(B35<>0,CONCATENATE(\"Auswertung \",B35,\"\"))))+2,11)))))=FALSE,+INDIRECT(CONCATENATE(\"'\",J35,\"'!\",(ADDRESS((COUNTIF($J$3:J35,IF(B35<>0,CONCATENATE(\"Auswertung \",B35,\"\"))))+4,11)))),\"\")","v":"IBG"},{"$f":"+IF(ISERROR(+INDIRECT(CONCATENATE(\"'\",J35,\"'!\",(ADDRESS((COUNTIF($J$3:J35,IF(D35<>0,CONCATENATE(\"Auswertung \",D35,\"\"))))+2,12)))))=FALSE,+INDIRECT(CONCATENATE(\"'\",J35,\"'!\",(ADDRESS((COUNTIF($J$3:J35,IF(D35<>0,CONCATENATE(\"Auswertung \",B35,\"\"))))+4,12)))),\"\")","v":119},{"$f":"+IF(ISERROR(+INDIRECT(CONCATENATE(\"'\",J35,\"'!\",(ADDRESS((COUNTIF($J$3:J35,IF(D35<>0,CONCATENATE(\"Auswertung \",D35,\"\"))))+2,13)))))=FALSE,+INDIRECT(CONCATENATE(\"'\",J35,\"'!\",(ADDRESS((COUNTIF($J$3:J35,IF(D35<>0,CONCATENATE(\"Auswertung \",B35,\"\"))))+4,13)))),\"\")","v":"AP"},null,{"$f":"+IFERROR(INDIRECT(CONCATENATE(\"'\",J35,\"'!\",(ADDRESS((COUNTIF($J$3:J35,IF(B35<>0,J35)))+4,16)))),\"\")","v":-1},12.742000000000001,{"$f":"+SUM($M$4:M35)/COUNT($M$4:M35)/1000*2","v":0.26381250000000001},{"$f":"+IFERROR(INDIRECT(CONCATENATE(\"'\",J35,\"'!\",(ADDRESS((COUNTIF($J$3:J35,IF(B35<>0,J35)))+4,18)))),\"\")","v":-1},35.956000000000003,{"$f":"+IFERROR(INDIRECT(CONCATENATE(\"'\",J35,\"'!\",(ADDRESS((COUNTIF($J$3:J35,IF(B35<>0,J35)))+4,20)))),\"\")","v":1},32.246000000000002,{"$f":"+IFERROR(INDIRECT(CONCATENATE(\"'\",J35,\"'!\",(ADDRESS((COUNTIF($J$3:J35,IF(B35<>0,J35)))+4,22)))),\"\")","v":1},2.0070000000000001,{"$f":"+IFERROR(INDIRECT(CONCATENATE(\"'\",J35,\"'!\",(ADDRESS((COUNTIF($J$3:J35,IF(B35<>0,J35)))+4,24)))),\"\")","v":1},-7.7039999999999997,{"$f":"+IFERROR(INDIRECT(CONCATENATE(\"'\",J35,\"'!\",(ADDRESS((COUNTIF($J$3:J35,IF(B35<>0,J35)))+4,26)))),\"\")","v":-1},-6.49,32,{"$f":"+SUM(COUNTIF($Z$3:Z35,1),COUNTIF($Z$3:Z35,-1))","v":32},{"$f":"+SUM($M$4:M35)","v":4221},131.90625,{"$f":"+SUM(COUNTIF($Z$3:Z35,1))","v":16},{"$f":"+SUM(COUNTIF($Z$3:Z35,-1))","v":16},0,{"$f":"AN35*(HARMEAN((IF(SUM(COUNTIF($Z$3:Z35,1),COUNTIF($Z$3:Z35,-1))=0,1,SUM(COUNTIF($Z$3:Z35,1),COUNTIF($Z$3:Z35,-1)))),(IF(SUM(COUNTIF($AC$3:AC35,1),COUNTIF($AC$3:AC35,-1))=0,1,SUM(COUNTIF($AC$3:AC35,1),COUNTIF($AC$3:AC35,-1)))),(IF(SUM(COUNTIF($AE$3:AE35,1),COUNTIF($AE$3:AE35,-1))=0,1,SUM(COUNTIF($AE$3:AE35,1),COUNTIF($AE$3:AE35,-1)))),(IF(SUM(COUNTIF($AG$3:AG35,1),COUNTIF($AG$3:AG35,-1))=0,1,SUM(COUNTIF($AG$3:AG35,1),COUNTIF($AG$3:AG35,-1)))),(IF(SUM(COUNTIF($AI$3:AI35,1),COUNTIF($AI$3:AI35,-1))=0,1,SUM(COUNTIF($AI$3:AI35,1),COUNTIF($AI$3:AI35,-1)))),(IF(SUM(COUNTIF($AK$3:AK35,1),COUNTIF($AK$3:AK35,-1))=0,1,SUM(COUNTIF($AK$3:AK35,1),COUNTIF($AK$3:AK35,-1)))))/1000)","v":0.96599211055950618},12.742000000000001,null,{"$f":"+SUM(COUNTIF($AC$3:AC35,1),COUNTIF($AC$3:AC35,-1))","v":32},{"$f":"+SUM($O$4:O35)","v":3911},122.21875,{"$f":"+SUM(COUNTIF($AC$3:AC35,1))","v":20},{"$f":"+SUM(COUNTIF($AC$3:AC35,-1))","v":12},8,{"$f":"AW35*(HARMEAN((IF(SUM(COUNTIF($Z$3:Z35,1),COUNTIF($Z$3:Z35,-1))=0,1,SUM(COUNTIF($Z$3:Z35,1),COUNTIF($Z$3:Z35,-1)))),(IF(SUM(COUNTIF($AC$3:AC35,1),COUNTIF($AC$3:AC35,-1))=0,1,SUM(COUNTIF($AC$3:AC35,1),COUNTIF($AC$3:AC35,-1)))),(IF(SUM(COUNTIF($AE$3:AE35,1),COUNTIF($AE$3:AE35,-1))=0,1,SUM(COUNTIF($AE$3:AE35,1),COUNTIF($AE$3:AE35,-1)))),(IF(SUM(COUNTIF($AG$3:AG35,1),COUNTIF($AG$3:AG35,-1))=0,1,SUM(COUNTIF($AG$3:AG35,1),COUNTIF($AG$3:AG35,-1)))),(IF(SUM(COUNTIF($AI$3:AI35,1),COUNTIF($AI$3:AI35,-1))=0,1,SUM(COUNTIF($AI$3:AI35,1),COUNTIF($AI$3:AI35,-1)))),(IF(SUM(COUNTIF($AK$3:AK35,1),COUNTIF($AK$3:AK35,-1))=0,1,SUM(COUNTIF($AK$3:AK35,1),COUNTIF($AK$3:AK35,-1)))))/1000)","v":0.96599211055950618},35.956000000000003,null,{"$f":"+SUM(COUNTIF($AE$3:AE35,1),COUNTIF(AE$3:$AE35,-1))","v":31},{"$f":"+SUM($Q$4:Q35)","v":3682},118.7741935483871,{"$f":"+SUM(COUNTIF($AE$3:AE35,1))","v":19},{"$f":"+SUM(COUNTIF($AE$3:AE35,-1))","v":12},7,{"$f":"BF35*(HARMEAN((IF(SUM(COUNTIF($Z$3:Z35,1),COUNTIF($Z$3:Z35,-1))=0,1,SUM(COUNTIF($Z$3:Z35,1),COUNTIF($Z$3:Z35,-1)))),(IF(SUM(COUNTIF($AC$3:AC35,1),COUNTIF($AC$3:AC35,-1))=0,1,SUM(COUNTIF($AC$3:AC35,1),COUNTIF($AC$3:AC35,-1)))),(IF(SUM(COUNTIF($AE$3:AE35,1),COUNTIF($AE$3:AE35,-1))=0,1,SUM(COUNTIF($AE$3:AE35,1),COUNTIF($AE$3:AE35,-1)))),(IF(SUM(COUNTIF($AG$3:AG35,1),COUNTIF($AG$3:AG35,-1))=0,1,SUM(COUNTIF($AG$3:AG35,1),COUNTIF($AG$3:AG35,-1)))),(IF(SUM(COUNTIF($AI$3:AI35,1),COUNTIF($AI$3:AI35,-1))=0,1,SUM(COUNTIF($AI$3:AI35,1),COUNTIF($AI$3:AI35,-1)))),(IF(SUM(COUNTIF($AK$3:AK35,1),COUNTIF($AK$3:AK35,-1))=0,1,SUM(COUNTIF($AK$3:AK35,1),COUNTIF($AK$3:AK35,-1)))))/1000)","v":0.93580485710452166},32.246000000000002,null,{"$f":"+SUM(COUNTIF($AG$3:AG35,1),COUNTIF($AG$3:AG35,-1))","v":32},{"$f":"+SUM($S$4:S35)","v":4665},145.78125,{"$f":"+SUM(COUNTIF($AG$3:AG35,1))","v":14},{"$f":"+SUM(COUNTIF($AG$3:AG35,-1))","v":18},-4,{"$f":"BO35*(HARMEAN((IF(SUM(COUNTIF($Z$3:Z35,1),COUNTIF($Z$3:Z35,-1))=0,1,SUM(COUNTIF($Z$3:Z35,1),COUNTIF($Z$3:Z35,-1)))),(IF(SUM(COUNTIF($AC$3:AC35,1),COUNTIF($AC$3:AC35,-1))=0,1,SUM(COUNTIF($AC$3:AC35,1),COUNTIF($AC$3:AC35,-1)))),(IF(SUM(COUNTIF($AE$3:AE35,1),COUNTIF($AE$3:AE35,-1))=0,1,SUM(COUNTIF($AE$3:AE35,1),COUNTIF($AE$3:AE35,-1)))),(IF(SUM(COUNTIF($AG$3:AG35,1),COUNTIF($AG$3:AG35,-1))=0,1,SUM(COUNTIF($AG$3:AG35,1),COUNTIF($AG$3:AG35,-1)))),(IF(SUM(COUNTIF($AI$3:AI35,1),COUNTIF($AI$3:AI35,-1))=0,1,SUM(COUNTIF($AI$3:AI35,1),COUNTIF($AI$3:AI35,-1)))),(IF(SUM(COUNTIF($AK$3:AK35,1),COUNTIF($AK$3:AK35,-1))=0,1,SUM(COUNTIF($AK$3:AK35,1),COUNTIF($AK$3:AK35,-1)))))/1000)","v":0.96599211055950618},2.0070000000000001,null,{"$f":"+SUM(COUNTIF($AI$3:AI35,1),COUNTIF($AI$3:AI35,-1))","v":28},{"$f":"+SUM($U$4:U35)","v":3448},123.14285714285714,{"$f":"+SUM(COUNTIF($AI$3:AI35,1))","v":11},{"$f":"+SUM(COUNTIF($AI$3:AI35,-1))","v":17},-6,{"$f":"+BX35*(HARMEAN((IF(SUM(COUNTIF($Z$3:Z35,1),COUNTIF($Z$3:Z35,-1))=0,1,SUM(COUNTIF($Z$3:Z35,1),COUNTIF($Z$3:Z35,-1)))),(IF(SUM(COUNTIF($AC$3:AC35,1),COUNTIF($AC$3:AC35,-1))=0,1,SUM(COUNTIF($AC$3:AC35,1),COUNTIF($AC$3:AC35,-1)))),(IF(SUM(COUNTIF($AE$3:AE35,1),COUNTIF($AE$3:AE35,-1))=0,1,SUM(COUNTIF($AE$3:AE35,1),COUNTIF($AE$3:AE35,-1)))),(IF(SUM(COUNTIF($AG$3:AG35,1),COUNTIF($AG$3:AG35,-1))=0,1,SUM(COUNTIF($AG$3:AG35,1),COUNTIF($AG$3:AG35,-1)))),(IF(SUM(COUNTIF($AI$3:AI35,1),COUNTIF($AI$3:AI35,-1))=0,1,SUM(COUNTIF($AI$3:AI35,1),COUNTIF($AI$3:AI35,-1)))),(IF(SUM(COUNTIF($AK$3:AK35,1),COUNTIF($AK$3:AK35,-1))=0,1,SUM(COUNTIF($AK$3:AK35,1),COUNTIF($AK$3:AK35,-1)))))/1000)","v":0.84524309673956788},-7.7039999999999997,null,{"$f":"+SUM(COUNTIF($AK$3:AK35,1),COUNTIF($AK$3:AK35,-1))","v":27},{"$f":"+SUM($W$4:W35)","v":2850},105.55555555555556,{"$f":"+SUM(COUNTIF($AK$3:AK35,1))","v":11},{"$f":"+SUM(COUNTIF($AK$3:AK35,-1))","v":16},-5,{"$f":"+CG35*(HARMEAN((IF(SUM(COUNTIF($Z$3:Z35,1),COUNTIF($Z$3:Z35,-1))=0,1,SUM(COUNTIF($Z$3:Z35,1),COUNTIF($Z$3:Z35,-1)))),(IF(SUM(COUNTIF($AC$3:AC35,1),COUNTIF($AC$3:AC35,-1))=0,1,SUM(COUNTIF($AC$3:AC35,1),COUNTIF($AC$3:AC35,-1)))),(IF(SUM(COUNTIF($AE$3:AE35,1),COUNTIF($AE$3:AE35,-1))=0,1,SUM(COUNTIF($AE$3:AE35,1),COUNTIF($AE$3:AE35,-1)))),(IF(SUM(COUNTIF($AG$3:AG35,1),COUNTIF($AG$3:AG35,-1))=0,1,SUM(COUNTIF($AG$3:AG35,1),COUNTIF($AG$3:AG35,-1)))),(IF(SUM(COUNTIF($AI$3:AI35,1),COUNTIF($AI$3:AI35,-1))=0,1,SUM(COUNTIF($AI$3:AI35,1),COUNTIF($AI$3:AI35,-1)))),(IF(SUM(COUNTIF($AK$3:AK35,1),COUNTIF($AK$3:AK35,-1))=0,1,SUM(COUNTIF($AK$3:AK35,1),COUNTIF($AK$3:AK35,-1)))))/1000)","v":0.81505584328458336},-6.49]
[33,"AoE II",null,{"$f":"+IFERROR(INDEX('Auswertung AoE II'!$AE:$AE,MATCH(A36,'Auswertung AoE II'!$AD:$AD,0)),\"\")","v":"AoE II"},{"$f":"+IFERROR(INDEX('Auswertung AoE III'!$AE:$AE,MATCH(A36,'Auswertung AoE III'!$AD:$AD,0)),\"\")","v":""},{"$f":"+IFERROR(INDEX('Auswertung AoM'!$AE:$AE,MATCH(A36,'Auswertung AoM'!$AD:$AD,0)),\"\")","v":""},{"$f":"+IFERROR(INDEX('Auswertung RA'!$AE:$AE,MATCH(A36,'Auswertung RA'!$AD:$AD,0)),\"\")","v":""},{"$f":"+IFERROR(INDEX('Auswertung Yuri'!$AE:$AE,MATCH(A36,'Auswertung Yuri'!$AD:$AD,0)),\"\")","v":""},{"$f":"+IFERROR(INDEX('Auswertung Generals'!$AE:$AE,MATCH(A36,'Auswertung Generals'!$AD:$AD,0)),\"\")","v":""},"Auswertung AoE II",null,null,{"$f":"+IF(ISERROR(+INDIRECT(CONCATENATE(\"'\",J36,\"'!\",(ADDRESS((COUNTIF($J$3:J36,IF(B36<>0,CONCATENATE(\"Auswertung \",B36,\"\"))))+2,2)))))=FALSE,+INDIRECT(CONCATENATE(\"'\",J36,\"'!\",(ADDRESS((COUNTIF($J$3:J36,IF(B36<>0,CONCATENATE(\"Auswertung \",B36,\"\"))))+4,2)))),\"\")","v":240},{"$f":"IF(ISERROR(+INDIRECT(CONCATENATE(\"'\",J36,\"'!\",(ADDRESS((COUNTIF($J$3:J36,IF(B36<>0,CONCATENATE(\"Auswertung \",B36,\"\"))))+2,2+1)))))=FALSE,+INDIRECT(CONCATENATE(\"'\",J36,\"'!\",(ADDRESS((COUNTIF($J$3:J36,IF(B36<>0,CONCATENATE(\"Auswertung \",B36,\"\"))))+4,2+1)))),\"\")","v":"Sar"},{"$f":"+IF(ISERROR(+INDIRECT(CONCATENATE(\"'\",J36,\"'!\",(ADDRESS((COUNTIF($J$3:J36,IF(B36<>0,CONCATENATE(\"Auswertung \",B36,\"\"))))+2,4)))))=FALSE,+INDIRECT(CONCATENATE(\"'\",J36,\"'!\",(ADDRESS((COUNTIF($J$3:J36,IF(B36<>0,CONCATENATE(\"Auswertung \",B36,\"\"))))+4,4)))),\"\")","v":205},{"$f":"+IF(ISERROR(+INDIRECT(CONCATENATE(\"'\",J36,\"'!\",(ADDRESS((COUNTIF($J$3:J36,IF(B36<>0,CONCATENATE(\"Auswertung \",B36,\"\"))))+2,5)))))=FALSE,+INDIRECT(CONCATENATE(\"'\",J36,\"'!\",(ADDRESS((COUNTIF($J$3:J36,IF(B36<>0,CONCATENATE(\"Auswertung \",B36,\"\"))))+4,5)))),\"\")","v":"Slaw"},{"$f":"+IF(ISERROR(+INDIRECT(CONCATENATE(\"'\",J36,\"'!\",(ADDRESS((COUNTIF($J$3:J36,IF(B36<>0,CONCATENATE(\"Auswertung \",B36,\"\"))))+2,6)))))=FALSE,+INDIRECT(CONCATENATE(\"'\",J36,\"'!\",(ADDRESS((COUNTIF($J$3:J36,IF(B36<>0,CONCATENATE(\"Auswertung \",B36,\"\"))))+4,6)))),\"\")","v":212},{"$f":"+IF(ISERROR(+INDIRECT(CONCATENATE(\"'\",J36,\"'!\",(ADDRESS((COUNTIF($J$3:J36,IF(B36<>0,CONCATENATE(\"Auswertung \",B36,\"\"))))+2,7)))))=FALSE,+INDIRECT(CONCATENATE(\"'\",J36,\"'!\",(ADDRESS((COUNTIF($J$3:J36,IF(B36<>0,CONCATENATE(\"Auswertung \",B36,\"\"))))+4,7)))),\"\")","v":"Sar"},{"$f":"+IF(ISERROR(+INDIRECT(CONCATENATE(\"'\",J36,\"'!\",(ADDRESS((COUNTIF($J$3:J36,IF(B36<>0,CONCATENATE(\"Auswertung \",B36,\"\"))))+2,10)))))=FALSE,+INDIRECT(CONCATENATE(\"'\",J36,\"'!\",(ADDRESS((COUNTIF($J$3:J36,IF(B36<>0,CONCATENATE(\"Auswertung \",B36,\"\"))))+4,8)))),\"\")","v":115},{"$f":"+IF(ISERROR(+INDIRECT(CONCATENATE(\"'\",J36,\"'!\",(ADDRESS((COUNTIF($J$3:J36,IF(B36<>0,CONCATENATE(\"Auswertung \",B36,\"\"))))+2,11)))))=FALSE,+INDIRECT(CONCATENATE(\"'\",J36,\"'!\",(ADDRESS((COUNTIF($J$3:J36,IF(B36<>0,CONCATENATE(\"Auswertung \",B36,\"\"))))+4,9)))),\"\")","v":"Beng"},{"$f":"+IF(ISERROR(+INDIRECT(CONCATENATE(\"'\",J36,\"'!\",(ADDRESS((COUNTIF($J$3:J36,IF(B36<>0,CONCATENATE(\"Auswertung \",B36,\"\"))))+2,10)))))=FALSE,+INDIRECT(CONCATENATE(\"'\",J36,\"'!\",(ADDRESS((COUNTIF($J$3:J36,IF(B36<>0,CONCATENATE(\"Auswertung \",B36,\"\"))))+4,10)))),\"\")","v":236},{"$f":"+IF(ISERROR(+INDIRECT(CONCATENATE(\"'\",J36,\"'!\",(ADDRESS((COUNTIF($J$3:J36,IF(B36<>0,CONCATENATE(\"Auswertung \",B36,\"\"))))+2,11)))))=FALSE,+INDIRECT(CONCATENATE(\"'\",J36,\"'!\",(ADDRESS((COUNTIF($J$3:J36,IF(B36<>0,CONCATENATE(\"Auswertung \",B36,\"\"))))+4,11)))),\"\")","v":"Beng"},{"$f":"+IF(ISERROR(+INDIRECT(CONCATENATE(\"'\",J36,\"'!\",(ADDRESS((COUNTIF($J$3:J36,IF(D36<>0,CONCATENATE(\"Auswertung \",D36,\"\"))))+2,12)))))=FALSE,+INDIRECT(CONCATENATE(\"'\",J36,\"'!\",(ADDRESS((COUNTIF($J$3:J36,IF(D36<>0,CONCATENATE(\"Auswertung \",B36,\"\"))))+4,12)))),\"\")","v":114},{"$f":"+IF(ISERROR(+INDIRECT(CONCATENATE(\"'\",J36,\"'!\",(ADDRESS((COUNTIF($J$3:J36,IF(D36<>0,CONCATENATE(\"Auswertung \",D36,\"\"))))+2,13)))))=FALSE,+INDIRECT(CONCATENATE(\"'\",J36,\"'!\",(ADDRESS((COUNTIF($J$3:J36,IF(D36<>0,CONCATENATE(\"Auswertung \",B36,\"\"))))+4,13)))),\"\")","v":"Slaw"},null,{"$f":"+IFERROR(INDIRECT(CONCATENATE(\"'\",J36,\"'!\",(ADDRESS((COUNTIF($J$3:J36,IF(B36<>0,J36)))+4,16)))),\"\")","v":1},17.033999999999999,{"$f":"+SUM($M$4:M36)/COUNT($M$4:M36)/1000*2","v":0.27036363636363636},{"$f":"+IFERROR(INDIRECT(CONCATENATE(\"'\",J36,\"'!\",(ADDRESS((COUNTIF($J$3:J36,IF(B36<>0,J36)))+4,18)))),\"\")","v":1},40.911999999999999,{"$f":"+IFERROR(INDIRECT(CONCATENATE(\"'\",J36,\"'!\",(ADDRESS((COUNTIF($J$3:J36,IF(B36<>0,J36)))+4,20)))),\"\")","v":-1},30.861999999999998,{"$f":"+IFERROR(INDIRECT(CONCATENATE(\"'\",J36,\"'!\",(ADDRESS((COUNTIF($J$3:J36,IF(B36<>0,J36)))+4,22)))),\"\")","v":1},5.5519999999999996,{"$f":"+IFERROR(INDIRECT(CONCATENATE(\"'\",J36,\"'!\",(ADDRESS((COUNTIF($J$3:J36,IF(B36<>0,J36)))+4,24)))),\"\")","v":-1},-10.343,{"$f":"+IFERROR(INDIRECT(CONCATENATE(\"'\",J36,\"'!\",(ADDRESS((COUNTIF($J$3:J36,IF(B36<>0,J36)))+4,26)))),\"\")","v":-1},-9.4700000000000006,33,{"$f":"+SUM(COUNTIF($Z$3:Z36,1),COUNTIF($Z$3:Z36,-1))","v":33},{"$f":"+SUM($M$4:M36)","v":4461},135.18181818181819,{"$f":"+SUM(COUNTIF($Z$3:Z36,1))","v":17},{"$f":"+SUM(COUNTIF($Z$3:Z36,-1))","v":16},1,{"$f":"AN36*(HARMEAN((IF(SUM(COUNTIF($Z$3:Z36,1),COUNTIF($Z$3:Z36,-1))=0,1,SUM(COUNTIF($Z$3:Z36,1),COUNTIF($Z$3:Z36,-1)))),(IF(SUM(COUNTIF($AC$3:AC36,1),COUNTIF($AC$3:AC36,-1))=0,1,SUM(COUNTIF($AC$3:AC36,1),COUNTIF($AC$3:AC36,-1)))),(IF(SUM(COUNTIF($AE$3:AE36,1),COUNTIF($AE$3:AE36,-1))=0,1,SUM(COUNTIF($AE$3:AE36,1),COUNTIF($AE$3:AE36,-1)))),(IF(SUM(COUNTIF($AG$3:AG36,1),COUNTIF($AG$3:AG36,-1))=0,1,SUM(COUNTIF($AG$3:AG36,1),COUNTIF($AG$3:AG36,-1)))),(IF(SUM(COUNTIF($AI$3:AI36,1),COUNTIF($AI$3:AI36,-1))=0,1,SUM(COUNTIF($AI$3:AI36,1),COUNTIF($AI$3:AI36,-1)))),(IF(SUM(COUNTIF($AK$3:AK36,1),COUNTIF($AK$3:AK36,-1))=0,1,SUM(COUNTIF($AK$3:AK36,1),COUNTIF($AK$3:AK36,-1)))))/1000)","v":1.0293407057111679},17.033999999999999,null,{"$f":"+SUM(COUNTIF($AC$3:AC36,1),COUNTIF($AC$3:AC36,-1))","v":33},{"$f":"+SUM($O$4:O36)","v":4116},124.72727272727273,{"$f":"+SUM(COUNTIF($AC$3:AC36,1))","v":21},{"$f":"+SUM(COUNTIF($AC$3:AC36,-1))","v":12},9,{"$f":"AW36*(HARMEAN((IF(SUM(COUNTIF($Z$3:Z36,1),COUNTIF($Z$3:Z36,-1))=0,1,SUM(COUNTIF($Z$3:Z36,1),COUNTIF($Z$3:Z36,-1)))),(IF(SUM(COUNTIF($AC$3:AC36,1),COUNTIF($AC$3:AC36,-1))=0,1,SUM(COUNTIF($AC$3:AC36,1),COUNTIF($AC$3:AC36,-1)))),(IF(SUM(COUNTIF($AE$3:AE36,1),COUNTIF($AE$3:AE36,-1))=0,1,SUM(COUNTIF($AE$3:AE36,1),COUNTIF($AE$3:AE36,-1)))),(IF(SUM(COUNTIF($AG$3:AG36,1),COUNTIF($AG$3:AG36,-1))=0,1,SUM(COUNTIF($AG$3:AG36,1),COUNTIF($AG$3:AG36,-1)))),(IF(SUM(COUNTIF($AI$3:AI36,1),COUNTIF($AI$3:AI36,-1))=0,1,SUM(COUNTIF($AI$3:AI36,1),COUNTIF($AI$3:AI36,-1)))),(IF(SUM(COUNTIF($AK$3:AK36,1),COUNTIF($AK$3:AK36,-1))=0,1,SUM(COUNTIF($AK$3:AK36,1),COUNTIF($AK$3:AK36,-1)))))/1000)","v":1.0293407057111679},40.911999999999999,null,{"$f":"+SUM(COUNTIF($AE$3:AE36,1),COUNTIF(AE$3:$AE36,-1))","v":32},{"$f":"+SUM($Q$4:Q36)","v":3894},121.6875,{"$f":"+SUM(COUNTIF($AE$3:AE36,1))","v":19},{"$f":"+SUM(COUNTIF($AE$3:AE36,-1))","v":13},6,{"$f":"BF36*(HARMEAN((IF(SUM(COUNTIF($Z$3:Z36,1),COUNTIF($Z$3:Z36,-1))=0,1,SUM(COUNTIF($Z$3:Z36,1),COUNTIF($Z$3:Z36,-1)))),(IF(SUM(COUNTIF($AC$3:AC36,1),COUNTIF($AC$3:AC36,-1))=0,1,SUM(COUNTIF($AC$3:AC36,1),COUNTIF($AC$3:AC36,-1)))),(IF(SUM(COUNTIF($AE$3:AE36,1),COUNTIF($AE$3:AE36,-1))=0,1,SUM(COUNTIF($AE$3:AE36,1),COUNTIF($AE$3:AE36,-1)))),(IF(SUM(COUNTIF($AG$3:AG36,1),COUNTIF($AG$3:AG36,-1))=0,1,SUM(COUNTIF($AG$3:AG36,1),COUNTIF($AG$3:AG36,-1)))),(IF(SUM(COUNTIF($AI$3:AI36,1),COUNTIF($AI$3:AI36,-1))=0,1,SUM(COUNTIF($AI$3:AI36,1),COUNTIF($AI$3:AI36,-1)))),(IF(SUM(COUNTIF($AK$3:AK36,1),COUNTIF($AK$3:AK36,-1))=0,1,SUM(COUNTIF($AK$3:AK36,1),COUNTIF($AK$3:AK36,-1)))))/1000)","v":0.99814856311385969},30.861999999999998,null,{"$f":"+SUM(COUNTIF($AG$3:AG36,1),COUNTIF($AG$3:AG36,-1))","v":33},{"$f":"+SUM($S$4:S36)","v":4780},144.84848484848484,{"$f":"+SUM(COUNTIF($AG$3:AG36,1))","v":15},{"$f":"+SUM(COUNTIF($AG$3:AG36,-1))","v":18},-3,{"$f":"BO36*(HARMEAN((IF(SUM(COUNTIF($Z$3:Z36,1),COUNTIF($Z$3:Z36,-1))=0,1,SUM(COUNTIF($Z$3:Z36,1),COUNTIF($Z$3:Z36,-1)))),(IF(SUM(COUNTIF($AC$3:AC36,1),COUNTIF($AC$3:AC36,-1))=0,1,SUM(COUNTIF($AC$3:AC36,1),COUNTIF($AC$3:AC36,-1)))),(IF(SUM(COUNTIF($AE$3:AE36,1),COUNTIF($AE$3:AE36,-1))=0,1,SUM(COUNTIF($AE$3:AE36,1),COUNTIF($AE$3:AE36,-1)))),(IF(SUM(COUNTIF($AG$3:AG36,1),COUNTIF($AG$3:AG36,-1))=0,1,SUM(COUNTIF($AG$3:AG36,1),COUNTIF($AG$3:AG36,-1)))),(IF(SUM(COUNTIF($AI$3:AI36,1),COUNTIF($AI$3:AI36,-1))=0,1,SUM(COUNTIF($AI$3:AI36,1),COUNTIF($AI$3:AI36,-1)))),(IF(SUM(COUNTIF($AK$3:AK36,1),COUNTIF($AK$3:AK36,-1))=0,1,SUM(COUNTIF($AK$3:AK36,1),COUNTIF($AK$3:AK36,-1)))))/1000)","v":1.0293407057111679},5.5519999999999996,null,{"$f":"+SUM(COUNTIF($AI$3:AI36,1),COUNTIF($AI$3:AI36,-1))","v":29},{"$f":"+SUM($U$4:U36)","v":3684},127.03448275862068,{"$f":"+SUM(COUNTIF($AI$3:AI36,1))","v":11},{"$f":"+SUM(COUNTIF($AI$3:AI36,-1))","v":18},-7,{"$f":"+BX36*(HARMEAN((IF(SUM(COUNTIF($Z$3:Z36,1),COUNTIF($Z$3:Z36,-1))=0,1,SUM(COUNTIF($Z$3:Z36,1),COUNTIF($Z$3:Z36,-1)))),(IF(SUM(COUNTIF($AC$3:AC36,1),COUNTIF($AC$3:AC36,-1))=0,1,SUM(COUNTIF($AC$3:AC36,1),COUNTIF($AC$3:AC36,-1)))),(IF(SUM(COUNTIF($AE$3:AE36,1),COUNTIF($AE$3:AE36,-1))=0,1,SUM(COUNTIF($AE$3:AE36,1),COUNTIF($AE$3:AE36,-1)))),(IF(SUM(COUNTIF($AG$3:AG36,1),COUNTIF($AG$3:AG36,-1))=0,1,SUM(COUNTIF($AG$3:AG36,1),COUNTIF($AG$3:AG36,-1)))),(IF(SUM(COUNTIF($AI$3:AI36,1),COUNTIF($AI$3:AI36,-1))=0,1,SUM(COUNTIF($AI$3:AI36,1),COUNTIF($AI$3:AI36,-1)))),(IF(SUM(COUNTIF($AK$3:AK36,1),COUNTIF($AK$3:AK36,-1))=0,1,SUM(COUNTIF($AK$3:AK36,1),COUNTIF($AK$3:AK36,-1)))))/1000)","v":0.90457213532193537},-10.343,null,{"$f":"+SUM(COUNTIF($AK$3:AK36,1),COUNTIF($AK$3:AK36,-1))","v":28},{"$f":"+SUM($W$4:W36)","v":2964},105.85714285714286,{"$f":"+SUM(COUNTIF($AK$3:AK36,1))","v":11},{"$f":"+SUM(COUNTIF($AK$3:AK36,-1))","v":17},-6,{"$f":"+CG36*(HARMEAN((IF(SUM(COUNTIF($Z$3:Z36,1),COUNTIF($Z$3:Z36,-1))=0,1,SUM(COUNTIF($Z$3:Z36,1),COUNTIF($Z$3:Z36,-1)))),(IF(SUM(COUNTIF($AC$3:AC36,1),COUNTIF($AC$3:AC36,-1))=0,1,SUM(COUNTIF($AC$3:AC36,1),COUNTIF($AC$3:AC36,-1)))),(IF(SUM(COUNTIF($AE$3:AE36,1),COUNTIF($AE$3:AE36,-1))=0,1,SUM(COUNTIF($AE$3:AE36,1),COUNTIF($AE$3:AE36,-1)))),(IF(SUM(COUNTIF($AG$3:AG36,1),COUNTIF($AG$3:AG36,-1))=0,1,SUM(COUNTIF($AG$3:AG36,1),COUNTIF($AG$3:AG36,-1)))),(IF(SUM(COUNTIF($AI$3:AI36,1),COUNTIF($AI$3:AI36,-1))=0,1,SUM(COUNTIF($AI$3:AI36,1),COUNTIF($AI$3:AI36,-1)))),(IF(SUM(COUNTIF($AK$3:AK36,1),COUNTIF($AK$3:AK36,-1))=0,1,SUM(COUNTIF($AK$3:AK36,1),COUNTIF($AK$3:AK36,-1)))))/1000)","v":0.87337999272462719},-9.4700000000000006]
[34,"RA",null,{"$f":"+IFERROR(INDEX('Auswertung AoE II'!$AE:$AE,MATCH(A37,'Auswertung AoE II'!$AD:$AD,0)),\"\")","v":""},{"$f":"+IFERROR(INDEX('Auswertung AoE III'!$AE:$AE,MATCH(A37,'Auswertung AoE III'!$AD:$AD,0)),\"\")","v":""},{"$f":"+IFERROR(INDEX('Auswertung AoM'!$AE:$AE,MATCH(A37,'Auswertung AoM'!$AD:$AD,0)),\"\")","v":""},{"$f":"+IFERROR(INDEX('Auswertung RA'!$AE:$AE,MATCH(A37,'Auswertung RA'!$AD:$AD,0)),\"\")","v":"RA"},{"$f":"+IFERROR(INDEX('Auswertung Yuri'!$AE:$AE,MATCH(A37,'Auswertung Yuri'!$AD:$AD,0)),\"\")","v":""},{"$f":"+IFERROR(INDEX('Auswertung Generals'!$AE:$AE,MATCH(A37,'Auswertung Generals'!$AD:$AD,0)),\"\")","v":""},"Auswertung RA",null,null,{"$f":"+IF(ISERROR(+INDIRECT(CONCATENATE(\"'\",J37,\"'!\",(ADDRESS((COUNTIF($J$3:J37,IF(B37<>0,CONCATENATE(\"Auswertung \",B37,\"\"))))+2,2)))))=FALSE,+INDIRECT(CONCATENATE(\"'\",J37,\"'!\",(ADDRESS((COUNTIF($J$3:J37,IF(B37<>0,CONCATENATE(\"Auswertung \",B37,\"\"))))+4,2)))),\"\")","v":41},{"$f":"IF(ISERROR(+INDIRECT(CONCATENATE(\"'\",J37,\"'!\",(ADDRESS((COUNTIF($J$3:J37,IF(B37<>0,CONCATENATE(\"Auswertung \",B37,\"\"))))+2,2+1)))))=FALSE,+INDIRECT(CONCATENATE(\"'\",J37,\"'!\",(ADDRESS((COUNTIF($J$3:J37,IF(B37<>0,CONCATENATE(\"Auswertung \",B37,\"\"))))+4,2+1)))),\"\")","v":"A"},{"$f":"+IF(ISERROR(+INDIRECT(CONCATENATE(\"'\",J37,\"'!\",(ADDRESS((COUNTIF($J$3:J37,IF(B37<>0,CONCATENATE(\"Auswertung \",B37,\"\"))))+2,4)))))=FALSE,+INDIRECT(CONCATENATE(\"'\",J37,\"'!\",(ADDRESS((COUNTIF($J$3:J37,IF(B37<>0,CONCATENATE(\"Auswertung \",B37,\"\"))))+4,4)))),\"\")","v":133},{"$f":"+IF(ISERROR(+INDIRECT(CONCATENATE(\"'\",J37,\"'!\",(ADDRESS((COUNTIF($J$3:J37,IF(B37<>0,CONCATENATE(\"Auswertung \",B37,\"\"))))+2,5)))))=FALSE,+INDIRECT(CONCATENATE(\"'\",J37,\"'!\",(ADDRESS((COUNTIF($J$3:J37,IF(B37<>0,CONCATENATE(\"Auswertung \",B37,\"\"))))+4,5)))),\"\")","v":"S"},{"$f":"+IF(ISERROR(+INDIRECT(CONCATENATE(\"'\",J37,\"'!\",(ADDRESS((COUNTIF($J$3:J37,IF(B37<>0,CONCATENATE(\"Auswertung \",B37,\"\"))))+2,6)))))=FALSE,+INDIRECT(CONCATENATE(\"'\",J37,\"'!\",(ADDRESS((COUNTIF($J$3:J37,IF(B37<>0,CONCATENATE(\"Auswertung \",B37,\"\"))))+4,6)))),\"\")","v":110},{"$f":"+IF(ISERROR(+INDIRECT(CONCATENATE(\"'\",J37,\"'!\",(ADDRESS((COUNTIF($J$3:J37,IF(B37<>0,CONCATENATE(\"Auswertung \",B37,\"\"))))+2,7)))))=FALSE,+INDIRECT(CONCATENATE(\"'\",J37,\"'!\",(ADDRESS((COUNTIF($J$3:J37,IF(B37<>0,CONCATENATE(\"Auswertung \",B37,\"\"))))+4,7)))),\"\")","v":"S"},{"$f":"+IF(ISERROR(+INDIRECT(CONCATENATE(\"'\",J37,\"'!\",(ADDRESS((COUNTIF($J$3:J37,IF(B37<>0,CONCATENATE(\"Auswertung \",B37,\"\"))))+2,10)))))=FALSE,+INDIRECT(CONCATENATE(\"'\",J37,\"'!\",(ADDRESS((COUNTIF($J$3:J37,IF(B37<>0,CONCATENATE(\"Auswertung \",B37,\"\"))))+4,8)))),\"\")","v":47},{"$f":"+IF(ISERROR(+INDIRECT(CONCATENATE(\"'\",J37,\"'!\",(ADDRESS((COUNTIF($J$3:J37,IF(B37<>0,CONCATENATE(\"Auswertung \",B37,\"\"))))+2,11)))))=FALSE,+INDIRECT(CONCATENATE(\"'\",J37,\"'!\",(ADDRESS((COUNTIF($J$3:J37,IF(B37<>0,CONCATENATE(\"Auswertung \",B37,\"\"))))+4,9)))),\"\")","v":"S"},{"$f":"+IF(ISERROR(+INDIRECT(CONCATENATE(\"'\",J37,\"'!\",(ADDRESS((COUNTIF($J$3:J37,IF(B37<>0,CONCATENATE(\"Auswertung \",B37,\"\"))))+2,10)))))=FALSE,+INDIRECT(CONCATENATE(\"'\",J37,\"'!\",(ADDRESS((COUNTIF($J$3:J37,IF(B37<>0,CONCATENATE(\"Auswertung \",B37,\"\"))))+4,10)))),\"\")","v":39},{"$f":"+IF(ISERROR(+INDIRECT(CONCATENATE(\"'\",J37,\"'!\",(ADDRESS((COUNTIF($J$3:J37,IF(B37<>0,CONCATENATE(\"Auswertung \",B37,\"\"))))+2,11)))))=FALSE,+INDIRECT(CONCATENATE(\"'\",J37,\"'!\",(ADDRESS((COUNTIF($J$3:J37,IF(B37<>0,CONCATENATE(\"Auswertung \",B37,\"\"))))+4,11)))),\"\")","v":"A"},{"$f":"+IF(ISERROR(+INDIRECT(CONCATENATE(\"'\",J37,\"'!\",(ADDRESS((COUNTIF($J$3:J37,IF(D37<>0,CONCATENATE(\"Auswertung \",D37,\"\"))))+2,12)))))=FALSE,+INDIRECT(CONCATENATE(\"'\",J37,\"'!\",(ADDRESS((COUNTIF($J$3:J37,IF(D37<>0,CONCATENATE(\"Auswertung \",B37,\"\"))))+4,12)))),\"\")","v":48},{"$f":"+IF(ISERROR(+INDIRECT(CONCATENATE(\"'\",J37,\"'!\",(ADDRESS((COUNTIF($J$3:J37,IF(D37<>0,CONCATENATE(\"Auswertung \",D37,\"\"))))+2,13)))))=FALSE,+INDIRECT(CONCATENATE(\"'\",J37,\"'!\",(ADDRESS((COUNTIF($J$3:J37,IF(D37<>0,CONCATENATE(\"Auswertung \",B37,\"\"))))+4,13)))),\"\")","v":"A"},null,{"$f":"+IFERROR(INDIRECT(CONCATENATE(\"'\",J37,\"'!\",(ADDRESS((COUNTIF($J$3:J37,IF(B37<>0,J37)))+4,16)))),\"\")","v":-1},14.494999999999999,{"$f":"+SUM($M$4:M37)/COUNT($M$4:M37)/1000*2","v":0.26482352941176468},{"$f":"+IFERROR(INDIRECT(CONCATENATE(\"'\",J37,\"'!\",(ADDRESS((COUNTIF($J$3:J37,IF(B37<>0,J37)))+4,18)))),\"\")","v":-1},39.438000000000002,{"$f":"+IFERROR(INDIRECT(CONCATENATE(\"'\",J37,\"'!\",(ADDRESS((COUNTIF($J$3:J37,IF(B37<>0,J37)))+4,20)))),\"\")","v":1},35.429000000000002,{"$f":"+IFERROR(INDIRECT(CONCATENATE(\"'\",J37,\"'!\",(ADDRESS((COUNTIF($J$3:J37,IF(B37<>0,J37)))+4,22)))),\"\")","v":1},9.1020000000000003,{"$f":"+IFERROR(INDIRECT(CONCATENATE(\"'\",J37,\"'!\",(ADDRESS((COUNTIF($J$3:J37,IF(B37<>0,J37)))+4,24)))),\"\")","v":-1},-13.771000000000001,{"$f":"+IFERROR(INDIRECT(CONCATENATE(\"'\",J37,\"'!\",(ADDRESS((COUNTIF($J$3:J37,IF(B37<>0,J37)))+4,26)))),\"\")","v":1},-6.4009999999999998,34,{"$f":"+SUM(COUNTIF($Z$3:Z37,1),COUNTIF($Z$3:Z37,-1))","v":34},{"$f":"+SUM($M$4:M37)","v":4502},132.41176470588235,{"$f":"+SUM(COUNTIF($Z$3:Z37,1))","v":17},{"$f":"+SUM(COUNTIF($Z$3:Z37,-1))","v":17},0,{"$f":"AN37*(HARMEAN((IF(SUM(COUNTIF($Z$3:Z37,1),COUNTIF($Z$3:Z37,-1))=0,1,SUM(COUNTIF($Z$3:Z37,1),COUNTIF($Z$3:Z37,-1)))),(IF(SUM(COUNTIF($AC$3:AC37,1),COUNTIF($AC$3:AC37,-1))=0,1,SUM(COUNTIF($AC$3:AC37,1),COUNTIF($AC$3:AC37,-1)))),(IF(SUM(COUNTIF($AE$3:AE37,1),COUNTIF($AE$3:AE37,-1))=0,1,SUM(COUNTIF($AE$3:AE37,1),COUNTIF($AE$3:AE37,-1)))),(IF(SUM(COUNTIF($AG$3:AG37,1),COUNTIF($AG$3:AG37,-1))=0,1,SUM(COUNTIF($AG$3:AG37,1),COUNTIF($AG$3:AG37,-1)))),(IF(SUM(COUNTIF($AI$3:AI37,1),COUNTIF($AI$3:AI37,-1))=0,1,SUM(COUNTIF($AI$3:AI37,1),COUNTIF($AI$3:AI37,-1)))),(IF(SUM(COUNTIF($AK$3:AK37,1),COUNTIF($AK$3:AK37,-1))=0,1,SUM(COUNTIF($AK$3:AK37,1),COUNTIF($AK$3:AK37,-1)))))/1000)","v":1.094688303977835},14.494999999999999,null,{"$f":"+SUM(COUNTIF($AC$3:AC37,1),COUNTIF($AC$3:AC37,-1))","v":34},{"$f":"+SUM($O$4:O37)","v":4249},124.97058823529412,{"$f":"+SUM(COUNTIF($AC$3:AC37,1))","v":21},{"$f":"+SUM(COUNTIF($AC$3:AC37,-1))","v":13},8,{"$f":"AW37*(HARMEAN((IF(SUM(COUNTIF($Z$3:Z37,1),COUNTIF($Z$3:Z37,-1))=0,1,SUM(COUNTIF($Z$3:Z37,1),COUNTIF($Z$3:Z37,-1)))),(IF(SUM(COUNTIF($AC$3:AC37,1),COUNTIF($AC$3:AC37,-1))=0,1,SUM(COUNTIF($AC$3:AC37,1),COUNTIF($AC$3:AC37,-1)))),(IF(SUM(COUNTIF($AE$3:AE37,1),COUNTIF($AE$3:AE37,-1))=0,1,SUM(COUNTIF($AE$3:AE37,1),COUNTIF($AE$3:AE37,-1)))),(IF(SUM(COUNTIF($AG$3:AG37,1),COUNTIF($AG$3:AG37,-1))=0,1,SUM(COUNTIF($AG$3:AG37,1),COUNTIF($AG$3:AG37,-1)))),(IF(SUM(COUNTIF($AI$3:AI37,1),COUNTIF($AI$3:AI37,-1))=0,1,SUM(COUNTIF($AI$3:AI37,1),COUNTIF($AI$3:AI37,-1)))),(IF(SUM(COUNTIF($AK$3:AK37,1),COUNTIF($AK$3:AK37,-1))=0,1,SUM(COUNTIF($AK$3:AK37,1),COUNTIF($AK$3:AK37,-1)))))/1000)","v":1.094688303977835},39.438000000000002,null,{"$f":"+SUM(COUNTIF($AE$3:AE37,1),COUNTIF(AE$3:$AE37,-1))","v":33},{"$f":"+SUM($Q$4:Q37)","v":4004},121.33333333333333,{"$f":"+SUM(COUNTIF($AE$3:AE37,1))","v":20},{"$f":"+SUM(COUNTIF($AE$3:AE37,-1))","v":13},7,{"$f":"BF37*(HARMEAN((IF(SUM(COUNTIF($Z$3:Z37,1),COUNTIF($Z$3:Z37,-1))=0,1,SUM(COUNTIF($Z$3:Z37,1),COUNTIF($Z$3:Z37,-1)))),(IF(SUM(COUNTIF($AC$3:AC37,1),COUNTIF($AC$3:AC37,-1))=0,1,SUM(COUNTIF($AC$3:AC37,1),COUNTIF($AC$3:AC37,-1)))),(IF(SUM(COUNTIF($AE$3:AE37,1),COUNTIF($AE$3:AE37,-1))=0,1,SUM(COUNTIF($AE$3:AE37,1),COUNTIF($AE$3:AE37,-1)))),(IF(SUM(COUNTIF($AG$3:AG37,1),COUNTIF($AG$3:AG37,-1))=0,1,SUM(COUNTIF($AG$3:AG37,1),COUNTIF($AG$3:AG37,-1)))),(IF(SUM(COUNTIF($AI$3:AI37,1),COUNTIF($AI$3:AI37,-1))=0,1,SUM(COUNTIF($AI$3:AI37,1),COUNTIF($AI$3:AI37,-1)))),(IF(SUM(COUNTIF($AK$3:AK37,1),COUNTIF($AK$3:AK37,-1))=0,1,SUM(COUNTIF($AK$3:AK37,1),COUNTIF($AK$3:AK37,-1)))))/1000)","v":1.0624915891549576},35.429000000000002,null,{"$f":"+SUM(COUNTIF($AG$3:AG37,1),COUNTIF($AG$3:AG37,-1))","v":34},{"$f":"+SUM($S$4:S37)","v":4827},141.97058823529412,{"$f":"+SUM(COUNTIF($AG$3:AG37,1))","v":16},{"$f":"+SUM(COUNTIF($AG$3:AG37,-1))","v":18},-2,{"$f":"BO37*(HARMEAN((IF(SUM(COUNTIF($Z$3:Z37,1),COUNTIF($Z$3:Z37,-1))=0,1,SUM(COUNTIF($Z$3:Z37,1),COUNTIF($Z$3:Z37,-1)))),(IF(SUM(COUNTIF($AC$3:AC37,1),COUNTIF($AC$3:AC37,-1))=0,1,SUM(COUNTIF($AC$3:AC37,1),COUNTIF($AC$3:AC37,-1)))),(IF(SUM(COUNTIF($AE$3:AE37,1),COUNTIF($AE$3:AE37,-1))=0,1,SUM(COUNTIF($AE$3:AE37,1),COUNTIF($AE$3:AE37,-1)))),(IF(SUM(COUNTIF($AG$3:AG37,1),COUNTIF($AG$3:AG37,-1))=0,1,SUM(COUNTIF($AG$3:AG37,1),COUNTIF($AG$3:AG37,-1)))),(IF(SUM(COUNTIF($AI$3:AI37,1),COUNTIF($AI$3:AI37,-1))=0,1,SUM(COUNTIF($AI$3:AI37,1),COUNTIF($AI$3:AI37,-1)))),(IF(SUM(COUNTIF($AK$3:AK37,1),COUNTIF($AK$3:AK37,-1))=0,1,SUM(COUNTIF($AK$3:AK37,1),COUNTIF($AK$3:AK37,-1)))))/1000)","v":1.094688303977835},9.1020000000000003,null,{"$f":"+SUM(COUNTIF($AI$3:AI37,1),COUNTIF($AI$3:AI37,-1))","v":30},{"$f":"+SUM($U$4:U37)","v":3723},124.1,{"$f":"+SUM(COUNTIF($AI$3:AI37,1))","v":11},{"$f":"+SUM(COUNTIF($AI$3:AI37,-1))","v":19},-8,{"$f":"+BX37*(HARMEAN((IF(SUM(COUNTIF($Z$3:Z37,1),COUNTIF($Z$3:Z37,-1))=0,1,SUM(COUNTIF($Z$3:Z37,1),COUNTIF($Z$3:Z37,-1)))),(IF(SUM(COUNTIF($AC$3:AC37,1),COUNTIF($AC$3:AC37,-1))=0,1,SUM(COUNTIF($AC$3:AC37,1),COUNTIF($AC$3:AC37,-1)))),(IF(SUM(COUNTIF($AE$3:AE37,1),COUNTIF($AE$3:AE37,-1))=0,1,SUM(COUNTIF($AE$3:AE37,1),COUNTIF($AE$3:AE37,-1)))),(IF(SUM(COUNTIF($AG$3:AG37,1),COUNTIF($AG$3:AG37,-1))=0,1,SUM(COUNTIF($AG$3:AG37,1),COUNTIF($AG$3:AG37,-1)))),(IF(SUM(COUNTIF($AI$3:AI37,1),COUNTIF($AI$3:AI37,-1))=0,1,SUM(COUNTIF($AI$3:AI37,1),COUNTIF($AI$3:AI37,-1)))),(IF(SUM(COUNTIF($AK$3:AK37,1),COUNTIF($AK$3:AK37,-1))=0,1,SUM(COUNTIF($AK$3:AK37,1),COUNTIF($AK$3:AK37,-1)))))/1000)","v":0.96590144468632511},-13.771000000000001,null,{"$f":"+SUM(COUNTIF($AK$3:AK37,1),COUNTIF($AK$3:AK37,-1))","v":29},{"$f":"+SUM($W$4:W37)","v":3012},103.86206896551724,{"$f":"+SUM(COUNTIF($AK$3:AK37,1))","v":12},{"$f":"+SUM(COUNTIF($AK$3:AK37,-1))","v":17},-5,{"$f":"+CG37*(HARMEAN((IF(SUM(COUNTIF($Z$3:Z37,1),COUNTIF($Z$3:Z37,-1))=0,1,SUM(COUNTIF($Z$3:Z37,1),COUNTIF($Z$3:Z37,-1)))),(IF(SUM(COUNTIF($AC$3:AC37,1),COUNTIF($AC$3:AC37,-1))=0,1,SUM(COUNTIF($AC$3:AC37,1),COUNTIF($AC$3:AC37,-1)))),(IF(SUM(COUNTIF($AE$3:AE37,1),COUNTIF($AE$3:AE37,-1))=0,1,SUM(COUNTIF($AE$3:AE37,1),COUNTIF($AE$3:AE37,-1)))),(IF(SUM(COUNTIF($AG$3:AG37,1),COUNTIF($AG$3:AG37,-1))=0,1,SUM(COUNTIF($AG$3:AG37,1),COUNTIF($AG$3:AG37,-1)))),(IF(SUM(COUNTIF($AI$3:AI37,1),COUNTIF($AI$3:AI37,-1))=0,1,SUM(COUNTIF($AI$3:AI37,1),COUNTIF($AI$3:AI37,-1)))),(IF(SUM(COUNTIF($AK$3:AK37,1),COUNTIF($AK$3:AK37,-1))=0,1,SUM(COUNTIF($AK$3:AK37,1),COUNTIF($AK$3:AK37,-1)))))/1000)","v":0.93370472986344755},-6.4009999999999998]
[35,"Yuri",null,{"$f":"+IFERROR(INDEX('Auswertung AoE II'!$AE:$AE,MATCH(A38,'Auswertung AoE II'!$AD:$AD,0)),\"\")","v":""},{"$f":"+IFERROR(INDEX('Auswertung AoE III'!$AE:$AE,MATCH(A38,'Auswertung AoE III'!$AD:$AD,0)),\"\")","v":""},{"$f":"+IFERROR(INDEX('Auswertung AoM'!$AE:$AE,MATCH(A38,'Auswertung AoM'!$AD:$AD,0)),\"\")","v":""},{"$f":"+IFERROR(INDEX('Auswertung RA'!$AE:$AE,MATCH(A38,'Auswertung RA'!$AD:$AD,0)),\"\")","v":""},{"$f":"+IFERROR(INDEX('Auswertung Yuri'!$AE:$AE,MATCH(A38,'Auswertung Yuri'!$AD:$AD,0)),\"\")","v":"Yuri"},{"$f":"+IFERROR(INDEX('Auswertung Generals'!$AE:$AE,MATCH(A38,'Auswertung Generals'!$AD:$AD,0)),\"\")","v":""},"Auswertung Yuri",null,null,{"$f":"+IF(ISERROR(+INDIRECT(CONCATENATE(\"'\",J38,\"'!\",(ADDRESS((COUNTIF($J$3:J38,IF(B38<>0,CONCATENATE(\"Auswertung \",B38,\"\"))))+2,2)))))=FALSE,+INDIRECT(CONCATENATE(\"'\",J38,\"'!\",(ADDRESS((COUNTIF($J$3:J38,IF(B38<>0,CONCATENATE(\"Auswertung \",B38,\"\"))))+4,2)))),\"\")","v":46},{"$f":"IF(ISERROR(+INDIRECT(CONCATENATE(\"'\",J38,\"'!\",(ADDRESS((COUNTIF($J$3:J38,IF(B38<>0,CONCATENATE(\"Auswertung \",B38,\"\"))))+2,2+1)))))=FALSE,+INDIRECT(CONCATENATE(\"'\",J38,\"'!\",(ADDRESS((COUNTIF($J$3:J38,IF(B38<>0,CONCATENATE(\"Auswertung \",B38,\"\"))))+4,2+1)))),\"\")","v":"Kor"},{"$f":"+IF(ISERROR(+INDIRECT(CONCATENATE(\"'\",J38,\"'!\",(ADDRESS((COUNTIF($J$3:J38,IF(B38<>0,CONCATENATE(\"Auswertung \",B38,\"\"))))+2,4)))))=FALSE,+INDIRECT(CONCATENATE(\"'\",J38,\"'!\",(ADDRESS((COUNTIF($J$3:J38,IF(B38<>0,CONCATENATE(\"Auswertung \",B38,\"\"))))+4,4)))),\"\")","v":33},{"$f":"+IF(ISERROR(+INDIRECT(CONCATENATE(\"'\",J38,\"'!\",(ADDRESS((COUNTIF($J$3:J38,IF(B38<>0,CONCATENATE(\"Auswertung \",B38,\"\"))))+2,5)))))=FALSE,+INDIRECT(CONCATENATE(\"'\",J38,\"'!\",(ADDRESS((COUNTIF($J$3:J38,IF(B38<>0,CONCATENATE(\"Auswertung \",B38,\"\"))))+4,5)))),\"\")","v":"Lyb"},{"$f":"+IF(ISERROR(+INDIRECT(CONCATENATE(\"'\",J38,\"'!\",(ADDRESS((COUNTIF($J$3:J38,IF(B38<>0,CONCATENATE(\"Auswertung \",B38,\"\"))))+2,6)))))=FALSE,+INDIRECT(CONCATENATE(\"'\",J38,\"'!\",(ADDRESS((COUNTIF($J$3:J38,IF(B38<>0,CONCATENATE(\"Auswertung \",B38,\"\"))))+4,6)))),\"\")","v":35},{"$f":"+IF(ISERROR(+INDIRECT(CONCATENATE(\"'\",J38,\"'!\",(ADDRESS((COUNTIF($J$3:J38,IF(B38<>0,CONCATENATE(\"Auswertung \",B38,\"\"))))+2,7)))))=FALSE,+INDIRECT(CONCATENATE(\"'\",J38,\"'!\",(ADDRESS((COUNTIF($J$3:J38,IF(B38<>0,CONCATENATE(\"Auswertung \",B38,\"\"))))+4,7)))),\"\")","v":"Kor"},{"$f":"+IF(ISERROR(+INDIRECT(CONCATENATE(\"'\",J38,\"'!\",(ADDRESS((COUNTIF($J$3:J38,IF(B38<>0,CONCATENATE(\"Auswertung \",B38,\"\"))))+2,10)))))=FALSE,+INDIRECT(CONCATENATE(\"'\",J38,\"'!\",(ADDRESS((COUNTIF($J$3:J38,IF(B38<>0,CONCATENATE(\"Auswertung \",B38,\"\"))))+4,8)))),\"\")","v":45},{"$f":"+IF(ISERROR(+INDIRECT(CONCATENATE(\"'\",J38,\"'!\",(ADDRESS((COUNTIF($J$3:J38,IF(B38<>0,CONCATENATE(\"Auswertung \",B38,\"\"))))+2,11)))))=FALSE,+INDIRECT(CONCATENATE(\"'\",J38,\"'!\",(ADDRESS((COUNTIF($J$3:J38,IF(B38<>0,CONCATENATE(\"Auswertung \",B38,\"\"))))+4,9)))),\"\")","v":"Lyb"},{"$f":"+IF(ISERROR(+INDIRECT(CONCATENATE(\"'\",J38,\"'!\",(ADDRESS((COUNTIF($J$3:J38,IF(B38<>0,CONCATENATE(\"Auswertung \",B38,\"\"))))+2,10)))))=FALSE,+INDIRECT(CONCATENATE(\"'\",J38,\"'!\",(ADDRESS((COUNTIF($J$3:J38,IF(B38<>0,CONCATENATE(\"Auswertung \",B38,\"\"))))+4,10)))),\"\")","v":20},{"$f":"+IF(ISERROR(+INDIRECT(CONCATENATE(\"'\",J38,\"'!\",(ADDRESS((COUNTIF($J$3:J38,IF(B38<>0,CONCATENATE(\"Auswertung \",B38,\"\"))))+2,11)))))=FALSE,+INDIRECT(CONCATENATE(\"'\",J38,\"'!\",(ADDRESS((COUNTIF($J$3:J38,IF(B38<>0,CONCATENATE(\"Auswertung \",B38,\"\"))))+4,11)))),\"\")","v":"Deu"},{"$f":"+IF(ISERROR(+INDIRECT(CONCATENATE(\"'\",J38,\"'!\",(ADDRESS((COUNTIF($J$3:J38,IF(D38<>0,CONCATENATE(\"Auswertung \",D38,\"\"))))+2,12)))))=FALSE,+INDIRECT(CONCATENATE(\"'\",J38,\"'!\",(ADDRESS((COUNTIF($J$3:J38,IF(D38<>0,CONCATENATE(\"Auswertung \",B38,\"\"))))+4,12)))),\"\")","v":38},{"$f":"+IF(ISERROR(+INDIRECT(CONCATENATE(\"'\",J38,\"'!\",(ADDRESS((COUNTIF($J$3:J38,IF(D38<>0,CONCATENATE(\"Auswertung \",D38,\"\"))))+2,13)))))=FALSE,+INDIRECT(CONCATENATE(\"'\",J38,\"'!\",(ADDRESS((COUNTIF($J$3:J38,IF(D38<>0,CONCATENATE(\"Auswertung \",B38,\"\"))))+4,13)))),\"\")","v":"Deu"},null,{"$f":"+IFERROR(INDIRECT(CONCATENATE(\"'\",J38,\"'!\",(ADDRESS((COUNTIF($J$3:J38,IF(B38<>0,J38)))+4,16)))),\"\")","v":1},18.420000000000002,{"$f":"+SUM($M$4:M38)/COUNT($M$4:M38)/1000*2","v":0.25988571428571428},{"$f":"+IFERROR(INDIRECT(CONCATENATE(\"'\",J38,\"'!\",(ADDRESS((COUNTIF($J$3:J38,IF(B38<>0,J38)))+4,18)))),\"\")","v":1},44.097999999999999,{"$f":"+IFERROR(INDIRECT(CONCATENATE(\"'\",J38,\"'!\",(ADDRESS((COUNTIF($J$3:J38,IF(B38<>0,J38)))+4,20)))),\"\")","v":-1},33.33,{"$f":"+IFERROR(INDIRECT(CONCATENATE(\"'\",J38,\"'!\",(ADDRESS((COUNTIF($J$3:J38,IF(B38<>0,J38)))+4,22)))),\"\")","v":-1},6.2149999999999999,{"$f":"+IFERROR(INDIRECT(CONCATENATE(\"'\",J38,\"'!\",(ADDRESS((COUNTIF($J$3:J38,IF(B38<>0,J38)))+4,24)))),\"\")","v":1},-10.814,{"$f":"+IFERROR(INDIRECT(CONCATENATE(\"'\",J38,\"'!\",(ADDRESS((COUNTIF($J$3:J38,IF(B38<>0,J38)))+4,26)))),\"\")","v":-1},-9.7940000000000005,35,{"$f":"+SUM(COUNTIF($Z$3:Z38,1),COUNTIF($Z$3:Z38,-1))","v":35},{"$f":"+SUM($M$4:M38)","v":4548},129.94285714285715,{"$f":"+SUM(COUNTIF($Z$3:Z38,1))","v":18},{"$f":"+SUM(COUNTIF($Z$3:Z38,-1))","v":17},1,{"$f":"AN38*(HARMEAN((IF(SUM(COUNTIF($Z$3:Z38,1),COUNTIF($Z$3:Z38,-1))=0,1,SUM(COUNTIF($Z$3:Z38,1),COUNTIF($Z$3:Z38,-1)))),(IF(SUM(COUNTIF($AC$3:AC38,1),COUNTIF($AC$3:AC38,-1))=0,1,SUM(COUNTIF($AC$3:AC38,1),COUNTIF($AC$3:AC38,-1)))),(IF(SUM(COUNTIF($AE$3:AE38,1),COUNTIF($AE$3:AE38,-1))=0,1,SUM(COUNTIF($AE$3:AE38,1),COUNTIF($AE$3:AE38,-1)))),(IF(SUM(COUNTIF($AG$3:AG38,1),COUNTIF($AG$3:AG38,-1))=0,1,SUM(COUNTIF($AG$3:AG38,1),COUNTIF($AG$3:AG38,-1)))),(IF(SUM(COUNTIF($AI$3:AI38,1),COUNTIF($AI$3:AI38,-1))=0,1,SUM(COUNTIF($AI$3:AI38,1),COUNTIF($AI$3:AI38,-1)))),(IF(SUM(COUNTIF($AK$3:AK38,1),COUNTIF($AK$3:AK38,-1))=0,1,SUM(COUNTIF($AK$3:AK38,1),COUNTIF($AK$3:AK38,-1)))))/1000)","v":1.1620350000000002},18.420000000000002,null,{"$f":"+SUM(COUNTIF($AC$3:AC38,1),COUNTIF($AC$3:AC38,-1))","v":35},{"$f":"+SUM($O$4:O38)","v":4282},122.34285714285714,{"$f":"+SUM(COUNTIF($AC$3:AC38,1))","v":22},{"$f":"+SUM(COUNTIF($AC$3:AC38,-1))","v":13},9,{"$f":"AW38*(HARMEAN((IF(SUM(COUNTIF($Z$3:Z38,1),COUNTIF($Z$3:Z38,-1))=0,1,SUM(COUNTIF($Z$3:Z38,1),COUNTIF($Z$3:Z38,-1)))),(IF(SUM(COUNTIF($AC$3:AC38,1),COUNTIF($AC$3:AC38,-1))=0,1,SUM(COUNTIF($AC$3:AC38,1),COUNTIF($AC$3:AC38,-1)))),(IF(SUM(COUNTIF($AE$3:AE38,1),COUNTIF($AE$3:AE38,-1))=0,1,SUM(COUNTIF($AE$3:AE38,1),COUNTIF($AE$3:AE38,-1)))),(IF(SUM(COUNTIF($AG$3:AG38,1),COUNTIF($AG$3:AG38,-1))=0,1,SUM(COUNTIF($AG$3:AG38,1),COUNTIF($AG$3:AG38,-1)))),(IF(SUM(COUNTIF($AI$3:AI38,1),COUNTIF($AI$3:AI38,-1))=0,1,SUM(COUNTIF($AI$3:AI38,1),COUNTIF($AI$3:AI38,-1)))),(IF(SUM(COUNTIF($AK$3:AK38,1),COUNTIF($AK$3:AK38,-1))=0,1,SUM(COUNTIF($AK$3:AK38,1),COUNTIF($AK$3:AK38,-1)))))/1000)","v":1.1620350000000002},44.097999999999999,null,{"$f":"+SUM(COUNTIF($AE$3:AE38,1),COUNTIF(AE$3:$AE38,-1))","v":34},{"$f":"+SUM($Q$4:Q38)","v":4039},118.79411764705883,{"$f":"+SUM(COUNTIF($AE$3:AE38,1))","v":20},{"$f":"+SUM(COUNTIF($AE$3:AE38,-1))","v":14},6,{"$f":"BF38*(HARMEAN((IF(SUM(COUNTIF($Z$3:Z38,1),COUNTIF($Z$3:Z38,-1))=0,1,SUM(COUNTIF($Z$3:Z38,1),COUNTIF($Z$3:Z38,-1)))),(IF(SUM(COUNTIF($AC$3:AC38,1),COUNTIF($AC$3:AC38,-1))=0,1,SUM(COUNTIF($AC$3:AC38,1),COUNTIF($AC$3:AC38,-1)))),(IF(SUM(COUNTIF($AE$3:AE38,1),COUNTIF($AE$3:AE38,-1))=0,1,SUM(COUNTIF($AE$3:AE38,1),COUNTIF($AE$3:AE38,-1)))),(IF(SUM(COUNTIF($AG$3:AG38,1),COUNTIF($AG$3:AG38,-1))=0,1,SUM(COUNTIF($AG$3:AG38,1),COUNTIF($AG$3:AG38,-1)))),(IF(SUM(COUNTIF($AI$3:AI38,1),COUNTIF($AI$3:AI38,-1))=0,1,SUM(COUNTIF($AI$3:AI38,1),COUNTIF($AI$3:AI38,-1)))),(IF(SUM(COUNTIF($AK$3:AK38,1),COUNTIF($AK$3:AK38,-1))=0,1,SUM(COUNTIF($AK$3:AK38,1),COUNTIF($AK$3:AK38,-1)))))/1000)","v":1.1288340000000001},33.33,null,{"$f":"+SUM(COUNTIF($AG$3:AG38,1),COUNTIF($AG$3:AG38,-1))","v":35},{"$f":"+SUM($S$4:S38)","v":4872},139.19999999999999,{"$f":"+SUM(COUNTIF($AG$3:AG38,1))","v":16},{"$f":"+SUM(COUNTIF($AG$3:AG38,-1))","v":19},-3,{"$f":"BO38*(HARMEAN((IF(SUM(COUNTIF($Z$3:Z38,1),COUNTIF($Z$3:Z38,-1))=0,1,SUM(COUNTIF($Z$3:Z38,1),COUNTIF($Z$3:Z38,-1)))),(IF(SUM(COUNTIF($AC$3:AC38,1),COUNTIF($AC$3:AC38,-1))=0,1,SUM(COUNTIF($AC$3:AC38,1),COUNTIF($AC$3:AC38,-1)))),(IF(SUM(COUNTIF($AE$3:AE38,1),COUNTIF($AE$3:AE38,-1))=0,1,SUM(COUNTIF($AE$3:AE38,1),COUNTIF($AE$3:AE38,-1)))),(IF(SUM(COUNTIF($AG$3:AG38,1),COUNTIF($AG$3:AG38,-1))=0,1,SUM(COUNTIF($AG$3:AG38,1),COUNTIF($AG$3:AG38,-1)))),(IF(SUM(COUNTIF($AI$3:AI38,1),COUNTIF($AI$3:AI38,-1))=0,1,SUM(COUNTIF($AI$3:AI38,1),COUNTIF($AI$3:AI38,-1)))),(IF(SUM(COUNTIF($AK$3:AK38,1),COUNTIF($AK$3:AK38,-1))=0,1,SUM(COUNTIF($AK$3:AK38,1),COUNTIF($AK$3:AK38,-1)))))/1000)","v":1.1620350000000002},6.2149999999999999,null,{"$f":"+SUM(COUNTIF($AI$3:AI38,1),COUNTIF($AI$3:AI38,-1))","v":31},{"$f":"+SUM($U$4:U38)","v":3743},120.74193548387096,{"$f":"+SUM(COUNTIF($AI$3:AI38,1))","v":12},{"$f":"+SUM(COUNTIF($AI$3:AI38,-1))","v":19},-7,{"$f":"+BX38*(HARMEAN((IF(SUM(COUNTIF($Z$3:Z38,1),COUNTIF($Z$3:Z38,-1))=0,1,SUM(COUNTIF($Z$3:Z38,1),COUNTIF($Z$3:Z38,-1)))),(IF(SUM(COUNTIF($AC$3:AC38,1),COUNTIF($AC$3:AC38,-1))=0,1,SUM(COUNTIF($AC$3:AC38,1),COUNTIF($AC$3:AC38,-1)))),(IF(SUM(COUNTIF($AE$3:AE38,1),COUNTIF($AE$3:AE38,-1))=0,1,SUM(COUNTIF($AE$3:AE38,1),COUNTIF($AE$3:AE38,-1)))),(IF(SUM(COUNTIF($AG$3:AG38,1),COUNTIF($AG$3:AG38,-1))=0,1,SUM(COUNTIF($AG$3:AG38,1),COUNTIF($AG$3:AG38,-1)))),(IF(SUM(COUNTIF($AI$3:AI38,1),COUNTIF($AI$3:AI38,-1))=0,1,SUM(COUNTIF($AI$3:AI38,1),COUNTIF($AI$3:AI38,-1)))),(IF(SUM(COUNTIF($AK$3:AK38,1),COUNTIF($AK$3:AK38,-1))=0,1,SUM(COUNTIF($AK$3:AK38,1),COUNTIF($AK$3:AK38,-1)))))/1000)","v":1.029231},-10.814,null,{"$f":"+SUM(COUNTIF($AK$3:AK38,1),COUNTIF($AK$3:AK38,-1))","v":30},{"$f":"+SUM($W$4:W38)","v":3050},101.66666666666667,{"$f":"+SUM(COUNTIF($AK$3:AK38,1))","v":12},{"$f":"+SUM(COUNTIF($AK$3:AK38,-1))","v":18},-6,{"$f":"+CG38*(HARMEAN((IF(SUM(COUNTIF($Z$3:Z38,1),COUNTIF($Z$3:Z38,-1))=0,1,SUM(COUNTIF($Z$3:Z38,1),COUNTIF($Z$3:Z38,-1)))),(IF(SUM(COUNTIF($AC$3:AC38,1),COUNTIF($AC$3:AC38,-1))=0,1,SUM(COUNTIF($AC$3:AC38,1),COUNTIF($AC$3:AC38,-1)))),(IF(SUM(COUNTIF($AE$3:AE38,1),COUNTIF($AE$3:AE38,-1))=0,1,SUM(COUNTIF($AE$3:AE38,1),COUNTIF($AE$3:AE38,-1)))),(IF(SUM(COUNTIF($AG$3:AG38,1),COUNTIF($AG$3:AG38,-1))=0,1,SUM(COUNTIF($AG$3:AG38,1),COUNTIF($AG$3:AG38,-1)))),(IF(SUM(COUNTIF($AI$3:AI38,1),COUNTIF($AI$3:AI38,-1))=0,1,SUM(COUNTIF($AI$3:AI38,1),COUNTIF($AI$3:AI38,-1)))),(IF(SUM(COUNTIF($AK$3:AK38,1),COUNTIF($AK$3:AK38,-1))=0,1,SUM(COUNTIF($AK$3:AK38,1),COUNTIF($AK$3:AK38,-1)))))/1000)","v":0.99603000000000008},-9.7940000000000005]
[36,"AoE III",null,{"$f":"+IFERROR(INDEX('Auswertung AoE II'!$AE:$AE,MATCH(A39,'Auswertung AoE II'!$AD:$AD,0)),\"\")","v":""},{"$f":"+IFERROR(INDEX('Auswertung AoE III'!$AE:$AE,MATCH(A39,'Auswertung AoE III'!$AD:$AD,0)),\"\")","v":"AoE III"},{"$f":"+IFERROR(INDEX('Auswertung AoM'!$AE:$AE,MATCH(A39,'Auswertung AoM'!$AD:$AD,0)),\"\")","v":""},{"$f":"+IFERROR(INDEX('Auswertung RA'!$AE:$AE,MATCH(A39,'Auswertung RA'!$AD:$AD,0)),\"\")","v":""},{"$f":"+IFERROR(INDEX('Auswertung Yuri'!$AE:$AE,MATCH(A39,'Auswertung Yuri'!$AD:$AD,0)),\"\")","v":""},{"$f":"+IFERROR(INDEX('Auswertung Generals'!$AE:$AE,MATCH(A39,'Auswertung Generals'!$AD:$AD,0)),\"\")","v":""},"Auswertung AoE III",null,null,{"$f":"+IF(ISERROR(+INDIRECT(CONCATENATE(\"'\",J39,\"'!\",(ADDRESS((COUNTIF($J$3:J39,IF(B39<>0,CONCATENATE(\"Auswertung \",B39,\"\"))))+2,2)))))=FALSE,+INDIRECT(CONCATENATE(\"'\",J39,\"'!\",(ADDRESS((COUNTIF($J$3:J39,IF(B39<>0,CONCATENATE(\"Auswertung \",B39,\"\"))))+4,2)))),\"\")","v":302},{"$f":"IF(ISERROR(+INDIRECT(CONCATENATE(\"'\",J39,\"'!\",(ADDRESS((COUNTIF($J$3:J39,IF(B39<>0,CONCATENATE(\"Auswertung \",B39,\"\"))))+2,2+1)))))=FALSE,+INDIRECT(CONCATENATE(\"'\",J39,\"'!\",(ADDRESS((COUNTIF($J$3:J39,IF(B39<>0,CONCATENATE(\"Auswertung \",B39,\"\"))))+4,2+1)))),\"\")","v":"Chi"},{"$f":"+IF(ISERROR(+INDIRECT(CONCATENATE(\"'\",J39,\"'!\",(ADDRESS((COUNTIF($J$3:J39,IF(B39<>0,CONCATENATE(\"Auswertung \",B39,\"\"))))+2,4)))))=FALSE,+INDIRECT(CONCATENATE(\"'\",J39,\"'!\",(ADDRESS((COUNTIF($J$3:J39,IF(B39<>0,CONCATENATE(\"Auswertung \",B39,\"\"))))+4,4)))),\"\")","v":438},{"$f":"+IF(ISERROR(+INDIRECT(CONCATENATE(\"'\",J39,\"'!\",(ADDRESS((COUNTIF($J$3:J39,IF(B39<>0,CONCATENATE(\"Auswertung \",B39,\"\"))))+2,5)))))=FALSE,+INDIRECT(CONCATENATE(\"'\",J39,\"'!\",(ADDRESS((COUNTIF($J$3:J39,IF(B39<>0,CONCATENATE(\"Auswertung \",B39,\"\"))))+4,5)))),\"\")","v":"Chi"},{"$f":"+IF(ISERROR(+INDIRECT(CONCATENATE(\"'\",J39,\"'!\",(ADDRESS((COUNTIF($J$3:J39,IF(B39<>0,CONCATENATE(\"Auswertung \",B39,\"\"))))+2,6)))))=FALSE,+INDIRECT(CONCATENATE(\"'\",J39,\"'!\",(ADDRESS((COUNTIF($J$3:J39,IF(B39<>0,CONCATENATE(\"Auswertung \",B39,\"\"))))+4,6)))),\"\")","v":346},{"$f":"+IF(ISERROR(+INDIRECT(CONCATENATE(\"'\",J39,\"'!\",(ADDRESS((COUNTIF($J$3:J39,IF(B39<>0,CONCATENATE(\"Auswertung \",B39,\"\"))))+2,7)))))=FALSE,+INDIRECT(CONCATENATE(\"'\",J39,\"'!\",(ADDRESS((COUNTIF($J$3:J39,IF(B39<>0,CONCATENATE(\"Auswertung \",B39,\"\"))))+4,7)))),\"\")","v":"Azt"},{"$f":"+IF(ISERROR(+INDIRECT(CONCATENATE(\"'\",J39,\"'!\",(ADDRESS((COUNTIF($J$3:J39,IF(B39<>0,CONCATENATE(\"Auswertung \",B39,\"\"))))+2,10)))))=FALSE,+INDIRECT(CONCATENATE(\"'\",J39,\"'!\",(ADDRESS((COUNTIF($J$3:J39,IF(B39<>0,CONCATENATE(\"Auswertung \",B39,\"\"))))+4,8)))),\"\")","v":291},{"$f":"+IF(ISERROR(+INDIRECT(CONCATENATE(\"'\",J39,\"'!\",(ADDRESS((COUNTIF($J$3:J39,IF(B39<>0,CONCATENATE(\"Auswertung \",B39,\"\"))))+2,11)))))=FALSE,+INDIRECT(CONCATENATE(\"'\",J39,\"'!\",(ADDRESS((COUNTIF($J$3:J39,IF(B39<>0,CONCATENATE(\"Auswertung \",B39,\"\"))))+4,9)))),\"\")","v":"Deu"},{"$f":"+IF(ISERROR(+INDIRECT(CONCATENATE(\"'\",J39,\"'!\",(ADDRESS((COUNTIF($J$3:J39,IF(B39<>0,CONCATENATE(\"Auswertung \",B39,\"\"))))+2,10)))))=FALSE,+INDIRECT(CONCATENATE(\"'\",J39,\"'!\",(ADDRESS((COUNTIF($J$3:J39,IF(B39<>0,CONCATENATE(\"Auswertung \",B39,\"\"))))+4,10)))),\"\")","v":222},{"$f":"+IF(ISERROR(+INDIRECT(CONCATENATE(\"'\",J39,\"'!\",(ADDRESS((COUNTIF($J$3:J39,IF(B39<>0,CONCATENATE(\"Auswertung \",B39,\"\"))))+2,11)))))=FALSE,+INDIRECT(CONCATENATE(\"'\",J39,\"'!\",(ADDRESS((COUNTIF($J$3:J39,IF(B39<>0,CONCATENATE(\"Auswertung \",B39,\"\"))))+4,11)))),\"\")","v":"Azt"},{"$f":"+IF(ISERROR(+INDIRECT(CONCATENATE(\"'\",J39,\"'!\",(ADDRESS((COUNTIF($J$3:J39,IF(D39<>0,CONCATENATE(\"Auswertung \",D39,\"\"))))+2,12)))))=FALSE,+INDIRECT(CONCATENATE(\"'\",J39,\"'!\",(ADDRESS((COUNTIF($J$3:J39,IF(D39<>0,CONCATENATE(\"Auswertung \",B39,\"\"))))+4,12)))),\"\")","v":199},{"$f":"+IF(ISERROR(+INDIRECT(CONCATENATE(\"'\",J39,\"'!\",(ADDRESS((COUNTIF($J$3:J39,IF(D39<>0,CONCATENATE(\"Auswertung \",D39,\"\"))))+2,13)))))=FALSE,+INDIRECT(CONCATENATE(\"'\",J39,\"'!\",(ADDRESS((COUNTIF($J$3:J39,IF(D39<>0,CONCATENATE(\"Auswertung \",B39,\"\"))))+4,13)))),\"\")","v":"Deu"},null,{"$f":"+IFERROR(INDIRECT(CONCATENATE(\"'\",J39,\"'!\",(ADDRESS((COUNTIF($J$3:J39,IF(B39<>0,J39)))+4,16)))),\"\")","v":1},23.43,{"$f":"+SUM($M$4:M39)/COUNT($M$4:M39)/1000*2","v":0.26944444444444443},{"$f":"+IFERROR(INDIRECT(CONCATENATE(\"'\",J39,\"'!\",(ADDRESS((COUNTIF($J$3:J39,IF(B39<>0,J39)))+4,18)))),\"\")","v":-1},43.509,{"$f":"+IFERROR(INDIRECT(CONCATENATE(\"'\",J39,\"'!\",(ADDRESS((COUNTIF($J$3:J39,IF(B39<>0,J39)))+4,20)))),\"\")","v":1},38.942,{"$f":"+IFERROR(INDIRECT(CONCATENATE(\"'\",J39,\"'!\",(ADDRESS((COUNTIF($J$3:J39,IF(B39<>0,J39)))+4,22)))),\"\")","v":1},10.819000000000001,{"$f":"+IFERROR(INDIRECT(CONCATENATE(\"'\",J39,\"'!\",(ADDRESS((COUNTIF($J$3:J39,IF(B39<>0,J39)))+4,24)))),\"\")","v":-1},-13.802,{"$f":"+IFERROR(INDIRECT(CONCATENATE(\"'\",J39,\"'!\",(ADDRESS((COUNTIF($J$3:J39,IF(B39<>0,J39)))+4,26)))),\"\")","v":-1},-12.83,36,{"$f":"+SUM(COUNTIF($Z$3:Z39,1),COUNTIF($Z$3:Z39,-1))","v":36},{"$f":"+SUM($M$4:M39)","v":4850},134.72222222222223,{"$f":"+SUM(COUNTIF($Z$3:Z39,1))","v":19},{"$f":"+SUM(COUNTIF($Z$3:Z39,-1))","v":17},2,{"$f":"AN39*(HARMEAN((IF(SUM(COUNTIF($Z$3:Z39,1),COUNTIF($Z$3:Z39,-1))=0,1,SUM(COUNTIF($Z$3:Z39,1),COUNTIF($Z$3:Z39,-1)))),(IF(SUM(COUNTIF($AC$3:AC39,1),COUNTIF($AC$3:AC39,-1))=0,1,SUM(COUNTIF($AC$3:AC39,1),COUNTIF($AC$3:AC39,-1)))),(IF(SUM(COUNTIF($AE$3:AE39,1),COUNTIF($AE$3:AE39,-1))=0,1,SUM(COUNTIF($AE$3:AE39,1),COUNTIF($AE$3:AE39,-1)))),(IF(SUM(COUNTIF($AG$3:AG39,1),COUNTIF($AG$3:AG39,-1))=0,1,SUM(COUNTIF($AG$3:AG39,1),COUNTIF($AG$3:AG39,-1)))),(IF(SUM(COUNTIF($AI$3:AI39,1),COUNTIF($AI$3:AI39,-1))=0,1,SUM(COUNTIF($AI$3:AI39,1),COUNTIF($AI$3:AI39,-1)))),(IF(SUM(COUNTIF($AK$3:AK39,1),COUNTIF($AK$3:AK39,-1))=0,1,SUM(COUNTIF($AK$3:AK39,1),COUNTIF($AK$3:AK39,-1)))))/1000)","v":1.2313808767992993},23.43,null,{"$f":"+SUM(COUNTIF($AC$3:AC39,1),COUNTIF($AC$3:AC39,-1))","v":36},{"$f":"+SUM($O$4:O39)","v":4720},131.11111111111111,{"$f":"+SUM(COUNTIF($AC$3:AC39,1))","v":22},{"$f":"+SUM(COUNTIF($AC$3:AC39,-1))","v":14},8,{"$f":"AW39*(HARMEAN((IF(SUM(COUNTIF($Z$3:Z39,1),COUNTIF($Z$3:Z39,-1))=0,1,SUM(COUNTIF($Z$3:Z39,1),COUNTIF($Z$3:Z39,-1)))),(IF(SUM(COUNTIF($AC$3:AC39,1),COUNTIF($AC$3:AC39,-1))=0,1,SUM(COUNTIF($AC$3:AC39,1),COUNTIF($AC$3:AC39,-1)))),(IF(SUM(COUNTIF($AE$3:AE39,1),COUNTIF($AE$3:AE39,-1))=0,1,SUM(COUNTIF($AE$3:AE39,1),COUNTIF($AE$3:AE39,-1)))),(IF(SUM(COUNTIF($AG$3:AG39,1),COUNTIF($AG$3:AG39,-1))=0,1,SUM(COUNTIF($AG$3:AG39,1),COUNTIF($AG$3:AG39,-1)))),(IF(SUM(COUNTIF($AI$3:AI39,1),COUNTIF($AI$3:AI39,-1))=0,1,SUM(COUNTIF($AI$3:AI39,1),COUNTIF($AI$3:AI39,-1)))),(IF(SUM(COUNTIF($AK$3:AK39,1),COUNTIF($AK$3:AK39,-1))=0,1,SUM(COUNTIF($AK$3:AK39,1),COUNTIF($AK$3:AK39,-1)))))/1000)","v":1.2313808767992993},43.509,null,{"$f":"+SUM(COUNTIF($AE$3:AE39,1),COUNTIF(AE$3:$AE39,-1))","v":35},{"$f":"+SUM($Q$4:Q39)","v":4385},125.28571428571429,{"$f":"+SUM(COUNTIF($AE$3:AE39,1))","v":21},{"$f":"+SUM(COUNTIF($AE$3:AE39,-1))","v":14},7,{"$f":"BF39*(HARMEAN((IF(SUM(COUNTIF($Z$3:Z39,1),COUNTIF($Z$3:Z39,-1))=0,1,SUM(COUNTIF($Z$3:Z39,1),COUNTIF($Z$3:Z39,-1)))),(IF(SUM(COUNTIF($AC$3:AC39,1),COUNTIF($AC$3:AC39,-1))=0,1,SUM(COUNTIF($AC$3:AC39,1),COUNTIF($AC$3:AC39,-1)))),(IF(SUM(COUNTIF($AE$3:AE39,1),COUNTIF($AE$3:AE39,-1))=0,1,SUM(COUNTIF($AE$3:AE39,1),COUNTIF($AE$3:AE39,-1)))),(IF(SUM(COUNTIF($AG$3:AG39,1),COUNTIF($AG$3:AG39,-1))=0,1,SUM(COUNTIF($AG$3:AG39,1),COUNTIF($AG$3:AG39,-1)))),(IF(SUM(COUNTIF($AI$3:AI39,1),COUNTIF($AI$3:AI39,-1))=0,1,SUM(COUNTIF($AI$3:AI39,1),COUNTIF($AI$3:AI39,-1)))),(IF(SUM(COUNTIF($AK$3:AK39,1),COUNTIF($AK$3:AK39,-1))=0,1,SUM(COUNTIF($AK$3:AK39,1),COUNTIF($AK$3:AK39,-1)))))/1000)","v":1.1971758524437632},38.942,null,{"$f":"+SUM(COUNTIF($AG$3:AG39,1),COUNTIF($AG$3:AG39,-1))","v":36},{"$f":"+SUM($S$4:S39)","v":5163},143.41666666666666,{"$f":"+SUM(COUNTIF($AG$3:AG39,1))","v":17},{"$f":"+SUM(COUNTIF($AG$3:AG39,-1))","v":19},-2,{"$f":"BO39*(HARMEAN((IF(SUM(COUNTIF($Z$3:Z39,1),COUNTIF($Z$3:Z39,-1))=0,1,SUM(COUNTIF($Z$3:Z39,1),COUNTIF($Z$3:Z39,-1)))),(IF(SUM(COUNTIF($AC$3:AC39,1),COUNTIF($AC$3:AC39,-1))=0,1,SUM(COUNTIF($AC$3:AC39,1),COUNTIF($AC$3:AC39,-1)))),(IF(SUM(COUNTIF($AE$3:AE39,1),COUNTIF($AE$3:AE39,-1))=0,1,SUM(COUNTIF($AE$3:AE39,1),COUNTIF($AE$3:AE39,-1)))),(IF(SUM(COUNTIF($AG$3:AG39,1),COUNTIF($AG$3:AG39,-1))=0,1,SUM(COUNTIF($AG$3:AG39,1),COUNTIF($AG$3:AG39,-1)))),(IF(SUM(COUNTIF($AI$3:AI39,1),COUNTIF($AI$3:AI39,-1))=0,1,SUM(COUNTIF($AI$3:AI39,1),COUNTIF($AI$3:AI39,-1)))),(IF(SUM(COUNTIF($AK$3:AK39,1),COUNTIF($AK$3:AK39,-1))=0,1,SUM(COUNTIF($AK$3:AK39,1),COUNTIF($AK$3:AK39,-1)))))/1000)","v":1.2313808767992993},10.819000000000001,null,{"$f":"+SUM(COUNTIF($AI$3:AI39,1),COUNTIF($AI$3:AI39,-1))","v":32},{"$f":"+SUM($U$4:U39)","v":3965},123.90625,{"$f":"+SUM(COUNTIF($AI$3:AI39,1))","v":12},{"$f":"+SUM(COUNTIF($AI$3:AI39,-1))","v":20},-8,{"$f":"+BX39*(HARMEAN((IF(SUM(COUNTIF($Z$3:Z39,1),COUNTIF($Z$3:Z39,-1))=0,1,SUM(COUNTIF($Z$3:Z39,1),COUNTIF($Z$3:Z39,-1)))),(IF(SUM(COUNTIF($AC$3:AC39,1),COUNTIF($AC$3:AC39,-1))=0,1,SUM(COUNTIF($AC$3:AC39,1),COUNTIF($AC$3:AC39,-1)))),(IF(SUM(COUNTIF($AE$3:AE39,1),COUNTIF($AE$3:AE39,-1))=0,1,SUM(COUNTIF($AE$3:AE39,1),COUNTIF($AE$3:AE39,-1)))),(IF(SUM(COUNTIF($AG$3:AG39,1),COUNTIF($AG$3:AG39,-1))=0,1,SUM(COUNTIF($AG$3:AG39,1),COUNTIF($AG$3:AG39,-1)))),(IF(SUM(COUNTIF($AI$3:AI39,1),COUNTIF($AI$3:AI39,-1))=0,1,SUM(COUNTIF($AI$3:AI39,1),COUNTIF($AI$3:AI39,-1)))),(IF(SUM(COUNTIF($AK$3:AK39,1),COUNTIF($AK$3:AK39,-1))=0,1,SUM(COUNTIF($AK$3:AK39,1),COUNTIF($AK$3:AK39,-1)))))/1000)","v":1.094560779377155},-13.802,null,{"$f":"+SUM(COUNTIF($AK$3:AK39,1),COUNTIF($AK$3:AK39,-1))","v":31},{"$f":"+SUM($W$4:W39)","v":3249},104.80645161290323,{"$f":"+SUM(COUNTIF($AK$3:AK39,1))","v":12},{"$f":"+SUM(COUNTIF($AK$3:AK39,-1))","v":19},-7,{"$f":"+CG39*(HARMEAN((IF(SUM(COUNTIF($Z$3:Z39,1),COUNTIF($Z$3:Z39,-1))=0,1,SUM(COUNTIF($Z$3:Z39,1),COUNTIF($Z$3:Z39,-1)))),(IF(SUM(COUNTIF($AC$3:AC39,1),COUNTIF($AC$3:AC39,-1))=0,1,SUM(COUNTIF($AC$3:AC39,1),COUNTIF($AC$3:AC39,-1)))),(IF(SUM(COUNTIF($AE$3:AE39,1),COUNTIF($AE$3:AE39,-1))=0,1,SUM(COUNTIF($AE$3:AE39,1),COUNTIF($AE$3:AE39,-1)))),(IF(SUM(COUNTIF($AG$3:AG39,1),COUNTIF($AG$3:AG39,-1))=0,1,SUM(COUNTIF($AG$3:AG39,1),COUNTIF($AG$3:AG39,-1)))),(IF(SUM(COUNTIF($AI$3:AI39,1),COUNTIF($AI$3:AI39,-1))=0,1,SUM(COUNTIF($AI$3:AI39,1),COUNTIF($AI$3:AI39,-1)))),(IF(SUM(COUNTIF($AK$3:AK39,1),COUNTIF($AK$3:AK39,-1))=0,1,SUM(COUNTIF($AK$3:AK39,1),COUNTIF($AK$3:AK39,-1)))))/1000)","v":1.0603557550216189},-12.83]
[37,"AoM",null,{"$f":"+IFERROR(INDEX('Auswertung AoE II'!$AE:$AE,MATCH(A40,'Auswertung AoE II'!$AD:$AD,0)),\"\")","v":""},{"$f":"+IFERROR(INDEX('Auswertung AoE III'!$AE:$AE,MATCH(A40,'Auswertung AoE III'!$AD:$AD,0)),\"\")","v":""},{"$f":"+IFERROR(INDEX('Auswertung AoM'!$AE:$AE,MATCH(A40,'Auswertung AoM'!$AD:$AD,0)),\"\")","v":"AoM"},{"$f":"+IFERROR(INDEX('Auswertung RA'!$AE:$AE,MATCH(A40,'Auswertung RA'!$AD:$AD,0)),\"\")","v":""},{"$f":"+IFERROR(INDEX('Auswertung Yuri'!$AE:$AE,MATCH(A40,'Auswertung Yuri'!$AD:$AD,0)),\"\")","v":""},{"$f":"+IFERROR(INDEX('Auswertung Generals'!$AE:$AE,MATCH(A40,'Auswertung Generals'!$AD:$AD,0)),\"\")","v":""},"Auswertung AoM",null,null,{"$f":"+IF(ISERROR(+INDIRECT(CONCATENATE(\"'\",J40,\"'!\",(ADDRESS((COUNTIF($J$3:J40,IF(B40<>0,CONCATENATE(\"Auswertung \",B40,\"\"))))+2,2)))))=FALSE,+INDIRECT(CONCATENATE(\"'\",J40,\"'!\",(ADDRESS((COUNTIF($J$3:J40,IF(B40<>0,CONCATENATE(\"Auswertung \",B40,\"\"))))+4,2)))),\"\")","v":382},{"$f":"IF(ISERROR(+INDIRECT(CONCATENATE(\"'\",J40,\"'!\",(ADDRESS((COUNTIF($J$3:J40,IF(B40<>0,CONCATENATE(\"Auswertung \",B40,\"\"))))+2,2+1)))))=FALSE,+INDIRECT(CONCATENATE(\"'\",J40,\"'!\",(ADDRESS((COUNTIF($J$3:J40,IF(B40<>0,CONCATENATE(\"Auswertung \",B40,\"\"))))+4,2+1)))),\"\")","v":"Odin"},{"$f":"+IF(ISERROR(+INDIRECT(CONCATENATE(\"'\",J40,\"'!\",(ADDRESS((COUNTIF($J$3:J40,IF(B40<>0,CONCATENATE(\"Auswertung \",B40,\"\"))))+2,4)))))=FALSE,+INDIRECT(CONCATENATE(\"'\",J40,\"'!\",(ADDRESS((COUNTIF($J$3:J40,IF(B40<>0,CONCATENATE(\"Auswertung \",B40,\"\"))))+4,4)))),\"\")","v":556},{"$f":"+IF(ISERROR(+INDIRECT(CONCATENATE(\"'\",J40,\"'!\",(ADDRESS((COUNTIF($J$3:J40,IF(B40<>0,CONCATENATE(\"Auswertung \",B40,\"\"))))+2,5)))))=FALSE,+INDIRECT(CONCATENATE(\"'\",J40,\"'!\",(ADDRESS((COUNTIF($J$3:J40,IF(B40<>0,CONCATENATE(\"Auswertung \",B40,\"\"))))+4,5)))),\"\")","v":"Zeus"},{"$f":"+IF(ISERROR(+INDIRECT(CONCATENATE(\"'\",J40,\"'!\",(ADDRESS((COUNTIF($J$3:J40,IF(B40<>0,CONCATENATE(\"Auswertung \",B40,\"\"))))+2,6)))))=FALSE,+INDIRECT(CONCATENATE(\"'\",J40,\"'!\",(ADDRESS((COUNTIF($J$3:J40,IF(B40<>0,CONCATENATE(\"Auswertung \",B40,\"\"))))+4,6)))),\"\")","v":182},{"$f":"+IF(ISERROR(+INDIRECT(CONCATENATE(\"'\",J40,\"'!\",(ADDRESS((COUNTIF($J$3:J40,IF(B40<>0,CONCATENATE(\"Auswertung \",B40,\"\"))))+2,7)))))=FALSE,+INDIRECT(CONCATENATE(\"'\",J40,\"'!\",(ADDRESS((COUNTIF($J$3:J40,IF(B40<>0,CONCATENATE(\"Auswertung \",B40,\"\"))))+4,7)))),\"\")","v":"Re"},{"$f":"+IF(ISERROR(+INDIRECT(CONCATENATE(\"'\",J40,\"'!\",(ADDRESS((COUNTIF($J$3:J40,IF(B40<>0,CONCATENATE(\"Auswertung \",B40,\"\"))))+2,10)))))=FALSE,+INDIRECT(CONCATENATE(\"'\",J40,\"'!\",(ADDRESS((COUNTIF($J$3:J40,IF(B40<>0,CONCATENATE(\"Auswertung \",B40,\"\"))))+4,8)))),\"\")","v":424},{"$f":"+IF(ISERROR(+INDIRECT(CONCATENATE(\"'\",J40,\"'!\",(ADDRESS((COUNTIF($J$3:J40,IF(B40<>0,CONCATENATE(\"Auswertung \",B40,\"\"))))+2,11)))))=FALSE,+INDIRECT(CONCATENATE(\"'\",J40,\"'!\",(ADDRESS((COUNTIF($J$3:J40,IF(B40<>0,CONCATENATE(\"Auswertung \",B40,\"\"))))+4,9)))),\"\")","v":"Odin"},{"$f":"+IF(ISERROR(+INDIRECT(CONCATENATE(\"'\",J40,\"'!\",(ADDRESS((COUNTIF($J$3:J40,IF(B40<>0,CONCATENATE(\"Auswertung \",B40,\"\"))))+2,10)))))=FALSE,+INDIRECT(CONCATENATE(\"'\",J40,\"'!\",(ADDRESS((COUNTIF($J$3:J40,IF(B40<>0,CONCATENATE(\"Auswertung \",B40,\"\"))))+4,10)))),\"\")","v":178},{"$f":"+IF(ISERROR(+INDIRECT(CONCATENATE(\"'\",J40,\"'!\",(ADDRESS((COUNTIF($J$3:J40,IF(B40<>0,CONCATENATE(\"Auswertung \",B40,\"\"))))+2,11)))))=FALSE,+INDIRECT(CONCATENATE(\"'\",J40,\"'!\",(ADDRESS((COUNTIF($J$3:J40,IF(B40<>0,CONCATENATE(\"Auswertung \",B40,\"\"))))+4,11)))),\"\")","v":"Zeus"},{"$f":"+IF(ISERROR(+INDIRECT(CONCATENATE(\"'\",J40,\"'!\",(ADDRESS((COUNTIF($J$3:J40,IF(D40<>0,CONCATENATE(\"Auswertung \",D40,\"\"))))+2,12)))))=FALSE,+INDIRECT(CONCATENATE(\"'\",J40,\"'!\",(ADDRESS((COUNTIF($J$3:J40,IF(D40<>0,CONCATENATE(\"Auswertung \",B40,\"\"))))+4,12)))),\"\")","v":342},{"$f":"+IF(ISERROR(+INDIRECT(CONCATENATE(\"'\",J40,\"'!\",(ADDRESS((COUNTIF($J$3:J40,IF(D40<>0,CONCATENATE(\"Auswertung \",D40,\"\"))))+2,13)))))=FALSE,+INDIRECT(CONCATENATE(\"'\",J40,\"'!\",(ADDRESS((COUNTIF($J$3:J40,IF(D40<>0,CONCATENATE(\"Auswertung \",B40,\"\"))))+4,13)))),\"\")","v":"Re"},null,{"$f":"+IFERROR(INDIRECT(CONCATENATE(\"'\",J40,\"'!\",(ADDRESS((COUNTIF($J$3:J40,IF(B40<>0,J40)))+4,16)))),\"\")","v":-1},21.942,{"$f":"+SUM($M$4:M40)/COUNT($M$4:M40)/1000*2","v":0.28281081081081083},{"$f":"+IFERROR(INDIRECT(CONCATENATE(\"'\",J40,\"'!\",(ADDRESS((COUNTIF($J$3:J40,IF(B40<>0,J40)))+4,18)))),\"\")","v":1},50.264000000000003,{"$f":"+IFERROR(INDIRECT(CONCATENATE(\"'\",J40,\"'!\",(ADDRESS((COUNTIF($J$3:J40,IF(B40<>0,J40)))+4,20)))),\"\")","v":1},44.247,{"$f":"+IFERROR(INDIRECT(CONCATENATE(\"'\",J40,\"'!\",(ADDRESS((COUNTIF($J$3:J40,IF(B40<>0,J40)))+4,22)))),\"\")","v":1},16.149999999999999,{"$f":"+IFERROR(INDIRECT(CONCATENATE(\"'\",J40,\"'!\",(ADDRESS((COUNTIF($J$3:J40,IF(B40<>0,J40)))+4,24)))),\"\")","v":-1},-17.100999999999999,{"$f":"+IFERROR(INDIRECT(CONCATENATE(\"'\",J40,\"'!\",(ADDRESS((COUNTIF($J$3:J40,IF(B40<>0,J40)))+4,26)))),\"\")","v":-1},-15.523999999999999,37,{"$f":"+SUM(COUNTIF($Z$3:Z40,1),COUNTIF($Z$3:Z40,-1))","v":37},{"$f":"+SUM($M$4:M40)","v":5232},141.40540540540542,{"$f":"+SUM(COUNTIF($Z$3:Z40,1))","v":19},{"$f":"+SUM(COUNTIF($Z$3:Z40,-1))","v":18},1,{"$f":"AN40*(HARMEAN((IF(SUM(COUNTIF($Z$3:Z40,1),COUNTIF($Z$3:Z40,-1))=0,1,SUM(COUNTIF($Z$3:Z40,1),COUNTIF($Z$3:Z40,-1)))),(IF(SUM(COUNTIF($AC$3:AC40,1),COUNTIF($AC$3:AC40,-1))=0,1,SUM(COUNTIF($AC$3:AC40,1),COUNTIF($AC$3:AC40,-1)))),(IF(SUM(COUNTIF($AE$3:AE40,1),COUNTIF($AE$3:AE40,-1))=0,1,SUM(COUNTIF($AE$3:AE40,1),COUNTIF($AE$3:AE40,-1)))),(IF(SUM(COUNTIF($AG$3:AG40,1),COUNTIF($AG$3:AG40,-1))=0,1,SUM(COUNTIF($AG$3:AG40,1),COUNTIF($AG$3:AG40,-1)))),(IF(SUM(COUNTIF($AI$3:AI40,1),COUNTIF($AI$3:AI40,-1))=0,1,SUM(COUNTIF($AI$3:AI40,1),COUNTIF($AI$3:AI40,-1)))),(IF(SUM(COUNTIF($AK$3:AK40,1),COUNTIF($AK$3:AK40,-1))=0,1,SUM(COUNTIF($AK$3:AK40,1),COUNTIF($AK$3:AK40,-1)))))/1000)","v":1.3027260075093867},21.942,null,{"$f":"+SUM(COUNTIF($AC$3:AC40,1),COUNTIF($AC$3:AC40,-1))","v":37},{"$f":"+SUM($O$4:O40)","v":5276},142.59459459459458,{"$f":"+SUM(COUNTIF($AC$3:AC40,1))","v":23},{"$f":"+SUM(COUNTIF($AC$3:AC40,-1))","v":14},9,{"$f":"AW40*(HARMEAN((IF(SUM(COUNTIF($Z$3:Z40,1),COUNTIF($Z$3:Z40,-1))=0,1,SUM(COUNTIF($Z$3:Z40,1),COUNTIF($Z$3:Z40,-1)))),(IF(SUM(COUNTIF($AC$3:AC40,1),COUNTIF($AC$3:AC40,-1))=0,1,SUM(COUNTIF($AC$3:AC40,1),COUNTIF($AC$3:AC40,-1)))),(IF(SUM(COUNTIF($AE$3:AE40,1),COUNTIF($AE$3:AE40,-1))=0,1,SUM(COUNTIF($AE$3:AE40,1),COUNTIF($AE$3:AE40,-1)))),(IF(SUM(COUNTIF($AG$3:AG40,1),COUNTIF($AG$3:AG40,-1))=0,1,SUM(COUNTIF($AG$3:AG40,1),COUNTIF($AG$3:AG40,-1)))),(IF(SUM(COUNTIF($AI$3:AI40,1),COUNTIF($AI$3:AI40,-1))=0,1,SUM(COUNTIF($AI$3:AI40,1),COUNTIF($AI$3:AI40,-1)))),(IF(SUM(COUNTIF($AK$3:AK40,1),COUNTIF($AK$3:AK40,-1))=0,1,SUM(COUNTIF($AK$3:AK40,1),COUNTIF($AK$3:AK40,-1)))))/1000)","v":1.3027260075093867},50.264000000000003,null,{"$f":"+SUM(COUNTIF($AE$3:AE40,1),COUNTIF(AE$3:$AE40,-1))","v":36},{"$f":"+SUM($Q$4:Q40)","v":4567},126.86111111111111,{"$f":"+SUM(COUNTIF($AE$3:AE40,1))","v":22},{"$f":"+SUM(COUNTIF($AE$3:AE40,-1))","v":14},8,{"$f":"BF40*(HARMEAN((IF(SUM(COUNTIF($Z$3:Z40,1),COUNTIF($Z$3:Z40,-1))=0,1,SUM(COUNTIF($Z$3:Z40,1),COUNTIF($Z$3:Z40,-1)))),(IF(SUM(COUNTIF($AC$3:AC40,1),COUNTIF($AC$3:AC40,-1))=0,1,SUM(COUNTIF($AC$3:AC40,1),COUNTIF($AC$3:AC40,-1)))),(IF(SUM(COUNTIF($AE$3:AE40,1),COUNTIF($AE$3:AE40,-1))=0,1,SUM(COUNTIF($AE$3:AE40,1),COUNTIF($AE$3:AE40,-1)))),(IF(SUM(COUNTIF($AG$3:AG40,1),COUNTIF($AG$3:AG40,-1))=0,1,SUM(COUNTIF($AG$3:AG40,1),COUNTIF($AG$3:AG40,-1)))),(IF(SUM(COUNTIF($AI$3:AI40,1),COUNTIF($AI$3:AI40,-1))=0,1,SUM(COUNTIF($AI$3:AI40,1),COUNTIF($AI$3:AI40,-1)))),(IF(SUM(COUNTIF($AK$3:AK40,1),COUNTIF($AK$3:AK40,-1))=0,1,SUM(COUNTIF($AK$3:AK40,1),COUNTIF($AK$3:AK40,-1)))))/1000)","v":1.2675171964956196},44.247,null,{"$f":"+SUM(COUNTIF($AG$3:AG40,1),COUNTIF($AG$3:AG40,-1))","v":37},{"$f":"+SUM($S$4:S40)","v":5587},151,{"$f":"+SUM(COUNTIF($AG$3:AG40,1))","v":18},{"$f":"+SUM(COUNTIF($AG$3:AG40,-1))","v":19},-1,{"$f":"BO40*(HARMEAN((IF(SUM(COUNTIF($Z$3:Z40,1),COUNTIF($Z$3:Z40,-1))=0,1,SUM(COUNTIF($Z$3:Z40,1),COUNTIF($Z$3:Z40,-1)))),(IF(SUM(COUNTIF($AC$3:AC40,1),COUNTIF($AC$3:AC40,-1))=0,1,SUM(COUNTIF($AC$3:AC40,1),COUNTIF($AC$3:AC40,-1)))),(IF(SUM(COUNTIF($AE$3:AE40,1),COUNTIF($AE$3:AE40,-1))=0,1,SUM(COUNTIF($AE$3:AE40,1),COUNTIF($AE$3:AE40,-1)))),(IF(SUM(COUNTIF($AG$3:AG40,1),COUNTIF($AG$3:AG40,-1))=0,1,SUM(COUNTIF($AG$3:AG40,1),COUNTIF($AG$3:AG40,-1)))),(IF(SUM(COUNTIF($AI$3:AI40,1),COUNTIF($AI$3:AI40,-1))=0,1,SUM(COUNTIF($AI$3:AI40,1),COUNTIF($AI$3:AI40,-1)))),(IF(SUM(COUNTIF($AK$3:AK40,1),COUNTIF($AK$3:AK40,-1))=0,1,SUM(COUNTIF($AK$3:AK40,1),COUNTIF($AK$3:AK40,-1)))))/1000)","v":1.3027260075093867},16.149999999999999,null,{"$f":"+SUM(COUNTIF($AI$3:AI40,1),COUNTIF($AI$3:AI40,-1))","v":33},{"$f":"+SUM($U$4:U40)","v":4143},125.54545454545455,{"$f":"+SUM(COUNTIF($AI$3:AI40,1))","v":12},{"$f":"+SUM(COUNTIF($AI$3:AI40,-1))","v":21},-9,{"$f":"+BX40*(HARMEAN((IF(SUM(COUNTIF($Z$3:Z40,1),COUNTIF($Z$3:Z40,-1))=0,1,SUM(COUNTIF($Z$3:Z40,1),COUNTIF($Z$3:Z40,-1)))),(IF(SUM(COUNTIF($AC$3:AC40,1),COUNTIF($AC$3:AC40,-1))=0,1,SUM(COUNTIF($AC$3:AC40,1),COUNTIF($AC$3:AC40,-1)))),(IF(SUM(COUNTIF($AE$3:AE40,1),COUNTIF($AE$3:AE40,-1))=0,1,SUM(COUNTIF($AE$3:AE40,1),COUNTIF($AE$3:AE40,-1)))),(IF(SUM(COUNTIF($AG$3:AG40,1),COUNTIF($AG$3:AG40,-1))=0,1,SUM(COUNTIF($AG$3:AG40,1),COUNTIF($AG$3:AG40,-1)))),(IF(SUM(COUNTIF($AI$3:AI40,1),COUNTIF($AI$3:AI40,-1))=0,1,SUM(COUNTIF($AI$3:AI40,1),COUNTIF($AI$3:AI40,-1)))),(IF(SUM(COUNTIF($AK$3:AK40,1),COUNTIF($AK$3:AK40,-1))=0,1,SUM(COUNTIF($AK$3:AK40,1),COUNTIF($AK$3:AK40,-1)))))/1000)","v":1.1618907634543179},-17.100999999999999,null,{"$f":"+SUM(COUNTIF($AK$3:AK40,1),COUNTIF($AK$3:AK40,-1))","v":32},{"$f":"+SUM($W$4:W40)","v":3591},112.21875,{"$f":"+SUM(COUNTIF($AK$3:AK40,1))","v":12},{"$f":"+SUM(COUNTIF($AK$3:AK40,-1))","v":20},-8,{"$f":"+CG40*(HARMEAN((IF(SUM(COUNTIF($Z$3:Z40,1),COUNTIF($Z$3:Z40,-1))=0,1,SUM(COUNTIF($Z$3:Z40,1),COUNTIF($Z$3:Z40,-1)))),(IF(SUM(COUNTIF($AC$3:AC40,1),COUNTIF($AC$3:AC40,-1))=0,1,SUM(COUNTIF($AC$3:AC40,1),COUNTIF($AC$3:AC40,-1)))),(IF(SUM(COUNTIF($AE$3:AE40,1),COUNTIF($AE$3:AE40,-1))=0,1,SUM(COUNTIF($AE$3:AE40,1),COUNTIF($AE$3:AE40,-1)))),(IF(SUM(COUNTIF($AG$3:AG40,1),COUNTIF($AG$3:AG40,-1))=0,1,SUM(COUNTIF($AG$3:AG40,1),COUNTIF($AG$3:AG40,-1)))),(IF(SUM(COUNTIF($AI$3:AI40,1),COUNTIF($AI$3:AI40,-1))=0,1,SUM(COUNTIF($AI$3:AI40,1),COUNTIF($AI$3:AI40,-1)))),(IF(SUM(COUNTIF($AK$3:AK40,1),COUNTIF($AK$3:AK40,-1))=0,1,SUM(COUNTIF($AK$3:AK40,1),COUNTIF($AK$3:AK40,-1)))))/1000)","v":1.1266819524405507},-15.523999999999999]
[38,"",null,{"$f":"+IFERROR(INDEX('Auswertung AoE II'!$AE:$AE,MATCH(A41,'Auswertung AoE II'!$AD:$AD,0)),\"\")","v":""},{"$f":"+IFERROR(INDEX('Auswertung AoE III'!$AE:$AE,MATCH(A41,'Auswertung AoE III'!$AD:$AD,0)),\"\")","v":""},{"$f":"+IFERROR(INDEX('Auswertung AoM'!$AE:$AE,MATCH(A41,'Auswertung AoM'!$AD:$AD,0)),\"\")","v":""},{"$f":"+IFERROR(INDEX('Auswertung RA'!$AE:$AE,MATCH(A41,'Auswertung RA'!$AD:$AD,0)),\"\")","v":""},{"$f":"+IFERROR(INDEX('Auswertung Yuri'!$AE:$AE,MATCH(A41,'Auswertung Yuri'!$AD:$AD,0)),\"\")","v":""},{"$f":"+IFERROR(INDEX('Auswertung Generals'!$AE:$AE,MATCH(A41,'Auswertung Generals'!$AD:$AD,0)),\"\")","v":""},"Auswertung ",null,null,{"$f":"+IF(ISERROR(+INDIRECT(CONCATENATE(\"'\",J41,\"'!\",(ADDRESS((COUNTIF($J$3:J41,IF(B41<>0,CONCATENATE(\"Auswertung \",B41,\"\"))))+2,2)))))=FALSE,+INDIRECT(CONCATENATE(\"'\",J41,\"'!\",(ADDRESS((COUNTIF($J$3:J41,IF(B41<>0,CONCATENATE(\"Auswertung \",B41,\"\"))))+4,2)))),\"\")","v":""},{"$f":"IF(ISERROR(+INDIRECT(CONCATENATE(\"'\",J41,\"'!\",(ADDRESS((COUNTIF($J$3:J41,IF(B41<>0,CONCATENATE(\"Auswertung \",B41,\"\"))))+2,2+1)))))=FALSE,+INDIRECT(CONCATENATE(\"'\",J41,\"'!\",(ADDRESS((COUNTIF($J$3:J41,IF(B41<>0,CONCATENATE(\"Auswertung \",B41,\"\"))))+4,2+1)))),\"\")","v":""},{"$f":"+IF(ISERROR(+INDIRECT(CONCATENATE(\"'\",J41,\"'!\",(ADDRESS((COUNTIF($J$3:J41,IF(B41<>0,CONCATENATE(\"Auswertung \",B41,\"\"))))+2,4)))))=FALSE,+INDIRECT(CONCATENATE(\"'\",J41,\"'!\",(ADDRESS((COUNTIF($J$3:J41,IF(B41<>0,CONCATENATE(\"Auswertung \",B41,\"\"))))+4,4)))),\"\")","v":""},{"$f":"+IF(ISERROR(+INDIRECT(CONCATENATE(\"'\",J41,\"'!\",(ADDRESS((COUNTIF($J$3:J41,IF(B41<>0,CONCATENATE(\"Auswertung \",B41,\"\"))))+2,5)))))=FALSE,+INDIRECT(CONCATENATE(\"'\",J41,\"'!\",(ADDRESS((COUNTIF($J$3:J41,IF(B41<>0,CONCATENATE(\"Auswertung \",B41,\"\"))))+4,5)))),\"\")","v":""},{"$f":"+IF(ISERROR(+INDIRECT(CONCATENATE(\"'\",J41,\"'!\",(ADDRESS((COUNTIF($J$3:J41,IF(B41<>0,CONCATENATE(\"Auswertung \",B41,\"\"))))+2,6)))))=FALSE,+INDIRECT(CONCATENATE(\"'\",J41,\"'!\",(ADDRESS((COUNTIF($J$3:J41,IF(B41<>0,CONCATENATE(\"Auswertung \",B41,\"\"))))+4,6)))),\"\")","v":""},{"$f":"+IF(ISERROR(+INDIRECT(CONCATENATE(\"'\",J41,\"'!\",(ADDRESS((COUNTIF($J$3:J41,IF(B41<>0,CONCATENATE(\"Auswertung \",B41,\"\"))))+2,7)))))=FALSE,+INDIRECT(CONCATENATE(\"'\",J41,\"'!\",(ADDRESS((COUNTIF($J$3:J41,IF(B41<>0,CONCATENATE(\"Auswertung \",B41,\"\"))))+4,7)))),\"\")","v":""},{"$f":"+IF(ISERROR(+INDIRECT(CONCATENATE(\"'\",J41,\"'!\",(ADDRESS((COUNTIF($J$3:J41,IF(B41<>0,CONCATENATE(\"Auswertung \",B41,\"\"))))+2,10)))))=FALSE,+INDIRECT(CONCATENATE(\"'\",J41,\"'!\",(ADDRESS((COUNTIF($J$3:J41,IF(B41<>0,CONCATENATE(\"Auswertung \",B41,\"\"))))+4,8)))),\"\")","v":""},{"$f":"+IF(ISERROR(+INDIRECT(CONCATENATE(\"'\",J41,\"'!\",(ADDRESS((COUNTIF($J$3:J41,IF(B41<>0,CONCATENATE(\"Auswertung \",B41,\"\"))))+2,11)))))=FALSE,+INDIRECT(CONCATENATE(\"'\",J41,\"'!\",(ADDRESS((COUNTIF($J$3:J41,IF(B41<>0,CONCATENATE(\"Auswertung \",B41,\"\"))))+4,9)))),\"\")","v":""},{"$f":"+IF(ISERROR(+INDIRECT(CONCATENATE(\"'\",J41,\"'!\",(ADDRESS((COUNTIF($J$3:J41,IF(B41<>0,CONCATENATE(\"Auswertung \",B41,\"\"))))+2,10)))))=FALSE,+INDIRECT(CONCATENATE(\"'\",J41,\"'!\",(ADDRESS((COUNTIF($J$3:J41,IF(B41<>0,CONCATENATE(\"Auswertung \",B41,\"\"))))+4,10)))),\"\")","v":""},{"$f":"+IF(ISERROR(+INDIRECT(CONCATENATE(\"'\",J41,\"'!\",(ADDRESS((COUNTIF($J$3:J41,IF(B41<>0,CONCATENATE(\"Auswertung \",B41,\"\"))))+2,11)))))=FALSE,+INDIRECT(CONCATENATE(\"'\",J41,\"'!\",(ADDRESS((COUNTIF($J$3:J41,IF(B41<>0,CONCATENATE(\"Auswertung \",B41,\"\"))))+4,11)))),\"\")","v":""},{"$f":"+IF(ISERROR(+INDIRECT(CONCATENATE(\"'\",J41,\"'!\",(ADDRESS((COUNTIF($J$3:J41,IF(D41<>0,CONCATENATE(\"Auswertung \",D41,\"\"))))+2,12)))))=FALSE,+INDIRECT(CONCATENATE(\"'\",J41,\"'!\",(ADDRESS((COUNTIF($J$3:J41,IF(D41<>0,CONCATENATE(\"Auswertung \",B41,\"\"))))+4,12)))),\"\")","v":""},{"$f":"+IF(ISERROR(+INDIRECT(CONCATENATE(\"'\",J41,\"'!\",(ADDRESS((COUNTIF($J$3:J41,IF(D41<>0,CONCATENATE(\"Auswertung \",D41,\"\"))))+2,13)))))=FALSE,+INDIRECT(CONCATENATE(\"'\",J41,\"'!\",(ADDRESS((COUNTIF($J$3:J41,IF(D41<>0,CONCATENATE(\"Auswertung \",B41,\"\"))))+4,13)))),\"\")","v":""},null,{"$f":"+IFERROR(INDIRECT(CONCATENATE(\"'\",J41,\"'!\",(ADDRESS((COUNTIF($J$3:J41,IF(B41<>0,J41)))+4,16)))),\"\")","v":""},21.942,{"$f":"+SUM($M$4:M41)/COUNT($M$4:M41)/1000*2","v":0.28281081081081083},{"$f":"+IFERROR(INDIRECT(CONCATENATE(\"'\",J41,\"'!\",(ADDRESS((COUNTIF($J$3:J41,IF(B41<>0,J41)))+4,18)))),\"\")","v":""},50.264000000000003,{"$f":"+IFERROR(INDIRECT(CONCATENATE(\"'\",J41,\"'!\",(ADDRESS((COUNTIF($J$3:J41,IF(B41<>0,J41)))+4,20)))),\"\")","v":""},44.247,{"$f":"+IFERROR(INDIRECT(CONCATENATE(\"'\",J41,\"'!\",(ADDRESS((COUNTIF($J$3:J41,IF(B41<>0,J41)))+4,22)))),\"\")","v":""},16.149999999999999,{"$f":"+IFERROR(INDIRECT(CONCATENATE(\"'\",J41,\"'!\",(ADDRESS((COUNTIF($J$3:J41,IF(B41<>0,J41)))+4,24)))),\"\")","v":""},-17.100999999999999,{"$f":"+IFERROR(INDIRECT(CONCATENATE(\"'\",J41,\"'!\",(ADDRESS((COUNTIF($J$3:J41,IF(B41<>0,J41)))+4,26)))),\"\")","v":""},-15.523999999999999,38,{"$f":"+SUM(COUNTIF($Z$3:Z41,1),COUNTIF($Z$3:Z41,-1))","v":37},{"$f":"+SUM($M$4:M41)","v":5232},141.40540540540542,{"$f":"+SUM(COUNTIF($Z$3:Z41,1))","v":19},{"$f":"+SUM(COUNTIF($Z$3:Z41,-1))","v":18},1,{"$f":"AN41*(HARMEAN((IF(SUM(COUNTIF($Z$3:Z41,1),COUNTIF($Z$3:Z41,-1))=0,1,SUM(COUNTIF($Z$3:Z41,1),COUNTIF($Z$3:Z41,-1)))),(IF(SUM(COUNTIF($AC$3:AC41,1),COUNTIF($AC$3:AC41,-1))=0,1,SUM(COUNTIF($AC$3:AC41,1),COUNTIF($AC$3:AC41,-1)))),(IF(SUM(COUNTIF($AE$3:AE41,1),COUNTIF($AE$3:AE41,-1))=0,1,SUM(COUNTIF($AE$3:AE41,1),COUNTIF($AE$3:AE41,-1)))),(IF(SUM(COUNTIF($AG$3:AG41,1),COUNTIF($AG$3:AG41,-1))=0,1,SUM(COUNTIF($AG$3:AG41,1),COUNTIF($AG$3:AG41,-1)))),(IF(SUM(COUNTIF($AI$3:AI41,1),COUNTIF($AI$3:AI41,-1))=0,1,SUM(COUNTIF($AI$3:AI41,1),COUNTIF($AI$3:AI41,-1)))),(IF(SUM(COUNTIF($AK$3:AK41,1),COUNTIF($AK$3:AK41,-1))=0,1,SUM(COUNTIF($AK$3:AK41,1),COUNTIF($AK$3:AK41,-1)))))/1000)","v":1.3027260075093867},21.942,null,{"$f":"+SUM(COUNTIF($AC$3:AC41,1),COUNTIF($AC$3:AC41,-1))","v":37},{"$f":"+SUM($O$4:O41)","v":5276},142.59459459459458,{"$f":"+SUM(COUNTIF($AC$3:AC41,1))","v":23},{"$f":"+SUM(COUNTIF($AC$3:AC41,-1))","v":14},9,{"$f":"AW41*(HARMEAN((IF(SUM(COUNTIF($Z$3:Z41,1),COUNTIF($Z$3:Z41,-1))=0,1,SUM(COUNTIF($Z$3:Z41,1),COUNTIF($Z$3:Z41,-1)))),(IF(SUM(COUNTIF($AC$3:AC41,1),COUNTIF($AC$3:AC41,-1))=0,1,SUM(COUNTIF($AC$3:AC41,1),COUNTIF($AC$3:AC41,-1)))),(IF(SUM(COUNTIF($AE$3:AE41,1),COUNTIF($AE$3:AE41,-1))=0,1,SUM(COUNTIF($AE$3:AE41,1),COUNTIF($AE$3:AE41,-1)))),(IF(SUM(COUNTIF($AG$3:AG41,1),COUNTIF($AG$3:AG41,-1))=0,1,SUM(COUNTIF($AG$3:AG41,1),COUNTIF($AG$3:AG41,-1)))),(IF(SUM(COUNTIF($AI$3:AI41,1),COUNTIF($AI$3:AI41,-1))=0,1,SUM(COUNTIF($AI$3:AI41,1),COUNTIF($AI$3:AI41,-1)))),(IF(SUM(COUNTIF($AK$3:AK41,1),COUNTIF($AK$3:AK41,-1))=0,1,SUM(COUNTIF($AK$3:AK41,1),COUNTIF($AK$3:AK41,-1)))))/1000)","v":1.3027260075093867},50.264000000000003,null,{"$f":"+SUM(COUNTIF($AE$3:AE41,1),COUNTIF(AE$3:$AE41,-1))","v":36},{"$f":"+SUM($Q$4:Q41)","v":4567},126.86111111111111,{"$f":"+SUM(COUNTIF($AE$3:AE41,1))","v":22},{"$f":"+SUM(COUNTIF($AE$3:AE41,-1))","v":14},8,{"$f":"BF41*(HARMEAN((IF(SUM(COUNTIF($Z$3:Z41,1),COUNTIF($Z$3:Z41,-1))=0,1,SUM(COUNTIF($Z$3:Z41,1),COUNTIF($Z$3:Z41,-1)))),(IF(SUM(COUNTIF($AC$3:AC41,1),COUNTIF($AC$3:AC41,-1))=0,1,SUM(COUNTIF($AC$3:AC41,1),COUNTIF($AC$3:AC41,-1)))),(IF(SUM(COUNTIF($AE$3:AE41,1),COUNTIF($AE$3:AE41,-1))=0,1,SUM(COUNTIF($AE$3:AE41,1),COUNTIF($AE$3:AE41,-1)))),(IF(SUM(COUNTIF($AG$3:AG41,1),COUNTIF($AG$3:AG41,-1))=0,1,SUM(COUNTIF($AG$3:AG41,1),COUNTIF($AG$3:AG41,-1)))),(IF(SUM(COUNTIF($AI$3:AI41,1),COUNTIF($AI$3:AI41,-1))=0,1,SUM(COUNTIF($AI$3:AI41,1),COUNTIF($AI$3:AI41,-1)))),(IF(SUM(COUNTIF($AK$3:AK41,1),COUNTIF($AK$3:AK41,-1))=0,1,SUM(COUNTIF($AK$3:AK41,1),COUNTIF($AK$3:AK41,-1)))))/1000)","v":1.2675171964956196},44.247,null,{"$f":"+SUM(COUNTIF($AG$3:AG41,1),COUNTIF($AG$3:AG41,-1))","v":37},{"$f":"+SUM($S$4:S41)","v":5587},151,{"$f":"+SUM(COUNTIF($AG$3:AG41,1))","v":18},{"$f":"+SUM(COUNTIF($AG$3:AG41,-1))","v":19},-1,{"$f":"BO41*(HARMEAN((IF(SUM(COUNTIF($Z$3:Z41,1),COUNTIF($Z$3:Z41,-1))=0,1,SUM(COUNTIF($Z$3:Z41,1),COUNTIF($Z$3:Z41,-1)))),(IF(SUM(COUNTIF($AC$3:AC41,1),COUNTIF($AC$3:AC41,-1))=0,1,SUM(COUNTIF($AC$3:AC41,1),COUNTIF($AC$3:AC41,-1)))),(IF(SUM(COUNTIF($AE$3:AE41,1),COUNTIF($AE$3:AE41,-1))=0,1,SUM(COUNTIF($AE$3:AE41,1),COUNTIF($AE$3:AE41,-1)))),(IF(SUM(COUNTIF($AG$3:AG41,1),COUNTIF($AG$3:AG41,-1))=0,1,SUM(COUNTIF($AG$3:AG41,1),COUNTIF($AG$3:AG41,-1)))),(IF(SUM(COUNTIF($AI$3:AI41,1),COUNTIF($AI$3:AI41,-1))=0,1,SUM(COUNTIF($AI$3:AI41,1),COUNTIF($AI$3:AI41,-1)))),(IF(SUM(COUNTIF($AK$3:AK41,1),COUNTIF($AK$3:AK41,-1))=0,1,SUM(COUNTIF($AK$3:AK41,1),COUNTIF($AK$3:AK41,-1)))))/1000)","v":1.3027260075093867},16.149999999999999,null,{"$f":"+SUM(COUNTIF($AI$3:AI41,1),COUNTIF($AI$3:AI41,-1))","v":33},{"$f":"+SUM($U$4:U41)","v":4143},125.54545454545455,{"$f":"+SUM(COUNTIF($AI$3:AI41,1))","v":12},{"$f":"+SUM(COUNTIF($AI$3:AI41,-1))","v":21},-9,{"$f":"+BX41*(HARMEAN((IF(SUM(COUNTIF($Z$3:Z41,1),COUNTIF($Z$3:Z41,-1))=0,1,SUM(COUNTIF($Z$3:Z41,1),COUNTIF($Z$3:Z41,-1)))),(IF(SUM(COUNTIF($AC$3:AC41,1),COUNTIF($AC$3:AC41,-1))=0,1,SUM(COUNTIF($AC$3:AC41,1),COUNTIF($AC$3:AC41,-1)))),(IF(SUM(COUNTIF($AE$3:AE41,1),COUNTIF($AE$3:AE41,-1))=0,1,SUM(COUNTIF($AE$3:AE41,1),COUNTIF($AE$3:AE41,-1)))),(IF(SUM(COUNTIF($AG$3:AG41,1),COUNTIF($AG$3:AG41,-1))=0,1,SUM(COUNTIF($AG$3:AG41,1),COUNTIF($AG$3:AG41,-1)))),(IF(SUM(COUNTIF($AI$3:AI41,1),COUNTIF($AI$3:AI41,-1))=0,1,SUM(COUNTIF($AI$3:AI41,1),COUNTIF($AI$3:AI41,-1)))),(IF(SUM(COUNTIF($AK$3:AK41,1),COUNTIF($AK$3:AK41,-1))=0,1,SUM(COUNTIF($AK$3:AK41,1),COUNTIF($AK$3:AK41,-1)))))/1000)","v":1.1618907634543179},-17.100999999999999,null,{"$f":"+SUM(COUNTIF($AK$3:AK41,1),COUNTIF($AK$3:AK41,-1))","v":32},{"$f":"+SUM($W$4:W41)","v":3591},112.21875,{"$f":"+SUM(COUNTIF($AK$3:AK41,1))","v":12},{"$f":"+SUM(COUNTIF($AK$3:AK41,-1))","v":20},-8,{"$f":"+CG41*(HARMEAN((IF(SUM(COUNTIF($Z$3:Z41,1),COUNTIF($Z$3:Z41,-1))=0,1,SUM(COUNTIF($Z$3:Z41,1),COUNTIF($Z$3:Z41,-1)))),(IF(SUM(COUNTIF($AC$3:AC41,1),COUNTIF($AC$3:AC41,-1))=0,1,SUM(COUNTIF($AC$3:AC41,1),COUNTIF($AC$3:AC41,-1)))),(IF(SUM(COUNTIF($AE$3:AE41,1),COUNTIF($AE$3:AE41,-1))=0,1,SUM(COUNTIF($AE$3:AE41,1),COUNTIF($AE$3:AE41,-1)))),(IF(SUM(COUNTIF($AG$3:AG41,1),COUNTIF($AG$3:AG41,-1))=0,1,SUM(COUNTIF($AG$3:AG41,1),COUNTIF($AG$3:AG41,-1)))),(IF(SUM(COUNTIF($AI$3:AI41,1),COUNTIF($AI$3:AI41,-1))=0,1,SUM(COUNTIF($AI$3:AI41,1),COUNTIF($AI$3:AI41,-1)))),(IF(SUM(COUNTIF($AK$3:AK41,1),COUNTIF($AK$3:AK41,-1))=0,1,SUM(COUNTIF($AK$3:AK41,1),COUNTIF($AK$3:AK41,-1)))))/1000)","v":1.1266819524405507},-15.523999999999999]
[39,"",null,{"$f":"+IFERROR(INDEX('Auswertung AoE II'!$AE:$AE,MATCH(A42,'Auswertung AoE II'!$AD:$AD,0)),\"\")","v":""},{"$f":"+IFERROR(INDEX('Auswertung AoE III'!$AE:$AE,MATCH(A42,'Auswertung AoE III'!$AD:$AD,0)),\"\")","v":""},{"$f":"+IFERROR(INDEX('Auswertung AoM'!$AE:$AE,MATCH(A42,'Auswertung AoM'!$AD:$AD,0)),\"\")","v":""},{"$f":"+IFERROR(INDEX('Auswertung RA'!$AE:$AE,MATCH(A42,'Auswertung RA'!$AD:$AD,0)),\"\")","v":""},{"$f":"+IFERROR(INDEX('Auswertung Yuri'!$AE:$AE,MATCH(A42,'Auswertung Yuri'!$AD:$AD,0)),\"\")","v":""},{"$f":"+IFERROR(INDEX('Auswertung Generals'!$AE:$AE,MATCH(A42,'Auswertung Generals'!$AD:$AD,0)),\"\")","v":""},"Auswertung ",null,null,{"$f":"+IF(ISERROR(+INDIRECT(CONCATENATE(\"'\",J42,\"'!\",(ADDRESS((COUNTIF($J$3:J42,IF(B42<>0,CONCATENATE(\"Auswertung \",B42,\"\"))))+2,2)))))=FALSE,+INDIRECT(CONCATENATE(\"'\",J42,\"'!\",(ADDRESS((COUNTIF($J$3:J42,IF(B42<>0,CONCATENATE(\"Auswertung \",B42,\"\"))))+4,2)))),\"\")","v":""},{"$f":"IF(ISERROR(+INDIRECT(CONCATENATE(\"'\",J42,\"'!\",(ADDRESS((COUNTIF($J$3:J42,IF(B42<>0,CONCATENATE(\"Auswertung \",B42,\"\"))))+2,2+1)))))=FALSE,+INDIRECT(CONCATENATE(\"'\",J42,\"'!\",(ADDRESS((COUNTIF($J$3:J42,IF(B42<>0,CONCATENATE(\"Auswertung \",B42,\"\"))))+4,2+1)))),\"\")","v":""},{"$f":"+IF(ISERROR(+INDIRECT(CONCATENATE(\"'\",J42,\"'!\",(ADDRESS((COUNTIF($J$3:J42,IF(B42<>0,CONCATENATE(\"Auswertung \",B42,\"\"))))+2,4)))))=FALSE,+INDIRECT(CONCATENATE(\"'\",J42,\"'!\",(ADDRESS((COUNTIF($J$3:J42,IF(B42<>0,CONCATENATE(\"Auswertung \",B42,\"\"))))+4,4)))),\"\")","v":""},{"$f":"+IF(ISERROR(+INDIRECT(CONCATENATE(\"'\",J42,\"'!\",(ADDRESS((COUNTIF($J$3:J42,IF(B42<>0,CONCATENATE(\"Auswertung \",B42,\"\"))))+2,5)))))=FALSE,+INDIRECT(CONCATENATE(\"'\",J42,\"'!\",(ADDRESS((COUNTIF($J$3:J42,IF(B42<>0,CONCATENATE(\"Auswertung \",B42,\"\"))))+4,5)))),\"\")","v":""},{"$f":"+IF(ISERROR(+INDIRECT(CONCATENATE(\"'\",J42,\"'!\",(ADDRESS((COUNTIF($J$3:J42,IF(B42<>0,CONCATENATE(\"Auswertung \",B42,\"\"))))+2,6)))))=FALSE,+INDIRECT(CONCATENATE(\"'\",J42,\"'!\",(ADDRESS((COUNTIF($J$3:J42,IF(B42<>0,CONCATENATE(\"Auswertung \",B42,\"\"))))+4,6)))),\"\")","v":""},{"$f":"+IF(ISERROR(+INDIRECT(CONCATENATE(\"'\",J42,\"'!\",(ADDRESS((COUNTIF($J$3:J42,IF(B42<>0,CONCATENATE(\"Auswertung \",B42,\"\"))))+2,7)))))=FALSE,+INDIRECT(CONCATENATE(\"'\",J42,\"'!\",(ADDRESS((COUNTIF($J$3:J42,IF(B42<>0,CONCATENATE(\"Auswertung \",B42,\"\"))))+4,7)))),\"\")","v":""},{"$f":"+IF(ISERROR(+INDIRECT(CONCATENATE(\"'\",J42,\"'!\",(ADDRESS((COUNTIF($J$3:J42,IF(B42<>0,CONCATENATE(\"Auswertung \",B42,\"\"))))+2,10)))))=FALSE,+INDIRECT(CONCATENATE(\"'\",J42,\"'!\",(ADDRESS((COUNTIF($J$3:J42,IF(B42<>0,CONCATENATE(\"Auswertung \",B42,\"\"))))+4,8)))),\"\")","v":""},{"$f":"+IF(ISERROR(+INDIRECT(CONCATENATE(\"'\",J42,\"'!\",(ADDRESS((COUNTIF($J$3:J42,IF(B42<>0,CONCATENATE(\"Auswertung \",B42,\"\"))))+2,11)))))=FALSE,+INDIRECT(CONCATENATE(\"'\",J42,\"'!\",(ADDRESS((COUNTIF($J$3:J42,IF(B42<>0,CONCATENATE(\"Auswertung \",B42,\"\"))))+4,9)))),\"\")","v":""},{"$f":"+IF(ISERROR(+INDIRECT(CONCATENATE(\"'\",J42,\"'!\",(ADDRESS((COUNTIF($J$3:J42,IF(B42<>0,CONCATENATE(\"Auswertung \",B42,\"\"))))+2,10)))))=FALSE,+INDIRECT(CONCATENATE(\"'\",J42,\"'!\",(ADDRESS((COUNTIF($J$3:J42,IF(B42<>0,CONCATENATE(\"Auswertung \",B42,\"\"))))+4,10)))),\"\")","v":""},{"$f":"+IF(ISERROR(+INDIRECT(CONCATENATE(\"'\",J42,\"'!\",(ADDRESS((COUNTIF($J$3:J42,IF(B42<>0,CONCATENATE(\"Auswertung \",B42,\"\"))))+2,11)))))=FALSE,+INDIRECT(CONCATENATE(\"'\",J42,\"'!\",(ADDRESS((COUNTIF($J$3:J42,IF(B42<>0,CONCATENATE(\"Auswertung \",B42,\"\"))))+4,11)))),\"\")","v":""},{"$f":"+IF(ISERROR(+INDIRECT(CONCATENATE(\"'\",J42,\"'!\",(ADDRESS((COUNTIF($J$3:J42,IF(D42<>0,CONCATENATE(\"Auswertung \",D42,\"\"))))+2,12)))))=FALSE,+INDIRECT(CONCATENATE(\"'\",J42,\"'!\",(ADDRESS((COUNTIF($J$3:J42,IF(D42<>0,CONCATENATE(\"Auswertung \",B42,\"\"))))+4,12)))),\"\")","v":""},{"$f":"+IF(ISERROR(+INDIRECT(CONCATENATE(\"'\",J42,\"'!\",(ADDRESS((COUNTIF($J$3:J42,IF(D42<>0,CONCATENATE(\"Auswertung \",D42,\"\"))))+2,13)))))=FALSE,+INDIRECT(CONCATENATE(\"'\",J42,\"'!\",(ADDRESS((COUNTIF($J$3:J42,IF(D42<>0,CONCATENATE(\"Auswertung \",B42,\"\"))))+4,13)))),\"\")","v":""},null,{"$f":"+IFERROR(INDIRECT(CONCATENATE(\"'\",J42,\"'!\",(ADDRESS((COUNTIF($J$3:J42,IF(B42<>0,J42)))+4,16)))),\"\")","v":""},21.942,{"$f":"+SUM($M$4:M42)/COUNT($M$4:M42)/1000*2","v":0.28281081081081083},{"$f":"+IFERROR(INDIRECT(CONCATENATE(\"'\",J42,\"'!\",(ADDRESS((COUNTIF($J$3:J42,IF(B42<>0,J42)))+4,18)))),\"\")","v":""},50.264000000000003,{"$f":"+IFERROR(INDIRECT(CONCATENATE(\"'\",J42,\"'!\",(ADDRESS((COUNTIF($J$3:J42,IF(B42<>0,J42)))+4,20)))),\"\")","v":""},44.247,{"$f":"+IFERROR(INDIRECT(CONCATENATE(\"'\",J42,\"'!\",(ADDRESS((COUNTIF($J$3:J42,IF(B42<>0,J42)))+4,22)))),\"\")","v":""},16.149999999999999,{"$f":"+IFERROR(INDIRECT(CONCATENATE(\"'\",J42,\"'!\",(ADDRESS((COUNTIF($J$3:J42,IF(B42<>0,J42)))+4,24)))),\"\")","v":""},-17.100999999999999,{"$f":"+IFERROR(INDIRECT(CONCATENATE(\"'\",J42,\"'!\",(ADDRESS((COUNTIF($J$3:J42,IF(B42<>0,J42)))+4,26)))),\"\")","v":""},-15.523999999999999,39,{"$f":"+SUM(COUNTIF($Z$3:Z42,1),COUNTIF($Z$3:Z42,-1))","v":37},{"$f":"+SUM($M$4:M42)","v":5232},141.40540540540542,{"$f":"+SUM(COUNTIF($Z$3:Z42,1))","v":19},{"$f":"+SUM(COUNTIF($Z$3:Z42,-1))","v":18},1,{"$f":"AN42*(HARMEAN((IF(SUM(COUNTIF($Z$3:Z42,1),COUNTIF($Z$3:Z42,-1))=0,1,SUM(COUNTIF($Z$3:Z42,1),COUNTIF($Z$3:Z42,-1)))),(IF(SUM(COUNTIF($AC$3:AC42,1),COUNTIF($AC$3:AC42,-1))=0,1,SUM(COUNTIF($AC$3:AC42,1),COUNTIF($AC$3:AC42,-1)))),(IF(SUM(COUNTIF($AE$3:AE42,1),COUNTIF($AE$3:AE42,-1))=0,1,SUM(COUNTIF($AE$3:AE42,1),COUNTIF($AE$3:AE42,-1)))),(IF(SUM(COUNTIF($AG$3:AG42,1),COUNTIF($AG$3:AG42,-1))=0,1,SUM(COUNTIF($AG$3:AG42,1),COUNTIF($AG$3:AG42,-1)))),(IF(SUM(COUNTIF($AI$3:AI42,1),COUNTIF($AI$3:AI42,-1))=0,1,SUM(COUNTIF($AI$3:AI42,1),COUNTIF($AI$3:AI42,-1)))),(IF(SUM(COUNTIF($AK$3:AK42,1),COUNTIF($AK$3:AK42,-1))=0,1,SUM(COUNTIF($AK$3:AK42,1),COUNTIF($AK$3:AK42,-1)))))/1000)","v":1.3027260075093867},21.942,null,{"$f":"+SUM(COUNTIF($AC$3:AC42,1),COUNTIF($AC$3:AC42,-1))","v":37},{"$f":"+SUM($O$4:O42)","v":5276},142.59459459459458,{"$f":"+SUM(COUNTIF($AC$3:AC42,1))","v":23},{"$f":"+SUM(COUNTIF($AC$3:AC42,-1))","v":14},9,{"$f":"AW42*(HARMEAN((IF(SUM(COUNTIF($Z$3:Z42,1),COUNTIF($Z$3:Z42,-1))=0,1,SUM(COUNTIF($Z$3:Z42,1),COUNTIF($Z$3:Z42,-1)))),(IF(SUM(COUNTIF($AC$3:AC42,1),COUNTIF($AC$3:AC42,-1))=0,1,SUM(COUNTIF($AC$3:AC42,1),COUNTIF($AC$3:AC42,-1)))),(IF(SUM(COUNTIF($AE$3:AE42,1),COUNTIF($AE$3:AE42,-1))=0,1,SUM(COUNTIF($AE$3:AE42,1),COUNTIF($AE$3:AE42,-1)))),(IF(SUM(COUNTIF($AG$3:AG42,1),COUNTIF($AG$3:AG42,-1))=0,1,SUM(COUNTIF($AG$3:AG42,1),COUNTIF($AG$3:AG42,-1)))),(IF(SUM(COUNTIF($AI$3:AI42,1),COUNTIF($AI$3:AI42,-1))=0,1,SUM(COUNTIF($AI$3:AI42,1),COUNTIF($AI$3:AI42,-1)))),(IF(SUM(COUNTIF($AK$3:AK42,1),COUNTIF($AK$3:AK42,-1))=0,1,SUM(COUNTIF($AK$3:AK42,1),COUNTIF($AK$3:AK42,-1)))))/1000)","v":1.3027260075093867},50.264000000000003,null,{"$f":"+SUM(COUNTIF($AE$3:AE42,1),COUNTIF(AE$3:$AE42,-1))","v":36},{"$f":"+SUM($Q$4:Q42)","v":4567},126.86111111111111,{"$f":"+SUM(COUNTIF($AE$3:AE42,1))","v":22},{"$f":"+SUM(COUNTIF($AE$3:AE42,-1))","v":14},8,{"$f":"BF42*(HARMEAN((IF(SUM(COUNTIF($Z$3:Z42,1),COUNTIF($Z$3:Z42,-1))=0,1,SUM(COUNTIF($Z$3:Z42,1),COUNTIF($Z$3:Z42,-1)))),(IF(SUM(COUNTIF($AC$3:AC42,1),COUNTIF($AC$3:AC42,-1))=0,1,SUM(COUNTIF($AC$3:AC42,1),COUNTIF($AC$3:AC42,-1)))),(IF(SUM(COUNTIF($AE$3:AE42,1),COUNTIF($AE$3:AE42,-1))=0,1,SUM(COUNTIF($AE$3:AE42,1),COUNTIF($AE$3:AE42,-1)))),(IF(SUM(COUNTIF($AG$3:AG42,1),COUNTIF($AG$3:AG42,-1))=0,1,SUM(COUNTIF($AG$3:AG42,1),COUNTIF($AG$3:AG42,-1)))),(IF(SUM(COUNTIF($AI$3:AI42,1),COUNTIF($AI$3:AI42,-1))=0,1,SUM(COUNTIF($AI$3:AI42,1),COUNTIF($AI$3:AI42,-1)))),(IF(SUM(COUNTIF($AK$3:AK42,1),COUNTIF($AK$3:AK42,-1))=0,1,SUM(COUNTIF($AK$3:AK42,1),COUNTIF($AK$3:AK42,-1)))))/1000)","v":1.2675171964956196},44.247,null,{"$f":"+SUM(COUNTIF($AG$3:AG42,1),COUNTIF($AG$3:AG42,-1))","v":37},{"$f":"+SUM($S$4:S42)","v":5587},151,{"$f":"+SUM(COUNTIF($AG$3:AG42,1))","v":18},{"$f":"+SUM(COUNTIF($AG$3:AG42,-1))","v":19},-1,{"$f":"BO42*(HARMEAN((IF(SUM(COUNTIF($Z$3:Z42,1),COUNTIF($Z$3:Z42,-1))=0,1,SUM(COUNTIF($Z$3:Z42,1),COUNTIF($Z$3:Z42,-1)))),(IF(SUM(COUNTIF($AC$3:AC42,1),COUNTIF($AC$3:AC42,-1))=0,1,SUM(COUNTIF($AC$3:AC42,1),COUNTIF($AC$3:AC42,-1)))),(IF(SUM(COUNTIF($AE$3:AE42,1),COUNTIF($AE$3:AE42,-1))=0,1,SUM(COUNTIF($AE$3:AE42,1),COUNTIF($AE$3:AE42,-1)))),(IF(SUM(COUNTIF($AG$3:AG42,1),COUNTIF($AG$3:AG42,-1))=0,1,SUM(COUNTIF($AG$3:AG42,1),COUNTIF($AG$3:AG42,-1)))),(IF(SUM(COUNTIF($AI$3:AI42,1),COUNTIF($AI$3:AI42,-1))=0,1,SUM(COUNTIF($AI$3:AI42,1),COUNTIF($AI$3:AI42,-1)))),(IF(SUM(COUNTIF($AK$3:AK42,1),COUNTIF($AK$3:AK42,-1))=0,1,SUM(COUNTIF($AK$3:AK42,1),COUNTIF($AK$3:AK42,-1)))))/1000)","v":1.3027260075093867},16.149999999999999,null,{"$f":"+SUM(COUNTIF($AI$3:AI42,1),COUNTIF($AI$3:AI42,-1))","v":33},{"$f":"+SUM($U$4:U42)","v":4143},125.54545454545455,{"$f":"+SUM(COUNTIF($AI$3:AI42,1))","v":12},{"$f":"+SUM(COUNTIF($AI$3:AI42,-1))","v":21},-9,{"$f":"+BX42*(HARMEAN((IF(SUM(COUNTIF($Z$3:Z42,1),COUNTIF($Z$3:Z42,-1))=0,1,SUM(COUNTIF($Z$3:Z42,1),COUNTIF($Z$3:Z42,-1)))),(IF(SUM(COUNTIF($AC$3:AC42,1),COUNTIF($AC$3:AC42,-1))=0,1,SUM(COUNTIF($AC$3:AC42,1),COUNTIF($AC$3:AC42,-1)))),(IF(SUM(COUNTIF($AE$3:AE42,1),COUNTIF($AE$3:AE42,-1))=0,1,SUM(COUNTIF($AE$3:AE42,1),COUNTIF($AE$3:AE42,-1)))),(IF(SUM(COUNTIF($AG$3:AG42,1),COUNTIF($AG$3:AG42,-1))=0,1,SUM(COUNTIF($AG$3:AG42,1),COUNTIF($AG$3:AG42,-1)))),(IF(SUM(COUNTIF($AI$3:AI42,1),COUNTIF($AI$3:AI42,-1))=0,1,SUM(COUNTIF($AI$3:AI42,1),COUNTIF($AI$3:AI42,-1)))),(IF(SUM(COUNTIF($AK$3:AK42,1),COUNTIF($AK$3:AK42,-1))=0,1,SUM(COUNTIF($AK$3:AK42,1),COUNTIF($AK$3:AK42,-1)))))/1000)","v":1.1618907634543179},-17.100999999999999,null,{"$f":"+SUM(COUNTIF($AK$3:AK42,1),COUNTIF($AK$3:AK42,-1))","v":32},{"$f":"+SUM($W$4:W42)","v":3591},112.21875,{"$f":"+SUM(COUNTIF($AK$3:AK42,1))","v":12},{"$f":"+SUM(COUNTIF($AK$3:AK42,-1))","v":20},-8,{"$f":"+CG42*(HARMEAN((IF(SUM(COUNTIF($Z$3:Z42,1),COUNTIF($Z$3:Z42,-1))=0,1,SUM(COUNTIF($Z$3:Z42,1),COUNTIF($Z$3:Z42,-1)))),(IF(SUM(COUNTIF($AC$3:AC42,1),COUNTIF($AC$3:AC42,-1))=0,1,SUM(COUNTIF($AC$3:AC42,1),COUNTIF($AC$3:AC42,-1)))),(IF(SUM(COUNTIF($AE$3:AE42,1),COUNTIF($AE$3:AE42,-1))=0,1,SUM(COUNTIF($AE$3:AE42,1),COUNTIF($AE$3:AE42,-1)))),(IF(SUM(COUNTIF($AG$3:AG42,1),COUNTIF($AG$3:AG42,-1))=0,1,SUM(COUNTIF($AG$3:AG42,1),COUNTIF($AG$3:AG42,-1)))),(IF(SUM(COUNTIF($AI$3:AI42,1),COUNTIF($AI$3:AI42,-1))=0,1,SUM(COUNTIF($AI$3:AI42,1),COUNTIF($AI$3:AI42,-1)))),(IF(SUM(COUNTIF($AK$3:AK42,1),COUNTIF($AK$3:AK42,-1))=0,1,SUM(COUNTIF($AK$3:AK42,1),COUNTIF($AK$3:AK42,-1)))))/1000)","v":1.1266819524405507},-15.523999999999999]
[40,"",null,{"$f":"+IFERROR(INDEX('Auswertung AoE II'!$AE:$AE,MATCH(A43,'Auswertung AoE II'!$AD:$AD,0)),\"\")","v":""},{"$f":"+IFERROR(INDEX('Auswertung AoE III'!$AE:$AE,MATCH(A43,'Auswertung AoE III'!$AD:$AD,0)),\"\")","v":""},{"$f":"+IFERROR(INDEX('Auswertung AoM'!$AE:$AE,MATCH(A43,'Auswertung AoM'!$AD:$AD,0)),\"\")","v":""},{"$f":"+IFERROR(INDEX('Auswertung RA'!$AE:$AE,MATCH(A43,'Auswertung RA'!$AD:$AD,0)),\"\")","v":""},{"$f":"+IFERROR(INDEX('Auswertung Yuri'!$AE:$AE,MATCH(A43,'Auswertung Yuri'!$AD:$AD,0)),\"\")","v":""},{"$f":"+IFERROR(INDEX('Auswertung Generals'!$AE:$AE,MATCH(A43,'Auswertung Generals'!$AD:$AD,0)),\"\")","v":""},"Auswertung ",null,null,{"$f":"+IF(ISERROR(+INDIRECT(CONCATENATE(\"'\",J43,\"'!\",(ADDRESS((COUNTIF($J$3:J43,IF(B43<>0,CONCATENATE(\"Auswertung \",B43,\"\"))))+2,2)))))=FALSE,+INDIRECT(CONCATENATE(\"'\",J43,\"'!\",(ADDRESS((COUNTIF($J$3:J43,IF(B43<>0,CONCATENATE(\"Auswertung \",B43,\"\"))))+4,2)))),\"\")","v":""},{"$f":"IF(ISERROR(+INDIRECT(CONCATENATE(\"'\",J43,\"'!\",(ADDRESS((COUNTIF($J$3:J43,IF(B43<>0,CONCATENATE(\"Auswertung \",B43,\"\"))))+2,2+1)))))=FALSE,+INDIRECT(CONCATENATE(\"'\",J43,\"'!\",(ADDRESS((COUNTIF($J$3:J43,IF(B43<>0,CONCATENATE(\"Auswertung \",B43,\"\"))))+4,2+1)))),\"\")","v":""},{"$f":"+IF(ISERROR(+INDIRECT(CONCATENATE(\"'\",J43,\"'!\",(ADDRESS((COUNTIF($J$3:J43,IF(B43<>0,CONCATENATE(\"Auswertung \",B43,\"\"))))+2,4)))))=FALSE,+INDIRECT(CONCATENATE(\"'\",J43,\"'!\",(ADDRESS((COUNTIF($J$3:J43,IF(B43<>0,CONCATENATE(\"Auswertung \",B43,\"\"))))+4,4)))),\"\")","v":""},{"$f":"+IF(ISERROR(+INDIRECT(CONCATENATE(\"'\",J43,\"'!\",(ADDRESS((COUNTIF($J$3:J43,IF(B43<>0,CONCATENATE(\"Auswertung \",B43,\"\"))))+2,5)))))=FALSE,+INDIRECT(CONCATENATE(\"'\",J43,\"'!\",(ADDRESS((COUNTIF($J$3:J43,IF(B43<>0,CONCATENATE(\"Auswertung \",B43,\"\"))))+4,5)))),\"\")","v":""},{"$f":"+IF(ISERROR(+INDIRECT(CONCATENATE(\"'\",J43,\"'!\",(ADDRESS((COUNTIF($J$3:J43,IF(B43<>0,CONCATENATE(\"Auswertung \",B43,\"\"))))+2,6)))))=FALSE,+INDIRECT(CONCATENATE(\"'\",J43,\"'!\",(ADDRESS((COUNTIF($J$3:J43,IF(B43<>0,CONCATENATE(\"Auswertung \",B43,\"\"))))+4,6)))),\"\")","v":""},{"$f":"+IF(ISERROR(+INDIRECT(CONCATENATE(\"'\",J43,\"'!\",(ADDRESS((COUNTIF($J$3:J43,IF(B43<>0,CONCATENATE(\"Auswertung \",B43,\"\"))))+2,7)))))=FALSE,+INDIRECT(CONCATENATE(\"'\",J43,\"'!\",(ADDRESS((COUNTIF($J$3:J43,IF(B43<>0,CONCATENATE(\"Auswertung \",B43,\"\"))))+4,7)))),\"\")","v":""},{"$f":"+IF(ISERROR(+INDIRECT(CONCATENATE(\"'\",J43,\"'!\",(ADDRESS((COUNTIF($J$3:J43,IF(B43<>0,CONCATENATE(\"Auswertung \",B43,\"\"))))+2,10)))))=FALSE,+INDIRECT(CONCATENATE(\"'\",J43,\"'!\",(ADDRESS((COUNTIF($J$3:J43,IF(B43<>0,CONCATENATE(\"Auswertung \",B43,\"\"))))+4,8)))),\"\")","v":""},{"$f":"+IF(ISERROR(+INDIRECT(CONCATENATE(\"'\",J43,\"'!\",(ADDRESS((COUNTIF($J$3:J43,IF(B43<>0,CONCATENATE(\"Auswertung \",B43,\"\"))))+2,11)))))=FALSE,+INDIRECT(CONCATENATE(\"'\",J43,\"'!\",(ADDRESS((COUNTIF($J$3:J43,IF(B43<>0,CONCATENATE(\"Auswertung \",B43,\"\"))))+4,9)))),\"\")","v":""},{"$f":"+IF(ISERROR(+INDIRECT(CONCATENATE(\"'\",J43,\"'!\",(ADDRESS((COUNTIF($J$3:J43,IF(B43<>0,CONCATENATE(\"Auswertung \",B43,\"\"))))+2,10)))))=FALSE,+INDIRECT(CONCATENATE(\"'\",J43,\"'!\",(ADDRESS((COUNTIF($J$3:J43,IF(B43<>0,CONCATENATE(\"Auswertung \",B43,\"\"))))+4,10)))),\"\")","v":""},{"$f":"+IF(ISERROR(+INDIRECT(CONCATENATE(\"'\",J43,\"'!\",(ADDRESS((COUNTIF($J$3:J43,IF(B43<>0,CONCATENATE(\"Auswertung \",B43,\"\"))))+2,11)))))=FALSE,+INDIRECT(CONCATENATE(\"'\",J43,\"'!\",(ADDRESS((COUNTIF($J$3:J43,IF(B43<>0,CONCATENATE(\"Auswertung \",B43,\"\"))))+4,11)))),\"\")","v":""},{"$f":"+IF(ISERROR(+INDIRECT(CONCATENATE(\"'\",J43,\"'!\",(ADDRESS((COUNTIF($J$3:J43,IF(D43<>0,CONCATENATE(\"Auswertung \",D43,\"\"))))+2,12)))))=FALSE,+INDIRECT(CONCATENATE(\"'\",J43,\"'!\",(ADDRESS((COUNTIF($J$3:J43,IF(D43<>0,CONCATENATE(\"Auswertung \",B43,\"\"))))+4,12)))),\"\")","v":""},{"$f":"+IF(ISERROR(+INDIRECT(CONCATENATE(\"'\",J43,\"'!\",(ADDRESS((COUNTIF($J$3:J43,IF(D43<>0,CONCATENATE(\"Auswertung \",D43,\"\"))))+2,13)))))=FALSE,+INDIRECT(CONCATENATE(\"'\",J43,\"'!\",(ADDRESS((COUNTIF($J$3:J43,IF(D43<>0,CONCATENATE(\"Auswertung \",B43,\"\"))))+4,13)))),\"\")","v":""},",",{"$f":"+IFERROR(INDIRECT(CONCATENATE(\"'\",J43,\"'!\",(ADDRESS((COUNTIF($J$3:J43,IF(B43<>0,J43)))+4,16)))),\"\")","v":""},21.942,{"$f":"+SUM($M$4:M43)/COUNT($M$4:M43)/1000*2","v":0.28281081081081083},{"$f":"+IFERROR(INDIRECT(CONCATENATE(\"'\",J43,\"'!\",(ADDRESS((COUNTIF($J$3:J43,IF(B43<>0,J43)))+4,18)))),\"\")","v":""},50.264000000000003,{"$f":"+IFERROR(INDIRECT(CONCATENATE(\"'\",J43,\"'!\",(ADDRESS((COUNTIF($J$3:J43,IF(B43<>0,J43)))+4,20)))),\"\")","v":""},44.247,{"$f":"+IFERROR(INDIRECT(CONCATENATE(\"'\",J43,\"'!\",(ADDRESS((COUNTIF($J$3:J43,IF(B43<>0,J43)))+4,22)))),\"\")","v":""},16.149999999999999,{"$f":"+IFERROR(INDIRECT(CONCATENATE(\"'\",J43,\"'!\",(ADDRESS((COUNTIF($J$3:J43,IF(B43<>0,J43)))+4,24)))),\"\")","v":""},-17.100999999999999,{"$f":"+IFERROR(INDIRECT(CONCATENATE(\"'\",J43,\"'!\",(ADDRESS((COUNTIF($J$3:J43,IF(B43<>0,J43)))+4,26)))),\"\")","v":""},-15.523999999999999,40,{"$f":"+SUM(COUNTIF($Z$3:Z43,1),COUNTIF($Z$3:Z43,-1))","v":37},{"$f":"+SUM($M$4:M43)","v":5232},141.40540540540542,{"$f":"+SUM(COUNTIF($Z$3:Z43,1))","v":19},{"$f":"+SUM(COUNTIF($Z$3:Z43,-1))","v":18},1,{"$f":"AN43*(HARMEAN((IF(SUM(COUNTIF($Z$3:Z43,1),COUNTIF($Z$3:Z43,-1))=0,1,SUM(COUNTIF($Z$3:Z43,1),COUNTIF($Z$3:Z43,-1)))),(IF(SUM(COUNTIF($AC$3:AC43,1),COUNTIF($AC$3:AC43,-1))=0,1,SUM(COUNTIF($AC$3:AC43,1),COUNTIF($AC$3:AC43,-1)))),(IF(SUM(COUNTIF($AE$3:AE43,1),COUNTIF($AE$3:AE43,-1))=0,1,SUM(COUNTIF($AE$3:AE43,1),COUNTIF($AE$3:AE43,-1)))),(IF(SUM(COUNTIF($AG$3:AG43,1),COUNTIF($AG$3:AG43,-1))=0,1,SUM(COUNTIF($AG$3:AG43,1),COUNTIF($AG$3:AG43,-1)))),(IF(SUM(COUNTIF($AI$3:AI43,1),COUNTIF($AI$3:AI43,-1))=0,1,SUM(COUNTIF($AI$3:AI43,1),COUNTIF($AI$3:AI43,-1)))),(IF(SUM(COUNTIF($AK$3:AK43,1),COUNTIF($AK$3:AK43,-1))=0,1,SUM(COUNTIF($AK$3:AK43,1),COUNTIF($AK$3:AK43,-1)))))/1000)","v":1.3027260075093867},21.942,null,{"$f":"+SUM(COUNTIF($AC$3:AC43,1),COUNTIF($AC$3:AC43,-1))","v":37},{"$f":"+SUM($O$4:O43)","v":5276},142.59459459459458,{"$f":"+SUM(COUNTIF($AC$3:AC43,1))","v":23},{"$f":"+SUM(COUNTIF($AC$3:AC43,-1))","v":14},9,{"$f":"AW43*(HARMEAN((IF(SUM(COUNTIF($Z$3:Z43,1),COUNTIF($Z$3:Z43,-1))=0,1,SUM(COUNTIF($Z$3:Z43,1),COUNTIF($Z$3:Z43,-1)))),(IF(SUM(COUNTIF($AC$3:AC43,1),COUNTIF($AC$3:AC43,-1))=0,1,SUM(COUNTIF($AC$3:AC43,1),COUNTIF($AC$3:AC43,-1)))),(IF(SUM(COUNTIF($AE$3:AE43,1),COUNTIF($AE$3:AE43,-1))=0,1,SUM(COUNTIF($AE$3:AE43,1),COUNTIF($AE$3:AE43,-1)))),(IF(SUM(COUNTIF($AG$3:AG43,1),COUNTIF($AG$3:AG43,-1))=0,1,SUM(COUNTIF($AG$3:AG43,1),COUNTIF($AG$3:AG43,-1)))),(IF(SUM(COUNTIF($AI$3:AI43,1),COUNTIF($AI$3:AI43,-1))=0,1,SUM(COUNTIF($AI$3:AI43,1),COUNTIF($AI$3:AI43,-1)))),(IF(SUM(COUNTIF($AK$3:AK43,1),COUNTIF($AK$3:AK43,-1))=0,1,SUM(COUNTIF($AK$3:AK43,1),COUNTIF($AK$3:AK43,-1)))))/1000)","v":1.3027260075093867},50.264000000000003,null,{"$f":"+SUM(COUNTIF($AE$3:AE43,1),COUNTIF(AE$3:$AE43,-1))","v":36},{"$f":"+SUM($Q$4:Q43)","v":4567},126.86111111111111,{"$f":"+SUM(COUNTIF($AE$3:AE43,1))","v":22},{"$f":"+SUM(COUNTIF($AE$3:AE43,-1))","v":14},8,{"$f":"BF43*(HARMEAN((IF(SUM(COUNTIF($Z$3:Z43,1),COUNTIF($Z$3:Z43,-1))=0,1,SUM(COUNTIF($Z$3:Z43,1),COUNTIF($Z$3:Z43,-1)))),(IF(SUM(COUNTIF($AC$3:AC43,1),COUNTIF($AC$3:AC43,-1))=0,1,SUM(COUNTIF($AC$3:AC43,1),COUNTIF($AC$3:AC43,-1)))),(IF(SUM(COUNTIF($AE$3:AE43,1),COUNTIF($AE$3:AE43,-1))=0,1,SUM(COUNTIF($AE$3:AE43,1),COUNTIF($AE$3:AE43,-1)))),(IF(SUM(COUNTIF($AG$3:AG43,1),COUNTIF($AG$3:AG43,-1))=0,1,SUM(COUNTIF($AG$3:AG43,1),COUNTIF($AG$3:AG43,-1)))),(IF(SUM(COUNTIF($AI$3:AI43,1),COUNTIF($AI$3:AI43,-1))=0,1,SUM(COUNTIF($AI$3:AI43,1),COUNTIF($AI$3:AI43,-1)))),(IF(SUM(COUNTIF($AK$3:AK43,1),COUNTIF($AK$3:AK43,-1))=0,1,SUM(COUNTIF($AK$3:AK43,1),COUNTIF($AK$3:AK43,-1)))))/1000)","v":1.2675171964956196},44.247,null,{"$f":"+SUM(COUNTIF($AG$3:AG43,1),COUNTIF($AG$3:AG43,-1))","v":37},{"$f":"+SUM($S$4:S43)","v":5587},151,{"$f":"+SUM(COUNTIF($AG$3:AG43,1))","v":18},{"$f":"+SUM(COUNTIF($AG$3:AG43,-1))","v":19},-1,{"$f":"BO43*(HARMEAN((IF(SUM(COUNTIF($Z$3:Z43,1),COUNTIF($Z$3:Z43,-1))=0,1,SUM(COUNTIF($Z$3:Z43,1),COUNTIF($Z$3:Z43,-1)))),(IF(SUM(COUNTIF($AC$3:AC43,1),COUNTIF($AC$3:AC43,-1))=0,1,SUM(COUNTIF($AC$3:AC43,1),COUNTIF($AC$3:AC43,-1)))),(IF(SUM(COUNTIF($AE$3:AE43,1),COUNTIF($AE$3:AE43,-1))=0,1,SUM(COUNTIF($AE$3:AE43,1),COUNTIF($AE$3:AE43,-1)))),(IF(SUM(COUNTIF($AG$3:AG43,1),COUNTIF($AG$3:AG43,-1))=0,1,SUM(COUNTIF($AG$3:AG43,1),COUNTIF($AG$3:AG43,-1)))),(IF(SUM(COUNTIF($AI$3:AI43,1),COUNTIF($AI$3:AI43,-1))=0,1,SUM(COUNTIF($AI$3:AI43,1),COUNTIF($AI$3:AI43,-1)))),(IF(SUM(COUNTIF($AK$3:AK43,1),COUNTIF($AK$3:AK43,-1))=0,1,SUM(COUNTIF($AK$3:AK43,1),COUNTIF($AK$3:AK43,-1)))))/1000)","v":1.3027260075093867},16.149999999999999,null,{"$f":"+SUM(COUNTIF($AI$3:AI43,1),COUNTIF($AI$3:AI43,-1))","v":33},{"$f":"+SUM($U$4:U43)","v":4143},125.54545454545455,{"$f":"+SUM(COUNTIF($AI$3:AI43,1))","v":12},{"$f":"+SUM(COUNTIF($AI$3:AI43,-1))","v":21},-9,{"$f":"+BX43*(HARMEAN((IF(SUM(COUNTIF($Z$3:Z43,1),COUNTIF($Z$3:Z43,-1))=0,1,SUM(COUNTIF($Z$3:Z43,1),COUNTIF($Z$3:Z43,-1)))),(IF(SUM(COUNTIF($AC$3:AC43,1),COUNTIF($AC$3:AC43,-1))=0,1,SUM(COUNTIF($AC$3:AC43,1),COUNTIF($AC$3:AC43,-1)))),(IF(SUM(COUNTIF($AE$3:AE43,1),COUNTIF($AE$3:AE43,-1))=0,1,SUM(COUNTIF($AE$3:AE43,1),COUNTIF($AE$3:AE43,-1)))),(IF(SUM(COUNTIF($AG$3:AG43,1),COUNTIF($AG$3:AG43,-1))=0,1,SUM(COUNTIF($AG$3:AG43,1),COUNTIF($AG$3:AG43,-1)))),(IF(SUM(COUNTIF($AI$3:AI43,1),COUNTIF($AI$3:AI43,-1))=0,1,SUM(COUNTIF($AI$3:AI43,1),COUNTIF($AI$3:AI43,-1)))),(IF(SUM(COUNTIF($AK$3:AK43,1),COUNTIF($AK$3:AK43,-1))=0,1,SUM(COUNTIF($AK$3:AK43,1),COUNTIF($AK$3:AK43,-1)))))/1000)","v":1.1618907634543179},-17.100999999999999,null,{"$f":"+SUM(COUNTIF($AK$3:AK43,1),COUNTIF($AK$3:AK43,-1))","v":32},{"$f":"+SUM($W$4:W43)","v":3591},112.21875,{"$f":"+SUM(COUNTIF($AK$3:AK43,1))","v":12},{"$f":"+SUM(COUNTIF($AK$3:AK43,-1))","v":20},-8,{"$f":"+CG43*(HARMEAN((IF(SUM(COUNTIF($Z$3:Z43,1),COUNTIF($Z$3:Z43,-1))=0,1,SUM(COUNTIF($Z$3:Z43,1),COUNTIF($Z$3:Z43,-1)))),(IF(SUM(COUNTIF($AC$3:AC43,1),COUNTIF($AC$3:AC43,-1))=0,1,SUM(COUNTIF($AC$3:AC43,1),COUNTIF($AC$3:AC43,-1)))),(IF(SUM(COUNTIF($AE$3:AE43,1),COUNTIF($AE$3:AE43,-1))=0,1,SUM(COUNTIF($AE$3:AE43,1),COUNTIF($AE$3:AE43,-1)))),(IF(SUM(COUNTIF($AG$3:AG43,1),COUNTIF($AG$3:AG43,-1))=0,1,SUM(COUNTIF($AG$3:AG43,1),COUNTIF($AG$3:AG43,-1)))),(IF(SUM(COUNTIF($AI$3:AI43,1),COUNTIF($AI$3:AI43,-1))=0,1,SUM(COUNTIF($AI$3:AI43,1),COUNTIF($AI$3:AI43,-1)))),(IF(SUM(COUNTIF($AK$3:AK43,1),COUNTIF($AK$3:AK43,-1))=0,1,SUM(COUNTIF($AK$3:AK43,1),COUNTIF($AK$3:AK43,-1)))))/1000)","v":1.1266819524405507},-15.523999999999999]
[41,"",null,{"$f":"+IFERROR(INDEX('Auswertung AoE II'!$AE:$AE,MATCH(A44,'Auswertung AoE II'!$AD:$AD,0)),\"\")","v":""},{"$f":"+IFERROR(INDEX('Auswertung AoE III'!$AE:$AE,MATCH(A44,'Auswertung AoE III'!$AD:$AD,0)),\"\")","v":""},{"$f":"+IFERROR(INDEX('Auswertung AoM'!$AE:$AE,MATCH(A44,'Auswertung AoM'!$AD:$AD,0)),\"\")","v":""},{"$f":"+IFERROR(INDEX('Auswertung RA'!$AE:$AE,MATCH(A44,'Auswertung RA'!$AD:$AD,0)),\"\")","v":""},{"$f":"+IFERROR(INDEX('Auswertung Yuri'!$AE:$AE,MATCH(A44,'Auswertung Yuri'!$AD:$AD,0)),\"\")","v":""},{"$f":"+IFERROR(INDEX('Auswertung Generals'!$AE:$AE,MATCH(A44,'Auswertung Generals'!$AD:$AD,0)),\"\")","v":""},"Auswertung ",null,null,{"$f":"+IF(ISERROR(+INDIRECT(CONCATENATE(\"'\",J44,\"'!\",(ADDRESS((COUNTIF($J$3:J44,IF(B44<>0,CONCATENATE(\"Auswertung \",B44,\"\"))))+2,2)))))=FALSE,+INDIRECT(CONCATENATE(\"'\",J44,\"'!\",(ADDRESS((COUNTIF($J$3:J44,IF(B44<>0,CONCATENATE(\"Auswertung \",B44,\"\"))))+4,2)))),\"\")","v":""},{"$f":"IF(ISERROR(+INDIRECT(CONCATENATE(\"'\",J44,\"'!\",(ADDRESS((COUNTIF($J$3:J44,IF(B44<>0,CONCATENATE(\"Auswertung \",B44,\"\"))))+2,2+1)))))=FALSE,+INDIRECT(CONCATENATE(\"'\",J44,\"'!\",(ADDRESS((COUNTIF($J$3:J44,IF(B44<>0,CONCATENATE(\"Auswertung \",B44,\"\"))))+4,2+1)))),\"\")","v":""},{"$f":"+IF(ISERROR(+INDIRECT(CONCATENATE(\"'\",J44,\"'!\",(ADDRESS((COUNTIF($J$3:J44,IF(B44<>0,CONCATENATE(\"Auswertung \",B44,\"\"))))+2,4)))))=FALSE,+INDIRECT(CONCATENATE(\"'\",J44,\"'!\",(ADDRESS((COUNTIF($J$3:J44,IF(B44<>0,CONCATENATE(\"Auswertung \",B44,\"\"))))+4,4)))),\"\")","v":""},{"$f":"+IF(ISERROR(+INDIRECT(CONCATENATE(\"'\",J44,\"'!\",(ADDRESS((COUNTIF($J$3:J44,IF(B44<>0,CONCATENATE(\"Auswertung \",B44,\"\"))))+2,5)))))=FALSE,+INDIRECT(CONCATENATE(\"'\",J44,\"'!\",(ADDRESS((COUNTIF($J$3:J44,IF(B44<>0,CONCATENATE(\"Auswertung \",B44,\"\"))))+4,5)))),\"\")","v":""},{"$f":"+IF(ISERROR(+INDIRECT(CONCATENATE(\"'\",J44,\"'!\",(ADDRESS((COUNTIF($J$3:J44,IF(B44<>0,CONCATENATE(\"Auswertung \",B44,\"\"))))+2,6)))))=FALSE,+INDIRECT(CONCATENATE(\"'\",J44,\"'!\",(ADDRESS((COUNTIF($J$3:J44,IF(B44<>0,CONCATENATE(\"Auswertung \",B44,\"\"))))+4,6)))),\"\")","v":""},{"$f":"+IF(ISERROR(+INDIRECT(CONCATENATE(\"'\",J44,\"'!\",(ADDRESS((COUNTIF($J$3:J44,IF(B44<>0,CONCATENATE(\"Auswertung \",B44,\"\"))))+2,7)))))=FALSE,+INDIRECT(CONCATENATE(\"'\",J44,\"'!\",(ADDRESS((COUNTIF($J$3:J44,IF(B44<>0,CONCATENATE(\"Auswertung \",B44,\"\"))))+4,7)))),\"\")","v":""},{"$f":"+IF(ISERROR(+INDIRECT(CONCATENATE(\"'\",J44,\"'!\",(ADDRESS((COUNTIF($J$3:J44,IF(B44<>0,CONCATENATE(\"Auswertung \",B44,\"\"))))+2,10)))))=FALSE,+INDIRECT(CONCATENATE(\"'\",J44,\"'!\",(ADDRESS((COUNTIF($J$3:J44,IF(B44<>0,CONCATENATE(\"Auswertung \",B44,\"\"))))+4,8)))),\"\")","v":""},{"$f":"+IF(ISERROR(+INDIRECT(CONCATENATE(\"'\",J44,\"'!\",(ADDRESS((COUNTIF($J$3:J44,IF(B44<>0,CONCATENATE(\"Auswertung \",B44,\"\"))))+2,11)))))=FALSE,+INDIRECT(CONCATENATE(\"'\",J44,\"'!\",(ADDRESS((COUNTIF($J$3:J44,IF(B44<>0,CONCATENATE(\"Auswertung \",B44,\"\"))))+4,9)))),\"\")","v":""},{"$f":"+IF(ISERROR(+INDIRECT(CONCATENATE(\"'\",J44,\"'!\",(ADDRESS((COUNTIF($J$3:J44,IF(B44<>0,CONCATENATE(\"Auswertung \",B44,\"\"))))+2,10)))))=FALSE,+INDIRECT(CONCATENATE(\"'\",J44,\"'!\",(ADDRESS((COUNTIF($J$3:J44,IF(B44<>0,CONCATENATE(\"Auswertung \",B44,\"\"))))+4,10)))),\"\")","v":""},{"$f":"+IF(ISERROR(+INDIRECT(CONCATENATE(\"'\",J44,\"'!\",(ADDRESS((COUNTIF($J$3:J44,IF(B44<>0,CONCATENATE(\"Auswertung \",B44,\"\"))))+2,11)))))=FALSE,+INDIRECT(CONCATENATE(\"'\",J44,\"'!\",(ADDRESS((COUNTIF($J$3:J44,IF(B44<>0,CONCATENATE(\"Auswertung \",B44,\"\"))))+4,11)))),\"\")","v":""},{"$f":"+IF(ISERROR(+INDIRECT(CONCATENATE(\"'\",J44,\"'!\",(ADDRESS((COUNTIF($J$3:J44,IF(D44<>0,CONCATENATE(\"Auswertung \",D44,\"\"))))+2,12)))))=FALSE,+INDIRECT(CONCATENATE(\"'\",J44,\"'!\",(ADDRESS((COUNTIF($J$3:J44,IF(D44<>0,CONCATENATE(\"Auswertung \",B44,\"\"))))+4,12)))),\"\")","v":""},{"$f":"+IF(ISERROR(+INDIRECT(CONCATENATE(\"'\",J44,\"'!\",(ADDRESS((COUNTIF($J$3:J44,IF(D44<>0,CONCATENATE(\"Auswertung \",D44,\"\"))))+2,13)))))=FALSE,+INDIRECT(CONCATENATE(\"'\",J44,\"'!\",(ADDRESS((COUNTIF($J$3:J44,IF(D44<>0,CONCATENATE(\"Auswertung \",B44,\"\"))))+4,13)))),\"\")","v":""},null,{"$f":"+IFERROR(INDIRECT(CONCATENATE(\"'\",J44,\"'!\",(ADDRESS((COUNTIF($J$3:J44,IF(B44<>0,J44)))+4,16)))),\"\")","v":""},21.942,{"$f":"+SUM($M$4:M44)/COUNT($M$4:M44)/1000*2","v":0.28281081081081083},{"$f":"+IFERROR(INDIRECT(CONCATENATE(\"'\",J44,\"'!\",(ADDRESS((COUNTIF($J$3:J44,IF(B44<>0,J44)))+4,18)))),\"\")","v":""},50.264000000000003,{"$f":"+IFERROR(INDIRECT(CONCATENATE(\"'\",J44,\"'!\",(ADDRESS((COUNTIF($J$3:J44,IF(B44<>0,J44)))+4,20)))),\"\")","v":""},44.247,{"$f":"+IFERROR(INDIRECT(CONCATENATE(\"'\",J44,\"'!\",(ADDRESS((COUNTIF($J$3:J44,IF(B44<>0,J44)))+4,22)))),\"\")","v":""},16.149999999999999,{"$f":"+IFERROR(INDIRECT(CONCATENATE(\"'\",J44,\"'!\",(ADDRESS((COUNTIF($J$3:J44,IF(B44<>0,J44)))+4,24)))),\"\")","v":""},-17.100999999999999,{"$f":"+IFERROR(INDIRECT(CONCATENATE(\"'\",J44,\"'!\",(ADDRESS((COUNTIF($J$3:J44,IF(B44<>0,J44)))+4,26)))),\"\")","v":""},-15.523999999999999,41,{"$f":"+SUM(COUNTIF($Z$3:Z44,1),COUNTIF($Z$3:Z44,-1))","v":37},{"$f":"+SUM($M$4:M44)","v":5232},141.40540540540542,{"$f":"+SUM(COUNTIF($Z$3:Z44,1))","v":19},{"$f":"+SUM(COUNTIF($Z$3:Z44,-1))","v":18},1,{"$f":"AN44*(HARMEAN((IF(SUM(COUNTIF($Z$3:Z44,1),COUNTIF($Z$3:Z44,-1))=0,1,SUM(COUNTIF($Z$3:Z44,1),COUNTIF($Z$3:Z44,-1)))),(IF(SUM(COUNTIF($AC$3:AC44,1),COUNTIF($AC$3:AC44,-1))=0,1,SUM(COUNTIF($AC$3:AC44,1),COUNTIF($AC$3:AC44,-1)))),(IF(SUM(COUNTIF($AE$3:AE44,1),COUNTIF($AE$3:AE44,-1))=0,1,SUM(COUNTIF($AE$3:AE44,1),COUNTIF($AE$3:AE44,-1)))),(IF(SUM(COUNTIF($AG$3:AG44,1),COUNTIF($AG$3:AG44,-1))=0,1,SUM(COUNTIF($AG$3:AG44,1),COUNTIF($AG$3:AG44,-1)))),(IF(SUM(COUNTIF($AI$3:AI44,1),COUNTIF($AI$3:AI44,-1))=0,1,SUM(COUNTIF($AI$3:AI44,1),COUNTIF($AI$3:AI44,-1)))),(IF(SUM(COUNTIF($AK$3:AK44,1),COUNTIF($AK$3:AK44,-1))=0,1,SUM(COUNTIF($AK$3:AK44,1),COUNTIF($AK$3:AK44,-1)))))/1000)","v":1.3027260075093867},21.942,null,{"$f":"+SUM(COUNTIF($AC$3:AC44,1),COUNTIF($AC$3:AC44,-1))","v":37},{"$f":"+SUM($O$4:O44)","v":5276},142.59459459459458,{"$f":"+SUM(COUNTIF($AC$3:AC44,1))","v":23},{"$f":"+SUM(COUNTIF($AC$3:AC44,-1))","v":14},9,{"$f":"AW44*(HARMEAN((IF(SUM(COUNTIF($Z$3:Z44,1),COUNTIF($Z$3:Z44,-1))=0,1,SUM(COUNTIF($Z$3:Z44,1),COUNTIF($Z$3:Z44,-1)))),(IF(SUM(COUNTIF($AC$3:AC44,1),COUNTIF($AC$3:AC44,-1))=0,1,SUM(COUNTIF($AC$3:AC44,1),COUNTIF($AC$3:AC44,-1)))),(IF(SUM(COUNTIF($AE$3:AE44,1),COUNTIF($AE$3:AE44,-1))=0,1,SUM(COUNTIF($AE$3:AE44,1),COUNTIF($AE$3:AE44,-1)))),(IF(SUM(COUNTIF($AG$3:AG44,1),COUNTIF($AG$3:AG44,-1))=0,1,SUM(COUNTIF($AG$3:AG44,1),COUNTIF($AG$3:AG44,-1)))),(IF(SUM(COUNTIF($AI$3:AI44,1),COUNTIF($AI$3:AI44,-1))=0,1,SUM(COUNTIF($AI$3:AI44,1),COUNTIF($AI$3:AI44,-1)))),(IF(SUM(COUNTIF($AK$3:AK44,1),COUNTIF($AK$3:AK44,-1))=0,1,SUM(COUNTIF($AK$3:AK44,1),COUNTIF($AK$3:AK44,-1)))))/1000)","v":1.3027260075093867},50.264000000000003,null,{"$f":"+SUM(COUNTIF($AE$3:AE44,1),COUNTIF(AE$3:$AE44,-1))","v":36},{"$f":"+SUM($Q$4:Q44)","v":4567},126.86111111111111,{"$f":"+SUM(COUNTIF($AE$3:AE44,1))","v":22},{"$f":"+SUM(COUNTIF($AE$3:AE44,-1))","v":14},8,{"$f":"BF44*(HARMEAN((IF(SUM(COUNTIF($Z$3:Z44,1),COUNTIF($Z$3:Z44,-1))=0,1,SUM(COUNTIF($Z$3:Z44,1),COUNTIF($Z$3:Z44,-1)))),(IF(SUM(COUNTIF($AC$3:AC44,1),COUNTIF($AC$3:AC44,-1))=0,1,SUM(COUNTIF($AC$3:AC44,1),COUNTIF($AC$3:AC44,-1)))),(IF(SUM(COUNTIF($AE$3:AE44,1),COUNTIF($AE$3:AE44,-1))=0,1,SUM(COUNTIF($AE$3:AE44,1),COUNTIF($AE$3:AE44,-1)))),(IF(SUM(COUNTIF($AG$3:AG44,1),COUNTIF($AG$3:AG44,-1))=0,1,SUM(COUNTIF($AG$3:AG44,1),COUNTIF($AG$3:AG44,-1)))),(IF(SUM(COUNTIF($AI$3:AI44,1),COUNTIF($AI$3:AI44,-1))=0,1,SUM(COUNTIF($AI$3:AI44,1),COUNTIF($AI$3:AI44,-1)))),(IF(SUM(COUNTIF($AK$3:AK44,1),COUNTIF($AK$3:AK44,-1))=0,1,SUM(COUNTIF($AK$3:AK44,1),COUNTIF($AK$3:AK44,-1)))))/1000)","v":1.2675171964956196},44.247,null,{"$f":"+SUM(COUNTIF($AG$3:AG44,1),COUNTIF($AG$3:AG44,-1))","v":37},{"$f":"+SUM($S$4:S44)","v":5587},151,{"$f":"+SUM(COUNTIF($AG$3:AG44,1))","v":18},{"$f":"+SUM(COUNTIF($AG$3:AG44,-1))","v":19},-1,{"$f":"BO44*(HARMEAN((IF(SUM(COUNTIF($Z$3:Z44,1),COUNTIF($Z$3:Z44,-1))=0,1,SUM(COUNTIF($Z$3:Z44,1),COUNTIF($Z$3:Z44,-1)))),(IF(SUM(COUNTIF($AC$3:AC44,1),COUNTIF($AC$3:AC44,-1))=0,1,SUM(COUNTIF($AC$3:AC44,1),COUNTIF($AC$3:AC44,-1)))),(IF(SUM(COUNTIF($AE$3:AE44,1),COUNTIF($AE$3:AE44,-1))=0,1,SUM(COUNTIF($AE$3:AE44,1),COUNTIF($AE$3:AE44,-1)))),(IF(SUM(COUNTIF($AG$3:AG44,1),COUNTIF($AG$3:AG44,-1))=0,1,SUM(COUNTIF($AG$3:AG44,1),COUNTIF($AG$3:AG44,-1)))),(IF(SUM(COUNTIF($AI$3:AI44,1),COUNTIF($AI$3:AI44,-1))=0,1,SUM(COUNTIF($AI$3:AI44,1),COUNTIF($AI$3:AI44,-1)))),(IF(SUM(COUNTIF($AK$3:AK44,1),COUNTIF($AK$3:AK44,-1))=0,1,SUM(COUNTIF($AK$3:AK44,1),COUNTIF($AK$3:AK44,-1)))))/1000)","v":1.3027260075093867},16.149999999999999,null,{"$f":"+SUM(COUNTIF($AI$3:AI44,1),COUNTIF($AI$3:AI44,-1))","v":33},{"$f":"+SUM($U$4:U44)","v":4143},125.54545454545455,{"$f":"+SUM(COUNTIF($AI$3:AI44,1))","v":12},{"$f":"+SUM(COUNTIF($AI$3:AI44,-1))","v":21},-9,{"$f":"+BX44*(HARMEAN((IF(SUM(COUNTIF($Z$3:Z44,1),COUNTIF($Z$3:Z44,-1))=0,1,SUM(COUNTIF($Z$3:Z44,1),COUNTIF($Z$3:Z44,-1)))),(IF(SUM(COUNTIF($AC$3:AC44,1),COUNTIF($AC$3:AC44,-1))=0,1,SUM(COUNTIF($AC$3:AC44,1),COUNTIF($AC$3:AC44,-1)))),(IF(SUM(COUNTIF($AE$3:AE44,1),COUNTIF($AE$3:AE44,-1))=0,1,SUM(COUNTIF($AE$3:AE44,1),COUNTIF($AE$3:AE44,-1)))),(IF(SUM(COUNTIF($AG$3:AG44,1),COUNTIF($AG$3:AG44,-1))=0,1,SUM(COUNTIF($AG$3:AG44,1),COUNTIF($AG$3:AG44,-1)))),(IF(SUM(COUNTIF($AI$3:AI44,1),COUNTIF($AI$3:AI44,-1))=0,1,SUM(COUNTIF($AI$3:AI44,1),COUNTIF($AI$3:AI44,-1)))),(IF(SUM(COUNTIF($AK$3:AK44,1),COUNTIF($AK$3:AK44,-1))=0,1,SUM(COUNTIF($AK$3:AK44,1),COUNTIF($AK$3:AK44,-1)))))/1000)","v":1.1618907634543179},-17.100999999999999,null,{"$f":"+SUM(COUNTIF($AK$3:AK44,1),COUNTIF($AK$3:AK44,-1))","v":32},{"$f":"+SUM($W$4:W44)","v":3591},112.21875,{"$f":"+SUM(COUNTIF($AK$3:AK44,1))","v":12},{"$f":"+SUM(COUNTIF($AK$3:AK44,-1))","v":20},-8,{"$f":"+CG44*(HARMEAN((IF(SUM(COUNTIF($Z$3:Z44,1),COUNTIF($Z$3:Z44,-1))=0,1,SUM(COUNTIF($Z$3:Z44,1),COUNTIF($Z$3:Z44,-1)))),(IF(SUM(COUNTIF($AC$3:AC44,1),COUNTIF($AC$3:AC44,-1))=0,1,SUM(COUNTIF($AC$3:AC44,1),COUNTIF($AC$3:AC44,-1)))),(IF(SUM(COUNTIF($AE$3:AE44,1),COUNTIF($AE$3:AE44,-1))=0,1,SUM(COUNTIF($AE$3:AE44,1),COUNTIF($AE$3:AE44,-1)))),(IF(SUM(COUNTIF($AG$3:AG44,1),COUNTIF($AG$3:AG44,-1))=0,1,SUM(COUNTIF($AG$3:AG44,1),COUNTIF($AG$3:AG44,-1)))),(IF(SUM(COUNTIF($AI$3:AI44,1),COUNTIF($AI$3:AI44,-1))=0,1,SUM(COUNTIF($AI$3:AI44,1),COUNTIF($AI$3:AI44,-1)))),(IF(SUM(COUNTIF($AK$3:AK44,1),COUNTIF($AK$3:AK44,-1))=0,1,SUM(COUNTIF($AK$3:AK44,1),COUNTIF($AK$3:AK44,-1)))))/1000)","v":1.1266819524405507},-15.523999999999999]
[42,"",null,{"$f":"+IFERROR(INDEX('Auswertung AoE II'!$AE:$AE,MATCH(A45,'Auswertung AoE II'!$AD:$AD,0)),\"\")","v":""},{"$f":"+IFERROR(INDEX('Auswertung AoE III'!$AE:$AE,MATCH(A45,'Auswertung AoE III'!$AD:$AD,0)),\"\")","v":""},{"$f":"+IFERROR(INDEX('Auswertung AoM'!$AE:$AE,MATCH(A45,'Auswertung AoM'!$AD:$AD,0)),\"\")","v":""},{"$f":"+IFERROR(INDEX('Auswertung RA'!$AE:$AE,MATCH(A45,'Auswertung RA'!$AD:$AD,0)),\"\")","v":""},{"$f":"+IFERROR(INDEX('Auswertung Yuri'!$AE:$AE,MATCH(A45,'Auswertung Yuri'!$AD:$AD,0)),\"\")","v":""},{"$f":"+IFERROR(INDEX('Auswertung Generals'!$AE:$AE,MATCH(A45,'Auswertung Generals'!$AD:$AD,0)),\"\")","v":""},"Auswertung ",null,null,{"$f":"+IF(ISERROR(+INDIRECT(CONCATENATE(\"'\",J45,\"'!\",(ADDRESS((COUNTIF($J$3:J45,IF(B45<>0,CONCATENATE(\"Auswertung \",B45,\"\"))))+2,2)))))=FALSE,+INDIRECT(CONCATENATE(\"'\",J45,\"'!\",(ADDRESS((COUNTIF($J$3:J45,IF(B45<>0,CONCATENATE(\"Auswertung \",B45,\"\"))))+4,2)))),\"\")","v":""},{"$f":"IF(ISERROR(+INDIRECT(CONCATENATE(\"'\",J45,\"'!\",(ADDRESS((COUNTIF($J$3:J45,IF(B45<>0,CONCATENATE(\"Auswertung \",B45,\"\"))))+2,2+1)))))=FALSE,+INDIRECT(CONCATENATE(\"'\",J45,\"'!\",(ADDRESS((COUNTIF($J$3:J45,IF(B45<>0,CONCATENATE(\"Auswertung \",B45,\"\"))))+4,2+1)))),\"\")","v":""},{"$f":"+IF(ISERROR(+INDIRECT(CONCATENATE(\"'\",J45,\"'!\",(ADDRESS((COUNTIF($J$3:J45,IF(B45<>0,CONCATENATE(\"Auswertung \",B45,\"\"))))+2,4)))))=FALSE,+INDIRECT(CONCATENATE(\"'\",J45,\"'!\",(ADDRESS((COUNTIF($J$3:J45,IF(B45<>0,CONCATENATE(\"Auswertung \",B45,\"\"))))+4,4)))),\"\")","v":""},{"$f":"+IF(ISERROR(+INDIRECT(CONCATENATE(\"'\",J45,\"'!\",(ADDRESS((COUNTIF($J$3:J45,IF(B45<>0,CONCATENATE(\"Auswertung \",B45,\"\"))))+2,5)))))=FALSE,+INDIRECT(CONCATENATE(\"'\",J45,\"'!\",(ADDRESS((COUNTIF($J$3:J45,IF(B45<>0,CONCATENATE(\"Auswertung \",B45,\"\"))))+4,5)))),\"\")","v":""},{"$f":"+IF(ISERROR(+INDIRECT(CONCATENATE(\"'\",J45,\"'!\",(ADDRESS((COUNTIF($J$3:J45,IF(B45<>0,CONCATENATE(\"Auswertung \",B45,\"\"))))+2,6)))))=FALSE,+INDIRECT(CONCATENATE(\"'\",J45,\"'!\",(ADDRESS((COUNTIF($J$3:J45,IF(B45<>0,CONCATENATE(\"Auswertung \",B45,\"\"))))+4,6)))),\"\")","v":""},{"$f":"+IF(ISERROR(+INDIRECT(CONCATENATE(\"'\",J45,\"'!\",(ADDRESS((COUNTIF($J$3:J45,IF(B45<>0,CONCATENATE(\"Auswertung \",B45,\"\"))))+2,7)))))=FALSE,+INDIRECT(CONCATENATE(\"'\",J45,\"'!\",(ADDRESS((COUNTIF($J$3:J45,IF(B45<>0,CONCATENATE(\"Auswertung \",B45,\"\"))))+4,7)))),\"\")","v":""},{"$f":"+IF(ISERROR(+INDIRECT(CONCATENATE(\"'\",J45,\"'!\",(ADDRESS((COUNTIF($J$3:J45,IF(B45<>0,CONCATENATE(\"Auswertung \",B45,\"\"))))+2,10)))))=FALSE,+INDIRECT(CONCATENATE(\"'\",J45,\"'!\",(ADDRESS((COUNTIF($J$3:J45,IF(B45<>0,CONCATENATE(\"Auswertung \",B45,\"\"))))+4,8)))),\"\")","v":""},{"$f":"+IF(ISERROR(+INDIRECT(CONCATENATE(\"'\",J45,\"'!\",(ADDRESS((COUNTIF($J$3:J45,IF(B45<>0,CONCATENATE(\"Auswertung \",B45,\"\"))))+2,11)))))=FALSE,+INDIRECT(CONCATENATE(\"'\",J45,\"'!\",(ADDRESS((COUNTIF($J$3:J45,IF(B45<>0,CONCATENATE(\"Auswertung \",B45,\"\"))))+4,9)))),\"\")","v":""},{"$f":"+IF(ISERROR(+INDIRECT(CONCATENATE(\"'\",J45,\"'!\",(ADDRESS((COUNTIF($J$3:J45,IF(B45<>0,CONCATENATE(\"Auswertung \",B45,\"\"))))+2,10)))))=FALSE,+INDIRECT(CONCATENATE(\"'\",J45,\"'!\",(ADDRESS((COUNTIF($J$3:J45,IF(B45<>0,CONCATENATE(\"Auswertung \",B45,\"\"))))+4,10)))),\"\")","v":""},{"$f":"+IF(ISERROR(+INDIRECT(CONCATENATE(\"'\",J45,\"'!\",(ADDRESS((COUNTIF($J$3:J45,IF(B45<>0,CONCATENATE(\"Auswertung \",B45,\"\"))))+2,11)))))=FALSE,+INDIRECT(CONCATENATE(\"'\",J45,\"'!\",(ADDRESS((COUNTIF($J$3:J45,IF(B45<>0,CONCATENATE(\"Auswertung \",B45,\"\"))))+4,11)))),\"\")","v":""},{"$f":"+IF(ISERROR(+INDIRECT(CONCATENATE(\"'\",J45,\"'!\",(ADDRESS((COUNTIF($J$3:J45,IF(D45<>0,CONCATENATE(\"Auswertung \",D45,\"\"))))+2,12)))))=FALSE,+INDIRECT(CONCATENATE(\"'\",J45,\"'!\",(ADDRESS((COUNTIF($J$3:J45,IF(D45<>0,CONCATENATE(\"Auswertung \",B45,\"\"))))+4,12)))),\"\")","v":""},{"$f":"+IF(ISERROR(+INDIRECT(CONCATENATE(\"'\",J45,\"'!\",(ADDRESS((COUNTIF($J$3:J45,IF(D45<>0,CONCATENATE(\"Auswertung \",D45,\"\"))))+2,13)))))=FALSE,+INDIRECT(CONCATENATE(\"'\",J45,\"'!\",(ADDRESS((COUNTIF($J$3:J45,IF(D45<>0,CONCATENATE(\"Auswertung \",B45,\"\"))))+4,13)))),\"\")","v":""},null,{"$f":"+IFERROR(INDIRECT(CONCATENATE(\"'\",J45,\"'!\",(ADDRESS((COUNTIF($J$3:J45,IF(B45<>0,J45)))+4,16)))),\"\")","v":""},21.942,{"$f":"+SUM($M$4:M45)/COUNT($M$4:M45)/1000*2","v":0.28281081081081083},{"$f":"+IFERROR(INDIRECT(CONCATENATE(\"'\",J45,\"'!\",(ADDRESS((COUNTIF($J$3:J45,IF(B45<>0,J45)))+4,18)))),\"\")","v":""},50.264000000000003,{"$f":"+IFERROR(INDIRECT(CONCATENATE(\"'\",J45,\"'!\",(ADDRESS((COUNTIF($J$3:J45,IF(B45<>0,J45)))+4,20)))),\"\")","v":""},44.247,{"$f":"+IFERROR(INDIRECT(CONCATENATE(\"'\",J45,\"'!\",(ADDRESS((COUNTIF($J$3:J45,IF(B45<>0,J45)))+4,22)))),\"\")","v":""},16.149999999999999,{"$f":"+IFERROR(INDIRECT(CONCATENATE(\"'\",J45,\"'!\",(ADDRESS((COUNTIF($J$3:J45,IF(B45<>0,J45)))+4,24)))),\"\")","v":""},-17.100999999999999,{"$f":"+IFERROR(INDIRECT(CONCATENATE(\"'\",J45,\"'!\",(ADDRESS((COUNTIF($J$3:J45,IF(B45<>0,J45)))+4,26)))),\"\")","v":""},-15.523999999999999,42,{"$f":"+SUM(COUNTIF($Z$3:Z45,1),COUNTIF($Z$3:Z45,-1))","v":37},{"$f":"+SUM($M$4:M45)","v":5232},141.40540540540542,{"$f":"+SUM(COUNTIF($Z$3:Z45,1))","v":19},{"$f":"+SUM(COUNTIF($Z$3:Z45,-1))","v":18},1,{"$f":"AN45*(HARMEAN((IF(SUM(COUNTIF($Z$3:Z45,1),COUNTIF($Z$3:Z45,-1))=0,1,SUM(COUNTIF($Z$3:Z45,1),COUNTIF($Z$3:Z45,-1)))),(IF(SUM(COUNTIF($AC$3:AC45,1),COUNTIF($AC$3:AC45,-1))=0,1,SUM(COUNTIF($AC$3:AC45,1),COUNTIF($AC$3:AC45,-1)))),(IF(SUM(COUNTIF($AE$3:AE45,1),COUNTIF($AE$3:AE45,-1))=0,1,SUM(COUNTIF($AE$3:AE45,1),COUNTIF($AE$3:AE45,-1)))),(IF(SUM(COUNTIF($AG$3:AG45,1),COUNTIF($AG$3:AG45,-1))=0,1,SUM(COUNTIF($AG$3:AG45,1),COUNTIF($AG$3:AG45,-1)))),(IF(SUM(COUNTIF($AI$3:AI45,1),COUNTIF($AI$3:AI45,-1))=0,1,SUM(COUNTIF($AI$3:AI45,1),COUNTIF($AI$3:AI45,-1)))),(IF(SUM(COUNTIF($AK$3:AK45,1),COUNTIF($AK$3:AK45,-1))=0,1,SUM(COUNTIF($AK$3:AK45,1),COUNTIF($AK$3:AK45,-1)))))/1000)","v":1.3027260075093867},21.942,null,{"$f":"+SUM(COUNTIF($AC$3:AC45,1),COUNTIF($AC$3:AC45,-1))","v":37},{"$f":"+SUM($O$4:O45)","v":5276},142.59459459459458,{"$f":"+SUM(COUNTIF($AC$3:AC45,1))","v":23},{"$f":"+SUM(COUNTIF($AC$3:AC45,-1))","v":14},9,{"$f":"AW45*(HARMEAN((IF(SUM(COUNTIF($Z$3:Z45,1),COUNTIF($Z$3:Z45,-1))=0,1,SUM(COUNTIF($Z$3:Z45,1),COUNTIF($Z$3:Z45,-1)))),(IF(SUM(COUNTIF($AC$3:AC45,1),COUNTIF($AC$3:AC45,-1))=0,1,SUM(COUNTIF($AC$3:AC45,1),COUNTIF($AC$3:AC45,-1)))),(IF(SUM(COUNTIF($AE$3:AE45,1),COUNTIF($AE$3:AE45,-1))=0,1,SUM(COUNTIF($AE$3:AE45,1),COUNTIF($AE$3:AE45,-1)))),(IF(SUM(COUNTIF($AG$3:AG45,1),COUNTIF($AG$3:AG45,-1))=0,1,SUM(COUNTIF($AG$3:AG45,1),COUNTIF($AG$3:AG45,-1)))),(IF(SUM(COUNTIF($AI$3:AI45,1),COUNTIF($AI$3:AI45,-1))=0,1,SUM(COUNTIF($AI$3:AI45,1),COUNTIF($AI$3:AI45,-1)))),(IF(SUM(COUNTIF($AK$3:AK45,1),COUNTIF($AK$3:AK45,-1))=0,1,SUM(COUNTIF($AK$3:AK45,1),COUNTIF($AK$3:AK45,-1)))))/1000)","v":1.3027260075093867},50.264000000000003,null,{"$f":"+SUM(COUNTIF($AE$3:AE45,1),COUNTIF(AE$3:$AE45,-1))","v":36},{"$f":"+SUM($Q$4:Q45)","v":4567},126.86111111111111,{"$f":"+SUM(COUNTIF($AE$3:AE45,1))","v":22},{"$f":"+SUM(COUNTIF($AE$3:AE45,-1))","v":14},8,{"$f":"BF45*(HARMEAN((IF(SUM(COUNTIF($Z$3:Z45,1),COUNTIF($Z$3:Z45,-1))=0,1,SUM(COUNTIF($Z$3:Z45,1),COUNTIF($Z$3:Z45,-1)))),(IF(SUM(COUNTIF($AC$3:AC45,1),COUNTIF($AC$3:AC45,-1))=0,1,SUM(COUNTIF($AC$3:AC45,1),COUNTIF($AC$3:AC45,-1)))),(IF(SUM(COUNTIF($AE$3:AE45,1),COUNTIF($AE$3:AE45,-1))=0,1,SUM(COUNTIF($AE$3:AE45,1),COUNTIF($AE$3:AE45,-1)))),(IF(SUM(COUNTIF($AG$3:AG45,1),COUNTIF($AG$3:AG45,-1))=0,1,SUM(COUNTIF($AG$3:AG45,1),COUNTIF($AG$3:AG45,-1)))),(IF(SUM(COUNTIF($AI$3:AI45,1),COUNTIF($AI$3:AI45,-1))=0,1,SUM(COUNTIF($AI$3:AI45,1),COUNTIF($AI$3:AI45,-1)))),(IF(SUM(COUNTIF($AK$3:AK45,1),COUNTIF($AK$3:AK45,-1))=0,1,SUM(COUNTIF($AK$3:AK45,1),COUNTIF($AK$3:AK45,-1)))))/1000)","v":1.2675171964956196},44.247,null,{"$f":"+SUM(COUNTIF($AG$3:AG45,1),COUNTIF($AG$3:AG45,-1))","v":37},{"$f":"+SUM($S$4:S45)","v":5587},151,{"$f":"+SUM(COUNTIF($AG$3:AG45,1))","v":18},{"$f":"+SUM(COUNTIF($AG$3:AG45,-1))","v":19},-1,{"$f":"BO45*(HARMEAN((IF(SUM(COUNTIF($Z$3:Z45,1),COUNTIF($Z$3:Z45,-1))=0,1,SUM(COUNTIF($Z$3:Z45,1),COUNTIF($Z$3:Z45,-1)))),(IF(SUM(COUNTIF($AC$3:AC45,1),COUNTIF($AC$3:AC45,-1))=0,1,SUM(COUNTIF($AC$3:AC45,1),COUNTIF($AC$3:AC45,-1)))),(IF(SUM(COUNTIF($AE$3:AE45,1),COUNTIF($AE$3:AE45,-1))=0,1,SUM(COUNTIF($AE$3:AE45,1),COUNTIF($AE$3:AE45,-1)))),(IF(SUM(COUNTIF($AG$3:AG45,1),COUNTIF($AG$3:AG45,-1))=0,1,SUM(COUNTIF($AG$3:AG45,1),COUNTIF($AG$3:AG45,-1)))),(IF(SUM(COUNTIF($AI$3:AI45,1),COUNTIF($AI$3:AI45,-1))=0,1,SUM(COUNTIF($AI$3:AI45,1),COUNTIF($AI$3:AI45,-1)))),(IF(SUM(COUNTIF($AK$3:AK45,1),COUNTIF($AK$3:AK45,-1))=0,1,SUM(COUNTIF($AK$3:AK45,1),COUNTIF($AK$3:AK45,-1)))))/1000)","v":1.3027260075093867},16.149999999999999,null,{"$f":"+SUM(COUNTIF($AI$3:AI45,1),COUNTIF($AI$3:AI45,-1))","v":33},{"$f":"+SUM($U$4:U45)","v":4143},125.54545454545455,{"$f":"+SUM(COUNTIF($AI$3:AI45,1))","v":12},{"$f":"+SUM(COUNTIF($AI$3:AI45,-1))","v":21},-9,{"$f":"+BX45*(HARMEAN((IF(SUM(COUNTIF($Z$3:Z45,1),COUNTIF($Z$3:Z45,-1))=0,1,SUM(COUNTIF($Z$3:Z45,1),COUNTIF($Z$3:Z45,-1)))),(IF(SUM(COUNTIF($AC$3:AC45,1),COUNTIF($AC$3:AC45,-1))=0,1,SUM(COUNTIF($AC$3:AC45,1),COUNTIF($AC$3:AC45,-1)))),(IF(SUM(COUNTIF($AE$3:AE45,1),COUNTIF($AE$3:AE45,-1))=0,1,SUM(COUNTIF($AE$3:AE45,1),COUNTIF($AE$3:AE45,-1)))),(IF(SUM(COUNTIF($AG$3:AG45,1),COUNTIF($AG$3:AG45,-1))=0,1,SUM(COUNTIF($AG$3:AG45,1),COUNTIF($AG$3:AG45,-1)))),(IF(SUM(COUNTIF($AI$3:AI45,1),COUNTIF($AI$3:AI45,-1))=0,1,SUM(COUNTIF($AI$3:AI45,1),COUNTIF($AI$3:AI45,-1)))),(IF(SUM(COUNTIF($AK$3:AK45,1),COUNTIF($AK$3:AK45,-1))=0,1,SUM(COUNTIF($AK$3:AK45,1),COUNTIF($AK$3:AK45,-1)))))/1000)","v":1.1618907634543179},-17.100999999999999,null,{"$f":"+SUM(COUNTIF($AK$3:AK45,1),COUNTIF($AK$3:AK45,-1))","v":32},{"$f":"+SUM($W$4:W45)","v":3591},112.21875,{"$f":"+SUM(COUNTIF($AK$3:AK45,1))","v":12},{"$f":"+SUM(COUNTIF($AK$3:AK45,-1))","v":20},-8,{"$f":"+CG45*(HARMEAN((IF(SUM(COUNTIF($Z$3:Z45,1),COUNTIF($Z$3:Z45,-1))=0,1,SUM(COUNTIF($Z$3:Z45,1),COUNTIF($Z$3:Z45,-1)))),(IF(SUM(COUNTIF($AC$3:AC45,1),COUNTIF($AC$3:AC45,-1))=0,1,SUM(COUNTIF($AC$3:AC45,1),COUNTIF($AC$3:AC45,-1)))),(IF(SUM(COUNTIF($AE$3:AE45,1),COUNTIF($AE$3:AE45,-1))=0,1,SUM(COUNTIF($AE$3:AE45,1),COUNTIF($AE$3:AE45,-1)))),(IF(SUM(COUNTIF($AG$3:AG45,1),COUNTIF($AG$3:AG45,-1))=0,1,SUM(COUNTIF($AG$3:AG45,1),COUNTIF($AG$3:AG45,-1)))),(IF(SUM(COUNTIF($AI$3:AI45,1),COUNTIF($AI$3:AI45,-1))=0,1,SUM(COUNTIF($AI$3:AI45,1),COUNTIF($AI$3:AI45,-1)))),(IF(SUM(COUNTIF($AK$3:AK45,1),COUNTIF($AK$3:AK45,-1))=0,1,SUM(COUNTIF($AK$3:AK45,1),COUNTIF($AK$3:AK45,-1)))))/1000)","v":1.1266819524405507},-15.523999999999999]
[43,"",null,{"$f":"+IFERROR(INDEX('Auswertung AoE II'!$AE:$AE,MATCH(A46,'Auswertung AoE II'!$AD:$AD,0)),\"\")","v":""},{"$f":"+IFERROR(INDEX('Auswertung AoE III'!$AE:$AE,MATCH(A46,'Auswertung AoE III'!$AD:$AD,0)),\"\")","v":""},{"$f":"+IFERROR(INDEX('Auswertung AoM'!$AE:$AE,MATCH(A46,'Auswertung AoM'!$AD:$AD,0)),\"\")","v":""},{"$f":"+IFERROR(INDEX('Auswertung RA'!$AE:$AE,MATCH(A46,'Auswertung RA'!$AD:$AD,0)),\"\")","v":""},{"$f":"+IFERROR(INDEX('Auswertung Yuri'!$AE:$AE,MATCH(A46,'Auswertung Yuri'!$AD:$AD,0)),\"\")","v":""},{"$f":"+IFERROR(INDEX('Auswertung Generals'!$AE:$AE,MATCH(A46,'Auswertung Generals'!$AD:$AD,0)),\"\")","v":""},"Auswertung ",null,null,{"$f":"+IF(ISERROR(+INDIRECT(CONCATENATE(\"'\",J46,\"'!\",(ADDRESS((COUNTIF($J$3:J46,IF(B46<>0,CONCATENATE(\"Auswertung \",B46,\"\"))))+2,2)))))=FALSE,+INDIRECT(CONCATENATE(\"'\",J46,\"'!\",(ADDRESS((COUNTIF($J$3:J46,IF(B46<>0,CONCATENATE(\"Auswertung \",B46,\"\"))))+4,2)))),\"\")","v":""},{"$f":"IF(ISERROR(+INDIRECT(CONCATENATE(\"'\",J46,\"'!\",(ADDRESS((COUNTIF($J$3:J46,IF(B46<>0,CONCATENATE(\"Auswertung \",B46,\"\"))))+2,2+1)))))=FALSE,+INDIRECT(CONCATENATE(\"'\",J46,\"'!\",(ADDRESS((COUNTIF($J$3:J46,IF(B46<>0,CONCATENATE(\"Auswertung \",B46,\"\"))))+4,2+1)))),\"\")","v":""},{"$f":"+IF(ISERROR(+INDIRECT(CONCATENATE(\"'\",J46,\"'!\",(ADDRESS((COUNTIF($J$3:J46,IF(B46<>0,CONCATENATE(\"Auswertung \",B46,\"\"))))+2,4)))))=FALSE,+INDIRECT(CONCATENATE(\"'\",J46,\"'!\",(ADDRESS((COUNTIF($J$3:J46,IF(B46<>0,CONCATENATE(\"Auswertung \",B46,\"\"))))+4,4)))),\"\")","v":""},{"$f":"+IF(ISERROR(+INDIRECT(CONCATENATE(\"'\",J46,\"'!\",(ADDRESS((COUNTIF($J$3:J46,IF(B46<>0,CONCATENATE(\"Auswertung \",B46,\"\"))))+2,5)))))=FALSE,+INDIRECT(CONCATENATE(\"'\",J46,\"'!\",(ADDRESS((COUNTIF($J$3:J46,IF(B46<>0,CONCATENATE(\"Auswertung \",B46,\"\"))))+4,5)))),\"\")","v":""},{"$f":"+IF(ISERROR(+INDIRECT(CONCATENATE(\"'\",J46,\"'!\",(ADDRESS((COUNTIF($J$3:J46,IF(B46<>0,CONCATENATE(\"Auswertung \",B46,\"\"))))+2,6)))))=FALSE,+INDIRECT(CONCATENATE(\"'\",J46,\"'!\",(ADDRESS((COUNTIF($J$3:J46,IF(B46<>0,CONCATENATE(\"Auswertung \",B46,\"\"))))+4,6)))),\"\")","v":""},{"$f":"+IF(ISERROR(+INDIRECT(CONCATENATE(\"'\",J46,\"'!\",(ADDRESS((COUNTIF($J$3:J46,IF(B46<>0,CONCATENATE(\"Auswertung \",B46,\"\"))))+2,7)))))=FALSE,+INDIRECT(CONCATENATE(\"'\",J46,\"'!\",(ADDRESS((COUNTIF($J$3:J46,IF(B46<>0,CONCATENATE(\"Auswertung \",B46,\"\"))))+4,7)))),\"\")","v":""},{"$f":"+IF(ISERROR(+INDIRECT(CONCATENATE(\"'\",J46,\"'!\",(ADDRESS((COUNTIF($J$3:J46,IF(B46<>0,CONCATENATE(\"Auswertung \",B46,\"\"))))+2,10)))))=FALSE,+INDIRECT(CONCATENATE(\"'\",J46,\"'!\",(ADDRESS((COUNTIF($J$3:J46,IF(B46<>0,CONCATENATE(\"Auswertung \",B46,\"\"))))+4,8)))),\"\")","v":""},{"$f":"+IF(ISERROR(+INDIRECT(CONCATENATE(\"'\",J46,\"'!\",(ADDRESS((COUNTIF($J$3:J46,IF(B46<>0,CONCATENATE(\"Auswertung \",B46,\"\"))))+2,11)))))=FALSE,+INDIRECT(CONCATENATE(\"'\",J46,\"'!\",(ADDRESS((COUNTIF($J$3:J46,IF(B46<>0,CONCATENATE(\"Auswertung \",B46,\"\"))))+4,9)))),\"\")","v":""},{"$f":"+IF(ISERROR(+INDIRECT(CONCATENATE(\"'\",J46,\"'!\",(ADDRESS((COUNTIF($J$3:J46,IF(B46<>0,CONCATENATE(\"Auswertung \",B46,\"\"))))+2,10)))))=FALSE,+INDIRECT(CONCATENATE(\"'\",J46,\"'!\",(ADDRESS((COUNTIF($J$3:J46,IF(B46<>0,CONCATENATE(\"Auswertung \",B46,\"\"))))+4,10)))),\"\")","v":""},{"$f":"+IF(ISERROR(+INDIRECT(CONCATENATE(\"'\",J46,\"'!\",(ADDRESS((COUNTIF($J$3:J46,IF(B46<>0,CONCATENATE(\"Auswertung \",B46,\"\"))))+2,11)))))=FALSE,+INDIRECT(CONCATENATE(\"'\",J46,\"'!\",(ADDRESS((COUNTIF($J$3:J46,IF(B46<>0,CONCATENATE(\"Auswertung \",B46,\"\"))))+4,11)))),\"\")","v":""},{"$f":"+IF(ISERROR(+INDIRECT(CONCATENATE(\"'\",J46,\"'!\",(ADDRESS((COUNTIF($J$3:J46,IF(D46<>0,CONCATENATE(\"Auswertung \",D46,\"\"))))+2,12)))))=FALSE,+INDIRECT(CONCATENATE(\"'\",J46,\"'!\",(ADDRESS((COUNTIF($J$3:J46,IF(D46<>0,CONCATENATE(\"Auswertung \",B46,\"\"))))+4,12)))),\"\")","v":""},{"$f":"+IF(ISERROR(+INDIRECT(CONCATENATE(\"'\",J46,\"'!\",(ADDRESS((COUNTIF($J$3:J46,IF(D46<>0,CONCATENATE(\"Auswertung \",D46,\"\"))))+2,13)))))=FALSE,+INDIRECT(CONCATENATE(\"'\",J46,\"'!\",(ADDRESS((COUNTIF($J$3:J46,IF(D46<>0,CONCATENATE(\"Auswertung \",B46,\"\"))))+4,13)))),\"\")","v":""},null,{"$f":"+IFERROR(INDIRECT(CONCATENATE(\"'\",J46,\"'!\",(ADDRESS((COUNTIF($J$3:J46,IF(B46<>0,J46)))+4,16)))),\"\")","v":""},21.942,{"$f":"+SUM($M$4:M46)/COUNT($M$4:M46)/1000*2","v":0.28281081081081083},{"$f":"+IFERROR(INDIRECT(CONCATENATE(\"'\",J46,\"'!\",(ADDRESS((COUNTIF($J$3:J46,IF(B46<>0,J46)))+4,18)))),\"\")","v":""},50.264000000000003,{"$f":"+IFERROR(INDIRECT(CONCATENATE(\"'\",J46,\"'!\",(ADDRESS((COUNTIF($J$3:J46,IF(B46<>0,J46)))+4,20)))),\"\")","v":""},44.247,{"$f":"+IFERROR(INDIRECT(CONCATENATE(\"'\",J46,\"'!\",(ADDRESS((COUNTIF($J$3:J46,IF(B46<>0,J46)))+4,22)))),\"\")","v":""},16.149999999999999,{"$f":"+IFERROR(INDIRECT(CONCATENATE(\"'\",J46,\"'!\",(ADDRESS((COUNTIF($J$3:J46,IF(B46<>0,J46)))+4,24)))),\"\")","v":""},-17.100999999999999,{"$f":"+IFERROR(INDIRECT(CONCATENATE(\"'\",J46,\"'!\",(ADDRESS((COUNTIF($J$3:J46,IF(B46<>0,J46)))+4,26)))),\"\")","v":""},-15.523999999999999,43,{"$f":"+SUM(COUNTIF($Z$3:Z46,1),COUNTIF($Z$3:Z46,-1))","v":37},{"$f":"+SUM($M$4:M46)","v":5232},141.40540540540542,{"$f":"+SUM(COUNTIF($Z$3:Z46,1))","v":19},{"$f":"+SUM(COUNTIF($Z$3:Z46,-1))","v":18},1,{"$f":"AN46*(HARMEAN((IF(SUM(COUNTIF($Z$3:Z46,1),COUNTIF($Z$3:Z46,-1))=0,1,SUM(COUNTIF($Z$3:Z46,1),COUNTIF($Z$3:Z46,-1)))),(IF(SUM(COUNTIF($AC$3:AC46,1),COUNTIF($AC$3:AC46,-1))=0,1,SUM(COUNTIF($AC$3:AC46,1),COUNTIF($AC$3:AC46,-1)))),(IF(SUM(COUNTIF($AE$3:AE46,1),COUNTIF($AE$3:AE46,-1))=0,1,SUM(COUNTIF($AE$3:AE46,1),COUNTIF($AE$3:AE46,-1)))),(IF(SUM(COUNTIF($AG$3:AG46,1),COUNTIF($AG$3:AG46,-1))=0,1,SUM(COUNTIF($AG$3:AG46,1),COUNTIF($AG$3:AG46,-1)))),(IF(SUM(COUNTIF($AI$3:AI46,1),COUNTIF($AI$3:AI46,-1))=0,1,SUM(COUNTIF($AI$3:AI46,1),COUNTIF($AI$3:AI46,-1)))),(IF(SUM(COUNTIF($AK$3:AK46,1),COUNTIF($AK$3:AK46,-1))=0,1,SUM(COUNTIF($AK$3:AK46,1),COUNTIF($AK$3:AK46,-1)))))/1000)","v":1.3027260075093867},21.942,null,{"$f":"+SUM(COUNTIF($AC$3:AC46,1),COUNTIF($AC$3:AC46,-1))","v":37},{"$f":"+SUM($O$4:O46)","v":5276},142.59459459459458,{"$f":"+SUM(COUNTIF($AC$3:AC46,1))","v":23},{"$f":"+SUM(COUNTIF($AC$3:AC46,-1))","v":14},9,{"$f":"AW46*(HARMEAN((IF(SUM(COUNTIF($Z$3:Z46,1),COUNTIF($Z$3:Z46,-1))=0,1,SUM(COUNTIF($Z$3:Z46,1),COUNTIF($Z$3:Z46,-1)))),(IF(SUM(COUNTIF($AC$3:AC46,1),COUNTIF($AC$3:AC46,-1))=0,1,SUM(COUNTIF($AC$3:AC46,1),COUNTIF($AC$3:AC46,-1)))),(IF(SUM(COUNTIF($AE$3:AE46,1),COUNTIF($AE$3:AE46,-1))=0,1,SUM(COUNTIF($AE$3:AE46,1),COUNTIF($AE$3:AE46,-1)))),(IF(SUM(COUNTIF($AG$3:AG46,1),COUNTIF($AG$3:AG46,-1))=0,1,SUM(COUNTIF($AG$3:AG46,1),COUNTIF($AG$3:AG46,-1)))),(IF(SUM(COUNTIF($AI$3:AI46,1),COUNTIF($AI$3:AI46,-1))=0,1,SUM(COUNTIF($AI$3:AI46,1),COUNTIF($AI$3:AI46,-1)))),(IF(SUM(COUNTIF($AK$3:AK46,1),COUNTIF($AK$3:AK46,-1))=0,1,SUM(COUNTIF($AK$3:AK46,1),COUNTIF($AK$3:AK46,-1)))))/1000)","v":1.3027260075093867},50.264000000000003,null,{"$f":"+SUM(COUNTIF($AE$3:AE46,1),COUNTIF(AE$3:$AE46,-1))","v":36},{"$f":"+SUM($Q$4:Q46)","v":4567},126.86111111111111,{"$f":"+SUM(COUNTIF($AE$3:AE46,1))","v":22},{"$f":"+SUM(COUNTIF($AE$3:AE46,-1))","v":14},8,{"$f":"BF46*(HARMEAN((IF(SUM(COUNTIF($Z$3:Z46,1),COUNTIF($Z$3:Z46,-1))=0,1,SUM(COUNTIF($Z$3:Z46,1),COUNTIF($Z$3:Z46,-1)))),(IF(SUM(COUNTIF($AC$3:AC46,1),COUNTIF($AC$3:AC46,-1))=0,1,SUM(COUNTIF($AC$3:AC46,1),COUNTIF($AC$3:AC46,-1)))),(IF(SUM(COUNTIF($AE$3:AE46,1),COUNTIF($AE$3:AE46,-1))=0,1,SUM(COUNTIF($AE$3:AE46,1),COUNTIF($AE$3:AE46,-1)))),(IF(SUM(COUNTIF($AG$3:AG46,1),COUNTIF($AG$3:AG46,-1))=0,1,SUM(COUNTIF($AG$3:AG46,1),COUNTIF($AG$3:AG46,-1)))),(IF(SUM(COUNTIF($AI$3:AI46,1),COUNTIF($AI$3:AI46,-1))=0,1,SUM(COUNTIF($AI$3:AI46,1),COUNTIF($AI$3:AI46,-1)))),(IF(SUM(COUNTIF($AK$3:AK46,1),COUNTIF($AK$3:AK46,-1))=0,1,SUM(COUNTIF($AK$3:AK46,1),COUNTIF($AK$3:AK46,-1)))))/1000)","v":1.2675171964956196},44.247,null,{"$f":"+SUM(COUNTIF($AG$3:AG46,1),COUNTIF($AG$3:AG46,-1))","v":37},{"$f":"+SUM($S$4:S46)","v":5587},151,{"$f":"+SUM(COUNTIF($AG$3:AG46,1))","v":18},{"$f":"+SUM(COUNTIF($AG$3:AG46,-1))","v":19},-1,{"$f":"BO46*(HARMEAN((IF(SUM(COUNTIF($Z$3:Z46,1),COUNTIF($Z$3:Z46,-1))=0,1,SUM(COUNTIF($Z$3:Z46,1),COUNTIF($Z$3:Z46,-1)))),(IF(SUM(COUNTIF($AC$3:AC46,1),COUNTIF($AC$3:AC46,-1))=0,1,SUM(COUNTIF($AC$3:AC46,1),COUNTIF($AC$3:AC46,-1)))),(IF(SUM(COUNTIF($AE$3:AE46,1),COUNTIF($AE$3:AE46,-1))=0,1,SUM(COUNTIF($AE$3:AE46,1),COUNTIF($AE$3:AE46,-1)))),(IF(SUM(COUNTIF($AG$3:AG46,1),COUNTIF($AG$3:AG46,-1))=0,1,SUM(COUNTIF($AG$3:AG46,1),COUNTIF($AG$3:AG46,-1)))),(IF(SUM(COUNTIF($AI$3:AI46,1),COUNTIF($AI$3:AI46,-1))=0,1,SUM(COUNTIF($AI$3:AI46,1),COUNTIF($AI$3:AI46,-1)))),(IF(SUM(COUNTIF($AK$3:AK46,1),COUNTIF($AK$3:AK46,-1))=0,1,SUM(COUNTIF($AK$3:AK46,1),COUNTIF($AK$3:AK46,-1)))))/1000)","v":1.3027260075093867},16.149999999999999,null,{"$f":"+SUM(COUNTIF($AI$3:AI46,1),COUNTIF($AI$3:AI46,-1))","v":33},{"$f":"+SUM($U$4:U46)","v":4143},125.54545454545455,{"$f":"+SUM(COUNTIF($AI$3:AI46,1))","v":12},{"$f":"+SUM(COUNTIF($AI$3:AI46,-1))","v":21},-9,{"$f":"+BX46*(HARMEAN((IF(SUM(COUNTIF($Z$3:Z46,1),COUNTIF($Z$3:Z46,-1))=0,1,SUM(COUNTIF($Z$3:Z46,1),COUNTIF($Z$3:Z46,-1)))),(IF(SUM(COUNTIF($AC$3:AC46,1),COUNTIF($AC$3:AC46,-1))=0,1,SUM(COUNTIF($AC$3:AC46,1),COUNTIF($AC$3:AC46,-1)))),(IF(SUM(COUNTIF($AE$3:AE46,1),COUNTIF($AE$3:AE46,-1))=0,1,SUM(COUNTIF($AE$3:AE46,1),COUNTIF($AE$3:AE46,-1)))),(IF(SUM(COUNTIF($AG$3:AG46,1),COUNTIF($AG$3:AG46,-1))=0,1,SUM(COUNTIF($AG$3:AG46,1),COUNTIF($AG$3:AG46,-1)))),(IF(SUM(COUNTIF($AI$3:AI46,1),COUNTIF($AI$3:AI46,-1))=0,1,SUM(COUNTIF($AI$3:AI46,1),COUNTIF($AI$3:AI46,-1)))),(IF(SUM(COUNTIF($AK$3:AK46,1),COUNTIF($AK$3:AK46,-1))=0,1,SUM(COUNTIF($AK$3:AK46,1),COUNTIF($AK$3:AK46,-1)))))/1000)","v":1.1618907634543179},-17.100999999999999,null,{"$f":"+SUM(COUNTIF($AK$3:AK46,1),COUNTIF($AK$3:AK46,-1))","v":32},{"$f":"+SUM($W$4:W46)","v":3591},112.21875,{"$f":"+SUM(COUNTIF($AK$3:AK46,1))","v":12},{"$f":"+SUM(COUNTIF($AK$3:AK46,-1))","v":20},-8,{"$f":"+CG46*(HARMEAN((IF(SUM(COUNTIF($Z$3:Z46,1),COUNTIF($Z$3:Z46,-1))=0,1,SUM(COUNTIF($Z$3:Z46,1),COUNTIF($Z$3:Z46,-1)))),(IF(SUM(COUNTIF($AC$3:AC46,1),COUNTIF($AC$3:AC46,-1))=0,1,SUM(COUNTIF($AC$3:AC46,1),COUNTIF($AC$3:AC46,-1)))),(IF(SUM(COUNTIF($AE$3:AE46,1),COUNTIF($AE$3:AE46,-1))=0,1,SUM(COUNTIF($AE$3:AE46,1),COUNTIF($AE$3:AE46,-1)))),(IF(SUM(COUNTIF($AG$3:AG46,1),COUNTIF($AG$3:AG46,-1))=0,1,SUM(COUNTIF($AG$3:AG46,1),COUNTIF($AG$3:AG46,-1)))),(IF(SUM(COUNTIF($AI$3:AI46,1),COUNTIF($AI$3:AI46,-1))=0,1,SUM(COUNTIF($AI$3:AI46,1),COUNTIF($AI$3:AI46,-1)))),(IF(SUM(COUNTIF($AK$3:AK46,1),COUNTIF($AK$3:AK46,-1))=0,1,SUM(COUNTIF($AK$3:AK46,1),COUNTIF($AK$3:AK46,-1)))))/1000)","v":1.1266819524405507},-15.523999999999999]
[44,"",null,{"$f":"+IFERROR(INDEX('Auswertung AoE II'!$AE:$AE,MATCH(A47,'Auswertung AoE II'!$AD:$AD,0)),\"\")","v":""},{"$f":"+IFERROR(INDEX('Auswertung AoE III'!$AE:$AE,MATCH(A47,'Auswertung AoE III'!$AD:$AD,0)),\"\")","v":""},{"$f":"+IFERROR(INDEX('Auswertung AoM'!$AE:$AE,MATCH(A47,'Auswertung AoM'!$AD:$AD,0)),\"\")","v":""},{"$f":"+IFERROR(INDEX('Auswertung RA'!$AE:$AE,MATCH(A47,'Auswertung RA'!$AD:$AD,0)),\"\")","v":""},{"$f":"+IFERROR(INDEX('Auswertung Yuri'!$AE:$AE,MATCH(A47,'Auswertung Yuri'!$AD:$AD,0)),\"\")","v":""},{"$f":"+IFERROR(INDEX('Auswertung Generals'!$AE:$AE,MATCH(A47,'Auswertung Generals'!$AD:$AD,0)),\"\")","v":""},"Auswertung ",null,null,{"$f":"+IF(ISERROR(+INDIRECT(CONCATENATE(\"'\",J47,\"'!\",(ADDRESS((COUNTIF($J$3:J47,IF(B47<>0,CONCATENATE(\"Auswertung \",B47,\"\"))))+2,2)))))=FALSE,+INDIRECT(CONCATENATE(\"'\",J47,\"'!\",(ADDRESS((COUNTIF($J$3:J47,IF(B47<>0,CONCATENATE(\"Auswertung \",B47,\"\"))))+4,2)))),\"\")","v":""},{"$f":"IF(ISERROR(+INDIRECT(CONCATENATE(\"'\",J47,\"'!\",(ADDRESS((COUNTIF($J$3:J47,IF(B47<>0,CONCATENATE(\"Auswertung \",B47,\"\"))))+2,2+1)))))=FALSE,+INDIRECT(CONCATENATE(\"'\",J47,\"'!\",(ADDRESS((COUNTIF($J$3:J47,IF(B47<>0,CONCATENATE(\"Auswertung \",B47,\"\"))))+4,2+1)))),\"\")","v":""},{"$f":"+IF(ISERROR(+INDIRECT(CONCATENATE(\"'\",J47,\"'!\",(ADDRESS((COUNTIF($J$3:J47,IF(B47<>0,CONCATENATE(\"Auswertung \",B47,\"\"))))+2,4)))))=FALSE,+INDIRECT(CONCATENATE(\"'\",J47,\"'!\",(ADDRESS((COUNTIF($J$3:J47,IF(B47<>0,CONCATENATE(\"Auswertung \",B47,\"\"))))+4,4)))),\"\")","v":""},{"$f":"+IF(ISERROR(+INDIRECT(CONCATENATE(\"'\",J47,\"'!\",(ADDRESS((COUNTIF($J$3:J47,IF(B47<>0,CONCATENATE(\"Auswertung \",B47,\"\"))))+2,5)))))=FALSE,+INDIRECT(CONCATENATE(\"'\",J47,\"'!\",(ADDRESS((COUNTIF($J$3:J47,IF(B47<>0,CONCATENATE(\"Auswertung \",B47,\"\"))))+4,5)))),\"\")","v":""},{"$f":"+IF(ISERROR(+INDIRECT(CONCATENATE(\"'\",J47,\"'!\",(ADDRESS((COUNTIF($J$3:J47,IF(B47<>0,CONCATENATE(\"Auswertung \",B47,\"\"))))+2,6)))))=FALSE,+INDIRECT(CONCATENATE(\"'\",J47,\"'!\",(ADDRESS((COUNTIF($J$3:J47,IF(B47<>0,CONCATENATE(\"Auswertung \",B47,\"\"))))+4,6)))),\"\")","v":""},{"$f":"+IF(ISERROR(+INDIRECT(CONCATENATE(\"'\",J47,\"'!\",(ADDRESS((COUNTIF($J$3:J47,IF(B47<>0,CONCATENATE(\"Auswertung \",B47,\"\"))))+2,7)))))=FALSE,+INDIRECT(CONCATENATE(\"'\",J47,\"'!\",(ADDRESS((COUNTIF($J$3:J47,IF(B47<>0,CONCATENATE(\"Auswertung \",B47,\"\"))))+4,7)))),\"\")","v":""},{"$f":"+IF(ISERROR(+INDIRECT(CONCATENATE(\"'\",J47,\"'!\",(ADDRESS((COUNTIF($J$3:J47,IF(B47<>0,CONCATENATE(\"Auswertung \",B47,\"\"))))+2,10)))))=FALSE,+INDIRECT(CONCATENATE(\"'\",J47,\"'!\",(ADDRESS((COUNTIF($J$3:J47,IF(B47<>0,CONCATENATE(\"Auswertung \",B47,\"\"))))+4,8)))),\"\")","v":""},{"$f":"+IF(ISERROR(+INDIRECT(CONCATENATE(\"'\",J47,\"'!\",(ADDRESS((COUNTIF($J$3:J47,IF(B47<>0,CONCATENATE(\"Auswertung \",B47,\"\"))))+2,11)))))=FALSE,+INDIRECT(CONCATENATE(\"'\",J47,\"'!\",(ADDRESS((COUNTIF($J$3:J47,IF(B47<>0,CONCATENATE(\"Auswertung \",B47,\"\"))))+4,9)))),\"\")","v":""},{"$f":"+IF(ISERROR(+INDIRECT(CONCATENATE(\"'\",J47,\"'!\",(ADDRESS((COUNTIF($J$3:J47,IF(B47<>0,CONCATENATE(\"Auswertung \",B47,\"\"))))+2,10)))))=FALSE,+INDIRECT(CONCATENATE(\"'\",J47,\"'!\",(ADDRESS((COUNTIF($J$3:J47,IF(B47<>0,CONCATENATE(\"Auswertung \",B47,\"\"))))+4,10)))),\"\")","v":""},{"$f":"+IF(ISERROR(+INDIRECT(CONCATENATE(\"'\",J47,\"'!\",(ADDRESS((COUNTIF($J$3:J47,IF(B47<>0,CONCATENATE(\"Auswertung \",B47,\"\"))))+2,11)))))=FALSE,+INDIRECT(CONCATENATE(\"'\",J47,\"'!\",(ADDRESS((COUNTIF($J$3:J47,IF(B47<>0,CONCATENATE(\"Auswertung \",B47,\"\"))))+4,11)))),\"\")","v":""},{"$f":"+IF(ISERROR(+INDIRECT(CONCATENATE(\"'\",J47,\"'!\",(ADDRESS((COUNTIF($J$3:J47,IF(D47<>0,CONCATENATE(\"Auswertung \",D47,\"\"))))+2,12)))))=FALSE,+INDIRECT(CONCATENATE(\"'\",J47,\"'!\",(ADDRESS((COUNTIF($J$3:J47,IF(D47<>0,CONCATENATE(\"Auswertung \",B47,\"\"))))+4,12)))),\"\")","v":""},{"$f":"+IF(ISERROR(+INDIRECT(CONCATENATE(\"'\",J47,\"'!\",(ADDRESS((COUNTIF($J$3:J47,IF(D47<>0,CONCATENATE(\"Auswertung \",D47,\"\"))))+2,13)))))=FALSE,+INDIRECT(CONCATENATE(\"'\",J47,\"'!\",(ADDRESS((COUNTIF($J$3:J47,IF(D47<>0,CONCATENATE(\"Auswertung \",B47,\"\"))))+4,13)))),\"\")","v":""},null,{"$f":"+IFERROR(INDIRECT(CONCATENATE(\"'\",J47,\"'!\",(ADDRESS((COUNTIF($J$3:J47,IF(B47<>0,J47)))+4,16)))),\"\")","v":""},21.942,{"$f":"+SUM($M$4:M47)/COUNT($M$4:M47)/1000*2","v":0.28281081081081083},{"$f":"+IFERROR(INDIRECT(CONCATENATE(\"'\",J47,\"'!\",(ADDRESS((COUNTIF($J$3:J47,IF(B47<>0,J47)))+4,18)))),\"\")","v":""},50.264000000000003,{"$f":"+IFERROR(INDIRECT(CONCATENATE(\"'\",J47,\"'!\",(ADDRESS((COUNTIF($J$3:J47,IF(B47<>0,J47)))+4,20)))),\"\")","v":""},44.247,{"$f":"+IFERROR(INDIRECT(CONCATENATE(\"'\",J47,\"'!\",(ADDRESS((COUNTIF($J$3:J47,IF(B47<>0,J47)))+4,22)))),\"\")","v":""},16.149999999999999,{"$f":"+IFERROR(INDIRECT(CONCATENATE(\"'\",J47,\"'!\",(ADDRESS((COUNTIF($J$3:J47,IF(B47<>0,J47)))+4,24)))),\"\")","v":""},-17.100999999999999,{"$f":"+IFERROR(INDIRECT(CONCATENATE(\"'\",J47,\"'!\",(ADDRESS((COUNTIF($J$3:J47,IF(B47<>0,J47)))+4,26)))),\"\")","v":""},-15.523999999999999,44,{"$f":"+SUM(COUNTIF($Z$3:Z47,1),COUNTIF($Z$3:Z47,-1))","v":37},{"$f":"+SUM($M$4:M47)","v":5232},141.40540540540542,{"$f":"+SUM(COUNTIF($Z$3:Z47,1))","v":19},{"$f":"+SUM(COUNTIF($Z$3:Z47,-1))","v":18},1,{"$f":"AN47*(HARMEAN((IF(SUM(COUNTIF($Z$3:Z47,1),COUNTIF($Z$3:Z47,-1))=0,1,SUM(COUNTIF($Z$3:Z47,1),COUNTIF($Z$3:Z47,-1)))),(IF(SUM(COUNTIF($AC$3:AC47,1),COUNTIF($AC$3:AC47,-1))=0,1,SUM(COUNTIF($AC$3:AC47,1),COUNTIF($AC$3:AC47,-1)))),(IF(SUM(COUNTIF($AE$3:AE47,1),COUNTIF($AE$3:AE47,-1))=0,1,SUM(COUNTIF($AE$3:AE47,1),COUNTIF($AE$3:AE47,-1)))),(IF(SUM(COUNTIF($AG$3:AG47,1),COUNTIF($AG$3:AG47,-1))=0,1,SUM(COUNTIF($AG$3:AG47,1),COUNTIF($AG$3:AG47,-1)))),(IF(SUM(COUNTIF($AI$3:AI47,1),COUNTIF($AI$3:AI47,-1))=0,1,SUM(COUNTIF($AI$3:AI47,1),COUNTIF($AI$3:AI47,-1)))),(IF(SUM(COUNTIF($AK$3:AK47,1),COUNTIF($AK$3:AK47,-1))=0,1,SUM(COUNTIF($AK$3:AK47,1),COUNTIF($AK$3:AK47,-1)))))/1000)","v":1.3027260075093867},21.942,null,{"$f":"+SUM(COUNTIF($AC$3:AC47,1),COUNTIF($AC$3:AC47,-1))","v":37},{"$f":"+SUM($O$4:O47)","v":5276},142.59459459459458,{"$f":"+SUM(COUNTIF($AC$3:AC47,1))","v":23},{"$f":"+SUM(COUNTIF($AC$3:AC47,-1))","v":14},9,{"$f":"AW47*(HARMEAN((IF(SUM(COUNTIF($Z$3:Z47,1),COUNTIF($Z$3:Z47,-1))=0,1,SUM(COUNTIF($Z$3:Z47,1),COUNTIF($Z$3:Z47,-1)))),(IF(SUM(COUNTIF($AC$3:AC47,1),COUNTIF($AC$3:AC47,-1))=0,1,SUM(COUNTIF($AC$3:AC47,1),COUNTIF($AC$3:AC47,-1)))),(IF(SUM(COUNTIF($AE$3:AE47,1),COUNTIF($AE$3:AE47,-1))=0,1,SUM(COUNTIF($AE$3:AE47,1),COUNTIF($AE$3:AE47,-1)))),(IF(SUM(COUNTIF($AG$3:AG47,1),COUNTIF($AG$3:AG47,-1))=0,1,SUM(COUNTIF($AG$3:AG47,1),COUNTIF($AG$3:AG47,-1)))),(IF(SUM(COUNTIF($AI$3:AI47,1),COUNTIF($AI$3:AI47,-1))=0,1,SUM(COUNTIF($AI$3:AI47,1),COUNTIF($AI$3:AI47,-1)))),(IF(SUM(COUNTIF($AK$3:AK47,1),COUNTIF($AK$3:AK47,-1))=0,1,SUM(COUNTIF($AK$3:AK47,1),COUNTIF($AK$3:AK47,-1)))))/1000)","v":1.3027260075093867},50.264000000000003,null,{"$f":"+SUM(COUNTIF($AE$3:AE47,1),COUNTIF(AE$3:$AE47,-1))","v":36},{"$f":"+SUM($Q$4:Q47)","v":4567},126.86111111111111,{"$f":"+SUM(COUNTIF($AE$3:AE47,1))","v":22},{"$f":"+SUM(COUNTIF($AE$3:AE47,-1))","v":14},8,{"$f":"BF47*(HARMEAN((IF(SUM(COUNTIF($Z$3:Z47,1),COUNTIF($Z$3:Z47,-1))=0,1,SUM(COUNTIF($Z$3:Z47,1),COUNTIF($Z$3:Z47,-1)))),(IF(SUM(COUNTIF($AC$3:AC47,1),COUNTIF($AC$3:AC47,-1))=0,1,SUM(COUNTIF($AC$3:AC47,1),COUNTIF($AC$3:AC47,-1)))),(IF(SUM(COUNTIF($AE$3:AE47,1),COUNTIF($AE$3:AE47,-1))=0,1,SUM(COUNTIF($AE$3:AE47,1),COUNTIF($AE$3:AE47,-1)))),(IF(SUM(COUNTIF($AG$3:AG47,1),COUNTIF($AG$3:AG47,-1))=0,1,SUM(COUNTIF($AG$3:AG47,1),COUNTIF($AG$3:AG47,-1)))),(IF(SUM(COUNTIF($AI$3:AI47,1),COUNTIF($AI$3:AI47,-1))=0,1,SUM(COUNTIF($AI$3:AI47,1),COUNTIF($AI$3:AI47,-1)))),(IF(SUM(COUNTIF($AK$3:AK47,1),COUNTIF($AK$3:AK47,-1))=0,1,SUM(COUNTIF($AK$3:AK47,1),COUNTIF($AK$3:AK47,-1)))))/1000)","v":1.2675171964956196},44.247,null,{"$f":"+SUM(COUNTIF($AG$3:AG47,1),COUNTIF($AG$3:AG47,-1))","v":37},{"$f":"+SUM($S$4:S47)","v":5587},151,{"$f":"+SUM(COUNTIF($AG$3:AG47,1))","v":18},{"$f":"+SUM(COUNTIF($AG$3:AG47,-1))","v":19},-1,{"$f":"BO47*(HARMEAN((IF(SUM(COUNTIF($Z$3:Z47,1),COUNTIF($Z$3:Z47,-1))=0,1,SUM(COUNTIF($Z$3:Z47,1),COUNTIF($Z$3:Z47,-1)))),(IF(SUM(COUNTIF($AC$3:AC47,1),COUNTIF($AC$3:AC47,-1))=0,1,SUM(COUNTIF($AC$3:AC47,1),COUNTIF($AC$3:AC47,-1)))),(IF(SUM(COUNTIF($AE$3:AE47,1),COUNTIF($AE$3:AE47,-1))=0,1,SUM(COUNTIF($AE$3:AE47,1),COUNTIF($AE$3:AE47,-1)))),(IF(SUM(COUNTIF($AG$3:AG47,1),COUNTIF($AG$3:AG47,-1))=0,1,SUM(COUNTIF($AG$3:AG47,1),COUNTIF($AG$3:AG47,-1)))),(IF(SUM(COUNTIF($AI$3:AI47,1),COUNTIF($AI$3:AI47,-1))=0,1,SUM(COUNTIF($AI$3:AI47,1),COUNTIF($AI$3:AI47,-1)))),(IF(SUM(COUNTIF($AK$3:AK47,1),COUNTIF($AK$3:AK47,-1))=0,1,SUM(COUNTIF($AK$3:AK47,1),COUNTIF($AK$3:AK47,-1)))))/1000)","v":1.3027260075093867},16.149999999999999,null,{"$f":"+SUM(COUNTIF($AI$3:AI47,1),COUNTIF($AI$3:AI47,-1))","v":33},{"$f":"+SUM($U$4:U47)","v":4143},125.54545454545455,{"$f":"+SUM(COUNTIF($AI$3:AI47,1))","v":12},{"$f":"+SUM(COUNTIF($AI$3:AI47,-1))","v":21},-9,{"$f":"+BX47*(HARMEAN((IF(SUM(COUNTIF($Z$3:Z47,1),COUNTIF($Z$3:Z47,-1))=0,1,SUM(COUNTIF($Z$3:Z47,1),COUNTIF($Z$3:Z47,-1)))),(IF(SUM(COUNTIF($AC$3:AC47,1),COUNTIF($AC$3:AC47,-1))=0,1,SUM(COUNTIF($AC$3:AC47,1),COUNTIF($AC$3:AC47,-1)))),(IF(SUM(COUNTIF($AE$3:AE47,1),COUNTIF($AE$3:AE47,-1))=0,1,SUM(COUNTIF($AE$3:AE47,1),COUNTIF($AE$3:AE47,-1)))),(IF(SUM(COUNTIF($AG$3:AG47,1),COUNTIF($AG$3:AG47,-1))=0,1,SUM(COUNTIF($AG$3:AG47,1),COUNTIF($AG$3:AG47,-1)))),(IF(SUM(COUNTIF($AI$3:AI47,1),COUNTIF($AI$3:AI47,-1))=0,1,SUM(COUNTIF($AI$3:AI47,1),COUNTIF($AI$3:AI47,-1)))),(IF(SUM(COUNTIF($AK$3:AK47,1),COUNTIF($AK$3:AK47,-1))=0,1,SUM(COUNTIF($AK$3:AK47,1),COUNTIF($AK$3:AK47,-1)))))/1000)","v":1.1618907634543179},-17.100999999999999,null,{"$f":"+SUM(COUNTIF($AK$3:AK47,1),COUNTIF($AK$3:AK47,-1))","v":32},{"$f":"+SUM($W$4:W47)","v":3591},112.21875,{"$f":"+SUM(COUNTIF($AK$3:AK47,1))","v":12},{"$f":"+SUM(COUNTIF($AK$3:AK47,-1))","v":20},-8,{"$f":"+CG47*(HARMEAN((IF(SUM(COUNTIF($Z$3:Z47,1),COUNTIF($Z$3:Z47,-1))=0,1,SUM(COUNTIF($Z$3:Z47,1),COUNTIF($Z$3:Z47,-1)))),(IF(SUM(COUNTIF($AC$3:AC47,1),COUNTIF($AC$3:AC47,-1))=0,1,SUM(COUNTIF($AC$3:AC47,1),COUNTIF($AC$3:AC47,-1)))),(IF(SUM(COUNTIF($AE$3:AE47,1),COUNTIF($AE$3:AE47,-1))=0,1,SUM(COUNTIF($AE$3:AE47,1),COUNTIF($AE$3:AE47,-1)))),(IF(SUM(COUNTIF($AG$3:AG47,1),COUNTIF($AG$3:AG47,-1))=0,1,SUM(COUNTIF($AG$3:AG47,1),COUNTIF($AG$3:AG47,-1)))),(IF(SUM(COUNTIF($AI$3:AI47,1),COUNTIF($AI$3:AI47,-1))=0,1,SUM(COUNTIF($AI$3:AI47,1),COUNTIF($AI$3:AI47,-1)))),(IF(SUM(COUNTIF($AK$3:AK47,1),COUNTIF($AK$3:AK47,-1))=0,1,SUM(COUNTIF($AK$3:AK47,1),COUNTIF($AK$3:AK47,-1)))))/1000)","v":1.1266819524405507},-15.523999999999999]
[45,"",null,{"$f":"+IFERROR(INDEX('Auswertung AoE II'!$AE:$AE,MATCH(A48,'Auswertung AoE II'!$AD:$AD,0)),\"\")","v":""},{"$f":"+IFERROR(INDEX('Auswertung AoE III'!$AE:$AE,MATCH(A48,'Auswertung AoE III'!$AD:$AD,0)),\"\")","v":""},{"$f":"+IFERROR(INDEX('Auswertung AoM'!$AE:$AE,MATCH(A48,'Auswertung AoM'!$AD:$AD,0)),\"\")","v":""},{"$f":"+IFERROR(INDEX('Auswertung RA'!$AE:$AE,MATCH(A48,'Auswertung RA'!$AD:$AD,0)),\"\")","v":""},{"$f":"+IFERROR(INDEX('Auswertung Yuri'!$AE:$AE,MATCH(A48,'Auswertung Yuri'!$AD:$AD,0)),\"\")","v":""},{"$f":"+IFERROR(INDEX('Auswertung Generals'!$AE:$AE,MATCH(A48,'Auswertung Generals'!$AD:$AD,0)),\"\")","v":""},"Auswertung ",null,null,{"$f":"+IF(ISERROR(+INDIRECT(CONCATENATE(\"'\",J48,\"'!\",(ADDRESS((COUNTIF($J$3:J48,IF(B48<>0,CONCATENATE(\"Auswertung \",B48,\"\"))))+2,2)))))=FALSE,+INDIRECT(CONCATENATE(\"'\",J48,\"'!\",(ADDRESS((COUNTIF($J$3:J48,IF(B48<>0,CONCATENATE(\"Auswertung \",B48,\"\"))))+4,2)))),\"\")","v":""},{"$f":"IF(ISERROR(+INDIRECT(CONCATENATE(\"'\",J48,\"'!\",(ADDRESS((COUNTIF($J$3:J48,IF(B48<>0,CONCATENATE(\"Auswertung \",B48,\"\"))))+2,2+1)))))=FALSE,+INDIRECT(CONCATENATE(\"'\",J48,\"'!\",(ADDRESS((COUNTIF($J$3:J48,IF(B48<>0,CONCATENATE(\"Auswertung \",B48,\"\"))))+4,2+1)))),\"\")","v":""},{"$f":"+IF(ISERROR(+INDIRECT(CONCATENATE(\"'\",J48,\"'!\",(ADDRESS((COUNTIF($J$3:J48,IF(B48<>0,CONCATENATE(\"Auswertung \",B48,\"\"))))+2,4)))))=FALSE,+INDIRECT(CONCATENATE(\"'\",J48,\"'!\",(ADDRESS((COUNTIF($J$3:J48,IF(B48<>0,CONCATENATE(\"Auswertung \",B48,\"\"))))+4,4)))),\"\")","v":""},{"$f":"+IF(ISERROR(+INDIRECT(CONCATENATE(\"'\",J48,\"'!\",(ADDRESS((COUNTIF($J$3:J48,IF(B48<>0,CONCATENATE(\"Auswertung \",B48,\"\"))))+2,5)))))=FALSE,+INDIRECT(CONCATENATE(\"'\",J48,\"'!\",(ADDRESS((COUNTIF($J$3:J48,IF(B48<>0,CONCATENATE(\"Auswertung \",B48,\"\"))))+4,5)))),\"\")","v":""},{"$f":"+IF(ISERROR(+INDIRECT(CONCATENATE(\"'\",J48,\"'!\",(ADDRESS((COUNTIF($J$3:J48,IF(B48<>0,CONCATENATE(\"Auswertung \",B48,\"\"))))+2,6)))))=FALSE,+INDIRECT(CONCATENATE(\"'\",J48,\"'!\",(ADDRESS((COUNTIF($J$3:J48,IF(B48<>0,CONCATENATE(\"Auswertung \",B48,\"\"))))+4,6)))),\"\")","v":""},{"$f":"+IF(ISERROR(+INDIRECT(CONCATENATE(\"'\",J48,\"'!\",(ADDRESS((COUNTIF($J$3:J48,IF(B48<>0,CONCATENATE(\"Auswertung \",B48,\"\"))))+2,7)))))=FALSE,+INDIRECT(CONCATENATE(\"'\",J48,\"'!\",(ADDRESS((COUNTIF($J$3:J48,IF(B48<>0,CONCATENATE(\"Auswertung \",B48,\"\"))))+4,7)))),\"\")","v":""},{"$f":"+IF(ISERROR(+INDIRECT(CONCATENATE(\"'\",J48,\"'!\",(ADDRESS((COUNTIF($J$3:J48,IF(B48<>0,CONCATENATE(\"Auswertung \",B48,\"\"))))+2,10)))))=FALSE,+INDIRECT(CONCATENATE(\"'\",J48,\"'!\",(ADDRESS((COUNTIF($J$3:J48,IF(B48<>0,CONCATENATE(\"Auswertung \",B48,\"\"))))+4,8)))),\"\")","v":""},{"$f":"+IF(ISERROR(+INDIRECT(CONCATENATE(\"'\",J48,\"'!\",(ADDRESS((COUNTIF($J$3:J48,IF(B48<>0,CONCATENATE(\"Auswertung \",B48,\"\"))))+2,11)))))=FALSE,+INDIRECT(CONCATENATE(\"'\",J48,\"'!\",(ADDRESS((COUNTIF($J$3:J48,IF(B48<>0,CONCATENATE(\"Auswertung \",B48,\"\"))))+4,9)))),\"\")","v":""},{"$f":"+IF(ISERROR(+INDIRECT(CONCATENATE(\"'\",J48,\"'!\",(ADDRESS((COUNTIF($J$3:J48,IF(B48<>0,CONCATENATE(\"Auswertung \",B48,\"\"))))+2,10)))))=FALSE,+INDIRECT(CONCATENATE(\"'\",J48,\"'!\",(ADDRESS((COUNTIF($J$3:J48,IF(B48<>0,CONCATENATE(\"Auswertung \",B48,\"\"))))+4,10)))),\"\")","v":""},{"$f":"+IF(ISERROR(+INDIRECT(CONCATENATE(\"'\",J48,\"'!\",(ADDRESS((COUNTIF($J$3:J48,IF(B48<>0,CONCATENATE(\"Auswertung \",B48,\"\"))))+2,11)))))=FALSE,+INDIRECT(CONCATENATE(\"'\",J48,\"'!\",(ADDRESS((COUNTIF($J$3:J48,IF(B48<>0,CONCATENATE(\"Auswertung \",B48,\"\"))))+4,11)))),\"\")","v":""},{"$f":"+IF(ISERROR(+INDIRECT(CONCATENATE(\"'\",J48,\"'!\",(ADDRESS((COUNTIF($J$3:J48,IF(D48<>0,CONCATENATE(\"Auswertung \",D48,\"\"))))+2,12)))))=FALSE,+INDIRECT(CONCATENATE(\"'\",J48,\"'!\",(ADDRESS((COUNTIF($J$3:J48,IF(D48<>0,CONCATENATE(\"Auswertung \",B48,\"\"))))+4,12)))),\"\")","v":""},{"$f":"+IF(ISERROR(+INDIRECT(CONCATENATE(\"'\",J48,\"'!\",(ADDRESS((COUNTIF($J$3:J48,IF(D48<>0,CONCATENATE(\"Auswertung \",D48,\"\"))))+2,13)))))=FALSE,+INDIRECT(CONCATENATE(\"'\",J48,\"'!\",(ADDRESS((COUNTIF($J$3:J48,IF(D48<>0,CONCATENATE(\"Auswertung \",B48,\"\"))))+4,13)))),\"\")","v":""},null,{"$f":"+IFERROR(INDIRECT(CONCATENATE(\"'\",J48,\"'!\",(ADDRESS((COUNTIF($J$3:J48,IF(B48<>0,J48)))+4,16)))),\"\")","v":""},21.942,{"$f":"+SUM($M$4:M48)/COUNT($M$4:M48)/1000*2","v":0.28281081081081083},{"$f":"+IFERROR(INDIRECT(CONCATENATE(\"'\",J48,\"'!\",(ADDRESS((COUNTIF($J$3:J48,IF(B48<>0,J48)))+4,18)))),\"\")","v":""},50.264000000000003,{"$f":"+IFERROR(INDIRECT(CONCATENATE(\"'\",J48,\"'!\",(ADDRESS((COUNTIF($J$3:J48,IF(B48<>0,J48)))+4,20)))),\"\")","v":""},44.247,{"$f":"+IFERROR(INDIRECT(CONCATENATE(\"'\",J48,\"'!\",(ADDRESS((COUNTIF($J$3:J48,IF(B48<>0,J48)))+4,22)))),\"\")","v":""},16.149999999999999,{"$f":"+IFERROR(INDIRECT(CONCATENATE(\"'\",J48,\"'!\",(ADDRESS((COUNTIF($J$3:J48,IF(B48<>0,J48)))+4,24)))),\"\")","v":""},-17.100999999999999,{"$f":"+IFERROR(INDIRECT(CONCATENATE(\"'\",J48,\"'!\",(ADDRESS((COUNTIF($J$3:J48,IF(B48<>0,J48)))+4,26)))),\"\")","v":""},-15.523999999999999,45,{"$f":"+SUM(COUNTIF($Z$3:Z48,1),COUNTIF($Z$3:Z48,-1))","v":37},{"$f":"+SUM($M$4:M48)","v":5232},141.40540540540542,{"$f":"+SUM(COUNTIF($Z$3:Z48,1))","v":19},{"$f":"+SUM(COUNTIF($Z$3:Z48,-1))","v":18},1,{"$f":"AN48*(HARMEAN((IF(SUM(COUNTIF($Z$3:Z48,1),COUNTIF($Z$3:Z48,-1))=0,1,SUM(COUNTIF($Z$3:Z48,1),COUNTIF($Z$3:Z48,-1)))),(IF(SUM(COUNTIF($AC$3:AC48,1),COUNTIF($AC$3:AC48,-1))=0,1,SUM(COUNTIF($AC$3:AC48,1),COUNTIF($AC$3:AC48,-1)))),(IF(SUM(COUNTIF($AE$3:AE48,1),COUNTIF($AE$3:AE48,-1))=0,1,SUM(COUNTIF($AE$3:AE48,1),COUNTIF($AE$3:AE48,-1)))),(IF(SUM(COUNTIF($AG$3:AG48,1),COUNTIF($AG$3:AG48,-1))=0,1,SUM(COUNTIF($AG$3:AG48,1),COUNTIF($AG$3:AG48,-1)))),(IF(SUM(COUNTIF($AI$3:AI48,1),COUNTIF($AI$3:AI48,-1))=0,1,SUM(COUNTIF($AI$3:AI48,1),COUNTIF($AI$3:AI48,-1)))),(IF(SUM(COUNTIF($AK$3:AK48,1),COUNTIF($AK$3:AK48,-1))=0,1,SUM(COUNTIF($AK$3:AK48,1),COUNTIF($AK$3:AK48,-1)))))/1000)","v":1.3027260075093867},21.942,null,{"$f":"+SUM(COUNTIF($AC$3:AC48,1),COUNTIF($AC$3:AC48,-1))","v":37},{"$f":"+SUM($O$4:O48)","v":5276},142.59459459459458,{"$f":"+SUM(COUNTIF($AC$3:AC48,1))","v":23},{"$f":"+SUM(COUNTIF($AC$3:AC48,-1))","v":14},9,{"$f":"AW48*(HARMEAN((IF(SUM(COUNTIF($Z$3:Z48,1),COUNTIF($Z$3:Z48,-1))=0,1,SUM(COUNTIF($Z$3:Z48,1),COUNTIF($Z$3:Z48,-1)))),(IF(SUM(COUNTIF($AC$3:AC48,1),COUNTIF($AC$3:AC48,-1))=0,1,SUM(COUNTIF($AC$3:AC48,1),COUNTIF($AC$3:AC48,-1)))),(IF(SUM(COUNTIF($AE$3:AE48,1),COUNTIF($AE$3:AE48,-1))=0,1,SUM(COUNTIF($AE$3:AE48,1),COUNTIF($AE$3:AE48,-1)))),(IF(SUM(COUNTIF($AG$3:AG48,1),COUNTIF($AG$3:AG48,-1))=0,1,SUM(COUNTIF($AG$3:AG48,1),COUNTIF($AG$3:AG48,-1)))),(IF(SUM(COUNTIF($AI$3:AI48,1),COUNTIF($AI$3:AI48,-1))=0,1,SUM(COUNTIF($AI$3:AI48,1),COUNTIF($AI$3:AI48,-1)))),(IF(SUM(COUNTIF($AK$3:AK48,1),COUNTIF($AK$3:AK48,-1))=0,1,SUM(COUNTIF($AK$3:AK48,1),COUNTIF($AK$3:AK48,-1)))))/1000)","v":1.3027260075093867},50.264000000000003,null,{"$f":"+SUM(COUNTIF($AE$3:AE48,1),COUNTIF(AE$3:$AE48,-1))","v":36},{"$f":"+SUM($Q$4:Q48)","v":4567},126.86111111111111,{"$f":"+SUM(COUNTIF($AE$3:AE48,1))","v":22},{"$f":"+SUM(COUNTIF($AE$3:AE48,-1))","v":14},8,{"$f":"BF48*(HARMEAN((IF(SUM(COUNTIF($Z$3:Z48,1),COUNTIF($Z$3:Z48,-1))=0,1,SUM(COUNTIF($Z$3:Z48,1),COUNTIF($Z$3:Z48,-1)))),(IF(SUM(COUNTIF($AC$3:AC48,1),COUNTIF($AC$3:AC48,-1))=0,1,SUM(COUNTIF($AC$3:AC48,1),COUNTIF($AC$3:AC48,-1)))),(IF(SUM(COUNTIF($AE$3:AE48,1),COUNTIF($AE$3:AE48,-1))=0,1,SUM(COUNTIF($AE$3:AE48,1),COUNTIF($AE$3:AE48,-1)))),(IF(SUM(COUNTIF($AG$3:AG48,1),COUNTIF($AG$3:AG48,-1))=0,1,SUM(COUNTIF($AG$3:AG48,1),COUNTIF($AG$3:AG48,-1)))),(IF(SUM(COUNTIF($AI$3:AI48,1),COUNTIF($AI$3:AI48,-1))=0,1,SUM(COUNTIF($AI$3:AI48,1),COUNTIF($AI$3:AI48,-1)))),(IF(SUM(COUNTIF($AK$3:AK48,1),COUNTIF($AK$3:AK48,-1))=0,1,SUM(COUNTIF($AK$3:AK48,1),COUNTIF($AK$3:AK48,-1)))))/1000)","v":1.2675171964956196},44.247,null,{"$f":"+SUM(COUNTIF($AG$3:AG48,1),COUNTIF($AG$3:AG48,-1))","v":37},{"$f":"+SUM($S$4:S48)","v":5587},151,{"$f":"+SUM(COUNTIF($AG$3:AG48,1))","v":18},{"$f":"+SUM(COUNTIF($AG$3:AG48,-1))","v":19},-1,{"$f":"BO48*(HARMEAN((IF(SUM(COUNTIF($Z$3:Z48,1),COUNTIF($Z$3:Z48,-1))=0,1,SUM(COUNTIF($Z$3:Z48,1),COUNTIF($Z$3:Z48,-1)))),(IF(SUM(COUNTIF($AC$3:AC48,1),COUNTIF($AC$3:AC48,-1))=0,1,SUM(COUNTIF($AC$3:AC48,1),COUNTIF($AC$3:AC48,-1)))),(IF(SUM(COUNTIF($AE$3:AE48,1),COUNTIF($AE$3:AE48,-1))=0,1,SUM(COUNTIF($AE$3:AE48,1),COUNTIF($AE$3:AE48,-1)))),(IF(SUM(COUNTIF($AG$3:AG48,1),COUNTIF($AG$3:AG48,-1))=0,1,SUM(COUNTIF($AG$3:AG48,1),COUNTIF($AG$3:AG48,-1)))),(IF(SUM(COUNTIF($AI$3:AI48,1),COUNTIF($AI$3:AI48,-1))=0,1,SUM(COUNTIF($AI$3:AI48,1),COUNTIF($AI$3:AI48,-1)))),(IF(SUM(COUNTIF($AK$3:AK48,1),COUNTIF($AK$3:AK48,-1))=0,1,SUM(COUNTIF($AK$3:AK48,1),COUNTIF($AK$3:AK48,-1)))))/1000)","v":1.3027260075093867},16.149999999999999,null,{"$f":"+SUM(COUNTIF($AI$3:AI48,1),COUNTIF($AI$3:AI48,-1))","v":33},{"$f":"+SUM($U$4:U48)","v":4143},125.54545454545455,{"$f":"+SUM(COUNTIF($AI$3:AI48,1))","v":12},{"$f":"+SUM(COUNTIF($AI$3:AI48,-1))","v":21},-9,{"$f":"+BX48*(HARMEAN((IF(SUM(COUNTIF($Z$3:Z48,1),COUNTIF($Z$3:Z48,-1))=0,1,SUM(COUNTIF($Z$3:Z48,1),COUNTIF($Z$3:Z48,-1)))),(IF(SUM(COUNTIF($AC$3:AC48,1),COUNTIF($AC$3:AC48,-1))=0,1,SUM(COUNTIF($AC$3:AC48,1),COUNTIF($AC$3:AC48,-1)))),(IF(SUM(COUNTIF($AE$3:AE48,1),COUNTIF($AE$3:AE48,-1))=0,1,SUM(COUNTIF($AE$3:AE48,1),COUNTIF($AE$3:AE48,-1)))),(IF(SUM(COUNTIF($AG$3:AG48,1),COUNTIF($AG$3:AG48,-1))=0,1,SUM(COUNTIF($AG$3:AG48,1),COUNTIF($AG$3:AG48,-1)))),(IF(SUM(COUNTIF($AI$3:AI48,1),COUNTIF($AI$3:AI48,-1))=0,1,SUM(COUNTIF($AI$3:AI48,1),COUNTIF($AI$3:AI48,-1)))),(IF(SUM(COUNTIF($AK$3:AK48,1),COUNTIF($AK$3:AK48,-1))=0,1,SUM(COUNTIF($AK$3:AK48,1),COUNTIF($AK$3:AK48,-1)))))/1000)","v":1.1618907634543179},-17.100999999999999,null,{"$f":"+SUM(COUNTIF($AK$3:AK48,1),COUNTIF($AK$3:AK48,-1))","v":32},{"$f":"+SUM($W$4:W48)","v":3591},112.21875,{"$f":"+SUM(COUNTIF($AK$3:AK48,1))","v":12},{"$f":"+SUM(COUNTIF($AK$3:AK48,-1))","v":20},-8,{"$f":"+CG48*(HARMEAN((IF(SUM(COUNTIF($Z$3:Z48,1),COUNTIF($Z$3:Z48,-1))=0,1,SUM(COUNTIF($Z$3:Z48,1),COUNTIF($Z$3:Z48,-1)))),(IF(SUM(COUNTIF($AC$3:AC48,1),COUNTIF($AC$3:AC48,-1))=0,1,SUM(COUNTIF($AC$3:AC48,1),COUNTIF($AC$3:AC48,-1)))),(IF(SUM(COUNTIF($AE$3:AE48,1),COUNTIF($AE$3:AE48,-1))=0,1,SUM(COUNTIF($AE$3:AE48,1),COUNTIF($AE$3:AE48,-1)))),(IF(SUM(COUNTIF($AG$3:AG48,1),COUNTIF($AG$3:AG48,-1))=0,1,SUM(COUNTIF($AG$3:AG48,1),COUNTIF($AG$3:AG48,-1)))),(IF(SUM(COUNTIF($AI$3:AI48,1),COUNTIF($AI$3:AI48,-1))=0,1,SUM(COUNTIF($AI$3:AI48,1),COUNTIF($AI$3:AI48,-1)))),(IF(SUM(COUNTIF($AK$3:AK48,1),COUNTIF($AK$3:AK48,-1))=0,1,SUM(COUNTIF($AK$3:AK48,1),COUNTIF($AK$3:AK48,-1)))))/1000)","v":1.1266819524405507},-15.523999999999999]
[46,"",null,{"$f":"+IFERROR(INDEX('Auswertung AoE II'!$AE:$AE,MATCH(A49,'Auswertung AoE II'!$AD:$AD,0)),\"\")","v":""},{"$f":"+IFERROR(INDEX('Auswertung AoE III'!$AE:$AE,MATCH(A49,'Auswertung AoE III'!$AD:$AD,0)),\"\")","v":""},{"$f":"+IFERROR(INDEX('Auswertung AoM'!$AE:$AE,MATCH(A49,'Auswertung AoM'!$AD:$AD,0)),\"\")","v":""},{"$f":"+IFERROR(INDEX('Auswertung RA'!$AE:$AE,MATCH(A49,'Auswertung RA'!$AD:$AD,0)),\"\")","v":""},{"$f":"+IFERROR(INDEX('Auswertung Yuri'!$AE:$AE,MATCH(A49,'Auswertung Yuri'!$AD:$AD,0)),\"\")","v":""},{"$f":"+IFERROR(INDEX('Auswertung Generals'!$AE:$AE,MATCH(A49,'Auswertung Generals'!$AD:$AD,0)),\"\")","v":""},"Auswertung ",null,null,{"$f":"+IF(ISERROR(+INDIRECT(CONCATENATE(\"'\",J49,\"'!\",(ADDRESS((COUNTIF($J$3:J49,IF(B49<>0,CONCATENATE(\"Auswertung \",B49,\"\"))))+2,2)))))=FALSE,+INDIRECT(CONCATENATE(\"'\",J49,\"'!\",(ADDRESS((COUNTIF($J$3:J49,IF(B49<>0,CONCATENATE(\"Auswertung \",B49,\"\"))))+4,2)))),\"\")","v":""},{"$f":"IF(ISERROR(+INDIRECT(CONCATENATE(\"'\",J49,\"'!\",(ADDRESS((COUNTIF($J$3:J49,IF(B49<>0,CONCATENATE(\"Auswertung \",B49,\"\"))))+2,2+1)))))=FALSE,+INDIRECT(CONCATENATE(\"'\",J49,\"'!\",(ADDRESS((COUNTIF($J$3:J49,IF(B49<>0,CONCATENATE(\"Auswertung \",B49,\"\"))))+4,2+1)))),\"\")","v":""},{"$f":"+IF(ISERROR(+INDIRECT(CONCATENATE(\"'\",J49,\"'!\",(ADDRESS((COUNTIF($J$3:J49,IF(B49<>0,CONCATENATE(\"Auswertung \",B49,\"\"))))+2,4)))))=FALSE,+INDIRECT(CONCATENATE(\"'\",J49,\"'!\",(ADDRESS((COUNTIF($J$3:J49,IF(B49<>0,CONCATENATE(\"Auswertung \",B49,\"\"))))+4,4)))),\"\")","v":""},{"$f":"+IF(ISERROR(+INDIRECT(CONCATENATE(\"'\",J49,\"'!\",(ADDRESS((COUNTIF($J$3:J49,IF(B49<>0,CONCATENATE(\"Auswertung \",B49,\"\"))))+2,5)))))=FALSE,+INDIRECT(CONCATENATE(\"'\",J49,\"'!\",(ADDRESS((COUNTIF($J$3:J49,IF(B49<>0,CONCATENATE(\"Auswertung \",B49,\"\"))))+4,5)))),\"\")","v":""},{"$f":"+IF(ISERROR(+INDIRECT(CONCATENATE(\"'\",J49,\"'!\",(ADDRESS((COUNTIF($J$3:J49,IF(B49<>0,CONCATENATE(\"Auswertung \",B49,\"\"))))+2,6)))))=FALSE,+INDIRECT(CONCATENATE(\"'\",J49,\"'!\",(ADDRESS((COUNTIF($J$3:J49,IF(B49<>0,CONCATENATE(\"Auswertung \",B49,\"\"))))+4,6)))),\"\")","v":""},{"$f":"+IF(ISERROR(+INDIRECT(CONCATENATE(\"'\",J49,\"'!\",(ADDRESS((COUNTIF($J$3:J49,IF(B49<>0,CONCATENATE(\"Auswertung \",B49,\"\"))))+2,7)))))=FALSE,+INDIRECT(CONCATENATE(\"'\",J49,\"'!\",(ADDRESS((COUNTIF($J$3:J49,IF(B49<>0,CONCATENATE(\"Auswertung \",B49,\"\"))))+4,7)))),\"\")","v":""},{"$f":"+IF(ISERROR(+INDIRECT(CONCATENATE(\"'\",J49,\"'!\",(ADDRESS((COUNTIF($J$3:J49,IF(B49<>0,CONCATENATE(\"Auswertung \",B49,\"\"))))+2,10)))))=FALSE,+INDIRECT(CONCATENATE(\"'\",J49,\"'!\",(ADDRESS((COUNTIF($J$3:J49,IF(B49<>0,CONCATENATE(\"Auswertung \",B49,\"\"))))+4,8)))),\"\")","v":""},{"$f":"+IF(ISERROR(+INDIRECT(CONCATENATE(\"'\",J49,\"'!\",(ADDRESS((COUNTIF($J$3:J49,IF(B49<>0,CONCATENATE(\"Auswertung \",B49,\"\"))))+2,11)))))=FALSE,+INDIRECT(CONCATENATE(\"'\",J49,\"'!\",(ADDRESS((COUNTIF($J$3:J49,IF(B49<>0,CONCATENATE(\"Auswertung \",B49,\"\"))))+4,9)))),\"\")","v":""},{"$f":"+IF(ISERROR(+INDIRECT(CONCATENATE(\"'\",J49,\"'!\",(ADDRESS((COUNTIF($J$3:J49,IF(B49<>0,CONCATENATE(\"Auswertung \",B49,\"\"))))+2,10)))))=FALSE,+INDIRECT(CONCATENATE(\"'\",J49,\"'!\",(ADDRESS((COUNTIF($J$3:J49,IF(B49<>0,CONCATENATE(\"Auswertung \",B49,\"\"))))+4,10)))),\"\")","v":""},{"$f":"+IF(ISERROR(+INDIRECT(CONCATENATE(\"'\",J49,\"'!\",(ADDRESS((COUNTIF($J$3:J49,IF(B49<>0,CONCATENATE(\"Auswertung \",B49,\"\"))))+2,11)))))=FALSE,+INDIRECT(CONCATENATE(\"'\",J49,\"'!\",(ADDRESS((COUNTIF($J$3:J49,IF(B49<>0,CONCATENATE(\"Auswertung \",B49,\"\"))))+4,11)))),\"\")","v":""},{"$f":"+IF(ISERROR(+INDIRECT(CONCATENATE(\"'\",J49,\"'!\",(ADDRESS((COUNTIF($J$3:J49,IF(D49<>0,CONCATENATE(\"Auswertung \",D49,\"\"))))+2,12)))))=FALSE,+INDIRECT(CONCATENATE(\"'\",J49,\"'!\",(ADDRESS((COUNTIF($J$3:J49,IF(D49<>0,CONCATENATE(\"Auswertung \",B49,\"\"))))+4,12)))),\"\")","v":""},{"$f":"+IF(ISERROR(+INDIRECT(CONCATENATE(\"'\",J49,\"'!\",(ADDRESS((COUNTIF($J$3:J49,IF(D49<>0,CONCATENATE(\"Auswertung \",D49,\"\"))))+2,13)))))=FALSE,+INDIRECT(CONCATENATE(\"'\",J49,\"'!\",(ADDRESS((COUNTIF($J$3:J49,IF(D49<>0,CONCATENATE(\"Auswertung \",B49,\"\"))))+4,13)))),\"\")","v":""},null,{"$f":"+IFERROR(INDIRECT(CONCATENATE(\"'\",J49,\"'!\",(ADDRESS((COUNTIF($J$3:J49,IF(B49<>0,J49)))+4,16)))),\"\")","v":""},21.942,{"$f":"+SUM($M$4:M49)/COUNT($M$4:M49)/1000*2","v":0.28281081081081083},{"$f":"+IFERROR(INDIRECT(CONCATENATE(\"'\",J49,\"'!\",(ADDRESS((COUNTIF($J$3:J49,IF(B49<>0,J49)))+4,18)))),\"\")","v":""},50.264000000000003,{"$f":"+IFERROR(INDIRECT(CONCATENATE(\"'\",J49,\"'!\",(ADDRESS((COUNTIF($J$3:J49,IF(B49<>0,J49)))+4,20)))),\"\")","v":""},44.247,{"$f":"+IFERROR(INDIRECT(CONCATENATE(\"'\",J49,\"'!\",(ADDRESS((COUNTIF($J$3:J49,IF(B49<>0,J49)))+4,22)))),\"\")","v":""},16.149999999999999,{"$f":"+IFERROR(INDIRECT(CONCATENATE(\"'\",J49,\"'!\",(ADDRESS((COUNTIF($J$3:J49,IF(B49<>0,J49)))+4,24)))),\"\")","v":""},-17.100999999999999,{"$f":"+IFERROR(INDIRECT(CONCATENATE(\"'\",J49,\"'!\",(ADDRESS((COUNTIF($J$3:J49,IF(B49<>0,J49)))+4,26)))),\"\")","v":""},-15.523999999999999,46,{"$f":"+SUM(COUNTIF($Z$3:Z49,1),COUNTIF($Z$3:Z49,-1))","v":37},{"$f":"+SUM($M$4:M49)","v":5232},141.40540540540542,{"$f":"+SUM(COUNTIF($Z$3:Z49,1))","v":19},{"$f":"+SUM(COUNTIF($Z$3:Z49,-1))","v":18},1,{"$f":"AN49*(HARMEAN((IF(SUM(COUNTIF($Z$3:Z49,1),COUNTIF($Z$3:Z49,-1))=0,1,SUM(COUNTIF($Z$3:Z49,1),COUNTIF($Z$3:Z49,-1)))),(IF(SUM(COUNTIF($AC$3:AC49,1),COUNTIF($AC$3:AC49,-1))=0,1,SUM(COUNTIF($AC$3:AC49,1),COUNTIF($AC$3:AC49,-1)))),(IF(SUM(COUNTIF($AE$3:AE49,1),COUNTIF($AE$3:AE49,-1))=0,1,SUM(COUNTIF($AE$3:AE49,1),COUNTIF($AE$3:AE49,-1)))),(IF(SUM(COUNTIF($AG$3:AG49,1),COUNTIF($AG$3:AG49,-1))=0,1,SUM(COUNTIF($AG$3:AG49,1),COUNTIF($AG$3:AG49,-1)))),(IF(SUM(COUNTIF($AI$3:AI49,1),COUNTIF($AI$3:AI49,-1))=0,1,SUM(COUNTIF($AI$3:AI49,1),COUNTIF($AI$3:AI49,-1)))),(IF(SUM(COUNTIF($AK$3:AK49,1),COUNTIF($AK$3:AK49,-1))=0,1,SUM(COUNTIF($AK$3:AK49,1),COUNTIF($AK$3:AK49,-1)))))/1000)","v":1.3027260075093867},21.942,null,{"$f":"+SUM(COUNTIF($AC$3:AC49,1),COUNTIF($AC$3:AC49,-1))","v":37},{"$f":"+SUM($O$4:O49)","v":5276},142.59459459459458,{"$f":"+SUM(COUNTIF($AC$3:AC49,1))","v":23},{"$f":"+SUM(COUNTIF($AC$3:AC49,-1))","v":14},9,{"$f":"AW49*(HARMEAN((IF(SUM(COUNTIF($Z$3:Z49,1),COUNTIF($Z$3:Z49,-1))=0,1,SUM(COUNTIF($Z$3:Z49,1),COUNTIF($Z$3:Z49,-1)))),(IF(SUM(COUNTIF($AC$3:AC49,1),COUNTIF($AC$3:AC49,-1))=0,1,SUM(COUNTIF($AC$3:AC49,1),COUNTIF($AC$3:AC49,-1)))),(IF(SUM(COUNTIF($AE$3:AE49,1),COUNTIF($AE$3:AE49,-1))=0,1,SUM(COUNTIF($AE$3:AE49,1),COUNTIF($AE$3:AE49,-1)))),(IF(SUM(COUNTIF($AG$3:AG49,1),COUNTIF($AG$3:AG49,-1))=0,1,SUM(COUNTIF($AG$3:AG49,1),COUNTIF($AG$3:AG49,-1)))),(IF(SUM(COUNTIF($AI$3:AI49,1),COUNTIF($AI$3:AI49,-1))=0,1,SUM(COUNTIF($AI$3:AI49,1),COUNTIF($AI$3:AI49,-1)))),(IF(SUM(COUNTIF($AK$3:AK49,1),COUNTIF($AK$3:AK49,-1))=0,1,SUM(COUNTIF($AK$3:AK49,1),COUNTIF($AK$3:AK49,-1)))))/1000)","v":1.3027260075093867},50.264000000000003,null,{"$f":"+SUM(COUNTIF($AE$3:AE49,1),COUNTIF(AE$3:$AE49,-1))","v":36},{"$f":"+SUM($Q$4:Q49)","v":4567},126.86111111111111,{"$f":"+SUM(COUNTIF($AE$3:AE49,1))","v":22},{"$f":"+SUM(COUNTIF($AE$3:AE49,-1))","v":14},8,{"$f":"BF49*(HARMEAN((IF(SUM(COUNTIF($Z$3:Z49,1),COUNTIF($Z$3:Z49,-1))=0,1,SUM(COUNTIF($Z$3:Z49,1),COUNTIF($Z$3:Z49,-1)))),(IF(SUM(COUNTIF($AC$3:AC49,1),COUNTIF($AC$3:AC49,-1))=0,1,SUM(COUNTIF($AC$3:AC49,1),COUNTIF($AC$3:AC49,-1)))),(IF(SUM(COUNTIF($AE$3:AE49,1),COUNTIF($AE$3:AE49,-1))=0,1,SUM(COUNTIF($AE$3:AE49,1),COUNTIF($AE$3:AE49,-1)))),(IF(SUM(COUNTIF($AG$3:AG49,1),COUNTIF($AG$3:AG49,-1))=0,1,SUM(COUNTIF($AG$3:AG49,1),COUNTIF($AG$3:AG49,-1)))),(IF(SUM(COUNTIF($AI$3:AI49,1),COUNTIF($AI$3:AI49,-1))=0,1,SUM(COUNTIF($AI$3:AI49,1),COUNTIF($AI$3:AI49,-1)))),(IF(SUM(COUNTIF($AK$3:AK49,1),COUNTIF($AK$3:AK49,-1))=0,1,SUM(COUNTIF($AK$3:AK49,1),COUNTIF($AK$3:AK49,-1)))))/1000)","v":1.2675171964956196},44.247,null,{"$f":"+SUM(COUNTIF($AG$3:AG49,1),COUNTIF($AG$3:AG49,-1))","v":37},{"$f":"+SUM($S$4:S49)","v":5587},151,{"$f":"+SUM(COUNTIF($AG$3:AG49,1))","v":18},{"$f":"+SUM(COUNTIF($AG$3:AG49,-1))","v":19},-1,{"$f":"BO49*(HARMEAN((IF(SUM(COUNTIF($Z$3:Z49,1),COUNTIF($Z$3:Z49,-1))=0,1,SUM(COUNTIF($Z$3:Z49,1),COUNTIF($Z$3:Z49,-1)))),(IF(SUM(COUNTIF($AC$3:AC49,1),COUNTIF($AC$3:AC49,-1))=0,1,SUM(COUNTIF($AC$3:AC49,1),COUNTIF($AC$3:AC49,-1)))),(IF(SUM(COUNTIF($AE$3:AE49,1),COUNTIF($AE$3:AE49,-1))=0,1,SUM(COUNTIF($AE$3:AE49,1),COUNTIF($AE$3:AE49,-1)))),(IF(SUM(COUNTIF($AG$3:AG49,1),COUNTIF($AG$3:AG49,-1))=0,1,SUM(COUNTIF($AG$3:AG49,1),COUNTIF($AG$3:AG49,-1)))),(IF(SUM(COUNTIF($AI$3:AI49,1),COUNTIF($AI$3:AI49,-1))=0,1,SUM(COUNTIF($AI$3:AI49,1),COUNTIF($AI$3:AI49,-1)))),(IF(SUM(COUNTIF($AK$3:AK49,1),COUNTIF($AK$3:AK49,-1))=0,1,SUM(COUNTIF($AK$3:AK49,1),COUNTIF($AK$3:AK49,-1)))))/1000)","v":1.3027260075093867},16.149999999999999,null,{"$f":"+SUM(COUNTIF($AI$3:AI49,1),COUNTIF($AI$3:AI49,-1))","v":33},{"$f":"+SUM($U$4:U49)","v":4143},125.54545454545455,{"$f":"+SUM(COUNTIF($AI$3:AI49,1))","v":12},{"$f":"+SUM(COUNTIF($AI$3:AI49,-1))","v":21},-9,{"$f":"+BX49*(HARMEAN((IF(SUM(COUNTIF($Z$3:Z49,1),COUNTIF($Z$3:Z49,-1))=0,1,SUM(COUNTIF($Z$3:Z49,1),COUNTIF($Z$3:Z49,-1)))),(IF(SUM(COUNTIF($AC$3:AC49,1),COUNTIF($AC$3:AC49,-1))=0,1,SUM(COUNTIF($AC$3:AC49,1),COUNTIF($AC$3:AC49,-1)))),(IF(SUM(COUNTIF($AE$3:AE49,1),COUNTIF($AE$3:AE49,-1))=0,1,SUM(COUNTIF($AE$3:AE49,1),COUNTIF($AE$3:AE49,-1)))),(IF(SUM(COUNTIF($AG$3:AG49,1),COUNTIF($AG$3:AG49,-1))=0,1,SUM(COUNTIF($AG$3:AG49,1),COUNTIF($AG$3:AG49,-1)))),(IF(SUM(COUNTIF($AI$3:AI49,1),COUNTIF($AI$3:AI49,-1))=0,1,SUM(COUNTIF($AI$3:AI49,1),COUNTIF($AI$3:AI49,-1)))),(IF(SUM(COUNTIF($AK$3:AK49,1),COUNTIF($AK$3:AK49,-1))=0,1,SUM(COUNTIF($AK$3:AK49,1),COUNTIF($AK$3:AK49,-1)))))/1000)","v":1.1618907634543179},-17.100999999999999,null,{"$f":"+SUM(COUNTIF($AK$3:AK49,1),COUNTIF($AK$3:AK49,-1))","v":32},{"$f":"+SUM($W$4:W49)","v":3591},112.21875,{"$f":"+SUM(COUNTIF($AK$3:AK49,1))","v":12},{"$f":"+SUM(COUNTIF($AK$3:AK49,-1))","v":20},-8,{"$f":"+CG49*(HARMEAN((IF(SUM(COUNTIF($Z$3:Z49,1),COUNTIF($Z$3:Z49,-1))=0,1,SUM(COUNTIF($Z$3:Z49,1),COUNTIF($Z$3:Z49,-1)))),(IF(SUM(COUNTIF($AC$3:AC49,1),COUNTIF($AC$3:AC49,-1))=0,1,SUM(COUNTIF($AC$3:AC49,1),COUNTIF($AC$3:AC49,-1)))),(IF(SUM(COUNTIF($AE$3:AE49,1),COUNTIF($AE$3:AE49,-1))=0,1,SUM(COUNTIF($AE$3:AE49,1),COUNTIF($AE$3:AE49,-1)))),(IF(SUM(COUNTIF($AG$3:AG49,1),COUNTIF($AG$3:AG49,-1))=0,1,SUM(COUNTIF($AG$3:AG49,1),COUNTIF($AG$3:AG49,-1)))),(IF(SUM(COUNTIF($AI$3:AI49,1),COUNTIF($AI$3:AI49,-1))=0,1,SUM(COUNTIF($AI$3:AI49,1),COUNTIF($AI$3:AI49,-1)))),(IF(SUM(COUNTIF($AK$3:AK49,1),COUNTIF($AK$3:AK49,-1))=0,1,SUM(COUNTIF($AK$3:AK49,1),COUNTIF($AK$3:AK49,-1)))))/1000)","v":1.1266819524405507},-15.523999999999999]
[47,"",null,{"$f":"+IFERROR(INDEX('Auswertung AoE II'!$AE:$AE,MATCH(A50,'Auswertung AoE II'!$AD:$AD,0)),\"\")","v":""},{"$f":"+IFERROR(INDEX('Auswertung AoE III'!$AE:$AE,MATCH(A50,'Auswertung AoE III'!$AD:$AD,0)),\"\")","v":""},{"$f":"+IFERROR(INDEX('Auswertung AoM'!$AE:$AE,MATCH(A50,'Auswertung AoM'!$AD:$AD,0)),\"\")","v":""},{"$f":"+IFERROR(INDEX('Auswertung RA'!$AE:$AE,MATCH(A50,'Auswertung RA'!$AD:$AD,0)),\"\")","v":""},{"$f":"+IFERROR(INDEX('Auswertung Yuri'!$AE:$AE,MATCH(A50,'Auswertung Yuri'!$AD:$AD,0)),\"\")","v":""},{"$f":"+IFERROR(INDEX('Auswertung Generals'!$AE:$AE,MATCH(A50,'Auswertung Generals'!$AD:$AD,0)),\"\")","v":""},"Auswertung ",null,null,{"$f":"+IF(ISERROR(+INDIRECT(CONCATENATE(\"'\",J50,\"'!\",(ADDRESS((COUNTIF($J$3:J50,IF(B50<>0,CONCATENATE(\"Auswertung \",B50,\"\"))))+2,2)))))=FALSE,+INDIRECT(CONCATENATE(\"'\",J50,\"'!\",(ADDRESS((COUNTIF($J$3:J50,IF(B50<>0,CONCATENATE(\"Auswertung \",B50,\"\"))))+4,2)))),\"\")","v":""},{"$f":"IF(ISERROR(+INDIRECT(CONCATENATE(\"'\",J50,\"'!\",(ADDRESS((COUNTIF($J$3:J50,IF(B50<>0,CONCATENATE(\"Auswertung \",B50,\"\"))))+2,2+1)))))=FALSE,+INDIRECT(CONCATENATE(\"'\",J50,\"'!\",(ADDRESS((COUNTIF($J$3:J50,IF(B50<>0,CONCATENATE(\"Auswertung \",B50,\"\"))))+4,2+1)))),\"\")","v":""},{"$f":"+IF(ISERROR(+INDIRECT(CONCATENATE(\"'\",J50,\"'!\",(ADDRESS((COUNTIF($J$3:J50,IF(B50<>0,CONCATENATE(\"Auswertung \",B50,\"\"))))+2,4)))))=FALSE,+INDIRECT(CONCATENATE(\"'\",J50,\"'!\",(ADDRESS((COUNTIF($J$3:J50,IF(B50<>0,CONCATENATE(\"Auswertung \",B50,\"\"))))+4,4)))),\"\")","v":""},{"$f":"+IF(ISERROR(+INDIRECT(CONCATENATE(\"'\",J50,\"'!\",(ADDRESS((COUNTIF($J$3:J50,IF(B50<>0,CONCATENATE(\"Auswertung \",B50,\"\"))))+2,5)))))=FALSE,+INDIRECT(CONCATENATE(\"'\",J50,\"'!\",(ADDRESS((COUNTIF($J$3:J50,IF(B50<>0,CONCATENATE(\"Auswertung \",B50,\"\"))))+4,5)))),\"\")","v":""},{"$f":"+IF(ISERROR(+INDIRECT(CONCATENATE(\"'\",J50,\"'!\",(ADDRESS((COUNTIF($J$3:J50,IF(B50<>0,CONCATENATE(\"Auswertung \",B50,\"\"))))+2,6)))))=FALSE,+INDIRECT(CONCATENATE(\"'\",J50,\"'!\",(ADDRESS((COUNTIF($J$3:J50,IF(B50<>0,CONCATENATE(\"Auswertung \",B50,\"\"))))+4,6)))),\"\")","v":""},{"$f":"+IF(ISERROR(+INDIRECT(CONCATENATE(\"'\",J50,\"'!\",(ADDRESS((COUNTIF($J$3:J50,IF(B50<>0,CONCATENATE(\"Auswertung \",B50,\"\"))))+2,7)))))=FALSE,+INDIRECT(CONCATENATE(\"'\",J50,\"'!\",(ADDRESS((COUNTIF($J$3:J50,IF(B50<>0,CONCATENATE(\"Auswertung \",B50,\"\"))))+4,7)))),\"\")","v":""},{"$f":"+IF(ISERROR(+INDIRECT(CONCATENATE(\"'\",J50,\"'!\",(ADDRESS((COUNTIF($J$3:J50,IF(B50<>0,CONCATENATE(\"Auswertung \",B50,\"\"))))+2,10)))))=FALSE,+INDIRECT(CONCATENATE(\"'\",J50,\"'!\",(ADDRESS((COUNTIF($J$3:J50,IF(B50<>0,CONCATENATE(\"Auswertung \",B50,\"\"))))+4,8)))),\"\")","v":""},{"$f":"+IF(ISERROR(+INDIRECT(CONCATENATE(\"'\",J50,\"'!\",(ADDRESS((COUNTIF($J$3:J50,IF(B50<>0,CONCATENATE(\"Auswertung \",B50,\"\"))))+2,11)))))=FALSE,+INDIRECT(CONCATENATE(\"'\",J50,\"'!\",(ADDRESS((COUNTIF($J$3:J50,IF(B50<>0,CONCATENATE(\"Auswertung \",B50,\"\"))))+4,9)))),\"\")","v":""},{"$f":"+IF(ISERROR(+INDIRECT(CONCATENATE(\"'\",J50,\"'!\",(ADDRESS((COUNTIF($J$3:J50,IF(B50<>0,CONCATENATE(\"Auswertung \",B50,\"\"))))+2,10)))))=FALSE,+INDIRECT(CONCATENATE(\"'\",J50,\"'!\",(ADDRESS((COUNTIF($J$3:J50,IF(B50<>0,CONCATENATE(\"Auswertung \",B50,\"\"))))+4,10)))),\"\")","v":""},{"$f":"+IF(ISERROR(+INDIRECT(CONCATENATE(\"'\",J50,\"'!\",(ADDRESS((COUNTIF($J$3:J50,IF(B50<>0,CONCATENATE(\"Auswertung \",B50,\"\"))))+2,11)))))=FALSE,+INDIRECT(CONCATENATE(\"'\",J50,\"'!\",(ADDRESS((COUNTIF($J$3:J50,IF(B50<>0,CONCATENATE(\"Auswertung \",B50,\"\"))))+4,11)))),\"\")","v":""},{"$f":"+IF(ISERROR(+INDIRECT(CONCATENATE(\"'\",J50,\"'!\",(ADDRESS((COUNTIF($J$3:J50,IF(D50<>0,CONCATENATE(\"Auswertung \",D50,\"\"))))+2,12)))))=FALSE,+INDIRECT(CONCATENATE(\"'\",J50,\"'!\",(ADDRESS((COUNTIF($J$3:J50,IF(D50<>0,CONCATENATE(\"Auswertung \",B50,\"\"))))+4,12)))),\"\")","v":""},{"$f":"+IF(ISERROR(+INDIRECT(CONCATENATE(\"'\",J50,\"'!\",(ADDRESS((COUNTIF($J$3:J50,IF(D50<>0,CONCATENATE(\"Auswertung \",D50,\"\"))))+2,13)))))=FALSE,+INDIRECT(CONCATENATE(\"'\",J50,\"'!\",(ADDRESS((COUNTIF($J$3:J50,IF(D50<>0,CONCATENATE(\"Auswertung \",B50,\"\"))))+4,13)))),\"\")","v":""},null,{"$f":"+IFERROR(INDIRECT(CONCATENATE(\"'\",J50,\"'!\",(ADDRESS((COUNTIF($J$3:J50,IF(B50<>0,J50)))+4,16)))),\"\")","v":""},21.942,{"$f":"+SUM($M$4:M50)/COUNT($M$4:M50)/1000*2","v":0.28281081081081083},{"$f":"+IFERROR(INDIRECT(CONCATENATE(\"'\",J50,\"'!\",(ADDRESS((COUNTIF($J$3:J50,IF(B50<>0,J50)))+4,18)))),\"\")","v":""},50.264000000000003,{"$f":"+IFERROR(INDIRECT(CONCATENATE(\"'\",J50,\"'!\",(ADDRESS((COUNTIF($J$3:J50,IF(B50<>0,J50)))+4,20)))),\"\")","v":""},44.247,{"$f":"+IFERROR(INDIRECT(CONCATENATE(\"'\",J50,\"'!\",(ADDRESS((COUNTIF($J$3:J50,IF(B50<>0,J50)))+4,22)))),\"\")","v":""},16.149999999999999,{"$f":"+IFERROR(INDIRECT(CONCATENATE(\"'\",J50,\"'!\",(ADDRESS((COUNTIF($J$3:J50,IF(B50<>0,J50)))+4,24)))),\"\")","v":""},-17.100999999999999,{"$f":"+IFERROR(INDIRECT(CONCATENATE(\"'\",J50,\"'!\",(ADDRESS((COUNTIF($J$3:J50,IF(B50<>0,J50)))+4,26)))),\"\")","v":""},-15.523999999999999,47,{"$f":"+SUM(COUNTIF($Z$3:Z50,1),COUNTIF($Z$3:Z50,-1))","v":37},{"$f":"+SUM($M$4:M50)","v":5232},141.40540540540542,{"$f":"+SUM(COUNTIF($Z$3:Z50,1))","v":19},{"$f":"+SUM(COUNTIF($Z$3:Z50,-1))","v":18},1,{"$f":"AN50*(HARMEAN((IF(SUM(COUNTIF($Z$3:Z50,1),COUNTIF($Z$3:Z50,-1))=0,1,SUM(COUNTIF($Z$3:Z50,1),COUNTIF($Z$3:Z50,-1)))),(IF(SUM(COUNTIF($AC$3:AC50,1),COUNTIF($AC$3:AC50,-1))=0,1,SUM(COUNTIF($AC$3:AC50,1),COUNTIF($AC$3:AC50,-1)))),(IF(SUM(COUNTIF($AE$3:AE50,1),COUNTIF($AE$3:AE50,-1))=0,1,SUM(COUNTIF($AE$3:AE50,1),COUNTIF($AE$3:AE50,-1)))),(IF(SUM(COUNTIF($AG$3:AG50,1),COUNTIF($AG$3:AG50,-1))=0,1,SUM(COUNTIF($AG$3:AG50,1),COUNTIF($AG$3:AG50,-1)))),(IF(SUM(COUNTIF($AI$3:AI50,1),COUNTIF($AI$3:AI50,-1))=0,1,SUM(COUNTIF($AI$3:AI50,1),COUNTIF($AI$3:AI50,-1)))),(IF(SUM(COUNTIF($AK$3:AK50,1),COUNTIF($AK$3:AK50,-1))=0,1,SUM(COUNTIF($AK$3:AK50,1),COUNTIF($AK$3:AK50,-1)))))/1000)","v":1.3027260075093867},21.942,null,{"$f":"+SUM(COUNTIF($AC$3:AC50,1),COUNTIF($AC$3:AC50,-1))","v":37},{"$f":"+SUM($O$4:O50)","v":5276},142.59459459459458,{"$f":"+SUM(COUNTIF($AC$3:AC50,1))","v":23},{"$f":"+SUM(COUNTIF($AC$3:AC50,-1))","v":14},9,{"$f":"AW50*(HARMEAN((IF(SUM(COUNTIF($Z$3:Z50,1),COUNTIF($Z$3:Z50,-1))=0,1,SUM(COUNTIF($Z$3:Z50,1),COUNTIF($Z$3:Z50,-1)))),(IF(SUM(COUNTIF($AC$3:AC50,1),COUNTIF($AC$3:AC50,-1))=0,1,SUM(COUNTIF($AC$3:AC50,1),COUNTIF($AC$3:AC50,-1)))),(IF(SUM(COUNTIF($AE$3:AE50,1),COUNTIF($AE$3:AE50,-1))=0,1,SUM(COUNTIF($AE$3:AE50,1),COUNTIF($AE$3:AE50,-1)))),(IF(SUM(COUNTIF($AG$3:AG50,1),COUNTIF($AG$3:AG50,-1))=0,1,SUM(COUNTIF($AG$3:AG50,1),COUNTIF($AG$3:AG50,-1)))),(IF(SUM(COUNTIF($AI$3:AI50,1),COUNTIF($AI$3:AI50,-1))=0,1,SUM(COUNTIF($AI$3:AI50,1),COUNTIF($AI$3:AI50,-1)))),(IF(SUM(COUNTIF($AK$3:AK50,1),COUNTIF($AK$3:AK50,-1))=0,1,SUM(COUNTIF($AK$3:AK50,1),COUNTIF($AK$3:AK50,-1)))))/1000)","v":1.3027260075093867},50.264000000000003,null,{"$f":"+SUM(COUNTIF($AE$3:AE50,1),COUNTIF(AE$3:$AE50,-1))","v":36},{"$f":"+SUM($Q$4:Q50)","v":4567},126.86111111111111,{"$f":"+SUM(COUNTIF($AE$3:AE50,1))","v":22},{"$f":"+SUM(COUNTIF($AE$3:AE50,-1))","v":14},8,{"$f":"BF50*(HARMEAN((IF(SUM(COUNTIF($Z$3:Z50,1),COUNTIF($Z$3:Z50,-1))=0,1,SUM(COUNTIF($Z$3:Z50,1),COUNTIF($Z$3:Z50,-1)))),(IF(SUM(COUNTIF($AC$3:AC50,1),COUNTIF($AC$3:AC50,-1))=0,1,SUM(COUNTIF($AC$3:AC50,1),COUNTIF($AC$3:AC50,-1)))),(IF(SUM(COUNTIF($AE$3:AE50,1),COUNTIF($AE$3:AE50,-1))=0,1,SUM(COUNTIF($AE$3:AE50,1),COUNTIF($AE$3:AE50,-1)))),(IF(SUM(COUNTIF($AG$3:AG50,1),COUNTIF($AG$3:AG50,-1))=0,1,SUM(COUNTIF($AG$3:AG50,1),COUNTIF($AG$3:AG50,-1)))),(IF(SUM(COUNTIF($AI$3:AI50,1),COUNTIF($AI$3:AI50,-1))=0,1,SUM(COUNTIF($AI$3:AI50,1),COUNTIF($AI$3:AI50,-1)))),(IF(SUM(COUNTIF($AK$3:AK50,1),COUNTIF($AK$3:AK50,-1))=0,1,SUM(COUNTIF($AK$3:AK50,1),COUNTIF($AK$3:AK50,-1)))))/1000)","v":1.2675171964956196},44.247,null,{"$f":"+SUM(COUNTIF($AG$3:AG50,1),COUNTIF($AG$3:AG50,-1))","v":37},{"$f":"+SUM($S$4:S50)","v":5587},151,{"$f":"+SUM(COUNTIF($AG$3:AG50,1))","v":18},{"$f":"+SUM(COUNTIF($AG$3:AG50,-1))","v":19},-1,{"$f":"BO50*(HARMEAN((IF(SUM(COUNTIF($Z$3:Z50,1),COUNTIF($Z$3:Z50,-1))=0,1,SUM(COUNTIF($Z$3:Z50,1),COUNTIF($Z$3:Z50,-1)))),(IF(SUM(COUNTIF($AC$3:AC50,1),COUNTIF($AC$3:AC50,-1))=0,1,SUM(COUNTIF($AC$3:AC50,1),COUNTIF($AC$3:AC50,-1)))),(IF(SUM(COUNTIF($AE$3:AE50,1),COUNTIF($AE$3:AE50,-1))=0,1,SUM(COUNTIF($AE$3:AE50,1),COUNTIF($AE$3:AE50,-1)))),(IF(SUM(COUNTIF($AG$3:AG50,1),COUNTIF($AG$3:AG50,-1))=0,1,SUM(COUNTIF($AG$3:AG50,1),COUNTIF($AG$3:AG50,-1)))),(IF(SUM(COUNTIF($AI$3:AI50,1),COUNTIF($AI$3:AI50,-1))=0,1,SUM(COUNTIF($AI$3:AI50,1),COUNTIF($AI$3:AI50,-1)))),(IF(SUM(COUNTIF($AK$3:AK50,1),COUNTIF($AK$3:AK50,-1))=0,1,SUM(COUNTIF($AK$3:AK50,1),COUNTIF($AK$3:AK50,-1)))))/1000)","v":1.3027260075093867},16.149999999999999,null,{"$f":"+SUM(COUNTIF($AI$3:AI50,1),COUNTIF($AI$3:AI50,-1))","v":33},{"$f":"+SUM($U$4:U50)","v":4143},125.54545454545455,{"$f":"+SUM(COUNTIF($AI$3:AI50,1))","v":12},{"$f":"+SUM(COUNTIF($AI$3:AI50,-1))","v":21},-9,{"$f":"+BX50*(HARMEAN((IF(SUM(COUNTIF($Z$3:Z50,1),COUNTIF($Z$3:Z50,-1))=0,1,SUM(COUNTIF($Z$3:Z50,1),COUNTIF($Z$3:Z50,-1)))),(IF(SUM(COUNTIF($AC$3:AC50,1),COUNTIF($AC$3:AC50,-1))=0,1,SUM(COUNTIF($AC$3:AC50,1),COUNTIF($AC$3:AC50,-1)))),(IF(SUM(COUNTIF($AE$3:AE50,1),COUNTIF($AE$3:AE50,-1))=0,1,SUM(COUNTIF($AE$3:AE50,1),COUNTIF($AE$3:AE50,-1)))),(IF(SUM(COUNTIF($AG$3:AG50,1),COUNTIF($AG$3:AG50,-1))=0,1,SUM(COUNTIF($AG$3:AG50,1),COUNTIF($AG$3:AG50,-1)))),(IF(SUM(COUNTIF($AI$3:AI50,1),COUNTIF($AI$3:AI50,-1))=0,1,SUM(COUNTIF($AI$3:AI50,1),COUNTIF($AI$3:AI50,-1)))),(IF(SUM(COUNTIF($AK$3:AK50,1),COUNTIF($AK$3:AK50,-1))=0,1,SUM(COUNTIF($AK$3:AK50,1),COUNTIF($AK$3:AK50,-1)))))/1000)","v":1.1618907634543179},-17.100999999999999,null,{"$f":"+SUM(COUNTIF($AK$3:AK50,1),COUNTIF($AK$3:AK50,-1))","v":32},{"$f":"+SUM($W$4:W50)","v":3591},112.21875,{"$f":"+SUM(COUNTIF($AK$3:AK50,1))","v":12},{"$f":"+SUM(COUNTIF($AK$3:AK50,-1))","v":20},-8,{"$f":"+CG50*(HARMEAN((IF(SUM(COUNTIF($Z$3:Z50,1),COUNTIF($Z$3:Z50,-1))=0,1,SUM(COUNTIF($Z$3:Z50,1),COUNTIF($Z$3:Z50,-1)))),(IF(SUM(COUNTIF($AC$3:AC50,1),COUNTIF($AC$3:AC50,-1))=0,1,SUM(COUNTIF($AC$3:AC50,1),COUNTIF($AC$3:AC50,-1)))),(IF(SUM(COUNTIF($AE$3:AE50,1),COUNTIF($AE$3:AE50,-1))=0,1,SUM(COUNTIF($AE$3:AE50,1),COUNTIF($AE$3:AE50,-1)))),(IF(SUM(COUNTIF($AG$3:AG50,1),COUNTIF($AG$3:AG50,-1))=0,1,SUM(COUNTIF($AG$3:AG50,1),COUNTIF($AG$3:AG50,-1)))),(IF(SUM(COUNTIF($AI$3:AI50,1),COUNTIF($AI$3:AI50,-1))=0,1,SUM(COUNTIF($AI$3:AI50,1),COUNTIF($AI$3:AI50,-1)))),(IF(SUM(COUNTIF($AK$3:AK50,1),COUNTIF($AK$3:AK50,-1))=0,1,SUM(COUNTIF($AK$3:AK50,1),COUNTIF($AK$3:AK50,-1)))))/1000)","v":1.1266819524405507},-15.523999999999999]
[48,"",null,{"$f":"+IFERROR(INDEX('Auswertung AoE II'!$AE:$AE,MATCH(A51,'Auswertung AoE II'!$AD:$AD,0)),\"\")","v":""},{"$f":"+IFERROR(INDEX('Auswertung AoE III'!$AE:$AE,MATCH(A51,'Auswertung AoE III'!$AD:$AD,0)),\"\")","v":""},{"$f":"+IFERROR(INDEX('Auswertung AoM'!$AE:$AE,MATCH(A51,'Auswertung AoM'!$AD:$AD,0)),\"\")","v":""},{"$f":"+IFERROR(INDEX('Auswertung RA'!$AE:$AE,MATCH(A51,'Auswertung RA'!$AD:$AD,0)),\"\")","v":""},{"$f":"+IFERROR(INDEX('Auswertung Yuri'!$AE:$AE,MATCH(A51,'Auswertung Yuri'!$AD:$AD,0)),\"\")","v":""},{"$f":"+IFERROR(INDEX('Auswertung Generals'!$AE:$AE,MATCH(A51,'Auswertung Generals'!$AD:$AD,0)),\"\")","v":""},"Auswertung ",null,null,{"$f":"+IF(ISERROR(+INDIRECT(CONCATENATE(\"'\",J51,\"'!\",(ADDRESS((COUNTIF($J$3:J51,IF(B51<>0,CONCATENATE(\"Auswertung \",B51,\"\"))))+2,2)))))=FALSE,+INDIRECT(CONCATENATE(\"'\",J51,\"'!\",(ADDRESS((COUNTIF($J$3:J51,IF(B51<>0,CONCATENATE(\"Auswertung \",B51,\"\"))))+4,2)))),\"\")","v":""},{"$f":"IF(ISERROR(+INDIRECT(CONCATENATE(\"'\",J51,\"'!\",(ADDRESS((COUNTIF($J$3:J51,IF(B51<>0,CONCATENATE(\"Auswertung \",B51,\"\"))))+2,2+1)))))=FALSE,+INDIRECT(CONCATENATE(\"'\",J51,\"'!\",(ADDRESS((COUNTIF($J$3:J51,IF(B51<>0,CONCATENATE(\"Auswertung \",B51,\"\"))))+4,2+1)))),\"\")","v":""},{"$f":"+IF(ISERROR(+INDIRECT(CONCATENATE(\"'\",J51,\"'!\",(ADDRESS((COUNTIF($J$3:J51,IF(B51<>0,CONCATENATE(\"Auswertung \",B51,\"\"))))+2,4)))))=FALSE,+INDIRECT(CONCATENATE(\"'\",J51,\"'!\",(ADDRESS((COUNTIF($J$3:J51,IF(B51<>0,CONCATENATE(\"Auswertung \",B51,\"\"))))+4,4)))),\"\")","v":""},{"$f":"+IF(ISERROR(+INDIRECT(CONCATENATE(\"'\",J51,\"'!\",(ADDRESS((COUNTIF($J$3:J51,IF(B51<>0,CONCATENATE(\"Auswertung \",B51,\"\"))))+2,5)))))=FALSE,+INDIRECT(CONCATENATE(\"'\",J51,\"'!\",(ADDRESS((COUNTIF($J$3:J51,IF(B51<>0,CONCATENATE(\"Auswertung \",B51,\"\"))))+4,5)))),\"\")","v":""},{"$f":"+IF(ISERROR(+INDIRECT(CONCATENATE(\"'\",J51,\"'!\",(ADDRESS((COUNTIF($J$3:J51,IF(B51<>0,CONCATENATE(\"Auswertung \",B51,\"\"))))+2,6)))))=FALSE,+INDIRECT(CONCATENATE(\"'\",J51,\"'!\",(ADDRESS((COUNTIF($J$3:J51,IF(B51<>0,CONCATENATE(\"Auswertung \",B51,\"\"))))+4,6)))),\"\")","v":""},{"$f":"+IF(ISERROR(+INDIRECT(CONCATENATE(\"'\",J51,\"'!\",(ADDRESS((COUNTIF($J$3:J51,IF(B51<>0,CONCATENATE(\"Auswertung \",B51,\"\"))))+2,7)))))=FALSE,+INDIRECT(CONCATENATE(\"'\",J51,\"'!\",(ADDRESS((COUNTIF($J$3:J51,IF(B51<>0,CONCATENATE(\"Auswertung \",B51,\"\"))))+4,7)))),\"\")","v":""},{"$f":"+IF(ISERROR(+INDIRECT(CONCATENATE(\"'\",J51,\"'!\",(ADDRESS((COUNTIF($J$3:J51,IF(B51<>0,CONCATENATE(\"Auswertung \",B51,\"\"))))+2,10)))))=FALSE,+INDIRECT(CONCATENATE(\"'\",J51,\"'!\",(ADDRESS((COUNTIF($J$3:J51,IF(B51<>0,CONCATENATE(\"Auswertung \",B51,\"\"))))+4,8)))),\"\")","v":""},{"$f":"+IF(ISERROR(+INDIRECT(CONCATENATE(\"'\",J51,\"'!\",(ADDRESS((COUNTIF($J$3:J51,IF(B51<>0,CONCATENATE(\"Auswertung \",B51,\"\"))))+2,11)))))=FALSE,+INDIRECT(CONCATENATE(\"'\",J51,\"'!\",(ADDRESS((COUNTIF($J$3:J51,IF(B51<>0,CONCATENATE(\"Auswertung \",B51,\"\"))))+4,9)))),\"\")","v":""},{"$f":"+IF(ISERROR(+INDIRECT(CONCATENATE(\"'\",J51,\"'!\",(ADDRESS((COUNTIF($J$3:J51,IF(B51<>0,CONCATENATE(\"Auswertung \",B51,\"\"))))+2,10)))))=FALSE,+INDIRECT(CONCATENATE(\"'\",J51,\"'!\",(ADDRESS((COUNTIF($J$3:J51,IF(B51<>0,CONCATENATE(\"Auswertung \",B51,\"\"))))+4,10)))),\"\")","v":""},{"$f":"+IF(ISERROR(+INDIRECT(CONCATENATE(\"'\",J51,\"'!\",(ADDRESS((COUNTIF($J$3:J51,IF(B51<>0,CONCATENATE(\"Auswertung \",B51,\"\"))))+2,11)))))=FALSE,+INDIRECT(CONCATENATE(\"'\",J51,\"'!\",(ADDRESS((COUNTIF($J$3:J51,IF(B51<>0,CONCATENATE(\"Auswertung \",B51,\"\"))))+4,11)))),\"\")","v":""},{"$f":"+IF(ISERROR(+INDIRECT(CONCATENATE(\"'\",J51,\"'!\",(ADDRESS((COUNTIF($J$3:J51,IF(D51<>0,CONCATENATE(\"Auswertung \",D51,\"\"))))+2,12)))))=FALSE,+INDIRECT(CONCATENATE(\"'\",J51,\"'!\",(ADDRESS((COUNTIF($J$3:J51,IF(D51<>0,CONCATENATE(\"Auswertung \",B51,\"\"))))+4,12)))),\"\")","v":""},{"$f":"+IF(ISERROR(+INDIRECT(CONCATENATE(\"'\",J51,\"'!\",(ADDRESS((COUNTIF($J$3:J51,IF(D51<>0,CONCATENATE(\"Auswertung \",D51,\"\"))))+2,13)))))=FALSE,+INDIRECT(CONCATENATE(\"'\",J51,\"'!\",(ADDRESS((COUNTIF($J$3:J51,IF(D51<>0,CONCATENATE(\"Auswertung \",B51,\"\"))))+4,13)))),\"\")","v":""},null,{"$f":"+IFERROR(INDIRECT(CONCATENATE(\"'\",J51,\"'!\",(ADDRESS((COUNTIF($J$3:J51,IF(B51<>0,J51)))+4,16)))),\"\")","v":""},21.942,{"$f":"+SUM($M$4:M51)/COUNT($M$4:M51)/1000*2","v":0.28281081081081083},{"$f":"+IFERROR(INDIRECT(CONCATENATE(\"'\",J51,\"'!\",(ADDRESS((COUNTIF($J$3:J51,IF(B51<>0,J51)))+4,18)))),\"\")","v":""},50.264000000000003,{"$f":"+IFERROR(INDIRECT(CONCATENATE(\"'\",J51,\"'!\",(ADDRESS((COUNTIF($J$3:J51,IF(B51<>0,J51)))+4,20)))),\"\")","v":""},44.247,{"$f":"+IFERROR(INDIRECT(CONCATENATE(\"'\",J51,\"'!\",(ADDRESS((COUNTIF($J$3:J51,IF(B51<>0,J51)))+4,22)))),\"\")","v":""},16.149999999999999,{"$f":"+IFERROR(INDIRECT(CONCATENATE(\"'\",J51,\"'!\",(ADDRESS((COUNTIF($J$3:J51,IF(B51<>0,J51)))+4,24)))),\"\")","v":""},-17.100999999999999,{"$f":"+IFERROR(INDIRECT(CONCATENATE(\"'\",J51,\"'!\",(ADDRESS((COUNTIF($J$3:J51,IF(B51<>0,J51)))+4,26)))),\"\")","v":""},-15.523999999999999,48,{"$f":"+SUM(COUNTIF($Z$3:Z51,1),COUNTIF($Z$3:Z51,-1))","v":37},{"$f":"+SUM($M$4:M51)","v":5232},141.40540540540542,{"$f":"+SUM(COUNTIF($Z$3:Z51,1))","v":19},{"$f":"+SUM(COUNTIF($Z$3:Z51,-1))","v":18},1,{"$f":"AN51*(HARMEAN((IF(SUM(COUNTIF($Z$3:Z51,1),COUNTIF($Z$3:Z51,-1))=0,1,SUM(COUNTIF($Z$3:Z51,1),COUNTIF($Z$3:Z51,-1)))),(IF(SUM(COUNTIF($AC$3:AC51,1),COUNTIF($AC$3:AC51,-1))=0,1,SUM(COUNTIF($AC$3:AC51,1),COUNTIF($AC$3:AC51,-1)))),(IF(SUM(COUNTIF($AE$3:AE51,1),COUNTIF($AE$3:AE51,-1))=0,1,SUM(COUNTIF($AE$3:AE51,1),COUNTIF($AE$3:AE51,-1)))),(IF(SUM(COUNTIF($AG$3:AG51,1),COUNTIF($AG$3:AG51,-1))=0,1,SUM(COUNTIF($AG$3:AG51,1),COUNTIF($AG$3:AG51,-1)))),(IF(SUM(COUNTIF($AI$3:AI51,1),COUNTIF($AI$3:AI51,-1))=0,1,SUM(COUNTIF($AI$3:AI51,1),COUNTIF($AI$3:AI51,-1)))),(IF(SUM(COUNTIF($AK$3:AK51,1),COUNTIF($AK$3:AK51,-1))=0,1,SUM(COUNTIF($AK$3:AK51,1),COUNTIF($AK$3:AK51,-1)))))/1000)","v":1.3027260075093867},21.942,null,{"$f":"+SUM(COUNTIF($AC$3:AC51,1),COUNTIF($AC$3:AC51,-1))","v":37},{"$f":"+SUM($O$4:O51)","v":5276},142.59459459459458,{"$f":"+SUM(COUNTIF($AC$3:AC51,1))","v":23},{"$f":"+SUM(COUNTIF($AC$3:AC51,-1))","v":14},9,{"$f":"AW51*(HARMEAN((IF(SUM(COUNTIF($Z$3:Z51,1),COUNTIF($Z$3:Z51,-1))=0,1,SUM(COUNTIF($Z$3:Z51,1),COUNTIF($Z$3:Z51,-1)))),(IF(SUM(COUNTIF($AC$3:AC51,1),COUNTIF($AC$3:AC51,-1))=0,1,SUM(COUNTIF($AC$3:AC51,1),COUNTIF($AC$3:AC51,-1)))),(IF(SUM(COUNTIF($AE$3:AE51,1),COUNTIF($AE$3:AE51,-1))=0,1,SUM(COUNTIF($AE$3:AE51,1),COUNTIF($AE$3:AE51,-1)))),(IF(SUM(COUNTIF($AG$3:AG51,1),COUNTIF($AG$3:AG51,-1))=0,1,SUM(COUNTIF($AG$3:AG51,1),COUNTIF($AG$3:AG51,-1)))),(IF(SUM(COUNTIF($AI$3:AI51,1),COUNTIF($AI$3:AI51,-1))=0,1,SUM(COUNTIF($AI$3:AI51,1),COUNTIF($AI$3:AI51,-1)))),(IF(SUM(COUNTIF($AK$3:AK51,1),COUNTIF($AK$3:AK51,-1))=0,1,SUM(COUNTIF($AK$3:AK51,1),COUNTIF($AK$3:AK51,-1)))))/1000)","v":1.3027260075093867},50.264000000000003,null,{"$f":"+SUM(COUNTIF($AE$3:AE51,1),COUNTIF(AE$3:$AE51,-1))","v":36},{"$f":"+SUM($Q$4:Q51)","v":4567},126.86111111111111,{"$f":"+SUM(COUNTIF($AE$3:AE51,1))","v":22},{"$f":"+SUM(COUNTIF($AE$3:AE51,-1))","v":14},8,{"$f":"BF51*(HARMEAN((IF(SUM(COUNTIF($Z$3:Z51,1),COUNTIF($Z$3:Z51,-1))=0,1,SUM(COUNTIF($Z$3:Z51,1),COUNTIF($Z$3:Z51,-1)))),(IF(SUM(COUNTIF($AC$3:AC51,1),COUNTIF($AC$3:AC51,-1))=0,1,SUM(COUNTIF($AC$3:AC51,1),COUNTIF($AC$3:AC51,-1)))),(IF(SUM(COUNTIF($AE$3:AE51,1),COUNTIF($AE$3:AE51,-1))=0,1,SUM(COUNTIF($AE$3:AE51,1),COUNTIF($AE$3:AE51,-1)))),(IF(SUM(COUNTIF($AG$3:AG51,1),COUNTIF($AG$3:AG51,-1))=0,1,SUM(COUNTIF($AG$3:AG51,1),COUNTIF($AG$3:AG51,-1)))),(IF(SUM(COUNTIF($AI$3:AI51,1),COUNTIF($AI$3:AI51,-1))=0,1,SUM(COUNTIF($AI$3:AI51,1),COUNTIF($AI$3:AI51,-1)))),(IF(SUM(COUNTIF($AK$3:AK51,1),COUNTIF($AK$3:AK51,-1))=0,1,SUM(COUNTIF($AK$3:AK51,1),COUNTIF($AK$3:AK51,-1)))))/1000)","v":1.2675171964956196},44.247,null,{"$f":"+SUM(COUNTIF($AG$3:AG51,1),COUNTIF($AG$3:AG51,-1))","v":37},{"$f":"+SUM($S$4:S51)","v":5587},151,{"$f":"+SUM(COUNTIF($AG$3:AG51,1))","v":18},{"$f":"+SUM(COUNTIF($AG$3:AG51,-1))","v":19},-1,{"$f":"BO51*(HARMEAN((IF(SUM(COUNTIF($Z$3:Z51,1),COUNTIF($Z$3:Z51,-1))=0,1,SUM(COUNTIF($Z$3:Z51,1),COUNTIF($Z$3:Z51,-1)))),(IF(SUM(COUNTIF($AC$3:AC51,1),COUNTIF($AC$3:AC51,-1))=0,1,SUM(COUNTIF($AC$3:AC51,1),COUNTIF($AC$3:AC51,-1)))),(IF(SUM(COUNTIF($AE$3:AE51,1),COUNTIF($AE$3:AE51,-1))=0,1,SUM(COUNTIF($AE$3:AE51,1),COUNTIF($AE$3:AE51,-1)))),(IF(SUM(COUNTIF($AG$3:AG51,1),COUNTIF($AG$3:AG51,-1))=0,1,SUM(COUNTIF($AG$3:AG51,1),COUNTIF($AG$3:AG51,-1)))),(IF(SUM(COUNTIF($AI$3:AI51,1),COUNTIF($AI$3:AI51,-1))=0,1,SUM(COUNTIF($AI$3:AI51,1),COUNTIF($AI$3:AI51,-1)))),(IF(SUM(COUNTIF($AK$3:AK51,1),COUNTIF($AK$3:AK51,-1))=0,1,SUM(COUNTIF($AK$3:AK51,1),COUNTIF($AK$3:AK51,-1)))))/1000)","v":1.3027260075093867},16.149999999999999,null,{"$f":"+SUM(COUNTIF($AI$3:AI51,1),COUNTIF($AI$3:AI51,-1))","v":33},{"$f":"+SUM($U$4:U51)","v":4143},125.54545454545455,{"$f":"+SUM(COUNTIF($AI$3:AI51,1))","v":12},{"$f":"+SUM(COUNTIF($AI$3:AI51,-1))","v":21},-9,{"$f":"+BX51*(HARMEAN((IF(SUM(COUNTIF($Z$3:Z51,1),COUNTIF($Z$3:Z51,-1))=0,1,SUM(COUNTIF($Z$3:Z51,1),COUNTIF($Z$3:Z51,-1)))),(IF(SUM(COUNTIF($AC$3:AC51,1),COUNTIF($AC$3:AC51,-1))=0,1,SUM(COUNTIF($AC$3:AC51,1),COUNTIF($AC$3:AC51,-1)))),(IF(SUM(COUNTIF($AE$3:AE51,1),COUNTIF($AE$3:AE51,-1))=0,1,SUM(COUNTIF($AE$3:AE51,1),COUNTIF($AE$3:AE51,-1)))),(IF(SUM(COUNTIF($AG$3:AG51,1),COUNTIF($AG$3:AG51,-1))=0,1,SUM(COUNTIF($AG$3:AG51,1),COUNTIF($AG$3:AG51,-1)))),(IF(SUM(COUNTIF($AI$3:AI51,1),COUNTIF($AI$3:AI51,-1))=0,1,SUM(COUNTIF($AI$3:AI51,1),COUNTIF($AI$3:AI51,-1)))),(IF(SUM(COUNTIF($AK$3:AK51,1),COUNTIF($AK$3:AK51,-1))=0,1,SUM(COUNTIF($AK$3:AK51,1),COUNTIF($AK$3:AK51,-1)))))/1000)","v":1.1618907634543179},-17.100999999999999,null,{"$f":"+SUM(COUNTIF($AK$3:AK51,1),COUNTIF($AK$3:AK51,-1))","v":32},{"$f":"+SUM($W$4:W51)","v":3591},112.21875,{"$f":"+SUM(COUNTIF($AK$3:AK51,1))","v":12},{"$f":"+SUM(COUNTIF($AK$3:AK51,-1))","v":20},-8,{"$f":"+CG51*(HARMEAN((IF(SUM(COUNTIF($Z$3:Z51,1),COUNTIF($Z$3:Z51,-1))=0,1,SUM(COUNTIF($Z$3:Z51,1),COUNTIF($Z$3:Z51,-1)))),(IF(SUM(COUNTIF($AC$3:AC51,1),COUNTIF($AC$3:AC51,-1))=0,1,SUM(COUNTIF($AC$3:AC51,1),COUNTIF($AC$3:AC51,-1)))),(IF(SUM(COUNTIF($AE$3:AE51,1),COUNTIF($AE$3:AE51,-1))=0,1,SUM(COUNTIF($AE$3:AE51,1),COUNTIF($AE$3:AE51,-1)))),(IF(SUM(COUNTIF($AG$3:AG51,1),COUNTIF($AG$3:AG51,-1))=0,1,SUM(COUNTIF($AG$3:AG51,1),COUNTIF($AG$3:AG51,-1)))),(IF(SUM(COUNTIF($AI$3:AI51,1),COUNTIF($AI$3:AI51,-1))=0,1,SUM(COUNTIF($AI$3:AI51,1),COUNTIF($AI$3:AI51,-1)))),(IF(SUM(COUNTIF($AK$3:AK51,1),COUNTIF($AK$3:AK51,-1))=0,1,SUM(COUNTIF($AK$3:AK51,1),COUNTIF($AK$3:AK51,-1)))))/1000)","v":1.1266819524405507},-15.523999999999999]
[49,"",null,{"$f":"+IFERROR(INDEX('Auswertung AoE II'!$AE:$AE,MATCH(A52,'Auswertung AoE II'!$AD:$AD,0)),\"\")","v":""},{"$f":"+IFERROR(INDEX('Auswertung AoE III'!$AE:$AE,MATCH(A52,'Auswertung AoE III'!$AD:$AD,0)),\"\")","v":""},{"$f":"+IFERROR(INDEX('Auswertung AoM'!$AE:$AE,MATCH(A52,'Auswertung AoM'!$AD:$AD,0)),\"\")","v":""},{"$f":"+IFERROR(INDEX('Auswertung RA'!$AE:$AE,MATCH(A52,'Auswertung RA'!$AD:$AD,0)),\"\")","v":""},{"$f":"+IFERROR(INDEX('Auswertung Yuri'!$AE:$AE,MATCH(A52,'Auswertung Yuri'!$AD:$AD,0)),\"\")","v":""},{"$f":"+IFERROR(INDEX('Auswertung Generals'!$AE:$AE,MATCH(A52,'Auswertung Generals'!$AD:$AD,0)),\"\")","v":""},"Auswertung ",null,null,{"$f":"+IF(ISERROR(+INDIRECT(CONCATENATE(\"'\",J52,\"'!\",(ADDRESS((COUNTIF($J$3:J52,IF(B52<>0,CONCATENATE(\"Auswertung \",B52,\"\"))))+2,2)))))=FALSE,+INDIRECT(CONCATENATE(\"'\",J52,\"'!\",(ADDRESS((COUNTIF($J$3:J52,IF(B52<>0,CONCATENATE(\"Auswertung \",B52,\"\"))))+4,2)))),\"\")","v":""},{"$f":"IF(ISERROR(+INDIRECT(CONCATENATE(\"'\",J52,\"'!\",(ADDRESS((COUNTIF($J$3:J52,IF(B52<>0,CONCATENATE(\"Auswertung \",B52,\"\"))))+2,2+1)))))=FALSE,+INDIRECT(CONCATENATE(\"'\",J52,\"'!\",(ADDRESS((COUNTIF($J$3:J52,IF(B52<>0,CONCATENATE(\"Auswertung \",B52,\"\"))))+4,2+1)))),\"\")","v":""},{"$f":"+IF(ISERROR(+INDIRECT(CONCATENATE(\"'\",J52,\"'!\",(ADDRESS((COUNTIF($J$3:J52,IF(B52<>0,CONCATENATE(\"Auswertung \",B52,\"\"))))+2,4)))))=FALSE,+INDIRECT(CONCATENATE(\"'\",J52,\"'!\",(ADDRESS((COUNTIF($J$3:J52,IF(B52<>0,CONCATENATE(\"Auswertung \",B52,\"\"))))+4,4)))),\"\")","v":""},{"$f":"+IF(ISERROR(+INDIRECT(CONCATENATE(\"'\",J52,\"'!\",(ADDRESS((COUNTIF($J$3:J52,IF(B52<>0,CONCATENATE(\"Auswertung \",B52,\"\"))))+2,5)))))=FALSE,+INDIRECT(CONCATENATE(\"'\",J52,\"'!\",(ADDRESS((COUNTIF($J$3:J52,IF(B52<>0,CONCATENATE(\"Auswertung \",B52,\"\"))))+4,5)))),\"\")","v":""},{"$f":"+IF(ISERROR(+INDIRECT(CONCATENATE(\"'\",J52,\"'!\",(ADDRESS((COUNTIF($J$3:J52,IF(B52<>0,CONCATENATE(\"Auswertung \",B52,\"\"))))+2,6)))))=FALSE,+INDIRECT(CONCATENATE(\"'\",J52,\"'!\",(ADDRESS((COUNTIF($J$3:J52,IF(B52<>0,CONCATENATE(\"Auswertung \",B52,\"\"))))+4,6)))),\"\")","v":""},{"$f":"+IF(ISERROR(+INDIRECT(CONCATENATE(\"'\",J52,\"'!\",(ADDRESS((COUNTIF($J$3:J52,IF(B52<>0,CONCATENATE(\"Auswertung \",B52,\"\"))))+2,7)))))=FALSE,+INDIRECT(CONCATENATE(\"'\",J52,\"'!\",(ADDRESS((COUNTIF($J$3:J52,IF(B52<>0,CONCATENATE(\"Auswertung \",B52,\"\"))))+4,7)))),\"\")","v":""},{"$f":"+IF(ISERROR(+INDIRECT(CONCATENATE(\"'\",J52,\"'!\",(ADDRESS((COUNTIF($J$3:J52,IF(B52<>0,CONCATENATE(\"Auswertung \",B52,\"\"))))+2,10)))))=FALSE,+INDIRECT(CONCATENATE(\"'\",J52,\"'!\",(ADDRESS((COUNTIF($J$3:J52,IF(B52<>0,CONCATENATE(\"Auswertung \",B52,\"\"))))+4,8)))),\"\")","v":""},{"$f":"+IF(ISERROR(+INDIRECT(CONCATENATE(\"'\",J52,\"'!\",(ADDRESS((COUNTIF($J$3:J52,IF(B52<>0,CONCATENATE(\"Auswertung \",B52,\"\"))))+2,11)))))=FALSE,+INDIRECT(CONCATENATE(\"'\",J52,\"'!\",(ADDRESS((COUNTIF($J$3:J52,IF(B52<>0,CONCATENATE(\"Auswertung \",B52,\"\"))))+4,9)))),\"\")","v":""},{"$f":"+IF(ISERROR(+INDIRECT(CONCATENATE(\"'\",J52,\"'!\",(ADDRESS((COUNTIF($J$3:J52,IF(B52<>0,CONCATENATE(\"Auswertung \",B52,\"\"))))+2,10)))))=FALSE,+INDIRECT(CONCATENATE(\"'\",J52,\"'!\",(ADDRESS((COUNTIF($J$3:J52,IF(B52<>0,CONCATENATE(\"Auswertung \",B52,\"\"))))+4,10)))),\"\")","v":""},{"$f":"+IF(ISERROR(+INDIRECT(CONCATENATE(\"'\",J52,\"'!\",(ADDRESS((COUNTIF($J$3:J52,IF(B52<>0,CONCATENATE(\"Auswertung \",B52,\"\"))))+2,11)))))=FALSE,+INDIRECT(CONCATENATE(\"'\",J52,\"'!\",(ADDRESS((COUNTIF($J$3:J52,IF(B52<>0,CONCATENATE(\"Auswertung \",B52,\"\"))))+4,11)))),\"\")","v":""},{"$f":"+IF(ISERROR(+INDIRECT(CONCATENATE(\"'\",J52,\"'!\",(ADDRESS((COUNTIF($J$3:J52,IF(D52<>0,CONCATENATE(\"Auswertung \",D52,\"\"))))+2,12)))))=FALSE,+INDIRECT(CONCATENATE(\"'\",J52,\"'!\",(ADDRESS((COUNTIF($J$3:J52,IF(D52<>0,CONCATENATE(\"Auswertung \",B52,\"\"))))+4,12)))),\"\")","v":""},{"$f":"+IF(ISERROR(+INDIRECT(CONCATENATE(\"'\",J52,\"'!\",(ADDRESS((COUNTIF($J$3:J52,IF(D52<>0,CONCATENATE(\"Auswertung \",D52,\"\"))))+2,13)))))=FALSE,+INDIRECT(CONCATENATE(\"'\",J52,\"'!\",(ADDRESS((COUNTIF($J$3:J52,IF(D52<>0,CONCATENATE(\"Auswertung \",B52,\"\"))))+4,13)))),\"\")","v":""},null,{"$f":"+IFERROR(INDIRECT(CONCATENATE(\"'\",J52,\"'!\",(ADDRESS((COUNTIF($J$3:J52,IF(B52<>0,J52)))+4,16)))),\"\")","v":""},21.942,{"$f":"+SUM($M$4:M52)/COUNT($M$4:M52)/1000*2","v":0.28281081081081083},{"$f":"+IFERROR(INDIRECT(CONCATENATE(\"'\",J52,\"'!\",(ADDRESS((COUNTIF($J$3:J52,IF(B52<>0,J52)))+4,18)))),\"\")","v":""},50.264000000000003,{"$f":"+IFERROR(INDIRECT(CONCATENATE(\"'\",J52,\"'!\",(ADDRESS((COUNTIF($J$3:J52,IF(B52<>0,J52)))+4,20)))),\"\")","v":""},44.247,{"$f":"+IFERROR(INDIRECT(CONCATENATE(\"'\",J52,\"'!\",(ADDRESS((COUNTIF($J$3:J52,IF(B52<>0,J52)))+4,22)))),\"\")","v":""},16.149999999999999,{"$f":"+IFERROR(INDIRECT(CONCATENATE(\"'\",J52,\"'!\",(ADDRESS((COUNTIF($J$3:J52,IF(B52<>0,J52)))+4,24)))),\"\")","v":""},-17.100999999999999,{"$f":"+IFERROR(INDIRECT(CONCATENATE(\"'\",J52,\"'!\",(ADDRESS((COUNTIF($J$3:J52,IF(B52<>0,J52)))+4,26)))),\"\")","v":""},-15.523999999999999,49,{"$f":"+SUM(COUNTIF($Z$3:Z52,1),COUNTIF($Z$3:Z52,-1))","v":37},{"$f":"+SUM($M$4:M52)","v":5232},141.40540540540542,{"$f":"+SUM(COUNTIF($Z$3:Z52,1))","v":19},{"$f":"+SUM(COUNTIF($Z$3:Z52,-1))","v":18},1,{"$f":"AN52*(HARMEAN((IF(SUM(COUNTIF($Z$3:Z52,1),COUNTIF($Z$3:Z52,-1))=0,1,SUM(COUNTIF($Z$3:Z52,1),COUNTIF($Z$3:Z52,-1)))),(IF(SUM(COUNTIF($AC$3:AC52,1),COUNTIF($AC$3:AC52,-1))=0,1,SUM(COUNTIF($AC$3:AC52,1),COUNTIF($AC$3:AC52,-1)))),(IF(SUM(COUNTIF($AE$3:AE52,1),COUNTIF($AE$3:AE52,-1))=0,1,SUM(COUNTIF($AE$3:AE52,1),COUNTIF($AE$3:AE52,-1)))),(IF(SUM(COUNTIF($AG$3:AG52,1),COUNTIF($AG$3:AG52,-1))=0,1,SUM(COUNTIF($AG$3:AG52,1),COUNTIF($AG$3:AG52,-1)))),(IF(SUM(COUNTIF($AI$3:AI52,1),COUNTIF($AI$3:AI52,-1))=0,1,SUM(COUNTIF($AI$3:AI52,1),COUNTIF($AI$3:AI52,-1)))),(IF(SUM(COUNTIF($AK$3:AK52,1),COUNTIF($AK$3:AK52,-1))=0,1,SUM(COUNTIF($AK$3:AK52,1),COUNTIF($AK$3:AK52,-1)))))/1000)","v":1.3027260075093867},21.942,null,{"$f":"+SUM(COUNTIF($AC$3:AC52,1),COUNTIF($AC$3:AC52,-1))","v":37},{"$f":"+SUM($O$4:O52)","v":5276},142.59459459459458,{"$f":"+SUM(COUNTIF($AC$3:AC52,1))","v":23},{"$f":"+SUM(COUNTIF($AC$3:AC52,-1))","v":14},9,{"$f":"AW52*(HARMEAN((IF(SUM(COUNTIF($Z$3:Z52,1),COUNTIF($Z$3:Z52,-1))=0,1,SUM(COUNTIF($Z$3:Z52,1),COUNTIF($Z$3:Z52,-1)))),(IF(SUM(COUNTIF($AC$3:AC52,1),COUNTIF($AC$3:AC52,-1))=0,1,SUM(COUNTIF($AC$3:AC52,1),COUNTIF($AC$3:AC52,-1)))),(IF(SUM(COUNTIF($AE$3:AE52,1),COUNTIF($AE$3:AE52,-1))=0,1,SUM(COUNTIF($AE$3:AE52,1),COUNTIF($AE$3:AE52,-1)))),(IF(SUM(COUNTIF($AG$3:AG52,1),COUNTIF($AG$3:AG52,-1))=0,1,SUM(COUNTIF($AG$3:AG52,1),COUNTIF($AG$3:AG52,-1)))),(IF(SUM(COUNTIF($AI$3:AI52,1),COUNTIF($AI$3:AI52,-1))=0,1,SUM(COUNTIF($AI$3:AI52,1),COUNTIF($AI$3:AI52,-1)))),(IF(SUM(COUNTIF($AK$3:AK52,1),COUNTIF($AK$3:AK52,-1))=0,1,SUM(COUNTIF($AK$3:AK52,1),COUNTIF($AK$3:AK52,-1)))))/1000)","v":1.3027260075093867},50.264000000000003,null,{"$f":"+SUM(COUNTIF($AE$3:AE52,1),COUNTIF(AE$3:$AE52,-1))","v":36},{"$f":"+SUM($Q$4:Q52)","v":4567},126.86111111111111,{"$f":"+SUM(COUNTIF($AE$3:AE52,1))","v":22},{"$f":"+SUM(COUNTIF($AE$3:AE52,-1))","v":14},8,{"$f":"BF52*(HARMEAN((IF(SUM(COUNTIF($Z$3:Z52,1),COUNTIF($Z$3:Z52,-1))=0,1,SUM(COUNTIF($Z$3:Z52,1),COUNTIF($Z$3:Z52,-1)))),(IF(SUM(COUNTIF($AC$3:AC52,1),COUNTIF($AC$3:AC52,-1))=0,1,SUM(COUNTIF($AC$3:AC52,1),COUNTIF($AC$3:AC52,-1)))),(IF(SUM(COUNTIF($AE$3:AE52,1),COUNTIF($AE$3:AE52,-1))=0,1,SUM(COUNTIF($AE$3:AE52,1),COUNTIF($AE$3:AE52,-1)))),(IF(SUM(COUNTIF($AG$3:AG52,1),COUNTIF($AG$3:AG52,-1))=0,1,SUM(COUNTIF($AG$3:AG52,1),COUNTIF($AG$3:AG52,-1)))),(IF(SUM(COUNTIF($AI$3:AI52,1),COUNTIF($AI$3:AI52,-1))=0,1,SUM(COUNTIF($AI$3:AI52,1),COUNTIF($AI$3:AI52,-1)))),(IF(SUM(COUNTIF($AK$3:AK52,1),COUNTIF($AK$3:AK52,-1))=0,1,SUM(COUNTIF($AK$3:AK52,1),COUNTIF($AK$3:AK52,-1)))))/1000)","v":1.2675171964956196},44.247,null,{"$f":"+SUM(COUNTIF($AG$3:AG52,1),COUNTIF($AG$3:AG52,-1))","v":37},{"$f":"+SUM($S$4:S52)","v":5587},151,{"$f":"+SUM(COUNTIF($AG$3:AG52,1))","v":18},{"$f":"+SUM(COUNTIF($AG$3:AG52,-1))","v":19},-1,{"$f":"BO52*(HARMEAN((IF(SUM(COUNTIF($Z$3:Z52,1),COUNTIF($Z$3:Z52,-1))=0,1,SUM(COUNTIF($Z$3:Z52,1),COUNTIF($Z$3:Z52,-1)))),(IF(SUM(COUNTIF($AC$3:AC52,1),COUNTIF($AC$3:AC52,-1))=0,1,SUM(COUNTIF($AC$3:AC52,1),COUNTIF($AC$3:AC52,-1)))),(IF(SUM(COUNTIF($AE$3:AE52,1),COUNTIF($AE$3:AE52,-1))=0,1,SUM(COUNTIF($AE$3:AE52,1),COUNTIF($AE$3:AE52,-1)))),(IF(SUM(COUNTIF($AG$3:AG52,1),COUNTIF($AG$3:AG52,-1))=0,1,SUM(COUNTIF($AG$3:AG52,1),COUNTIF($AG$3:AG52,-1)))),(IF(SUM(COUNTIF($AI$3:AI52,1),COUNTIF($AI$3:AI52,-1))=0,1,SUM(COUNTIF($AI$3:AI52,1),COUNTIF($AI$3:AI52,-1)))),(IF(SUM(COUNTIF($AK$3:AK52,1),COUNTIF($AK$3:AK52,-1))=0,1,SUM(COUNTIF($AK$3:AK52,1),COUNTIF($AK$3:AK52,-1)))))/1000)","v":1.3027260075093867},16.149999999999999,null,{"$f":"+SUM(COUNTIF($AI$3:AI52,1),COUNTIF($AI$3:AI52,-1))","v":33},{"$f":"+SUM($U$4:U52)","v":4143},125.54545454545455,{"$f":"+SUM(COUNTIF($AI$3:AI52,1))","v":12},{"$f":"+SUM(COUNTIF($AI$3:AI52,-1))","v":21},-9,{"$f":"+BX52*(HARMEAN((IF(SUM(COUNTIF($Z$3:Z52,1),COUNTIF($Z$3:Z52,-1))=0,1,SUM(COUNTIF($Z$3:Z52,1),COUNTIF($Z$3:Z52,-1)))),(IF(SUM(COUNTIF($AC$3:AC52,1),COUNTIF($AC$3:AC52,-1))=0,1,SUM(COUNTIF($AC$3:AC52,1),COUNTIF($AC$3:AC52,-1)))),(IF(SUM(COUNTIF($AE$3:AE52,1),COUNTIF($AE$3:AE52,-1))=0,1,SUM(COUNTIF($AE$3:AE52,1),COUNTIF($AE$3:AE52,-1)))),(IF(SUM(COUNTIF($AG$3:AG52,1),COUNTIF($AG$3:AG52,-1))=0,1,SUM(COUNTIF($AG$3:AG52,1),COUNTIF($AG$3:AG52,-1)))),(IF(SUM(COUNTIF($AI$3:AI52,1),COUNTIF($AI$3:AI52,-1))=0,1,SUM(COUNTIF($AI$3:AI52,1),COUNTIF($AI$3:AI52,-1)))),(IF(SUM(COUNTIF($AK$3:AK52,1),COUNTIF($AK$3:AK52,-1))=0,1,SUM(COUNTIF($AK$3:AK52,1),COUNTIF($AK$3:AK52,-1)))))/1000)","v":1.1618907634543179},-17.100999999999999,null,{"$f":"+SUM(COUNTIF($AK$3:AK52,1),COUNTIF($AK$3:AK52,-1))","v":32},{"$f":"+SUM($W$4:W52)","v":3591},112.21875,{"$f":"+SUM(COUNTIF($AK$3:AK52,1))","v":12},{"$f":"+SUM(COUNTIF($AK$3:AK52,-1))","v":20},-8,{"$f":"+CG52*(HARMEAN((IF(SUM(COUNTIF($Z$3:Z52,1),COUNTIF($Z$3:Z52,-1))=0,1,SUM(COUNTIF($Z$3:Z52,1),COUNTIF($Z$3:Z52,-1)))),(IF(SUM(COUNTIF($AC$3:AC52,1),COUNTIF($AC$3:AC52,-1))=0,1,SUM(COUNTIF($AC$3:AC52,1),COUNTIF($AC$3:AC52,-1)))),(IF(SUM(COUNTIF($AE$3:AE52,1),COUNTIF($AE$3:AE52,-1))=0,1,SUM(COUNTIF($AE$3:AE52,1),COUNTIF($AE$3:AE52,-1)))),(IF(SUM(COUNTIF($AG$3:AG52,1),COUNTIF($AG$3:AG52,-1))=0,1,SUM(COUNTIF($AG$3:AG52,1),COUNTIF($AG$3:AG52,-1)))),(IF(SUM(COUNTIF($AI$3:AI52,1),COUNTIF($AI$3:AI52,-1))=0,1,SUM(COUNTIF($AI$3:AI52,1),COUNTIF($AI$3:AI52,-1)))),(IF(SUM(COUNTIF($AK$3:AK52,1),COUNTIF($AK$3:AK52,-1))=0,1,SUM(COUNTIF($AK$3:AK52,1),COUNTIF($AK$3:AK52,-1)))))/1000)","v":1.1266819524405507},-15.523999999999999]
[50,"",null,{"$f":"+IFERROR(INDEX('Auswertung AoE II'!$AE:$AE,MATCH(A53,'Auswertung AoE II'!$AD:$AD,0)),\"\")","v":""},{"$f":"+IFERROR(INDEX('Auswertung AoE III'!$AE:$AE,MATCH(A53,'Auswertung AoE III'!$AD:$AD,0)),\"\")","v":""},{"$f":"+IFERROR(INDEX('Auswertung AoM'!$AE:$AE,MATCH(A53,'Auswertung AoM'!$AD:$AD,0)),\"\")","v":""},{"$f":"+IFERROR(INDEX('Auswertung RA'!$AE:$AE,MATCH(A53,'Auswertung RA'!$AD:$AD,0)),\"\")","v":""},{"$f":"+IFERROR(INDEX('Auswertung Yuri'!$AE:$AE,MATCH(A53,'Auswertung Yuri'!$AD:$AD,0)),\"\")","v":""},{"$f":"+IFERROR(INDEX('Auswertung Generals'!$AE:$AE,MATCH(A53,'Auswertung Generals'!$AD:$AD,0)),\"\")","v":""},"Auswertung ",null,null,{"$f":"+IF(ISERROR(+INDIRECT(CONCATENATE(\"'\",J53,\"'!\",(ADDRESS((COUNTIF($J$3:J53,IF(B53<>0,CONCATENATE(\"Auswertung \",B53,\"\"))))+2,2)))))=FALSE,+INDIRECT(CONCATENATE(\"'\",J53,\"'!\",(ADDRESS((COUNTIF($J$3:J53,IF(B53<>0,CONCATENATE(\"Auswertung \",B53,\"\"))))+4,2)))),\"\")","v":""},{"$f":"IF(ISERROR(+INDIRECT(CONCATENATE(\"'\",J53,\"'!\",(ADDRESS((COUNTIF($J$3:J53,IF(B53<>0,CONCATENATE(\"Auswertung \",B53,\"\"))))+2,2+1)))))=FALSE,+INDIRECT(CONCATENATE(\"'\",J53,\"'!\",(ADDRESS((COUNTIF($J$3:J53,IF(B53<>0,CONCATENATE(\"Auswertung \",B53,\"\"))))+4,2+1)))),\"\")","v":""},{"$f":"+IF(ISERROR(+INDIRECT(CONCATENATE(\"'\",J53,\"'!\",(ADDRESS((COUNTIF($J$3:J53,IF(B53<>0,CONCATENATE(\"Auswertung \",B53,\"\"))))+2,4)))))=FALSE,+INDIRECT(CONCATENATE(\"'\",J53,\"'!\",(ADDRESS((COUNTIF($J$3:J53,IF(B53<>0,CONCATENATE(\"Auswertung \",B53,\"\"))))+4,4)))),\"\")","v":""},{"$f":"+IF(ISERROR(+INDIRECT(CONCATENATE(\"'\",J53,\"'!\",(ADDRESS((COUNTIF($J$3:J53,IF(B53<>0,CONCATENATE(\"Auswertung \",B53,\"\"))))+2,5)))))=FALSE,+INDIRECT(CONCATENATE(\"'\",J53,\"'!\",(ADDRESS((COUNTIF($J$3:J53,IF(B53<>0,CONCATENATE(\"Auswertung \",B53,\"\"))))+4,5)))),\"\")","v":""},{"$f":"+IF(ISERROR(+INDIRECT(CONCATENATE(\"'\",J53,\"'!\",(ADDRESS((COUNTIF($J$3:J53,IF(B53<>0,CONCATENATE(\"Auswertung \",B53,\"\"))))+2,6)))))=FALSE,+INDIRECT(CONCATENATE(\"'\",J53,\"'!\",(ADDRESS((COUNTIF($J$3:J53,IF(B53<>0,CONCATENATE(\"Auswertung \",B53,\"\"))))+4,6)))),\"\")","v":""},{"$f":"+IF(ISERROR(+INDIRECT(CONCATENATE(\"'\",J53,\"'!\",(ADDRESS((COUNTIF($J$3:J53,IF(B53<>0,CONCATENATE(\"Auswertung \",B53,\"\"))))+2,7)))))=FALSE,+INDIRECT(CONCATENATE(\"'\",J53,\"'!\",(ADDRESS((COUNTIF($J$3:J53,IF(B53<>0,CONCATENATE(\"Auswertung \",B53,\"\"))))+4,7)))),\"\")","v":""},{"$f":"+IF(ISERROR(+INDIRECT(CONCATENATE(\"'\",J53,\"'!\",(ADDRESS((COUNTIF($J$3:J53,IF(B53<>0,CONCATENATE(\"Auswertung \",B53,\"\"))))+2,10)))))=FALSE,+INDIRECT(CONCATENATE(\"'\",J53,\"'!\",(ADDRESS((COUNTIF($J$3:J53,IF(B53<>0,CONCATENATE(\"Auswertung \",B53,\"\"))))+4,8)))),\"\")","v":""},{"$f":"+IF(ISERROR(+INDIRECT(CONCATENATE(\"'\",J53,\"'!\",(ADDRESS((COUNTIF($J$3:J53,IF(B53<>0,CONCATENATE(\"Auswertung \",B53,\"\"))))+2,11)))))=FALSE,+INDIRECT(CONCATENATE(\"'\",J53,\"'!\",(ADDRESS((COUNTIF($J$3:J53,IF(B53<>0,CONCATENATE(\"Auswertung \",B53,\"\"))))+4,9)))),\"\")","v":""},{"$f":"+IF(ISERROR(+INDIRECT(CONCATENATE(\"'\",J53,\"'!\",(ADDRESS((COUNTIF($J$3:J53,IF(B53<>0,CONCATENATE(\"Auswertung \",B53,\"\"))))+2,10)))))=FALSE,+INDIRECT(CONCATENATE(\"'\",J53,\"'!\",(ADDRESS((COUNTIF($J$3:J53,IF(B53<>0,CONCATENATE(\"Auswertung \",B53,\"\"))))+4,10)))),\"\")","v":""},{"$f":"+IF(ISERROR(+INDIRECT(CONCATENATE(\"'\",J53,\"'!\",(ADDRESS((COUNTIF($J$3:J53,IF(B53<>0,CONCATENATE(\"Auswertung \",B53,\"\"))))+2,11)))))=FALSE,+INDIRECT(CONCATENATE(\"'\",J53,\"'!\",(ADDRESS((COUNTIF($J$3:J53,IF(B53<>0,CONCATENATE(\"Auswertung \",B53,\"\"))))+4,11)))),\"\")","v":""},{"$f":"+IF(ISERROR(+INDIRECT(CONCATENATE(\"'\",J53,\"'!\",(ADDRESS((COUNTIF($J$3:J53,IF(D53<>0,CONCATENATE(\"Auswertung \",D53,\"\"))))+2,12)))))=FALSE,+INDIRECT(CONCATENATE(\"'\",J53,\"'!\",(ADDRESS((COUNTIF($J$3:J53,IF(D53<>0,CONCATENATE(\"Auswertung \",B53,\"\"))))+4,12)))),\"\")","v":""},{"$f":"+IF(ISERROR(+INDIRECT(CONCATENATE(\"'\",J53,\"'!\",(ADDRESS((COUNTIF($J$3:J53,IF(D53<>0,CONCATENATE(\"Auswertung \",D53,\"\"))))+2,13)))))=FALSE,+INDIRECT(CONCATENATE(\"'\",J53,\"'!\",(ADDRESS((COUNTIF($J$3:J53,IF(D53<>0,CONCATENATE(\"Auswertung \",B53,\"\"))))+4,13)))),\"\")","v":""},null,{"$f":"+IFERROR(INDIRECT(CONCATENATE(\"'\",J53,\"'!\",(ADDRESS((COUNTIF($J$3:J53,IF(B53<>0,J53)))+4,16)))),\"\")","v":""},21.942,{"$f":"+SUM($M$4:M53)/COUNT($M$4:M53)/1000*2","v":0.28281081081081083},{"$f":"+IFERROR(INDIRECT(CONCATENATE(\"'\",J53,\"'!\",(ADDRESS((COUNTIF($J$3:J53,IF(B53<>0,J53)))+4,18)))),\"\")","v":""},50.264000000000003,{"$f":"+IFERROR(INDIRECT(CONCATENATE(\"'\",J53,\"'!\",(ADDRESS((COUNTIF($J$3:J53,IF(B53<>0,J53)))+4,20)))),\"\")","v":""},44.247,{"$f":"+IFERROR(INDIRECT(CONCATENATE(\"'\",J53,\"'!\",(ADDRESS((COUNTIF($J$3:J53,IF(B53<>0,J53)))+4,22)))),\"\")","v":""},16.149999999999999,{"$f":"+IFERROR(INDIRECT(CONCATENATE(\"'\",J53,\"'!\",(ADDRESS((COUNTIF($J$3:J53,IF(B53<>0,J53)))+4,24)))),\"\")","v":""},-17.100999999999999,{"$f":"+IFERROR(INDIRECT(CONCATENATE(\"'\",J53,\"'!\",(ADDRESS((COUNTIF($J$3:J53,IF(B53<>0,J53)))+4,26)))),\"\")","v":""},-15.523999999999999,50,{"$f":"+SUM(COUNTIF($Z$3:Z53,1),COUNTIF($Z$3:Z53,-1))","v":37},{"$f":"+SUM($M$4:M53)","v":5232},141.40540540540542,{"$f":"+SUM(COUNTIF($Z$3:Z53,1))","v":19},{"$f":"+SUM(COUNTIF($Z$3:Z53,-1))","v":18},1,{"$f":"AN53*(HARMEAN((IF(SUM(COUNTIF($Z$3:Z53,1),COUNTIF($Z$3:Z53,-1))=0,1,SUM(COUNTIF($Z$3:Z53,1),COUNTIF($Z$3:Z53,-1)))),(IF(SUM(COUNTIF($AC$3:AC53,1),COUNTIF($AC$3:AC53,-1))=0,1,SUM(COUNTIF($AC$3:AC53,1),COUNTIF($AC$3:AC53,-1)))),(IF(SUM(COUNTIF($AE$3:AE53,1),COUNTIF($AE$3:AE53,-1))=0,1,SUM(COUNTIF($AE$3:AE53,1),COUNTIF($AE$3:AE53,-1)))),(IF(SUM(COUNTIF($AG$3:AG53,1),COUNTIF($AG$3:AG53,-1))=0,1,SUM(COUNTIF($AG$3:AG53,1),COUNTIF($AG$3:AG53,-1)))),(IF(SUM(COUNTIF($AI$3:AI53,1),COUNTIF($AI$3:AI53,-1))=0,1,SUM(COUNTIF($AI$3:AI53,1),COUNTIF($AI$3:AI53,-1)))),(IF(SUM(COUNTIF($AK$3:AK53,1),COUNTIF($AK$3:AK53,-1))=0,1,SUM(COUNTIF($AK$3:AK53,1),COUNTIF($AK$3:AK53,-1)))))/1000)","v":1.3027260075093867},21.942,null,{"$f":"+SUM(COUNTIF($AC$3:AC53,1),COUNTIF($AC$3:AC53,-1))","v":37},{"$f":"+SUM($O$4:O53)","v":5276},142.59459459459458,{"$f":"+SUM(COUNTIF($AC$3:AC53,1))","v":23},{"$f":"+SUM(COUNTIF($AC$3:AC53,-1))","v":14},9,{"$f":"AW53*(HARMEAN((IF(SUM(COUNTIF($Z$3:Z53,1),COUNTIF($Z$3:Z53,-1))=0,1,SUM(COUNTIF($Z$3:Z53,1),COUNTIF($Z$3:Z53,-1)))),(IF(SUM(COUNTIF($AC$3:AC53,1),COUNTIF($AC$3:AC53,-1))=0,1,SUM(COUNTIF($AC$3:AC53,1),COUNTIF($AC$3:AC53,-1)))),(IF(SUM(COUNTIF($AE$3:AE53,1),COUNTIF($AE$3:AE53,-1))=0,1,SUM(COUNTIF($AE$3:AE53,1),COUNTIF($AE$3:AE53,-1)))),(IF(SUM(COUNTIF($AG$3:AG53,1),COUNTIF($AG$3:AG53,-1))=0,1,SUM(COUNTIF($AG$3:AG53,1),COUNTIF($AG$3:AG53,-1)))),(IF(SUM(COUNTIF($AI$3:AI53,1),COUNTIF($AI$3:AI53,-1))=0,1,SUM(COUNTIF($AI$3:AI53,1),COUNTIF($AI$3:AI53,-1)))),(IF(SUM(COUNTIF($AK$3:AK53,1),COUNTIF($AK$3:AK53,-1))=0,1,SUM(COUNTIF($AK$3:AK53,1),COUNTIF($AK$3:AK53,-1)))))/1000)","v":1.3027260075093867},50.264000000000003,null,{"$f":"+SUM(COUNTIF($AE$3:AE53,1),COUNTIF(AE$3:$AE53,-1))","v":36},{"$f":"+SUM($Q$4:Q53)","v":4567},126.86111111111111,{"$f":"+SUM(COUNTIF($AE$3:AE53,1))","v":22},{"$f":"+SUM(COUNTIF($AE$3:AE53,-1))","v":14},8,{"$f":"BF53*(HARMEAN((IF(SUM(COUNTIF($Z$3:Z53,1),COUNTIF($Z$3:Z53,-1))=0,1,SUM(COUNTIF($Z$3:Z53,1),COUNTIF($Z$3:Z53,-1)))),(IF(SUM(COUNTIF($AC$3:AC53,1),COUNTIF($AC$3:AC53,-1))=0,1,SUM(COUNTIF($AC$3:AC53,1),COUNTIF($AC$3:AC53,-1)))),(IF(SUM(COUNTIF($AE$3:AE53,1),COUNTIF($AE$3:AE53,-1))=0,1,SUM(COUNTIF($AE$3:AE53,1),COUNTIF($AE$3:AE53,-1)))),(IF(SUM(COUNTIF($AG$3:AG53,1),COUNTIF($AG$3:AG53,-1))=0,1,SUM(COUNTIF($AG$3:AG53,1),COUNTIF($AG$3:AG53,-1)))),(IF(SUM(COUNTIF($AI$3:AI53,1),COUNTIF($AI$3:AI53,-1))=0,1,SUM(COUNTIF($AI$3:AI53,1),COUNTIF($AI$3:AI53,-1)))),(IF(SUM(COUNTIF($AK$3:AK53,1),COUNTIF($AK$3:AK53,-1))=0,1,SUM(COUNTIF($AK$3:AK53,1),COUNTIF($AK$3:AK53,-1)))))/1000)","v":1.2675171964956196},44.247,null,{"$f":"+SUM(COUNTIF($AG$3:AG53,1),COUNTIF($AG$3:AG53,-1))","v":37},{"$f":"+SUM($S$4:S53)","v":5587},151,{"$f":"+SUM(COUNTIF($AG$3:AG53,1))","v":18},{"$f":"+SUM(COUNTIF($AG$3:AG53,-1))","v":19},-1,{"$f":"BO53*(HARMEAN((IF(SUM(COUNTIF($Z$3:Z53,1),COUNTIF($Z$3:Z53,-1))=0,1,SUM(COUNTIF($Z$3:Z53,1),COUNTIF($Z$3:Z53,-1)))),(IF(SUM(COUNTIF($AC$3:AC53,1),COUNTIF($AC$3:AC53,-1))=0,1,SUM(COUNTIF($AC$3:AC53,1),COUNTIF($AC$3:AC53,-1)))),(IF(SUM(COUNTIF($AE$3:AE53,1),COUNTIF($AE$3:AE53,-1))=0,1,SUM(COUNTIF($AE$3:AE53,1),COUNTIF($AE$3:AE53,-1)))),(IF(SUM(COUNTIF($AG$3:AG53,1),COUNTIF($AG$3:AG53,-1))=0,1,SUM(COUNTIF($AG$3:AG53,1),COUNTIF($AG$3:AG53,-1)))),(IF(SUM(COUNTIF($AI$3:AI53,1),COUNTIF($AI$3:AI53,-1))=0,1,SUM(COUNTIF($AI$3:AI53,1),COUNTIF($AI$3:AI53,-1)))),(IF(SUM(COUNTIF($AK$3:AK53,1),COUNTIF($AK$3:AK53,-1))=0,1,SUM(COUNTIF($AK$3:AK53,1),COUNTIF($AK$3:AK53,-1)))))/1000)","v":1.3027260075093867},16.149999999999999,null,{"$f":"+SUM(COUNTIF($AI$3:AI53,1),COUNTIF($AI$3:AI53,-1))","v":33},{"$f":"+SUM($U$4:U53)","v":4143},125.54545454545455,{"$f":"+SUM(COUNTIF($AI$3:AI53,1))","v":12},{"$f":"+SUM(COUNTIF($AI$3:AI53,-1))","v":21},-9,{"$f":"+BX53*(HARMEAN((IF(SUM(COUNTIF($Z$3:Z53,1),COUNTIF($Z$3:Z53,-1))=0,1,SUM(COUNTIF($Z$3:Z53,1),COUNTIF($Z$3:Z53,-1)))),(IF(SUM(COUNTIF($AC$3:AC53,1),COUNTIF($AC$3:AC53,-1))=0,1,SUM(COUNTIF($AC$3:AC53,1),COUNTIF($AC$3:AC53,-1)))),(IF(SUM(COUNTIF($AE$3:AE53,1),COUNTIF($AE$3:AE53,-1))=0,1,SUM(COUNTIF($AE$3:AE53,1),COUNTIF($AE$3:AE53,-1)))),(IF(SUM(COUNTIF($AG$3:AG53,1),COUNTIF($AG$3:AG53,-1))=0,1,SUM(COUNTIF($AG$3:AG53,1),COUNTIF($AG$3:AG53,-1)))),(IF(SUM(COUNTIF($AI$3:AI53,1),COUNTIF($AI$3:AI53,-1))=0,1,SUM(COUNTIF($AI$3:AI53,1),COUNTIF($AI$3:AI53,-1)))),(IF(SUM(COUNTIF($AK$3:AK53,1),COUNTIF($AK$3:AK53,-1))=0,1,SUM(COUNTIF($AK$3:AK53,1),COUNTIF($AK$3:AK53,-1)))))/1000)","v":1.1618907634543179},-17.100999999999999,null,{"$f":"+SUM(COUNTIF($AK$3:AK53,1),COUNTIF($AK$3:AK53,-1))","v":32},{"$f":"+SUM($W$4:W53)","v":3591},112.21875,{"$f":"+SUM(COUNTIF($AK$3:AK53,1))","v":12},{"$f":"+SUM(COUNTIF($AK$3:AK53,-1))","v":20},-8,{"$f":"+CG53*(HARMEAN((IF(SUM(COUNTIF($Z$3:Z53,1),COUNTIF($Z$3:Z53,-1))=0,1,SUM(COUNTIF($Z$3:Z53,1),COUNTIF($Z$3:Z53,-1)))),(IF(SUM(COUNTIF($AC$3:AC53,1),COUNTIF($AC$3:AC53,-1))=0,1,SUM(COUNTIF($AC$3:AC53,1),COUNTIF($AC$3:AC53,-1)))),(IF(SUM(COUNTIF($AE$3:AE53,1),COUNTIF($AE$3:AE53,-1))=0,1,SUM(COUNTIF($AE$3:AE53,1),COUNTIF($AE$3:AE53,-1)))),(IF(SUM(COUNTIF($AG$3:AG53,1),COUNTIF($AG$3:AG53,-1))=0,1,SUM(COUNTIF($AG$3:AG53,1),COUNTIF($AG$3:AG53,-1)))),(IF(SUM(COUNTIF($AI$3:AI53,1),COUNTIF($AI$3:AI53,-1))=0,1,SUM(COUNTIF($AI$3:AI53,1),COUNTIF($AI$3:AI53,-1)))),(IF(SUM(COUNTIF($AK$3:AK53,1),COUNTIF($AK$3:AK53,-1))=0,1,SUM(COUNTIF($AK$3:AK53,1),COUNTIF($AK$3:AK53,-1)))))/1000)","v":1.1266819524405507},-15.523999999999999]
[51,"",null,{"$f":"+IFERROR(INDEX('Auswertung AoE II'!$AE:$AE,MATCH(A54,'Auswertung AoE II'!$AD:$AD,0)),\"\")","v":""},{"$f":"+IFERROR(INDEX('Auswertung AoE III'!$AE:$AE,MATCH(A54,'Auswertung AoE III'!$AD:$AD,0)),\"\")","v":""},{"$f":"+IFERROR(INDEX('Auswertung AoM'!$AE:$AE,MATCH(A54,'Auswertung AoM'!$AD:$AD,0)),\"\")","v":""},{"$f":"+IFERROR(INDEX('Auswertung RA'!$AE:$AE,MATCH(A54,'Auswertung RA'!$AD:$AD,0)),\"\")","v":""},{"$f":"+IFERROR(INDEX('Auswertung Yuri'!$AE:$AE,MATCH(A54,'Auswertung Yuri'!$AD:$AD,0)),\"\")","v":""},{"$f":"+IFERROR(INDEX('Auswertung Generals'!$AE:$AE,MATCH(A54,'Auswertung Generals'!$AD:$AD,0)),\"\")","v":""},"Auswertung ",null,null,{"$f":"+IF(ISERROR(+INDIRECT(CONCATENATE(\"'\",J54,\"'!\",(ADDRESS((COUNTIF($J$3:J54,IF(B54<>0,CONCATENATE(\"Auswertung \",B54,\"\"))))+2,2)))))=FALSE,+INDIRECT(CONCATENATE(\"'\",J54,\"'!\",(ADDRESS((COUNTIF($J$3:J54,IF(B54<>0,CONCATENATE(\"Auswertung \",B54,\"\"))))+4,2)))),\"\")","v":""},{"$f":"IF(ISERROR(+INDIRECT(CONCATENATE(\"'\",J54,\"'!\",(ADDRESS((COUNTIF($J$3:J54,IF(B54<>0,CONCATENATE(\"Auswertung \",B54,\"\"))))+2,2+1)))))=FALSE,+INDIRECT(CONCATENATE(\"'\",J54,\"'!\",(ADDRESS((COUNTIF($J$3:J54,IF(B54<>0,CONCATENATE(\"Auswertung \",B54,\"\"))))+4,2+1)))),\"\")","v":""},{"$f":"+IF(ISERROR(+INDIRECT(CONCATENATE(\"'\",J54,\"'!\",(ADDRESS((COUNTIF($J$3:J54,IF(B54<>0,CONCATENATE(\"Auswertung \",B54,\"\"))))+2,4)))))=FALSE,+INDIRECT(CONCATENATE(\"'\",J54,\"'!\",(ADDRESS((COUNTIF($J$3:J54,IF(B54<>0,CONCATENATE(\"Auswertung \",B54,\"\"))))+4,4)))),\"\")","v":""},{"$f":"+IF(ISERROR(+INDIRECT(CONCATENATE(\"'\",J54,\"'!\",(ADDRESS((COUNTIF($J$3:J54,IF(B54<>0,CONCATENATE(\"Auswertung \",B54,\"\"))))+2,5)))))=FALSE,+INDIRECT(CONCATENATE(\"'\",J54,\"'!\",(ADDRESS((COUNTIF($J$3:J54,IF(B54<>0,CONCATENATE(\"Auswertung \",B54,\"\"))))+4,5)))),\"\")","v":""},{"$f":"+IF(ISERROR(+INDIRECT(CONCATENATE(\"'\",J54,\"'!\",(ADDRESS((COUNTIF($J$3:J54,IF(B54<>0,CONCATENATE(\"Auswertung \",B54,\"\"))))+2,6)))))=FALSE,+INDIRECT(CONCATENATE(\"'\",J54,\"'!\",(ADDRESS((COUNTIF($J$3:J54,IF(B54<>0,CONCATENATE(\"Auswertung \",B54,\"\"))))+4,6)))),\"\")","v":""},{"$f":"+IF(ISERROR(+INDIRECT(CONCATENATE(\"'\",J54,\"'!\",(ADDRESS((COUNTIF($J$3:J54,IF(B54<>0,CONCATENATE(\"Auswertung \",B54,\"\"))))+2,7)))))=FALSE,+INDIRECT(CONCATENATE(\"'\",J54,\"'!\",(ADDRESS((COUNTIF($J$3:J54,IF(B54<>0,CONCATENATE(\"Auswertung \",B54,\"\"))))+4,7)))),\"\")","v":""},{"$f":"+IF(ISERROR(+INDIRECT(CONCATENATE(\"'\",J54,\"'!\",(ADDRESS((COUNTIF($J$3:J54,IF(B54<>0,CONCATENATE(\"Auswertung \",B54,\"\"))))+2,10)))))=FALSE,+INDIRECT(CONCATENATE(\"'\",J54,\"'!\",(ADDRESS((COUNTIF($J$3:J54,IF(B54<>0,CONCATENATE(\"Auswertung \",B54,\"\"))))+4,8)))),\"\")","v":""},{"$f":"+IF(ISERROR(+INDIRECT(CONCATENATE(\"'\",J54,\"'!\",(ADDRESS((COUNTIF($J$3:J54,IF(B54<>0,CONCATENATE(\"Auswertung \",B54,\"\"))))+2,11)))))=FALSE,+INDIRECT(CONCATENATE(\"'\",J54,\"'!\",(ADDRESS((COUNTIF($J$3:J54,IF(B54<>0,CONCATENATE(\"Auswertung \",B54,\"\"))))+4,9)))),\"\")","v":""},{"$f":"+IF(ISERROR(+INDIRECT(CONCATENATE(\"'\",J54,\"'!\",(ADDRESS((COUNTIF($J$3:J54,IF(B54<>0,CONCATENATE(\"Auswertung \",B54,\"\"))))+2,10)))))=FALSE,+INDIRECT(CONCATENATE(\"'\",J54,\"'!\",(ADDRESS((COUNTIF($J$3:J54,IF(B54<>0,CONCATENATE(\"Auswertung \",B54,\"\"))))+4,10)))),\"\")","v":""},{"$f":"+IF(ISERROR(+INDIRECT(CONCATENATE(\"'\",J54,\"'!\",(ADDRESS((COUNTIF($J$3:J54,IF(B54<>0,CONCATENATE(\"Auswertung \",B54,\"\"))))+2,11)))))=FALSE,+INDIRECT(CONCATENATE(\"'\",J54,\"'!\",(ADDRESS((COUNTIF($J$3:J54,IF(B54<>0,CONCATENATE(\"Auswertung \",B54,\"\"))))+4,11)))),\"\")","v":""},{"$f":"+IF(ISERROR(+INDIRECT(CONCATENATE(\"'\",J54,\"'!\",(ADDRESS((COUNTIF($J$3:J54,IF(D54<>0,CONCATENATE(\"Auswertung \",D54,\"\"))))+2,12)))))=FALSE,+INDIRECT(CONCATENATE(\"'\",J54,\"'!\",(ADDRESS((COUNTIF($J$3:J54,IF(D54<>0,CONCATENATE(\"Auswertung \",B54,\"\"))))+4,12)))),\"\")","v":""},{"$f":"+IF(ISERROR(+INDIRECT(CONCATENATE(\"'\",J54,\"'!\",(ADDRESS((COUNTIF($J$3:J54,IF(D54<>0,CONCATENATE(\"Auswertung \",D54,\"\"))))+2,13)))))=FALSE,+INDIRECT(CONCATENATE(\"'\",J54,\"'!\",(ADDRESS((COUNTIF($J$3:J54,IF(D54<>0,CONCATENATE(\"Auswertung \",B54,\"\"))))+4,13)))),\"\")","v":""},null,{"$f":"+IFERROR(INDIRECT(CONCATENATE(\"'\",J54,\"'!\",(ADDRESS((COUNTIF($J$3:J54,IF(B54<>0,J54)))+4,16)))),\"\")","v":""},21.942,{"$f":"+SUM($M$4:M54)/COUNT($M$4:M54)/1000*2","v":0.28281081081081083},{"$f":"+IFERROR(INDIRECT(CONCATENATE(\"'\",J54,\"'!\",(ADDRESS((COUNTIF($J$3:J54,IF(B54<>0,J54)))+4,18)))),\"\")","v":""},50.264000000000003,{"$f":"+IFERROR(INDIRECT(CONCATENATE(\"'\",J54,\"'!\",(ADDRESS((COUNTIF($J$3:J54,IF(B54<>0,J54)))+4,20)))),\"\")","v":""},44.247,{"$f":"+IFERROR(INDIRECT(CONCATENATE(\"'\",J54,\"'!\",(ADDRESS((COUNTIF($J$3:J54,IF(B54<>0,J54)))+4,22)))),\"\")","v":""},16.149999999999999,{"$f":"+IFERROR(INDIRECT(CONCATENATE(\"'\",J54,\"'!\",(ADDRESS((COUNTIF($J$3:J54,IF(B54<>0,J54)))+4,24)))),\"\")","v":""},-17.100999999999999,{"$f":"+IFERROR(INDIRECT(CONCATENATE(\"'\",J54,\"'!\",(ADDRESS((COUNTIF($J$3:J54,IF(B54<>0,J54)))+4,26)))),\"\")","v":""},-15.523999999999999,51,{"$f":"+SUM(COUNTIF($Z$3:Z54,1),COUNTIF($Z$3:Z54,-1))","v":37},{"$f":"+SUM($M$4:M54)","v":5232},141.40540540540542,{"$f":"+SUM(COUNTIF($Z$3:Z54,1))","v":19},{"$f":"+SUM(COUNTIF($Z$3:Z54,-1))","v":18},1,{"$f":"AN54*(HARMEAN((IF(SUM(COUNTIF($Z$3:Z54,1),COUNTIF($Z$3:Z54,-1))=0,1,SUM(COUNTIF($Z$3:Z54,1),COUNTIF($Z$3:Z54,-1)))),(IF(SUM(COUNTIF($AC$3:AC54,1),COUNTIF($AC$3:AC54,-1))=0,1,SUM(COUNTIF($AC$3:AC54,1),COUNTIF($AC$3:AC54,-1)))),(IF(SUM(COUNTIF($AE$3:AE54,1),COUNTIF($AE$3:AE54,-1))=0,1,SUM(COUNTIF($AE$3:AE54,1),COUNTIF($AE$3:AE54,-1)))),(IF(SUM(COUNTIF($AG$3:AG54,1),COUNTIF($AG$3:AG54,-1))=0,1,SUM(COUNTIF($AG$3:AG54,1),COUNTIF($AG$3:AG54,-1)))),(IF(SUM(COUNTIF($AI$3:AI54,1),COUNTIF($AI$3:AI54,-1))=0,1,SUM(COUNTIF($AI$3:AI54,1),COUNTIF($AI$3:AI54,-1)))),(IF(SUM(COUNTIF($AK$3:AK54,1),COUNTIF($AK$3:AK54,-1))=0,1,SUM(COUNTIF($AK$3:AK54,1),COUNTIF($AK$3:AK54,-1)))))/1000)","v":1.3027260075093867},21.942,null,{"$f":"+SUM(COUNTIF($AC$3:AC54,1),COUNTIF($AC$3:AC54,-1))","v":37},{"$f":"+SUM($O$4:O54)","v":5276},142.59459459459458,{"$f":"+SUM(COUNTIF($AC$3:AC54,1))","v":23},{"$f":"+SUM(COUNTIF($AC$3:AC54,-1))","v":14},9,{"$f":"AW54*(HARMEAN((IF(SUM(COUNTIF($Z$3:Z54,1),COUNTIF($Z$3:Z54,-1))=0,1,SUM(COUNTIF($Z$3:Z54,1),COUNTIF($Z$3:Z54,-1)))),(IF(SUM(COUNTIF($AC$3:AC54,1),COUNTIF($AC$3:AC54,-1))=0,1,SUM(COUNTIF($AC$3:AC54,1),COUNTIF($AC$3:AC54,-1)))),(IF(SUM(COUNTIF($AE$3:AE54,1),COUNTIF($AE$3:AE54,-1))=0,1,SUM(COUNTIF($AE$3:AE54,1),COUNTIF($AE$3:AE54,-1)))),(IF(SUM(COUNTIF($AG$3:AG54,1),COUNTIF($AG$3:AG54,-1))=0,1,SUM(COUNTIF($AG$3:AG54,1),COUNTIF($AG$3:AG54,-1)))),(IF(SUM(COUNTIF($AI$3:AI54,1),COUNTIF($AI$3:AI54,-1))=0,1,SUM(COUNTIF($AI$3:AI54,1),COUNTIF($AI$3:AI54,-1)))),(IF(SUM(COUNTIF($AK$3:AK54,1),COUNTIF($AK$3:AK54,-1))=0,1,SUM(COUNTIF($AK$3:AK54,1),COUNTIF($AK$3:AK54,-1)))))/1000)","v":1.3027260075093867},50.264000000000003,null,{"$f":"+SUM(COUNTIF($AE$3:AE54,1),COUNTIF(AE$3:$AE54,-1))","v":36},{"$f":"+SUM($Q$4:Q54)","v":4567},126.86111111111111,{"$f":"+SUM(COUNTIF($AE$3:AE54,1))","v":22},{"$f":"+SUM(COUNTIF($AE$3:AE54,-1))","v":14},8,{"$f":"BF54*(HARMEAN((IF(SUM(COUNTIF($Z$3:Z54,1),COUNTIF($Z$3:Z54,-1))=0,1,SUM(COUNTIF($Z$3:Z54,1),COUNTIF($Z$3:Z54,-1)))),(IF(SUM(COUNTIF($AC$3:AC54,1),COUNTIF($AC$3:AC54,-1))=0,1,SUM(COUNTIF($AC$3:AC54,1),COUNTIF($AC$3:AC54,-1)))),(IF(SUM(COUNTIF($AE$3:AE54,1),COUNTIF($AE$3:AE54,-1))=0,1,SUM(COUNTIF($AE$3:AE54,1),COUNTIF($AE$3:AE54,-1)))),(IF(SUM(COUNTIF($AG$3:AG54,1),COUNTIF($AG$3:AG54,-1))=0,1,SUM(COUNTIF($AG$3:AG54,1),COUNTIF($AG$3:AG54,-1)))),(IF(SUM(COUNTIF($AI$3:AI54,1),COUNTIF($AI$3:AI54,-1))=0,1,SUM(COUNTIF($AI$3:AI54,1),COUNTIF($AI$3:AI54,-1)))),(IF(SUM(COUNTIF($AK$3:AK54,1),COUNTIF($AK$3:AK54,-1))=0,1,SUM(COUNTIF($AK$3:AK54,1),COUNTIF($AK$3:AK54,-1)))))/1000)","v":1.2675171964956196},44.247,null,{"$f":"+SUM(COUNTIF($AG$3:AG54,1),COUNTIF($AG$3:AG54,-1))","v":37},{"$f":"+SUM($S$4:S54)","v":5587},151,{"$f":"+SUM(COUNTIF($AG$3:AG54,1))","v":18},{"$f":"+SUM(COUNTIF($AG$3:AG54,-1))","v":19},-1,{"$f":"BO54*(HARMEAN((IF(SUM(COUNTIF($Z$3:Z54,1),COUNTIF($Z$3:Z54,-1))=0,1,SUM(COUNTIF($Z$3:Z54,1),COUNTIF($Z$3:Z54,-1)))),(IF(SUM(COUNTIF($AC$3:AC54,1),COUNTIF($AC$3:AC54,-1))=0,1,SUM(COUNTIF($AC$3:AC54,1),COUNTIF($AC$3:AC54,-1)))),(IF(SUM(COUNTIF($AE$3:AE54,1),COUNTIF($AE$3:AE54,-1))=0,1,SUM(COUNTIF($AE$3:AE54,1),COUNTIF($AE$3:AE54,-1)))),(IF(SUM(COUNTIF($AG$3:AG54,1),COUNTIF($AG$3:AG54,-1))=0,1,SUM(COUNTIF($AG$3:AG54,1),COUNTIF($AG$3:AG54,-1)))),(IF(SUM(COUNTIF($AI$3:AI54,1),COUNTIF($AI$3:AI54,-1))=0,1,SUM(COUNTIF($AI$3:AI54,1),COUNTIF($AI$3:AI54,-1)))),(IF(SUM(COUNTIF($AK$3:AK54,1),COUNTIF($AK$3:AK54,-1))=0,1,SUM(COUNTIF($AK$3:AK54,1),COUNTIF($AK$3:AK54,-1)))))/1000)","v":1.3027260075093867},16.149999999999999,null,{"$f":"+SUM(COUNTIF($AI$3:AI54,1),COUNTIF($AI$3:AI54,-1))","v":33},{"$f":"+SUM($U$4:U54)","v":4143},125.54545454545455,{"$f":"+SUM(COUNTIF($AI$3:AI54,1))","v":12},{"$f":"+SUM(COUNTIF($AI$3:AI54,-1))","v":21},-9,{"$f":"+BX54*(HARMEAN((IF(SUM(COUNTIF($Z$3:Z54,1),COUNTIF($Z$3:Z54,-1))=0,1,SUM(COUNTIF($Z$3:Z54,1),COUNTIF($Z$3:Z54,-1)))),(IF(SUM(COUNTIF($AC$3:AC54,1),COUNTIF($AC$3:AC54,-1))=0,1,SUM(COUNTIF($AC$3:AC54,1),COUNTIF($AC$3:AC54,-1)))),(IF(SUM(COUNTIF($AE$3:AE54,1),COUNTIF($AE$3:AE54,-1))=0,1,SUM(COUNTIF($AE$3:AE54,1),COUNTIF($AE$3:AE54,-1)))),(IF(SUM(COUNTIF($AG$3:AG54,1),COUNTIF($AG$3:AG54,-1))=0,1,SUM(COUNTIF($AG$3:AG54,1),COUNTIF($AG$3:AG54,-1)))),(IF(SUM(COUNTIF($AI$3:AI54,1),COUNTIF($AI$3:AI54,-1))=0,1,SUM(COUNTIF($AI$3:AI54,1),COUNTIF($AI$3:AI54,-1)))),(IF(SUM(COUNTIF($AK$3:AK54,1),COUNTIF($AK$3:AK54,-1))=0,1,SUM(COUNTIF($AK$3:AK54,1),COUNTIF($AK$3:AK54,-1)))))/1000)","v":1.1618907634543179},-17.100999999999999,null,{"$f":"+SUM(COUNTIF($AK$3:AK54,1),COUNTIF($AK$3:AK54,-1))","v":32},{"$f":"+SUM($W$4:W54)","v":3591},112.21875,{"$f":"+SUM(COUNTIF($AK$3:AK54,1))","v":12},{"$f":"+SUM(COUNTIF($AK$3:AK54,-1))","v":20},-8,{"$f":"+CG54*(HARMEAN((IF(SUM(COUNTIF($Z$3:Z54,1),COUNTIF($Z$3:Z54,-1))=0,1,SUM(COUNTIF($Z$3:Z54,1),COUNTIF($Z$3:Z54,-1)))),(IF(SUM(COUNTIF($AC$3:AC54,1),COUNTIF($AC$3:AC54,-1))=0,1,SUM(COUNTIF($AC$3:AC54,1),COUNTIF($AC$3:AC54,-1)))),(IF(SUM(COUNTIF($AE$3:AE54,1),COUNTIF($AE$3:AE54,-1))=0,1,SUM(COUNTIF($AE$3:AE54,1),COUNTIF($AE$3:AE54,-1)))),(IF(SUM(COUNTIF($AG$3:AG54,1),COUNTIF($AG$3:AG54,-1))=0,1,SUM(COUNTIF($AG$3:AG54,1),COUNTIF($AG$3:AG54,-1)))),(IF(SUM(COUNTIF($AI$3:AI54,1),COUNTIF($AI$3:AI54,-1))=0,1,SUM(COUNTIF($AI$3:AI54,1),COUNTIF($AI$3:AI54,-1)))),(IF(SUM(COUNTIF($AK$3:AK54,1),COUNTIF($AK$3:AK54,-1))=0,1,SUM(COUNTIF($AK$3:AK54,1),COUNTIF($AK$3:AK54,-1)))))/1000)","v":1.1266819524405507},-15.523999999999999]
[52,"",null,{"$f":"+IFERROR(INDEX('Auswertung AoE II'!$AE:$AE,MATCH(A55,'Auswertung AoE II'!$AD:$AD,0)),\"\")","v":""},{"$f":"+IFERROR(INDEX('Auswertung AoE III'!$AE:$AE,MATCH(A55,'Auswertung AoE III'!$AD:$AD,0)),\"\")","v":""},{"$f":"+IFERROR(INDEX('Auswertung AoM'!$AE:$AE,MATCH(A55,'Auswertung AoM'!$AD:$AD,0)),\"\")","v":""},{"$f":"+IFERROR(INDEX('Auswertung RA'!$AE:$AE,MATCH(A55,'Auswertung RA'!$AD:$AD,0)),\"\")","v":""},{"$f":"+IFERROR(INDEX('Auswertung Yuri'!$AE:$AE,MATCH(A55,'Auswertung Yuri'!$AD:$AD,0)),\"\")","v":""},{"$f":"+IFERROR(INDEX('Auswertung Generals'!$AE:$AE,MATCH(A55,'Auswertung Generals'!$AD:$AD,0)),\"\")","v":""},"Auswertung ",null,null,{"$f":"+IF(ISERROR(+INDIRECT(CONCATENATE(\"'\",J55,\"'!\",(ADDRESS((COUNTIF($J$3:J55,IF(B55<>0,CONCATENATE(\"Auswertung \",B55,\"\"))))+2,2)))))=FALSE,+INDIRECT(CONCATENATE(\"'\",J55,\"'!\",(ADDRESS((COUNTIF($J$3:J55,IF(B55<>0,CONCATENATE(\"Auswertung \",B55,\"\"))))+4,2)))),\"\")","v":""},{"$f":"IF(ISERROR(+INDIRECT(CONCATENATE(\"'\",J55,\"'!\",(ADDRESS((COUNTIF($J$3:J55,IF(B55<>0,CONCATENATE(\"Auswertung \",B55,\"\"))))+2,2+1)))))=FALSE,+INDIRECT(CONCATENATE(\"'\",J55,\"'!\",(ADDRESS((COUNTIF($J$3:J55,IF(B55<>0,CONCATENATE(\"Auswertung \",B55,\"\"))))+4,2+1)))),\"\")","v":""},{"$f":"+IF(ISERROR(+INDIRECT(CONCATENATE(\"'\",J55,\"'!\",(ADDRESS((COUNTIF($J$3:J55,IF(B55<>0,CONCATENATE(\"Auswertung \",B55,\"\"))))+2,4)))))=FALSE,+INDIRECT(CONCATENATE(\"'\",J55,\"'!\",(ADDRESS((COUNTIF($J$3:J55,IF(B55<>0,CONCATENATE(\"Auswertung \",B55,\"\"))))+4,4)))),\"\")","v":""},{"$f":"+IF(ISERROR(+INDIRECT(CONCATENATE(\"'\",J55,\"'!\",(ADDRESS((COUNTIF($J$3:J55,IF(B55<>0,CONCATENATE(\"Auswertung \",B55,\"\"))))+2,5)))))=FALSE,+INDIRECT(CONCATENATE(\"'\",J55,\"'!\",(ADDRESS((COUNTIF($J$3:J55,IF(B55<>0,CONCATENATE(\"Auswertung \",B55,\"\"))))+4,5)))),\"\")","v":""},{"$f":"+IF(ISERROR(+INDIRECT(CONCATENATE(\"'\",J55,\"'!\",(ADDRESS((COUNTIF($J$3:J55,IF(B55<>0,CONCATENATE(\"Auswertung \",B55,\"\"))))+2,6)))))=FALSE,+INDIRECT(CONCATENATE(\"'\",J55,\"'!\",(ADDRESS((COUNTIF($J$3:J55,IF(B55<>0,CONCATENATE(\"Auswertung \",B55,\"\"))))+4,6)))),\"\")","v":""},{"$f":"+IF(ISERROR(+INDIRECT(CONCATENATE(\"'\",J55,\"'!\",(ADDRESS((COUNTIF($J$3:J55,IF(B55<>0,CONCATENATE(\"Auswertung \",B55,\"\"))))+2,7)))))=FALSE,+INDIRECT(CONCATENATE(\"'\",J55,\"'!\",(ADDRESS((COUNTIF($J$3:J55,IF(B55<>0,CONCATENATE(\"Auswertung \",B55,\"\"))))+4,7)))),\"\")","v":""},{"$f":"+IF(ISERROR(+INDIRECT(CONCATENATE(\"'\",J55,\"'!\",(ADDRESS((COUNTIF($J$3:J55,IF(B55<>0,CONCATENATE(\"Auswertung \",B55,\"\"))))+2,10)))))=FALSE,+INDIRECT(CONCATENATE(\"'\",J55,\"'!\",(ADDRESS((COUNTIF($J$3:J55,IF(B55<>0,CONCATENATE(\"Auswertung \",B55,\"\"))))+4,8)))),\"\")","v":""},{"$f":"+IF(ISERROR(+INDIRECT(CONCATENATE(\"'\",J55,\"'!\",(ADDRESS((COUNTIF($J$3:J55,IF(B55<>0,CONCATENATE(\"Auswertung \",B55,\"\"))))+2,11)))))=FALSE,+INDIRECT(CONCATENATE(\"'\",J55,\"'!\",(ADDRESS((COUNTIF($J$3:J55,IF(B55<>0,CONCATENATE(\"Auswertung \",B55,\"\"))))+4,9)))),\"\")","v":""},{"$f":"+IF(ISERROR(+INDIRECT(CONCATENATE(\"'\",J55,\"'!\",(ADDRESS((COUNTIF($J$3:J55,IF(B55<>0,CONCATENATE(\"Auswertung \",B55,\"\"))))+2,10)))))=FALSE,+INDIRECT(CONCATENATE(\"'\",J55,\"'!\",(ADDRESS((COUNTIF($J$3:J55,IF(B55<>0,CONCATENATE(\"Auswertung \",B55,\"\"))))+4,10)))),\"\")","v":""},{"$f":"+IF(ISERROR(+INDIRECT(CONCATENATE(\"'\",J55,\"'!\",(ADDRESS((COUNTIF($J$3:J55,IF(B55<>0,CONCATENATE(\"Auswertung \",B55,\"\"))))+2,11)))))=FALSE,+INDIRECT(CONCATENATE(\"'\",J55,\"'!\",(ADDRESS((COUNTIF($J$3:J55,IF(B55<>0,CONCATENATE(\"Auswertung \",B55,\"\"))))+4,11)))),\"\")","v":""},{"$f":"+IF(ISERROR(+INDIRECT(CONCATENATE(\"'\",J55,\"'!\",(ADDRESS((COUNTIF($J$3:J55,IF(D55<>0,CONCATENATE(\"Auswertung \",D55,\"\"))))+2,12)))))=FALSE,+INDIRECT(CONCATENATE(\"'\",J55,\"'!\",(ADDRESS((COUNTIF($J$3:J55,IF(D55<>0,CONCATENATE(\"Auswertung \",B55,\"\"))))+4,12)))),\"\")","v":""},{"$f":"+IF(ISERROR(+INDIRECT(CONCATENATE(\"'\",J55,\"'!\",(ADDRESS((COUNTIF($J$3:J55,IF(D55<>0,CONCATENATE(\"Auswertung \",D55,\"\"))))+2,13)))))=FALSE,+INDIRECT(CONCATENATE(\"'\",J55,\"'!\",(ADDRESS((COUNTIF($J$3:J55,IF(D55<>0,CONCATENATE(\"Auswertung \",B55,\"\"))))+4,13)))),\"\")","v":""},null,{"$f":"+IFERROR(INDIRECT(CONCATENATE(\"'\",J55,\"'!\",(ADDRESS((COUNTIF($J$3:J55,IF(B55<>0,J55)))+4,16)))),\"\")","v":""},21.942,{"$f":"+SUM($M$4:M55)/COUNT($M$4:M55)/1000*2","v":0.28281081081081083},{"$f":"+IFERROR(INDIRECT(CONCATENATE(\"'\",J55,\"'!\",(ADDRESS((COUNTIF($J$3:J55,IF(B55<>0,J55)))+4,18)))),\"\")","v":""},50.264000000000003,{"$f":"+IFERROR(INDIRECT(CONCATENATE(\"'\",J55,\"'!\",(ADDRESS((COUNTIF($J$3:J55,IF(B55<>0,J55)))+4,20)))),\"\")","v":""},44.247,{"$f":"+IFERROR(INDIRECT(CONCATENATE(\"'\",J55,\"'!\",(ADDRESS((COUNTIF($J$3:J55,IF(B55<>0,J55)))+4,22)))),\"\")","v":""},16.149999999999999,{"$f":"+IFERROR(INDIRECT(CONCATENATE(\"'\",J55,\"'!\",(ADDRESS((COUNTIF($J$3:J55,IF(B55<>0,J55)))+4,24)))),\"\")","v":""},-17.100999999999999,{"$f":"+IFERROR(INDIRECT(CONCATENATE(\"'\",J55,\"'!\",(ADDRESS((COUNTIF($J$3:J55,IF(B55<>0,J55)))+4,26)))),\"\")","v":""},-15.523999999999999,52,{"$f":"+SUM(COUNTIF($Z$3:Z55,1),COUNTIF($Z$3:Z55,-1))","v":37},{"$f":"+SUM($M$4:M55)","v":5232},141.40540540540542,{"$f":"+SUM(COUNTIF($Z$3:Z55,1))","v":19},{"$f":"+SUM(COUNTIF($Z$3:Z55,-1))","v":18},1,{"$f":"AN55*(HARMEAN((IF(SUM(COUNTIF($Z$3:Z55,1),COUNTIF($Z$3:Z55,-1))=0,1,SUM(COUNTIF($Z$3:Z55,1),COUNTIF($Z$3:Z55,-1)))),(IF(SUM(COUNTIF($AC$3:AC55,1),COUNTIF($AC$3:AC55,-1))=0,1,SUM(COUNTIF($AC$3:AC55,1),COUNTIF($AC$3:AC55,-1)))),(IF(SUM(COUNTIF($AE$3:AE55,1),COUNTIF($AE$3:AE55,-1))=0,1,SUM(COUNTIF($AE$3:AE55,1),COUNTIF($AE$3:AE55,-1)))),(IF(SUM(COUNTIF($AG$3:AG55,1),COUNTIF($AG$3:AG55,-1))=0,1,SUM(COUNTIF($AG$3:AG55,1),COUNTIF($AG$3:AG55,-1)))),(IF(SUM(COUNTIF($AI$3:AI55,1),COUNTIF($AI$3:AI55,-1))=0,1,SUM(COUNTIF($AI$3:AI55,1),COUNTIF($AI$3:AI55,-1)))),(IF(SUM(COUNTIF($AK$3:AK55,1),COUNTIF($AK$3:AK55,-1))=0,1,SUM(COUNTIF($AK$3:AK55,1),COUNTIF($AK$3:AK55,-1)))))/1000)","v":1.3027260075093867},21.942,null,{"$f":"+SUM(COUNTIF($AC$3:AC55,1),COUNTIF($AC$3:AC55,-1))","v":37},{"$f":"+SUM($O$4:O55)","v":5276},142.59459459459458,{"$f":"+SUM(COUNTIF($AC$3:AC55,1))","v":23},{"$f":"+SUM(COUNTIF($AC$3:AC55,-1))","v":14},9,{"$f":"AW55*(HARMEAN((IF(SUM(COUNTIF($Z$3:Z55,1),COUNTIF($Z$3:Z55,-1))=0,1,SUM(COUNTIF($Z$3:Z55,1),COUNTIF($Z$3:Z55,-1)))),(IF(SUM(COUNTIF($AC$3:AC55,1),COUNTIF($AC$3:AC55,-1))=0,1,SUM(COUNTIF($AC$3:AC55,1),COUNTIF($AC$3:AC55,-1)))),(IF(SUM(COUNTIF($AE$3:AE55,1),COUNTIF($AE$3:AE55,-1))=0,1,SUM(COUNTIF($AE$3:AE55,1),COUNTIF($AE$3:AE55,-1)))),(IF(SUM(COUNTIF($AG$3:AG55,1),COUNTIF($AG$3:AG55,-1))=0,1,SUM(COUNTIF($AG$3:AG55,1),COUNTIF($AG$3:AG55,-1)))),(IF(SUM(COUNTIF($AI$3:AI55,1),COUNTIF($AI$3:AI55,-1))=0,1,SUM(COUNTIF($AI$3:AI55,1),COUNTIF($AI$3:AI55,-1)))),(IF(SUM(COUNTIF($AK$3:AK55,1),COUNTIF($AK$3:AK55,-1))=0,1,SUM(COUNTIF($AK$3:AK55,1),COUNTIF($AK$3:AK55,-1)))))/1000)","v":1.3027260075093867},50.264000000000003,null,{"$f":"+SUM(COUNTIF($AE$3:AE55,1),COUNTIF(AE$3:$AE55,-1))","v":36},{"$f":"+SUM($Q$4:Q55)","v":4567},126.86111111111111,{"$f":"+SUM(COUNTIF($AE$3:AE55,1))","v":22},{"$f":"+SUM(COUNTIF($AE$3:AE55,-1))","v":14},8,{"$f":"BF55*(HARMEAN((IF(SUM(COUNTIF($Z$3:Z55,1),COUNTIF($Z$3:Z55,-1))=0,1,SUM(COUNTIF($Z$3:Z55,1),COUNTIF($Z$3:Z55,-1)))),(IF(SUM(COUNTIF($AC$3:AC55,1),COUNTIF($AC$3:AC55,-1))=0,1,SUM(COUNTIF($AC$3:AC55,1),COUNTIF($AC$3:AC55,-1)))),(IF(SUM(COUNTIF($AE$3:AE55,1),COUNTIF($AE$3:AE55,-1))=0,1,SUM(COUNTIF($AE$3:AE55,1),COUNTIF($AE$3:AE55,-1)))),(IF(SUM(COUNTIF($AG$3:AG55,1),COUNTIF($AG$3:AG55,-1))=0,1,SUM(COUNTIF($AG$3:AG55,1),COUNTIF($AG$3:AG55,-1)))),(IF(SUM(COUNTIF($AI$3:AI55,1),COUNTIF($AI$3:AI55,-1))=0,1,SUM(COUNTIF($AI$3:AI55,1),COUNTIF($AI$3:AI55,-1)))),(IF(SUM(COUNTIF($AK$3:AK55,1),COUNTIF($AK$3:AK55,-1))=0,1,SUM(COUNTIF($AK$3:AK55,1),COUNTIF($AK$3:AK55,-1)))))/1000)","v":1.2675171964956196},44.247,null,{"$f":"+SUM(COUNTIF($AG$3:AG55,1),COUNTIF($AG$3:AG55,-1))","v":37},{"$f":"+SUM($S$4:S55)","v":5587},151,{"$f":"+SUM(COUNTIF($AG$3:AG55,1))","v":18},{"$f":"+SUM(COUNTIF($AG$3:AG55,-1))","v":19},-1,{"$f":"BO55*(HARMEAN((IF(SUM(COUNTIF($Z$3:Z55,1),COUNTIF($Z$3:Z55,-1))=0,1,SUM(COUNTIF($Z$3:Z55,1),COUNTIF($Z$3:Z55,-1)))),(IF(SUM(COUNTIF($AC$3:AC55,1),COUNTIF($AC$3:AC55,-1))=0,1,SUM(COUNTIF($AC$3:AC55,1),COUNTIF($AC$3:AC55,-1)))),(IF(SUM(COUNTIF($AE$3:AE55,1),COUNTIF($AE$3:AE55,-1))=0,1,SUM(COUNTIF($AE$3:AE55,1),COUNTIF($AE$3:AE55,-1)))),(IF(SUM(COUNTIF($AG$3:AG55,1),COUNTIF($AG$3:AG55,-1))=0,1,SUM(COUNTIF($AG$3:AG55,1),COUNTIF($AG$3:AG55,-1)))),(IF(SUM(COUNTIF($AI$3:AI55,1),COUNTIF($AI$3:AI55,-1))=0,1,SUM(COUNTIF($AI$3:AI55,1),COUNTIF($AI$3:AI55,-1)))),(IF(SUM(COUNTIF($AK$3:AK55,1),COUNTIF($AK$3:AK55,-1))=0,1,SUM(COUNTIF($AK$3:AK55,1),COUNTIF($AK$3:AK55,-1)))))/1000)","v":1.3027260075093867},16.149999999999999,null,{"$f":"+SUM(COUNTIF($AI$3:AI55,1),COUNTIF($AI$3:AI55,-1))","v":33},{"$f":"+SUM($U$4:U55)","v":4143},125.54545454545455,{"$f":"+SUM(COUNTIF($AI$3:AI55,1))","v":12},{"$f":"+SUM(COUNTIF($AI$3:AI55,-1))","v":21},-9,{"$f":"+BX55*(HARMEAN((IF(SUM(COUNTIF($Z$3:Z55,1),COUNTIF($Z$3:Z55,-1))=0,1,SUM(COUNTIF($Z$3:Z55,1),COUNTIF($Z$3:Z55,-1)))),(IF(SUM(COUNTIF($AC$3:AC55,1),COUNTIF($AC$3:AC55,-1))=0,1,SUM(COUNTIF($AC$3:AC55,1),COUNTIF($AC$3:AC55,-1)))),(IF(SUM(COUNTIF($AE$3:AE55,1),COUNTIF($AE$3:AE55,-1))=0,1,SUM(COUNTIF($AE$3:AE55,1),COUNTIF($AE$3:AE55,-1)))),(IF(SUM(COUNTIF($AG$3:AG55,1),COUNTIF($AG$3:AG55,-1))=0,1,SUM(COUNTIF($AG$3:AG55,1),COUNTIF($AG$3:AG55,-1)))),(IF(SUM(COUNTIF($AI$3:AI55,1),COUNTIF($AI$3:AI55,-1))=0,1,SUM(COUNTIF($AI$3:AI55,1),COUNTIF($AI$3:AI55,-1)))),(IF(SUM(COUNTIF($AK$3:AK55,1),COUNTIF($AK$3:AK55,-1))=0,1,SUM(COUNTIF($AK$3:AK55,1),COUNTIF($AK$3:AK55,-1)))))/1000)","v":1.1618907634543179},-17.100999999999999,null,{"$f":"+SUM(COUNTIF($AK$3:AK55,1),COUNTIF($AK$3:AK55,-1))","v":32},{"$f":"+SUM($W$4:W55)","v":3591},112.21875,{"$f":"+SUM(COUNTIF($AK$3:AK55,1))","v":12},{"$f":"+SUM(COUNTIF($AK$3:AK55,-1))","v":20},-8,{"$f":"+CG55*(HARMEAN((IF(SUM(COUNTIF($Z$3:Z55,1),COUNTIF($Z$3:Z55,-1))=0,1,SUM(COUNTIF($Z$3:Z55,1),COUNTIF($Z$3:Z55,-1)))),(IF(SUM(COUNTIF($AC$3:AC55,1),COUNTIF($AC$3:AC55,-1))=0,1,SUM(COUNTIF($AC$3:AC55,1),COUNTIF($AC$3:AC55,-1)))),(IF(SUM(COUNTIF($AE$3:AE55,1),COUNTIF($AE$3:AE55,-1))=0,1,SUM(COUNTIF($AE$3:AE55,1),COUNTIF($AE$3:AE55,-1)))),(IF(SUM(COUNTIF($AG$3:AG55,1),COUNTIF($AG$3:AG55,-1))=0,1,SUM(COUNTIF($AG$3:AG55,1),COUNTIF($AG$3:AG55,-1)))),(IF(SUM(COUNTIF($AI$3:AI55,1),COUNTIF($AI$3:AI55,-1))=0,1,SUM(COUNTIF($AI$3:AI55,1),COUNTIF($AI$3:AI55,-1)))),(IF(SUM(COUNTIF($AK$3:AK55,1),COUNTIF($AK$3:AK55,-1))=0,1,SUM(COUNTIF($AK$3:AK55,1),COUNTIF($AK$3:AK55,-1)))))/1000)","v":1.1266819524405507},-15.523999999999999]
[53,"",null,{"$f":"+IFERROR(INDEX('Auswertung AoE II'!$AE:$AE,MATCH(A56,'Auswertung AoE II'!$AD:$AD,0)),\"\")","v":""},{"$f":"+IFERROR(INDEX('Auswertung AoE III'!$AE:$AE,MATCH(A56,'Auswertung AoE III'!$AD:$AD,0)),\"\")","v":""},{"$f":"+IFERROR(INDEX('Auswertung AoM'!$AE:$AE,MATCH(A56,'Auswertung AoM'!$AD:$AD,0)),\"\")","v":""},{"$f":"+IFERROR(INDEX('Auswertung RA'!$AE:$AE,MATCH(A56,'Auswertung RA'!$AD:$AD,0)),\"\")","v":""},{"$f":"+IFERROR(INDEX('Auswertung Yuri'!$AE:$AE,MATCH(A56,'Auswertung Yuri'!$AD:$AD,0)),\"\")","v":""},{"$f":"+IFERROR(INDEX('Auswertung Generals'!$AE:$AE,MATCH(A56,'Auswertung Generals'!$AD:$AD,0)),\"\")","v":""},"Auswertung ",null,null,{"$f":"+IF(ISERROR(+INDIRECT(CONCATENATE(\"'\",J56,\"'!\",(ADDRESS((COUNTIF($J$3:J56,IF(B56<>0,CONCATENATE(\"Auswertung \",B56,\"\"))))+2,2)))))=FALSE,+INDIRECT(CONCATENATE(\"'\",J56,\"'!\",(ADDRESS((COUNTIF($J$3:J56,IF(B56<>0,CONCATENATE(\"Auswertung \",B56,\"\"))))+4,2)))),\"\")","v":""},{"$f":"IF(ISERROR(+INDIRECT(CONCATENATE(\"'\",J56,\"'!\",(ADDRESS((COUNTIF($J$3:J56,IF(B56<>0,CONCATENATE(\"Auswertung \",B56,\"\"))))+2,2+1)))))=FALSE,+INDIRECT(CONCATENATE(\"'\",J56,\"'!\",(ADDRESS((COUNTIF($J$3:J56,IF(B56<>0,CONCATENATE(\"Auswertung \",B56,\"\"))))+4,2+1)))),\"\")","v":""},{"$f":"+IF(ISERROR(+INDIRECT(CONCATENATE(\"'\",J56,\"'!\",(ADDRESS((COUNTIF($J$3:J56,IF(B56<>0,CONCATENATE(\"Auswertung \",B56,\"\"))))+2,4)))))=FALSE,+INDIRECT(CONCATENATE(\"'\",J56,\"'!\",(ADDRESS((COUNTIF($J$3:J56,IF(B56<>0,CONCATENATE(\"Auswertung \",B56,\"\"))))+4,4)))),\"\")","v":""},{"$f":"+IF(ISERROR(+INDIRECT(CONCATENATE(\"'\",J56,\"'!\",(ADDRESS((COUNTIF($J$3:J56,IF(B56<>0,CONCATENATE(\"Auswertung \",B56,\"\"))))+2,5)))))=FALSE,+INDIRECT(CONCATENATE(\"'\",J56,\"'!\",(ADDRESS((COUNTIF($J$3:J56,IF(B56<>0,CONCATENATE(\"Auswertung \",B56,\"\"))))+4,5)))),\"\")","v":""},{"$f":"+IF(ISERROR(+INDIRECT(CONCATENATE(\"'\",J56,\"'!\",(ADDRESS((COUNTIF($J$3:J56,IF(B56<>0,CONCATENATE(\"Auswertung \",B56,\"\"))))+2,6)))))=FALSE,+INDIRECT(CONCATENATE(\"'\",J56,\"'!\",(ADDRESS((COUNTIF($J$3:J56,IF(B56<>0,CONCATENATE(\"Auswertung \",B56,\"\"))))+4,6)))),\"\")","v":""},{"$f":"+IF(ISERROR(+INDIRECT(CONCATENATE(\"'\",J56,\"'!\",(ADDRESS((COUNTIF($J$3:J56,IF(B56<>0,CONCATENATE(\"Auswertung \",B56,\"\"))))+2,7)))))=FALSE,+INDIRECT(CONCATENATE(\"'\",J56,\"'!\",(ADDRESS((COUNTIF($J$3:J56,IF(B56<>0,CONCATENATE(\"Auswertung \",B56,\"\"))))+4,7)))),\"\")","v":""},{"$f":"+IF(ISERROR(+INDIRECT(CONCATENATE(\"'\",J56,\"'!\",(ADDRESS((COUNTIF($J$3:J56,IF(B56<>0,CONCATENATE(\"Auswertung \",B56,\"\"))))+2,10)))))=FALSE,+INDIRECT(CONCATENATE(\"'\",J56,\"'!\",(ADDRESS((COUNTIF($J$3:J56,IF(B56<>0,CONCATENATE(\"Auswertung \",B56,\"\"))))+4,8)))),\"\")","v":""},{"$f":"+IF(ISERROR(+INDIRECT(CONCATENATE(\"'\",J56,\"'!\",(ADDRESS((COUNTIF($J$3:J56,IF(B56<>0,CONCATENATE(\"Auswertung \",B56,\"\"))))+2,11)))))=FALSE,+INDIRECT(CONCATENATE(\"'\",J56,\"'!\",(ADDRESS((COUNTIF($J$3:J56,IF(B56<>0,CONCATENATE(\"Auswertung \",B56,\"\"))))+4,9)))),\"\")","v":""},{"$f":"+IF(ISERROR(+INDIRECT(CONCATENATE(\"'\",J56,\"'!\",(ADDRESS((COUNTIF($J$3:J56,IF(B56<>0,CONCATENATE(\"Auswertung \",B56,\"\"))))+2,10)))))=FALSE,+INDIRECT(CONCATENATE(\"'\",J56,\"'!\",(ADDRESS((COUNTIF($J$3:J56,IF(B56<>0,CONCATENATE(\"Auswertung \",B56,\"\"))))+4,10)))),\"\")","v":""},{"$f":"+IF(ISERROR(+INDIRECT(CONCATENATE(\"'\",J56,\"'!\",(ADDRESS((COUNTIF($J$3:J56,IF(B56<>0,CONCATENATE(\"Auswertung \",B56,\"\"))))+2,11)))))=FALSE,+INDIRECT(CONCATENATE(\"'\",J56,\"'!\",(ADDRESS((COUNTIF($J$3:J56,IF(B56<>0,CONCATENATE(\"Auswertung \",B56,\"\"))))+4,11)))),\"\")","v":""},{"$f":"+IF(ISERROR(+INDIRECT(CONCATENATE(\"'\",J56,\"'!\",(ADDRESS((COUNTIF($J$3:J56,IF(D56<>0,CONCATENATE(\"Auswertung \",D56,\"\"))))+2,12)))))=FALSE,+INDIRECT(CONCATENATE(\"'\",J56,\"'!\",(ADDRESS((COUNTIF($J$3:J56,IF(D56<>0,CONCATENATE(\"Auswertung \",B56,\"\"))))+4,12)))),\"\")","v":""},{"$f":"+IF(ISERROR(+INDIRECT(CONCATENATE(\"'\",J56,\"'!\",(ADDRESS((COUNTIF($J$3:J56,IF(D56<>0,CONCATENATE(\"Auswertung \",D56,\"\"))))+2,13)))))=FALSE,+INDIRECT(CONCATENATE(\"'\",J56,\"'!\",(ADDRESS((COUNTIF($J$3:J56,IF(D56<>0,CONCATENATE(\"Auswertung \",B56,\"\"))))+4,13)))),\"\")","v":""},null,{"$f":"+IFERROR(INDIRECT(CONCATENATE(\"'\",J56,\"'!\",(ADDRESS((COUNTIF($J$3:J56,IF(B56<>0,J56)))+4,16)))),\"\")","v":""},21.942,{"$f":"+SUM($M$4:M56)/COUNT($M$4:M56)/1000*2","v":0.28281081081081083},{"$f":"+IFERROR(INDIRECT(CONCATENATE(\"'\",J56,\"'!\",(ADDRESS((COUNTIF($J$3:J56,IF(B56<>0,J56)))+4,18)))),\"\")","v":""},50.264000000000003,{"$f":"+IFERROR(INDIRECT(CONCATENATE(\"'\",J56,\"'!\",(ADDRESS((COUNTIF($J$3:J56,IF(B56<>0,J56)))+4,20)))),\"\")","v":""},44.247,{"$f":"+IFERROR(INDIRECT(CONCATENATE(\"'\",J56,\"'!\",(ADDRESS((COUNTIF($J$3:J56,IF(B56<>0,J56)))+4,22)))),\"\")","v":""},16.149999999999999,{"$f":"+IFERROR(INDIRECT(CONCATENATE(\"'\",J56,\"'!\",(ADDRESS((COUNTIF($J$3:J56,IF(B56<>0,J56)))+4,24)))),\"\")","v":""},-17.100999999999999,{"$f":"+IFERROR(INDIRECT(CONCATENATE(\"'\",J56,\"'!\",(ADDRESS((COUNTIF($J$3:J56,IF(B56<>0,J56)))+4,26)))),\"\")","v":""},-15.523999999999999,53,{"$f":"+SUM(COUNTIF($Z$3:Z56,1),COUNTIF($Z$3:Z56,-1))","v":37},{"$f":"+SUM($M$4:M56)","v":5232},141.40540540540542,{"$f":"+SUM(COUNTIF($Z$3:Z56,1))","v":19},{"$f":"+SUM(COUNTIF($Z$3:Z56,-1))","v":18},1,{"$f":"AN56*(HARMEAN((IF(SUM(COUNTIF($Z$3:Z56,1),COUNTIF($Z$3:Z56,-1))=0,1,SUM(COUNTIF($Z$3:Z56,1),COUNTIF($Z$3:Z56,-1)))),(IF(SUM(COUNTIF($AC$3:AC56,1),COUNTIF($AC$3:AC56,-1))=0,1,SUM(COUNTIF($AC$3:AC56,1),COUNTIF($AC$3:AC56,-1)))),(IF(SUM(COUNTIF($AE$3:AE56,1),COUNTIF($AE$3:AE56,-1))=0,1,SUM(COUNTIF($AE$3:AE56,1),COUNTIF($AE$3:AE56,-1)))),(IF(SUM(COUNTIF($AG$3:AG56,1),COUNTIF($AG$3:AG56,-1))=0,1,SUM(COUNTIF($AG$3:AG56,1),COUNTIF($AG$3:AG56,-1)))),(IF(SUM(COUNTIF($AI$3:AI56,1),COUNTIF($AI$3:AI56,-1))=0,1,SUM(COUNTIF($AI$3:AI56,1),COUNTIF($AI$3:AI56,-1)))),(IF(SUM(COUNTIF($AK$3:AK56,1),COUNTIF($AK$3:AK56,-1))=0,1,SUM(COUNTIF($AK$3:AK56,1),COUNTIF($AK$3:AK56,-1)))))/1000)","v":1.3027260075093867},21.942,null,{"$f":"+SUM(COUNTIF($AC$3:AC56,1),COUNTIF($AC$3:AC56,-1))","v":37},{"$f":"+SUM($O$4:O56)","v":5276},142.59459459459458,{"$f":"+SUM(COUNTIF($AC$3:AC56,1))","v":23},{"$f":"+SUM(COUNTIF($AC$3:AC56,-1))","v":14},9,{"$f":"AW56*(HARMEAN((IF(SUM(COUNTIF($Z$3:Z56,1),COUNTIF($Z$3:Z56,-1))=0,1,SUM(COUNTIF($Z$3:Z56,1),COUNTIF($Z$3:Z56,-1)))),(IF(SUM(COUNTIF($AC$3:AC56,1),COUNTIF($AC$3:AC56,-1))=0,1,SUM(COUNTIF($AC$3:AC56,1),COUNTIF($AC$3:AC56,-1)))),(IF(SUM(COUNTIF($AE$3:AE56,1),COUNTIF($AE$3:AE56,-1))=0,1,SUM(COUNTIF($AE$3:AE56,1),COUNTIF($AE$3:AE56,-1)))),(IF(SUM(COUNTIF($AG$3:AG56,1),COUNTIF($AG$3:AG56,-1))=0,1,SUM(COUNTIF($AG$3:AG56,1),COUNTIF($AG$3:AG56,-1)))),(IF(SUM(COUNTIF($AI$3:AI56,1),COUNTIF($AI$3:AI56,-1))=0,1,SUM(COUNTIF($AI$3:AI56,1),COUNTIF($AI$3:AI56,-1)))),(IF(SUM(COUNTIF($AK$3:AK56,1),COUNTIF($AK$3:AK56,-1))=0,1,SUM(COUNTIF($AK$3:AK56,1),COUNTIF($AK$3:AK56,-1)))))/1000)","v":1.3027260075093867},50.264000000000003,null,{"$f":"+SUM(COUNTIF($AE$3:AE56,1),COUNTIF(AE$3:$AE56,-1))","v":36},{"$f":"+SUM($Q$4:Q56)","v":4567},126.86111111111111,{"$f":"+SUM(COUNTIF($AE$3:AE56,1))","v":22},{"$f":"+SUM(COUNTIF($AE$3:AE56,-1))","v":14},8,{"$f":"BF56*(HARMEAN((IF(SUM(COUNTIF($Z$3:Z56,1),COUNTIF($Z$3:Z56,-1))=0,1,SUM(COUNTIF($Z$3:Z56,1),COUNTIF($Z$3:Z56,-1)))),(IF(SUM(COUNTIF($AC$3:AC56,1),COUNTIF($AC$3:AC56,-1))=0,1,SUM(COUNTIF($AC$3:AC56,1),COUNTIF($AC$3:AC56,-1)))),(IF(SUM(COUNTIF($AE$3:AE56,1),COUNTIF($AE$3:AE56,-1))=0,1,SUM(COUNTIF($AE$3:AE56,1),COUNTIF($AE$3:AE56,-1)))),(IF(SUM(COUNTIF($AG$3:AG56,1),COUNTIF($AG$3:AG56,-1))=0,1,SUM(COUNTIF($AG$3:AG56,1),COUNTIF($AG$3:AG56,-1)))),(IF(SUM(COUNTIF($AI$3:AI56,1),COUNTIF($AI$3:AI56,-1))=0,1,SUM(COUNTIF($AI$3:AI56,1),COUNTIF($AI$3:AI56,-1)))),(IF(SUM(COUNTIF($AK$3:AK56,1),COUNTIF($AK$3:AK56,-1))=0,1,SUM(COUNTIF($AK$3:AK56,1),COUNTIF($AK$3:AK56,-1)))))/1000)","v":1.2675171964956196},44.247,null,{"$f":"+SUM(COUNTIF($AG$3:AG56,1),COUNTIF($AG$3:AG56,-1))","v":37},{"$f":"+SUM($S$4:S56)","v":5587},151,{"$f":"+SUM(COUNTIF($AG$3:AG56,1))","v":18},{"$f":"+SUM(COUNTIF($AG$3:AG56,-1))","v":19},-1,{"$f":"BO56*(HARMEAN((IF(SUM(COUNTIF($Z$3:Z56,1),COUNTIF($Z$3:Z56,-1))=0,1,SUM(COUNTIF($Z$3:Z56,1),COUNTIF($Z$3:Z56,-1)))),(IF(SUM(COUNTIF($AC$3:AC56,1),COUNTIF($AC$3:AC56,-1))=0,1,SUM(COUNTIF($AC$3:AC56,1),COUNTIF($AC$3:AC56,-1)))),(IF(SUM(COUNTIF($AE$3:AE56,1),COUNTIF($AE$3:AE56,-1))=0,1,SUM(COUNTIF($AE$3:AE56,1),COUNTIF($AE$3:AE56,-1)))),(IF(SUM(COUNTIF($AG$3:AG56,1),COUNTIF($AG$3:AG56,-1))=0,1,SUM(COUNTIF($AG$3:AG56,1),COUNTIF($AG$3:AG56,-1)))),(IF(SUM(COUNTIF($AI$3:AI56,1),COUNTIF($AI$3:AI56,-1))=0,1,SUM(COUNTIF($AI$3:AI56,1),COUNTIF($AI$3:AI56,-1)))),(IF(SUM(COUNTIF($AK$3:AK56,1),COUNTIF($AK$3:AK56,-1))=0,1,SUM(COUNTIF($AK$3:AK56,1),COUNTIF($AK$3:AK56,-1)))))/1000)","v":1.3027260075093867},16.149999999999999,null,{"$f":"+SUM(COUNTIF($AI$3:AI56,1),COUNTIF($AI$3:AI56,-1))","v":33},{"$f":"+SUM($U$4:U56)","v":4143},125.54545454545455,{"$f":"+SUM(COUNTIF($AI$3:AI56,1))","v":12},{"$f":"+SUM(COUNTIF($AI$3:AI56,-1))","v":21},-9,{"$f":"+BX56*(HARMEAN((IF(SUM(COUNTIF($Z$3:Z56,1),COUNTIF($Z$3:Z56,-1))=0,1,SUM(COUNTIF($Z$3:Z56,1),COUNTIF($Z$3:Z56,-1)))),(IF(SUM(COUNTIF($AC$3:AC56,1),COUNTIF($AC$3:AC56,-1))=0,1,SUM(COUNTIF($AC$3:AC56,1),COUNTIF($AC$3:AC56,-1)))),(IF(SUM(COUNTIF($AE$3:AE56,1),COUNTIF($AE$3:AE56,-1))=0,1,SUM(COUNTIF($AE$3:AE56,1),COUNTIF($AE$3:AE56,-1)))),(IF(SUM(COUNTIF($AG$3:AG56,1),COUNTIF($AG$3:AG56,-1))=0,1,SUM(COUNTIF($AG$3:AG56,1),COUNTIF($AG$3:AG56,-1)))),(IF(SUM(COUNTIF($AI$3:AI56,1),COUNTIF($AI$3:AI56,-1))=0,1,SUM(COUNTIF($AI$3:AI56,1),COUNTIF($AI$3:AI56,-1)))),(IF(SUM(COUNTIF($AK$3:AK56,1),COUNTIF($AK$3:AK56,-1))=0,1,SUM(COUNTIF($AK$3:AK56,1),COUNTIF($AK$3:AK56,-1)))))/1000)","v":1.1618907634543179},-17.100999999999999,null,{"$f":"+SUM(COUNTIF($AK$3:AK56,1),COUNTIF($AK$3:AK56,-1))","v":32},{"$f":"+SUM($W$4:W56)","v":3591},112.21875,{"$f":"+SUM(COUNTIF($AK$3:AK56,1))","v":12},{"$f":"+SUM(COUNTIF($AK$3:AK56,-1))","v":20},-8,{"$f":"+CG56*(HARMEAN((IF(SUM(COUNTIF($Z$3:Z56,1),COUNTIF($Z$3:Z56,-1))=0,1,SUM(COUNTIF($Z$3:Z56,1),COUNTIF($Z$3:Z56,-1)))),(IF(SUM(COUNTIF($AC$3:AC56,1),COUNTIF($AC$3:AC56,-1))=0,1,SUM(COUNTIF($AC$3:AC56,1),COUNTIF($AC$3:AC56,-1)))),(IF(SUM(COUNTIF($AE$3:AE56,1),COUNTIF($AE$3:AE56,-1))=0,1,SUM(COUNTIF($AE$3:AE56,1),COUNTIF($AE$3:AE56,-1)))),(IF(SUM(COUNTIF($AG$3:AG56,1),COUNTIF($AG$3:AG56,-1))=0,1,SUM(COUNTIF($AG$3:AG56,1),COUNTIF($AG$3:AG56,-1)))),(IF(SUM(COUNTIF($AI$3:AI56,1),COUNTIF($AI$3:AI56,-1))=0,1,SUM(COUNTIF($AI$3:AI56,1),COUNTIF($AI$3:AI56,-1)))),(IF(SUM(COUNTIF($AK$3:AK56,1),COUNTIF($AK$3:AK56,-1))=0,1,SUM(COUNTIF($AK$3:AK56,1),COUNTIF($AK$3:AK56,-1)))))/1000)","v":1.1266819524405507},-15.523999999999999]
[54,"",null,{"$f":"+IFERROR(INDEX('Auswertung AoE II'!$AE:$AE,MATCH(A57,'Auswertung AoE II'!$AD:$AD,0)),\"\")","v":""},{"$f":"+IFERROR(INDEX('Auswertung AoE III'!$AE:$AE,MATCH(A57,'Auswertung AoE III'!$AD:$AD,0)),\"\")","v":""},{"$f":"+IFERROR(INDEX('Auswertung AoM'!$AE:$AE,MATCH(A57,'Auswertung AoM'!$AD:$AD,0)),\"\")","v":""},{"$f":"+IFERROR(INDEX('Auswertung RA'!$AE:$AE,MATCH(A57,'Auswertung RA'!$AD:$AD,0)),\"\")","v":""},{"$f":"+IFERROR(INDEX('Auswertung Yuri'!$AE:$AE,MATCH(A57,'Auswertung Yuri'!$AD:$AD,0)),\"\")","v":""},{"$f":"+IFERROR(INDEX('Auswertung Generals'!$AE:$AE,MATCH(A57,'Auswertung Generals'!$AD:$AD,0)),\"\")","v":""},"Auswertung ",null,null,{"$f":"+IF(ISERROR(+INDIRECT(CONCATENATE(\"'\",J57,\"'!\",(ADDRESS((COUNTIF($J$3:J57,IF(B57<>0,CONCATENATE(\"Auswertung \",B57,\"\"))))+2,2)))))=FALSE,+INDIRECT(CONCATENATE(\"'\",J57,\"'!\",(ADDRESS((COUNTIF($J$3:J57,IF(B57<>0,CONCATENATE(\"Auswertung \",B57,\"\"))))+4,2)))),\"\")","v":""},{"$f":"IF(ISERROR(+INDIRECT(CONCATENATE(\"'\",J57,\"'!\",(ADDRESS((COUNTIF($J$3:J57,IF(B57<>0,CONCATENATE(\"Auswertung \",B57,\"\"))))+2,2+1)))))=FALSE,+INDIRECT(CONCATENATE(\"'\",J57,\"'!\",(ADDRESS((COUNTIF($J$3:J57,IF(B57<>0,CONCATENATE(\"Auswertung \",B57,\"\"))))+4,2+1)))),\"\")","v":""},{"$f":"+IF(ISERROR(+INDIRECT(CONCATENATE(\"'\",J57,\"'!\",(ADDRESS((COUNTIF($J$3:J57,IF(B57<>0,CONCATENATE(\"Auswertung \",B57,\"\"))))+2,4)))))=FALSE,+INDIRECT(CONCATENATE(\"'\",J57,\"'!\",(ADDRESS((COUNTIF($J$3:J57,IF(B57<>0,CONCATENATE(\"Auswertung \",B57,\"\"))))+4,4)))),\"\")","v":""},{"$f":"+IF(ISERROR(+INDIRECT(CONCATENATE(\"'\",J57,\"'!\",(ADDRESS((COUNTIF($J$3:J57,IF(B57<>0,CONCATENATE(\"Auswertung \",B57,\"\"))))+2,5)))))=FALSE,+INDIRECT(CONCATENATE(\"'\",J57,\"'!\",(ADDRESS((COUNTIF($J$3:J57,IF(B57<>0,CONCATENATE(\"Auswertung \",B57,\"\"))))+4,5)))),\"\")","v":""},{"$f":"+IF(ISERROR(+INDIRECT(CONCATENATE(\"'\",J57,\"'!\",(ADDRESS((COUNTIF($J$3:J57,IF(B57<>0,CONCATENATE(\"Auswertung \",B57,\"\"))))+2,6)))))=FALSE,+INDIRECT(CONCATENATE(\"'\",J57,\"'!\",(ADDRESS((COUNTIF($J$3:J57,IF(B57<>0,CONCATENATE(\"Auswertung \",B57,\"\"))))+4,6)))),\"\")","v":""},{"$f":"+IF(ISERROR(+INDIRECT(CONCATENATE(\"'\",J57,\"'!\",(ADDRESS((COUNTIF($J$3:J57,IF(B57<>0,CONCATENATE(\"Auswertung \",B57,\"\"))))+2,7)))))=FALSE,+INDIRECT(CONCATENATE(\"'\",J57,\"'!\",(ADDRESS((COUNTIF($J$3:J57,IF(B57<>0,CONCATENATE(\"Auswertung \",B57,\"\"))))+4,7)))),\"\")","v":""},{"$f":"+IF(ISERROR(+INDIRECT(CONCATENATE(\"'\",J57,\"'!\",(ADDRESS((COUNTIF($J$3:J57,IF(B57<>0,CONCATENATE(\"Auswertung \",B57,\"\"))))+2,10)))))=FALSE,+INDIRECT(CONCATENATE(\"'\",J57,\"'!\",(ADDRESS((COUNTIF($J$3:J57,IF(B57<>0,CONCATENATE(\"Auswertung \",B57,\"\"))))+4,8)))),\"\")","v":""},{"$f":"+IF(ISERROR(+INDIRECT(CONCATENATE(\"'\",J57,\"'!\",(ADDRESS((COUNTIF($J$3:J57,IF(B57<>0,CONCATENATE(\"Auswertung \",B57,\"\"))))+2,11)))))=FALSE,+INDIRECT(CONCATENATE(\"'\",J57,\"'!\",(ADDRESS((COUNTIF($J$3:J57,IF(B57<>0,CONCATENATE(\"Auswertung \",B57,\"\"))))+4,9)))),\"\")","v":""},{"$f":"+IF(ISERROR(+INDIRECT(CONCATENATE(\"'\",J57,\"'!\",(ADDRESS((COUNTIF($J$3:J57,IF(B57<>0,CONCATENATE(\"Auswertung \",B57,\"\"))))+2,10)))))=FALSE,+INDIRECT(CONCATENATE(\"'\",J57,\"'!\",(ADDRESS((COUNTIF($J$3:J57,IF(B57<>0,CONCATENATE(\"Auswertung \",B57,\"\"))))+4,10)))),\"\")","v":""},{"$f":"+IF(ISERROR(+INDIRECT(CONCATENATE(\"'\",J57,\"'!\",(ADDRESS((COUNTIF($J$3:J57,IF(B57<>0,CONCATENATE(\"Auswertung \",B57,\"\"))))+2,11)))))=FALSE,+INDIRECT(CONCATENATE(\"'\",J57,\"'!\",(ADDRESS((COUNTIF($J$3:J57,IF(B57<>0,CONCATENATE(\"Auswertung \",B57,\"\"))))+4,11)))),\"\")","v":""},{"$f":"+IF(ISERROR(+INDIRECT(CONCATENATE(\"'\",J57,\"'!\",(ADDRESS((COUNTIF($J$3:J57,IF(D57<>0,CONCATENATE(\"Auswertung \",D57,\"\"))))+2,12)))))=FALSE,+INDIRECT(CONCATENATE(\"'\",J57,\"'!\",(ADDRESS((COUNTIF($J$3:J57,IF(D57<>0,CONCATENATE(\"Auswertung \",B57,\"\"))))+4,12)))),\"\")","v":""},{"$f":"+IF(ISERROR(+INDIRECT(CONCATENATE(\"'\",J57,\"'!\",(ADDRESS((COUNTIF($J$3:J57,IF(D57<>0,CONCATENATE(\"Auswertung \",D57,\"\"))))+2,13)))))=FALSE,+INDIRECT(CONCATENATE(\"'\",J57,\"'!\",(ADDRESS((COUNTIF($J$3:J57,IF(D57<>0,CONCATENATE(\"Auswertung \",B57,\"\"))))+4,13)))),\"\")","v":""},null,{"$f":"+IFERROR(INDIRECT(CONCATENATE(\"'\",J57,\"'!\",(ADDRESS((COUNTIF($J$3:J57,IF(B57<>0,J57)))+4,16)))),\"\")","v":""},21.942,{"$f":"+SUM($M$4:M57)/COUNT($M$4:M57)/1000*2","v":0.28281081081081083},{"$f":"+IFERROR(INDIRECT(CONCATENATE(\"'\",J57,\"'!\",(ADDRESS((COUNTIF($J$3:J57,IF(B57<>0,J57)))+4,18)))),\"\")","v":""},50.264000000000003,{"$f":"+IFERROR(INDIRECT(CONCATENATE(\"'\",J57,\"'!\",(ADDRESS((COUNTIF($J$3:J57,IF(B57<>0,J57)))+4,20)))),\"\")","v":""},44.247,{"$f":"+IFERROR(INDIRECT(CONCATENATE(\"'\",J57,\"'!\",(ADDRESS((COUNTIF($J$3:J57,IF(B57<>0,J57)))+4,22)))),\"\")","v":""},16.149999999999999,{"$f":"+IFERROR(INDIRECT(CONCATENATE(\"'\",J57,\"'!\",(ADDRESS((COUNTIF($J$3:J57,IF(B57<>0,J57)))+4,24)))),\"\")","v":""},-17.100999999999999,{"$f":"+IFERROR(INDIRECT(CONCATENATE(\"'\",J57,\"'!\",(ADDRESS((COUNTIF($J$3:J57,IF(B57<>0,J57)))+4,26)))),\"\")","v":""},-15.523999999999999,54,{"$f":"+SUM(COUNTIF($Z$3:Z57,1),COUNTIF($Z$3:Z57,-1))","v":37},{"$f":"+SUM($M$4:M57)","v":5232},141.40540540540542,{"$f":"+SUM(COUNTIF($Z$3:Z57,1))","v":19},{"$f":"+SUM(COUNTIF($Z$3:Z57,-1))","v":18},1,{"$f":"AN57*(HARMEAN((IF(SUM(COUNTIF($Z$3:Z57,1),COUNTIF($Z$3:Z57,-1))=0,1,SUM(COUNTIF($Z$3:Z57,1),COUNTIF($Z$3:Z57,-1)))),(IF(SUM(COUNTIF($AC$3:AC57,1),COUNTIF($AC$3:AC57,-1))=0,1,SUM(COUNTIF($AC$3:AC57,1),COUNTIF($AC$3:AC57,-1)))),(IF(SUM(COUNTIF($AE$3:AE57,1),COUNTIF($AE$3:AE57,-1))=0,1,SUM(COUNTIF($AE$3:AE57,1),COUNTIF($AE$3:AE57,-1)))),(IF(SUM(COUNTIF($AG$3:AG57,1),COUNTIF($AG$3:AG57,-1))=0,1,SUM(COUNTIF($AG$3:AG57,1),COUNTIF($AG$3:AG57,-1)))),(IF(SUM(COUNTIF($AI$3:AI57,1),COUNTIF($AI$3:AI57,-1))=0,1,SUM(COUNTIF($AI$3:AI57,1),COUNTIF($AI$3:AI57,-1)))),(IF(SUM(COUNTIF($AK$3:AK57,1),COUNTIF($AK$3:AK57,-1))=0,1,SUM(COUNTIF($AK$3:AK57,1),COUNTIF($AK$3:AK57,-1)))))/1000)","v":1.3027260075093867},21.942,null,{"$f":"+SUM(COUNTIF($AC$3:AC57,1),COUNTIF($AC$3:AC57,-1))","v":37},{"$f":"+SUM($O$4:O57)","v":5276},142.59459459459458,{"$f":"+SUM(COUNTIF($AC$3:AC57,1))","v":23},{"$f":"+SUM(COUNTIF($AC$3:AC57,-1))","v":14},9,{"$f":"AW57*(HARMEAN((IF(SUM(COUNTIF($Z$3:Z57,1),COUNTIF($Z$3:Z57,-1))=0,1,SUM(COUNTIF($Z$3:Z57,1),COUNTIF($Z$3:Z57,-1)))),(IF(SUM(COUNTIF($AC$3:AC57,1),COUNTIF($AC$3:AC57,-1))=0,1,SUM(COUNTIF($AC$3:AC57,1),COUNTIF($AC$3:AC57,-1)))),(IF(SUM(COUNTIF($AE$3:AE57,1),COUNTIF($AE$3:AE57,-1))=0,1,SUM(COUNTIF($AE$3:AE57,1),COUNTIF($AE$3:AE57,-1)))),(IF(SUM(COUNTIF($AG$3:AG57,1),COUNTIF($AG$3:AG57,-1))=0,1,SUM(COUNTIF($AG$3:AG57,1),COUNTIF($AG$3:AG57,-1)))),(IF(SUM(COUNTIF($AI$3:AI57,1),COUNTIF($AI$3:AI57,-1))=0,1,SUM(COUNTIF($AI$3:AI57,1),COUNTIF($AI$3:AI57,-1)))),(IF(SUM(COUNTIF($AK$3:AK57,1),COUNTIF($AK$3:AK57,-1))=0,1,SUM(COUNTIF($AK$3:AK57,1),COUNTIF($AK$3:AK57,-1)))))/1000)","v":1.3027260075093867},50.264000000000003,null,{"$f":"+SUM(COUNTIF($AE$3:AE57,1),COUNTIF(AE$3:$AE57,-1))","v":36},{"$f":"+SUM($Q$4:Q57)","v":4567},126.86111111111111,{"$f":"+SUM(COUNTIF($AE$3:AE57,1))","v":22},{"$f":"+SUM(COUNTIF($AE$3:AE57,-1))","v":14},8,{"$f":"BF57*(HARMEAN((IF(SUM(COUNTIF($Z$3:Z57,1),COUNTIF($Z$3:Z57,-1))=0,1,SUM(COUNTIF($Z$3:Z57,1),COUNTIF($Z$3:Z57,-1)))),(IF(SUM(COUNTIF($AC$3:AC57,1),COUNTIF($AC$3:AC57,-1))=0,1,SUM(COUNTIF($AC$3:AC57,1),COUNTIF($AC$3:AC57,-1)))),(IF(SUM(COUNTIF($AE$3:AE57,1),COUNTIF($AE$3:AE57,-1))=0,1,SUM(COUNTIF($AE$3:AE57,1),COUNTIF($AE$3:AE57,-1)))),(IF(SUM(COUNTIF($AG$3:AG57,1),COUNTIF($AG$3:AG57,-1))=0,1,SUM(COUNTIF($AG$3:AG57,1),COUNTIF($AG$3:AG57,-1)))),(IF(SUM(COUNTIF($AI$3:AI57,1),COUNTIF($AI$3:AI57,-1))=0,1,SUM(COUNTIF($AI$3:AI57,1),COUNTIF($AI$3:AI57,-1)))),(IF(SUM(COUNTIF($AK$3:AK57,1),COUNTIF($AK$3:AK57,-1))=0,1,SUM(COUNTIF($AK$3:AK57,1),COUNTIF($AK$3:AK57,-1)))))/1000)","v":1.2675171964956196},44.247,null,{"$f":"+SUM(COUNTIF($AG$3:AG57,1),COUNTIF($AG$3:AG57,-1))","v":37},{"$f":"+SUM($S$4:S57)","v":5587},151,{"$f":"+SUM(COUNTIF($AG$3:AG57,1))","v":18},{"$f":"+SUM(COUNTIF($AG$3:AG57,-1))","v":19},-1,{"$f":"BO57*(HARMEAN((IF(SUM(COUNTIF($Z$3:Z57,1),COUNTIF($Z$3:Z57,-1))=0,1,SUM(COUNTIF($Z$3:Z57,1),COUNTIF($Z$3:Z57,-1)))),(IF(SUM(COUNTIF($AC$3:AC57,1),COUNTIF($AC$3:AC57,-1))=0,1,SUM(COUNTIF($AC$3:AC57,1),COUNTIF($AC$3:AC57,-1)))),(IF(SUM(COUNTIF($AE$3:AE57,1),COUNTIF($AE$3:AE57,-1))=0,1,SUM(COUNTIF($AE$3:AE57,1),COUNTIF($AE$3:AE57,-1)))),(IF(SUM(COUNTIF($AG$3:AG57,1),COUNTIF($AG$3:AG57,-1))=0,1,SUM(COUNTIF($AG$3:AG57,1),COUNTIF($AG$3:AG57,-1)))),(IF(SUM(COUNTIF($AI$3:AI57,1),COUNTIF($AI$3:AI57,-1))=0,1,SUM(COUNTIF($AI$3:AI57,1),COUNTIF($AI$3:AI57,-1)))),(IF(SUM(COUNTIF($AK$3:AK57,1),COUNTIF($AK$3:AK57,-1))=0,1,SUM(COUNTIF($AK$3:AK57,1),COUNTIF($AK$3:AK57,-1)))))/1000)","v":1.3027260075093867},16.149999999999999,null,{"$f":"+SUM(COUNTIF($AI$3:AI57,1),COUNTIF($AI$3:AI57,-1))","v":33},{"$f":"+SUM($U$4:U57)","v":4143},125.54545454545455,{"$f":"+SUM(COUNTIF($AI$3:AI57,1))","v":12},{"$f":"+SUM(COUNTIF($AI$3:AI57,-1))","v":21},-9,{"$f":"+BX57*(HARMEAN((IF(SUM(COUNTIF($Z$3:Z57,1),COUNTIF($Z$3:Z57,-1))=0,1,SUM(COUNTIF($Z$3:Z57,1),COUNTIF($Z$3:Z57,-1)))),(IF(SUM(COUNTIF($AC$3:AC57,1),COUNTIF($AC$3:AC57,-1))=0,1,SUM(COUNTIF($AC$3:AC57,1),COUNTIF($AC$3:AC57,-1)))),(IF(SUM(COUNTIF($AE$3:AE57,1),COUNTIF($AE$3:AE57,-1))=0,1,SUM(COUNTIF($AE$3:AE57,1),COUNTIF($AE$3:AE57,-1)))),(IF(SUM(COUNTIF($AG$3:AG57,1),COUNTIF($AG$3:AG57,-1))=0,1,SUM(COUNTIF($AG$3:AG57,1),COUNTIF($AG$3:AG57,-1)))),(IF(SUM(COUNTIF($AI$3:AI57,1),COUNTIF($AI$3:AI57,-1))=0,1,SUM(COUNTIF($AI$3:AI57,1),COUNTIF($AI$3:AI57,-1)))),(IF(SUM(COUNTIF($AK$3:AK57,1),COUNTIF($AK$3:AK57,-1))=0,1,SUM(COUNTIF($AK$3:AK57,1),COUNTIF($AK$3:AK57,-1)))))/1000)","v":1.1618907634543179},-17.100999999999999,null,{"$f":"+SUM(COUNTIF($AK$3:AK57,1),COUNTIF($AK$3:AK57,-1))","v":32},{"$f":"+SUM($W$4:W57)","v":3591},112.21875,{"$f":"+SUM(COUNTIF($AK$3:AK57,1))","v":12},{"$f":"+SUM(COUNTIF($AK$3:AK57,-1))","v":20},-8,{"$f":"+CG57*(HARMEAN((IF(SUM(COUNTIF($Z$3:Z57,1),COUNTIF($Z$3:Z57,-1))=0,1,SUM(COUNTIF($Z$3:Z57,1),COUNTIF($Z$3:Z57,-1)))),(IF(SUM(COUNTIF($AC$3:AC57,1),COUNTIF($AC$3:AC57,-1))=0,1,SUM(COUNTIF($AC$3:AC57,1),COUNTIF($AC$3:AC57,-1)))),(IF(SUM(COUNTIF($AE$3:AE57,1),COUNTIF($AE$3:AE57,-1))=0,1,SUM(COUNTIF($AE$3:AE57,1),COUNTIF($AE$3:AE57,-1)))),(IF(SUM(COUNTIF($AG$3:AG57,1),COUNTIF($AG$3:AG57,-1))=0,1,SUM(COUNTIF($AG$3:AG57,1),COUNTIF($AG$3:AG57,-1)))),(IF(SUM(COUNTIF($AI$3:AI57,1),COUNTIF($AI$3:AI57,-1))=0,1,SUM(COUNTIF($AI$3:AI57,1),COUNTIF($AI$3:AI57,-1)))),(IF(SUM(COUNTIF($AK$3:AK57,1),COUNTIF($AK$3:AK57,-1))=0,1,SUM(COUNTIF($AK$3:AK57,1),COUNTIF($AK$3:AK57,-1)))))/1000)","v":1.1266819524405507},-15.523999999999999]
[55,"",null,{"$f":"+IFERROR(INDEX('Auswertung AoE II'!$AE:$AE,MATCH(A58,'Auswertung AoE II'!$AD:$AD,0)),\"\")","v":""},{"$f":"+IFERROR(INDEX('Auswertung AoE III'!$AE:$AE,MATCH(A58,'Auswertung AoE III'!$AD:$AD,0)),\"\")","v":""},{"$f":"+IFERROR(INDEX('Auswertung AoM'!$AE:$AE,MATCH(A58,'Auswertung AoM'!$AD:$AD,0)),\"\")","v":""},{"$f":"+IFERROR(INDEX('Auswertung RA'!$AE:$AE,MATCH(A58,'Auswertung RA'!$AD:$AD,0)),\"\")","v":""},{"$f":"+IFERROR(INDEX('Auswertung Yuri'!$AE:$AE,MATCH(A58,'Auswertung Yuri'!$AD:$AD,0)),\"\")","v":""},{"$f":"+IFERROR(INDEX('Auswertung Generals'!$AE:$AE,MATCH(A58,'Auswertung Generals'!$AD:$AD,0)),\"\")","v":""},"Auswertung ",null,null,{"$f":"+IF(ISERROR(+INDIRECT(CONCATENATE(\"'\",J58,\"'!\",(ADDRESS((COUNTIF($J$3:J58,IF(B58<>0,CONCATENATE(\"Auswertung \",B58,\"\"))))+2,2)))))=FALSE,+INDIRECT(CONCATENATE(\"'\",J58,\"'!\",(ADDRESS((COUNTIF($J$3:J58,IF(B58<>0,CONCATENATE(\"Auswertung \",B58,\"\"))))+4,2)))),\"\")","v":""},{"$f":"IF(ISERROR(+INDIRECT(CONCATENATE(\"'\",J58,\"'!\",(ADDRESS((COUNTIF($J$3:J58,IF(B58<>0,CONCATENATE(\"Auswertung \",B58,\"\"))))+2,2+1)))))=FALSE,+INDIRECT(CONCATENATE(\"'\",J58,\"'!\",(ADDRESS((COUNTIF($J$3:J58,IF(B58<>0,CONCATENATE(\"Auswertung \",B58,\"\"))))+4,2+1)))),\"\")","v":""},{"$f":"+IF(ISERROR(+INDIRECT(CONCATENATE(\"'\",J58,\"'!\",(ADDRESS((COUNTIF($J$3:J58,IF(B58<>0,CONCATENATE(\"Auswertung \",B58,\"\"))))+2,4)))))=FALSE,+INDIRECT(CONCATENATE(\"'\",J58,\"'!\",(ADDRESS((COUNTIF($J$3:J58,IF(B58<>0,CONCATENATE(\"Auswertung \",B58,\"\"))))+4,4)))),\"\")","v":""},{"$f":"+IF(ISERROR(+INDIRECT(CONCATENATE(\"'\",J58,\"'!\",(ADDRESS((COUNTIF($J$3:J58,IF(B58<>0,CONCATENATE(\"Auswertung \",B58,\"\"))))+2,5)))))=FALSE,+INDIRECT(CONCATENATE(\"'\",J58,\"'!\",(ADDRESS((COUNTIF($J$3:J58,IF(B58<>0,CONCATENATE(\"Auswertung \",B58,\"\"))))+4,5)))),\"\")","v":""},{"$f":"+IF(ISERROR(+INDIRECT(CONCATENATE(\"'\",J58,\"'!\",(ADDRESS((COUNTIF($J$3:J58,IF(B58<>0,CONCATENATE(\"Auswertung \",B58,\"\"))))+2,6)))))=FALSE,+INDIRECT(CONCATENATE(\"'\",J58,\"'!\",(ADDRESS((COUNTIF($J$3:J58,IF(B58<>0,CONCATENATE(\"Auswertung \",B58,\"\"))))+4,6)))),\"\")","v":""},{"$f":"+IF(ISERROR(+INDIRECT(CONCATENATE(\"'\",J58,\"'!\",(ADDRESS((COUNTIF($J$3:J58,IF(B58<>0,CONCATENATE(\"Auswertung \",B58,\"\"))))+2,7)))))=FALSE,+INDIRECT(CONCATENATE(\"'\",J58,\"'!\",(ADDRESS((COUNTIF($J$3:J58,IF(B58<>0,CONCATENATE(\"Auswertung \",B58,\"\"))))+4,7)))),\"\")","v":""},{"$f":"+IF(ISERROR(+INDIRECT(CONCATENATE(\"'\",J58,\"'!\",(ADDRESS((COUNTIF($J$3:J58,IF(B58<>0,CONCATENATE(\"Auswertung \",B58,\"\"))))+2,10)))))=FALSE,+INDIRECT(CONCATENATE(\"'\",J58,\"'!\",(ADDRESS((COUNTIF($J$3:J58,IF(B58<>0,CONCATENATE(\"Auswertung \",B58,\"\"))))+4,8)))),\"\")","v":""},{"$f":"+IF(ISERROR(+INDIRECT(CONCATENATE(\"'\",J58,\"'!\",(ADDRESS((COUNTIF($J$3:J58,IF(B58<>0,CONCATENATE(\"Auswertung \",B58,\"\"))))+2,11)))))=FALSE,+INDIRECT(CONCATENATE(\"'\",J58,\"'!\",(ADDRESS((COUNTIF($J$3:J58,IF(B58<>0,CONCATENATE(\"Auswertung \",B58,\"\"))))+4,9)))),\"\")","v":""},{"$f":"+IF(ISERROR(+INDIRECT(CONCATENATE(\"'\",J58,\"'!\",(ADDRESS((COUNTIF($J$3:J58,IF(B58<>0,CONCATENATE(\"Auswertung \",B58,\"\"))))+2,10)))))=FALSE,+INDIRECT(CONCATENATE(\"'\",J58,\"'!\",(ADDRESS((COUNTIF($J$3:J58,IF(B58<>0,CONCATENATE(\"Auswertung \",B58,\"\"))))+4,10)))),\"\")","v":""},{"$f":"+IF(ISERROR(+INDIRECT(CONCATENATE(\"'\",J58,\"'!\",(ADDRESS((COUNTIF($J$3:J58,IF(B58<>0,CONCATENATE(\"Auswertung \",B58,\"\"))))+2,11)))))=FALSE,+INDIRECT(CONCATENATE(\"'\",J58,\"'!\",(ADDRESS((COUNTIF($J$3:J58,IF(B58<>0,CONCATENATE(\"Auswertung \",B58,\"\"))))+4,11)))),\"\")","v":""},{"$f":"+IF(ISERROR(+INDIRECT(CONCATENATE(\"'\",J58,\"'!\",(ADDRESS((COUNTIF($J$3:J58,IF(D58<>0,CONCATENATE(\"Auswertung \",D58,\"\"))))+2,12)))))=FALSE,+INDIRECT(CONCATENATE(\"'\",J58,\"'!\",(ADDRESS((COUNTIF($J$3:J58,IF(D58<>0,CONCATENATE(\"Auswertung \",B58,\"\"))))+4,12)))),\"\")","v":""},{"$f":"+IF(ISERROR(+INDIRECT(CONCATENATE(\"'\",J58,\"'!\",(ADDRESS((COUNTIF($J$3:J58,IF(D58<>0,CONCATENATE(\"Auswertung \",D58,\"\"))))+2,13)))))=FALSE,+INDIRECT(CONCATENATE(\"'\",J58,\"'!\",(ADDRESS((COUNTIF($J$3:J58,IF(D58<>0,CONCATENATE(\"Auswertung \",B58,\"\"))))+4,13)))),\"\")","v":""},null,{"$f":"+IFERROR(INDIRECT(CONCATENATE(\"'\",J58,\"'!\",(ADDRESS((COUNTIF($J$3:J58,IF(B58<>0,J58)))+4,16)))),\"\")","v":""},21.942,{"$f":"+SUM($M$4:M58)/COUNT($M$4:M58)/1000*2","v":0.28281081081081083},{"$f":"+IFERROR(INDIRECT(CONCATENATE(\"'\",J58,\"'!\",(ADDRESS((COUNTIF($J$3:J58,IF(B58<>0,J58)))+4,18)))),\"\")","v":""},50.264000000000003,{"$f":"+IFERROR(INDIRECT(CONCATENATE(\"'\",J58,\"'!\",(ADDRESS((COUNTIF($J$3:J58,IF(B58<>0,J58)))+4,20)))),\"\")","v":""},44.247,{"$f":"+IFERROR(INDIRECT(CONCATENATE(\"'\",J58,\"'!\",(ADDRESS((COUNTIF($J$3:J58,IF(B58<>0,J58)))+4,22)))),\"\")","v":""},16.149999999999999,{"$f":"+IFERROR(INDIRECT(CONCATENATE(\"'\",J58,\"'!\",(ADDRESS((COUNTIF($J$3:J58,IF(B58<>0,J58)))+4,24)))),\"\")","v":""},-17.100999999999999,{"$f":"+IFERROR(INDIRECT(CONCATENATE(\"'\",J58,\"'!\",(ADDRESS((COUNTIF($J$3:J58,IF(B58<>0,J58)))+4,26)))),\"\")","v":""},-15.523999999999999,55,{"$f":"+SUM(COUNTIF($Z$3:Z58,1),COUNTIF($Z$3:Z58,-1))","v":37},{"$f":"+SUM($M$4:M58)","v":5232},141.40540540540542,{"$f":"+SUM(COUNTIF($Z$3:Z58,1))","v":19},{"$f":"+SUM(COUNTIF($Z$3:Z58,-1))","v":18},1,{"$f":"AN58*(HARMEAN((IF(SUM(COUNTIF($Z$3:Z58,1),COUNTIF($Z$3:Z58,-1))=0,1,SUM(COUNTIF($Z$3:Z58,1),COUNTIF($Z$3:Z58,-1)))),(IF(SUM(COUNTIF($AC$3:AC58,1),COUNTIF($AC$3:AC58,-1))=0,1,SUM(COUNTIF($AC$3:AC58,1),COUNTIF($AC$3:AC58,-1)))),(IF(SUM(COUNTIF($AE$3:AE58,1),COUNTIF($AE$3:AE58,-1))=0,1,SUM(COUNTIF($AE$3:AE58,1),COUNTIF($AE$3:AE58,-1)))),(IF(SUM(COUNTIF($AG$3:AG58,1),COUNTIF($AG$3:AG58,-1))=0,1,SUM(COUNTIF($AG$3:AG58,1),COUNTIF($AG$3:AG58,-1)))),(IF(SUM(COUNTIF($AI$3:AI58,1),COUNTIF($AI$3:AI58,-1))=0,1,SUM(COUNTIF($AI$3:AI58,1),COUNTIF($AI$3:AI58,-1)))),(IF(SUM(COUNTIF($AK$3:AK58,1),COUNTIF($AK$3:AK58,-1))=0,1,SUM(COUNTIF($AK$3:AK58,1),COUNTIF($AK$3:AK58,-1)))))/1000)","v":1.3027260075093867},21.942,null,{"$f":"+SUM(COUNTIF($AC$3:AC58,1),COUNTIF($AC$3:AC58,-1))","v":37},{"$f":"+SUM($O$4:O58)","v":5276},142.59459459459458,{"$f":"+SUM(COUNTIF($AC$3:AC58,1))","v":23},{"$f":"+SUM(COUNTIF($AC$3:AC58,-1))","v":14},9,{"$f":"AW58*(HARMEAN((IF(SUM(COUNTIF($Z$3:Z58,1),COUNTIF($Z$3:Z58,-1))=0,1,SUM(COUNTIF($Z$3:Z58,1),COUNTIF($Z$3:Z58,-1)))),(IF(SUM(COUNTIF($AC$3:AC58,1),COUNTIF($AC$3:AC58,-1))=0,1,SUM(COUNTIF($AC$3:AC58,1),COUNTIF($AC$3:AC58,-1)))),(IF(SUM(COUNTIF($AE$3:AE58,1),COUNTIF($AE$3:AE58,-1))=0,1,SUM(COUNTIF($AE$3:AE58,1),COUNTIF($AE$3:AE58,-1)))),(IF(SUM(COUNTIF($AG$3:AG58,1),COUNTIF($AG$3:AG58,-1))=0,1,SUM(COUNTIF($AG$3:AG58,1),COUNTIF($AG$3:AG58,-1)))),(IF(SUM(COUNTIF($AI$3:AI58,1),COUNTIF($AI$3:AI58,-1))=0,1,SUM(COUNTIF($AI$3:AI58,1),COUNTIF($AI$3:AI58,-1)))),(IF(SUM(COUNTIF($AK$3:AK58,1),COUNTIF($AK$3:AK58,-1))=0,1,SUM(COUNTIF($AK$3:AK58,1),COUNTIF($AK$3:AK58,-1)))))/1000)","v":1.3027260075093867},50.264000000000003,null,{"$f":"+SUM(COUNTIF($AE$3:AE58,1),COUNTIF(AE$3:$AE58,-1))","v":36},{"$f":"+SUM($Q$4:Q58)","v":4567},126.86111111111111,{"$f":"+SUM(COUNTIF($AE$3:AE58,1))","v":22},{"$f":"+SUM(COUNTIF($AE$3:AE58,-1))","v":14},8,{"$f":"BF58*(HARMEAN((IF(SUM(COUNTIF($Z$3:Z58,1),COUNTIF($Z$3:Z58,-1))=0,1,SUM(COUNTIF($Z$3:Z58,1),COUNTIF($Z$3:Z58,-1)))),(IF(SUM(COUNTIF($AC$3:AC58,1),COUNTIF($AC$3:AC58,-1))=0,1,SUM(COUNTIF($AC$3:AC58,1),COUNTIF($AC$3:AC58,-1)))),(IF(SUM(COUNTIF($AE$3:AE58,1),COUNTIF($AE$3:AE58,-1))=0,1,SUM(COUNTIF($AE$3:AE58,1),COUNTIF($AE$3:AE58,-1)))),(IF(SUM(COUNTIF($AG$3:AG58,1),COUNTIF($AG$3:AG58,-1))=0,1,SUM(COUNTIF($AG$3:AG58,1),COUNTIF($AG$3:AG58,-1)))),(IF(SUM(COUNTIF($AI$3:AI58,1),COUNTIF($AI$3:AI58,-1))=0,1,SUM(COUNTIF($AI$3:AI58,1),COUNTIF($AI$3:AI58,-1)))),(IF(SUM(COUNTIF($AK$3:AK58,1),COUNTIF($AK$3:AK58,-1))=0,1,SUM(COUNTIF($AK$3:AK58,1),COUNTIF($AK$3:AK58,-1)))))/1000)","v":1.2675171964956196},44.247,null,{"$f":"+SUM(COUNTIF($AG$3:AG58,1),COUNTIF($AG$3:AG58,-1))","v":37},{"$f":"+SUM($S$4:S58)","v":5587},151,{"$f":"+SUM(COUNTIF($AG$3:AG58,1))","v":18},{"$f":"+SUM(COUNTIF($AG$3:AG58,-1))","v":19},-1,{"$f":"BO58*(HARMEAN((IF(SUM(COUNTIF($Z$3:Z58,1),COUNTIF($Z$3:Z58,-1))=0,1,SUM(COUNTIF($Z$3:Z58,1),COUNTIF($Z$3:Z58,-1)))),(IF(SUM(COUNTIF($AC$3:AC58,1),COUNTIF($AC$3:AC58,-1))=0,1,SUM(COUNTIF($AC$3:AC58,1),COUNTIF($AC$3:AC58,-1)))),(IF(SUM(COUNTIF($AE$3:AE58,1),COUNTIF($AE$3:AE58,-1))=0,1,SUM(COUNTIF($AE$3:AE58,1),COUNTIF($AE$3:AE58,-1)))),(IF(SUM(COUNTIF($AG$3:AG58,1),COUNTIF($AG$3:AG58,-1))=0,1,SUM(COUNTIF($AG$3:AG58,1),COUNTIF($AG$3:AG58,-1)))),(IF(SUM(COUNTIF($AI$3:AI58,1),COUNTIF($AI$3:AI58,-1))=0,1,SUM(COUNTIF($AI$3:AI58,1),COUNTIF($AI$3:AI58,-1)))),(IF(SUM(COUNTIF($AK$3:AK58,1),COUNTIF($AK$3:AK58,-1))=0,1,SUM(COUNTIF($AK$3:AK58,1),COUNTIF($AK$3:AK58,-1)))))/1000)","v":1.3027260075093867},16.149999999999999,null,{"$f":"+SUM(COUNTIF($AI$3:AI58,1),COUNTIF($AI$3:AI58,-1))","v":33},{"$f":"+SUM($U$4:U58)","v":4143},125.54545454545455,{"$f":"+SUM(COUNTIF($AI$3:AI58,1))","v":12},{"$f":"+SUM(COUNTIF($AI$3:AI58,-1))","v":21},-9,{"$f":"+BX58*(HARMEAN((IF(SUM(COUNTIF($Z$3:Z58,1),COUNTIF($Z$3:Z58,-1))=0,1,SUM(COUNTIF($Z$3:Z58,1),COUNTIF($Z$3:Z58,-1)))),(IF(SUM(COUNTIF($AC$3:AC58,1),COUNTIF($AC$3:AC58,-1))=0,1,SUM(COUNTIF($AC$3:AC58,1),COUNTIF($AC$3:AC58,-1)))),(IF(SUM(COUNTIF($AE$3:AE58,1),COUNTIF($AE$3:AE58,-1))=0,1,SUM(COUNTIF($AE$3:AE58,1),COUNTIF($AE$3:AE58,-1)))),(IF(SUM(COUNTIF($AG$3:AG58,1),COUNTIF($AG$3:AG58,-1))=0,1,SUM(COUNTIF($AG$3:AG58,1),COUNTIF($AG$3:AG58,-1)))),(IF(SUM(COUNTIF($AI$3:AI58,1),COUNTIF($AI$3:AI58,-1))=0,1,SUM(COUNTIF($AI$3:AI58,1),COUNTIF($AI$3:AI58,-1)))),(IF(SUM(COUNTIF($AK$3:AK58,1),COUNTIF($AK$3:AK58,-1))=0,1,SUM(COUNTIF($AK$3:AK58,1),COUNTIF($AK$3:AK58,-1)))))/1000)","v":1.1618907634543179},-17.100999999999999,null,{"$f":"+SUM(COUNTIF($AK$3:AK58,1),COUNTIF($AK$3:AK58,-1))","v":32},{"$f":"+SUM($W$4:W58)","v":3591},112.21875,{"$f":"+SUM(COUNTIF($AK$3:AK58,1))","v":12},{"$f":"+SUM(COUNTIF($AK$3:AK58,-1))","v":20},-8,{"$f":"+CG58*(HARMEAN((IF(SUM(COUNTIF($Z$3:Z58,1),COUNTIF($Z$3:Z58,-1))=0,1,SUM(COUNTIF($Z$3:Z58,1),COUNTIF($Z$3:Z58,-1)))),(IF(SUM(COUNTIF($AC$3:AC58,1),COUNTIF($AC$3:AC58,-1))=0,1,SUM(COUNTIF($AC$3:AC58,1),COUNTIF($AC$3:AC58,-1)))),(IF(SUM(COUNTIF($AE$3:AE58,1),COUNTIF($AE$3:AE58,-1))=0,1,SUM(COUNTIF($AE$3:AE58,1),COUNTIF($AE$3:AE58,-1)))),(IF(SUM(COUNTIF($AG$3:AG58,1),COUNTIF($AG$3:AG58,-1))=0,1,SUM(COUNTIF($AG$3:AG58,1),COUNTIF($AG$3:AG58,-1)))),(IF(SUM(COUNTIF($AI$3:AI58,1),COUNTIF($AI$3:AI58,-1))=0,1,SUM(COUNTIF($AI$3:AI58,1),COUNTIF($AI$3:AI58,-1)))),(IF(SUM(COUNTIF($AK$3:AK58,1),COUNTIF($AK$3:AK58,-1))=0,1,SUM(COUNTIF($AK$3:AK58,1),COUNTIF($AK$3:AK58,-1)))))/1000)","v":1.1266819524405507},-15.523999999999999]
[56,"",null,{"$f":"+IFERROR(INDEX('Auswertung AoE II'!$AE:$AE,MATCH(A59,'Auswertung AoE II'!$AD:$AD,0)),\"\")","v":""},{"$f":"+IFERROR(INDEX('Auswertung AoE III'!$AE:$AE,MATCH(A59,'Auswertung AoE III'!$AD:$AD,0)),\"\")","v":""},{"$f":"+IFERROR(INDEX('Auswertung AoM'!$AE:$AE,MATCH(A59,'Auswertung AoM'!$AD:$AD,0)),\"\")","v":""},{"$f":"+IFERROR(INDEX('Auswertung RA'!$AE:$AE,MATCH(A59,'Auswertung RA'!$AD:$AD,0)),\"\")","v":""},{"$f":"+IFERROR(INDEX('Auswertung Yuri'!$AE:$AE,MATCH(A59,'Auswertung Yuri'!$AD:$AD,0)),\"\")","v":""},{"$f":"+IFERROR(INDEX('Auswertung Generals'!$AE:$AE,MATCH(A59,'Auswertung Generals'!$AD:$AD,0)),\"\")","v":""},"Auswertung ",null,null,{"$f":"+IF(ISERROR(+INDIRECT(CONCATENATE(\"'\",J59,\"'!\",(ADDRESS((COUNTIF($J$3:J59,IF(B59<>0,CONCATENATE(\"Auswertung \",B59,\"\"))))+2,2)))))=FALSE,+INDIRECT(CONCATENATE(\"'\",J59,\"'!\",(ADDRESS((COUNTIF($J$3:J59,IF(B59<>0,CONCATENATE(\"Auswertung \",B59,\"\"))))+4,2)))),\"\")","v":""},{"$f":"IF(ISERROR(+INDIRECT(CONCATENATE(\"'\",J59,\"'!\",(ADDRESS((COUNTIF($J$3:J59,IF(B59<>0,CONCATENATE(\"Auswertung \",B59,\"\"))))+2,2+1)))))=FALSE,+INDIRECT(CONCATENATE(\"'\",J59,\"'!\",(ADDRESS((COUNTIF($J$3:J59,IF(B59<>0,CONCATENATE(\"Auswertung \",B59,\"\"))))+4,2+1)))),\"\")","v":""},{"$f":"+IF(ISERROR(+INDIRECT(CONCATENATE(\"'\",J59,\"'!\",(ADDRESS((COUNTIF($J$3:J59,IF(B59<>0,CONCATENATE(\"Auswertung \",B59,\"\"))))+2,4)))))=FALSE,+INDIRECT(CONCATENATE(\"'\",J59,\"'!\",(ADDRESS((COUNTIF($J$3:J59,IF(B59<>0,CONCATENATE(\"Auswertung \",B59,\"\"))))+4,4)))),\"\")","v":""},{"$f":"+IF(ISERROR(+INDIRECT(CONCATENATE(\"'\",J59,\"'!\",(ADDRESS((COUNTIF($J$3:J59,IF(B59<>0,CONCATENATE(\"Auswertung \",B59,\"\"))))+2,5)))))=FALSE,+INDIRECT(CONCATENATE(\"'\",J59,\"'!\",(ADDRESS((COUNTIF($J$3:J59,IF(B59<>0,CONCATENATE(\"Auswertung \",B59,\"\"))))+4,5)))),\"\")","v":""},{"$f":"+IF(ISERROR(+INDIRECT(CONCATENATE(\"'\",J59,\"'!\",(ADDRESS((COUNTIF($J$3:J59,IF(B59<>0,CONCATENATE(\"Auswertung \",B59,\"\"))))+2,6)))))=FALSE,+INDIRECT(CONCATENATE(\"'\",J59,\"'!\",(ADDRESS((COUNTIF($J$3:J59,IF(B59<>0,CONCATENATE(\"Auswertung \",B59,\"\"))))+4,6)))),\"\")","v":""},{"$f":"+IF(ISERROR(+INDIRECT(CONCATENATE(\"'\",J59,\"'!\",(ADDRESS((COUNTIF($J$3:J59,IF(B59<>0,CONCATENATE(\"Auswertung \",B59,\"\"))))+2,7)))))=FALSE,+INDIRECT(CONCATENATE(\"'\",J59,\"'!\",(ADDRESS((COUNTIF($J$3:J59,IF(B59<>0,CONCATENATE(\"Auswertung \",B59,\"\"))))+4,7)))),\"\")","v":""},{"$f":"+IF(ISERROR(+INDIRECT(CONCATENATE(\"'\",J59,\"'!\",(ADDRESS((COUNTIF($J$3:J59,IF(B59<>0,CONCATENATE(\"Auswertung \",B59,\"\"))))+2,10)))))=FALSE,+INDIRECT(CONCATENATE(\"'\",J59,\"'!\",(ADDRESS((COUNTIF($J$3:J59,IF(B59<>0,CONCATENATE(\"Auswertung \",B59,\"\"))))+4,8)))),\"\")","v":""},{"$f":"+IF(ISERROR(+INDIRECT(CONCATENATE(\"'\",J59,\"'!\",(ADDRESS((COUNTIF($J$3:J59,IF(B59<>0,CONCATENATE(\"Auswertung \",B59,\"\"))))+2,11)))))=FALSE,+INDIRECT(CONCATENATE(\"'\",J59,\"'!\",(ADDRESS((COUNTIF($J$3:J59,IF(B59<>0,CONCATENATE(\"Auswertung \",B59,\"\"))))+4,9)))),\"\")","v":""},{"$f":"+IF(ISERROR(+INDIRECT(CONCATENATE(\"'\",J59,\"'!\",(ADDRESS((COUNTIF($J$3:J59,IF(B59<>0,CONCATENATE(\"Auswertung \",B59,\"\"))))+2,10)))))=FALSE,+INDIRECT(CONCATENATE(\"'\",J59,\"'!\",(ADDRESS((COUNTIF($J$3:J59,IF(B59<>0,CONCATENATE(\"Auswertung \",B59,\"\"))))+4,10)))),\"\")","v":""},{"$f":"+IF(ISERROR(+INDIRECT(CONCATENATE(\"'\",J59,\"'!\",(ADDRESS((COUNTIF($J$3:J59,IF(B59<>0,CONCATENATE(\"Auswertung \",B59,\"\"))))+2,11)))))=FALSE,+INDIRECT(CONCATENATE(\"'\",J59,\"'!\",(ADDRESS((COUNTIF($J$3:J59,IF(B59<>0,CONCATENATE(\"Auswertung \",B59,\"\"))))+4,11)))),\"\")","v":""},{"$f":"+IF(ISERROR(+INDIRECT(CONCATENATE(\"'\",J59,\"'!\",(ADDRESS((COUNTIF($J$3:J59,IF(D59<>0,CONCATENATE(\"Auswertung \",D59,\"\"))))+2,12)))))=FALSE,+INDIRECT(CONCATENATE(\"'\",J59,\"'!\",(ADDRESS((COUNTIF($J$3:J59,IF(D59<>0,CONCATENATE(\"Auswertung \",B59,\"\"))))+4,12)))),\"\")","v":""},{"$f":"+IF(ISERROR(+INDIRECT(CONCATENATE(\"'\",J59,\"'!\",(ADDRESS((COUNTIF($J$3:J59,IF(D59<>0,CONCATENATE(\"Auswertung \",D59,\"\"))))+2,13)))))=FALSE,+INDIRECT(CONCATENATE(\"'\",J59,\"'!\",(ADDRESS((COUNTIF($J$3:J59,IF(D59<>0,CONCATENATE(\"Auswertung \",B59,\"\"))))+4,13)))),\"\")","v":""},null,{"$f":"+IFERROR(INDIRECT(CONCATENATE(\"'\",J59,\"'!\",(ADDRESS((COUNTIF($J$3:J59,IF(B59<>0,J59)))+4,16)))),\"\")","v":""},21.942,{"$f":"+SUM($M$4:M59)/COUNT($M$4:M59)/1000*2","v":0.28281081081081083},{"$f":"+IFERROR(INDIRECT(CONCATENATE(\"'\",J59,\"'!\",(ADDRESS((COUNTIF($J$3:J59,IF(B59<>0,J59)))+4,18)))),\"\")","v":""},50.264000000000003,{"$f":"+IFERROR(INDIRECT(CONCATENATE(\"'\",J59,\"'!\",(ADDRESS((COUNTIF($J$3:J59,IF(B59<>0,J59)))+4,20)))),\"\")","v":""},44.247,{"$f":"+IFERROR(INDIRECT(CONCATENATE(\"'\",J59,\"'!\",(ADDRESS((COUNTIF($J$3:J59,IF(B59<>0,J59)))+4,22)))),\"\")","v":""},16.149999999999999,{"$f":"+IFERROR(INDIRECT(CONCATENATE(\"'\",J59,\"'!\",(ADDRESS((COUNTIF($J$3:J59,IF(B59<>0,J59)))+4,24)))),\"\")","v":""},-17.100999999999999,{"$f":"+IFERROR(INDIRECT(CONCATENATE(\"'\",J59,\"'!\",(ADDRESS((COUNTIF($J$3:J59,IF(B59<>0,J59)))+4,26)))),\"\")","v":""},-15.523999999999999,56,{"$f":"+SUM(COUNTIF($Z$3:Z59,1),COUNTIF($Z$3:Z59,-1))","v":37},{"$f":"+SUM($M$4:M59)","v":5232},141.40540540540542,{"$f":"+SUM(COUNTIF($Z$3:Z59,1))","v":19},{"$f":"+SUM(COUNTIF($Z$3:Z59,-1))","v":18},1,{"$f":"AN59*(HARMEAN((IF(SUM(COUNTIF($Z$3:Z59,1),COUNTIF($Z$3:Z59,-1))=0,1,SUM(COUNTIF($Z$3:Z59,1),COUNTIF($Z$3:Z59,-1)))),(IF(SUM(COUNTIF($AC$3:AC59,1),COUNTIF($AC$3:AC59,-1))=0,1,SUM(COUNTIF($AC$3:AC59,1),COUNTIF($AC$3:AC59,-1)))),(IF(SUM(COUNTIF($AE$3:AE59,1),COUNTIF($AE$3:AE59,-1))=0,1,SUM(COUNTIF($AE$3:AE59,1),COUNTIF($AE$3:AE59,-1)))),(IF(SUM(COUNTIF($AG$3:AG59,1),COUNTIF($AG$3:AG59,-1))=0,1,SUM(COUNTIF($AG$3:AG59,1),COUNTIF($AG$3:AG59,-1)))),(IF(SUM(COUNTIF($AI$3:AI59,1),COUNTIF($AI$3:AI59,-1))=0,1,SUM(COUNTIF($AI$3:AI59,1),COUNTIF($AI$3:AI59,-1)))),(IF(SUM(COUNTIF($AK$3:AK59,1),COUNTIF($AK$3:AK59,-1))=0,1,SUM(COUNTIF($AK$3:AK59,1),COUNTIF($AK$3:AK59,-1)))))/1000)","v":1.3027260075093867},21.942,null,{"$f":"+SUM(COUNTIF($AC$3:AC59,1),COUNTIF($AC$3:AC59,-1))","v":37},{"$f":"+SUM($O$4:O59)","v":5276},142.59459459459458,{"$f":"+SUM(COUNTIF($AC$3:AC59,1))","v":23},{"$f":"+SUM(COUNTIF($AC$3:AC59,-1))","v":14},9,{"$f":"AW59*(HARMEAN((IF(SUM(COUNTIF($Z$3:Z59,1),COUNTIF($Z$3:Z59,-1))=0,1,SUM(COUNTIF($Z$3:Z59,1),COUNTIF($Z$3:Z59,-1)))),(IF(SUM(COUNTIF($AC$3:AC59,1),COUNTIF($AC$3:AC59,-1))=0,1,SUM(COUNTIF($AC$3:AC59,1),COUNTIF($AC$3:AC59,-1)))),(IF(SUM(COUNTIF($AE$3:AE59,1),COUNTIF($AE$3:AE59,-1))=0,1,SUM(COUNTIF($AE$3:AE59,1),COUNTIF($AE$3:AE59,-1)))),(IF(SUM(COUNTIF($AG$3:AG59,1),COUNTIF($AG$3:AG59,-1))=0,1,SUM(COUNTIF($AG$3:AG59,1),COUNTIF($AG$3:AG59,-1)))),(IF(SUM(COUNTIF($AI$3:AI59,1),COUNTIF($AI$3:AI59,-1))=0,1,SUM(COUNTIF($AI$3:AI59,1),COUNTIF($AI$3:AI59,-1)))),(IF(SUM(COUNTIF($AK$3:AK59,1),COUNTIF($AK$3:AK59,-1))=0,1,SUM(COUNTIF($AK$3:AK59,1),COUNTIF($AK$3:AK59,-1)))))/1000)","v":1.3027260075093867},50.264000000000003,null,{"$f":"+SUM(COUNTIF($AE$3:AE59,1),COUNTIF(AE$3:$AE59,-1))","v":36},{"$f":"+SUM($Q$4:Q59)","v":4567},126.86111111111111,{"$f":"+SUM(COUNTIF($AE$3:AE59,1))","v":22},{"$f":"+SUM(COUNTIF($AE$3:AE59,-1))","v":14},8,{"$f":"BF59*(HARMEAN((IF(SUM(COUNTIF($Z$3:Z59,1),COUNTIF($Z$3:Z59,-1))=0,1,SUM(COUNTIF($Z$3:Z59,1),COUNTIF($Z$3:Z59,-1)))),(IF(SUM(COUNTIF($AC$3:AC59,1),COUNTIF($AC$3:AC59,-1))=0,1,SUM(COUNTIF($AC$3:AC59,1),COUNTIF($AC$3:AC59,-1)))),(IF(SUM(COUNTIF($AE$3:AE59,1),COUNTIF($AE$3:AE59,-1))=0,1,SUM(COUNTIF($AE$3:AE59,1),COUNTIF($AE$3:AE59,-1)))),(IF(SUM(COUNTIF($AG$3:AG59,1),COUNTIF($AG$3:AG59,-1))=0,1,SUM(COUNTIF($AG$3:AG59,1),COUNTIF($AG$3:AG59,-1)))),(IF(SUM(COUNTIF($AI$3:AI59,1),COUNTIF($AI$3:AI59,-1))=0,1,SUM(COUNTIF($AI$3:AI59,1),COUNTIF($AI$3:AI59,-1)))),(IF(SUM(COUNTIF($AK$3:AK59,1),COUNTIF($AK$3:AK59,-1))=0,1,SUM(COUNTIF($AK$3:AK59,1),COUNTIF($AK$3:AK59,-1)))))/1000)","v":1.2675171964956196},44.247,null,{"$f":"+SUM(COUNTIF($AG$3:AG59,1),COUNTIF($AG$3:AG59,-1))","v":37},{"$f":"+SUM($S$4:S59)","v":5587},151,{"$f":"+SUM(COUNTIF($AG$3:AG59,1))","v":18},{"$f":"+SUM(COUNTIF($AG$3:AG59,-1))","v":19},-1,{"$f":"BO59*(HARMEAN((IF(SUM(COUNTIF($Z$3:Z59,1),COUNTIF($Z$3:Z59,-1))=0,1,SUM(COUNTIF($Z$3:Z59,1),COUNTIF($Z$3:Z59,-1)))),(IF(SUM(COUNTIF($AC$3:AC59,1),COUNTIF($AC$3:AC59,-1))=0,1,SUM(COUNTIF($AC$3:AC59,1),COUNTIF($AC$3:AC59,-1)))),(IF(SUM(COUNTIF($AE$3:AE59,1),COUNTIF($AE$3:AE59,-1))=0,1,SUM(COUNTIF($AE$3:AE59,1),COUNTIF($AE$3:AE59,-1)))),(IF(SUM(COUNTIF($AG$3:AG59,1),COUNTIF($AG$3:AG59,-1))=0,1,SUM(COUNTIF($AG$3:AG59,1),COUNTIF($AG$3:AG59,-1)))),(IF(SUM(COUNTIF($AI$3:AI59,1),COUNTIF($AI$3:AI59,-1))=0,1,SUM(COUNTIF($AI$3:AI59,1),COUNTIF($AI$3:AI59,-1)))),(IF(SUM(COUNTIF($AK$3:AK59,1),COUNTIF($AK$3:AK59,-1))=0,1,SUM(COUNTIF($AK$3:AK59,1),COUNTIF($AK$3:AK59,-1)))))/1000)","v":1.3027260075093867},16.149999999999999,null,{"$f":"+SUM(COUNTIF($AI$3:AI59,1),COUNTIF($AI$3:AI59,-1))","v":33},{"$f":"+SUM($U$4:U59)","v":4143},125.54545454545455,{"$f":"+SUM(COUNTIF($AI$3:AI59,1))","v":12},{"$f":"+SUM(COUNTIF($AI$3:AI59,-1))","v":21},-9,{"$f":"+BX59*(HARMEAN((IF(SUM(COUNTIF($Z$3:Z59,1),COUNTIF($Z$3:Z59,-1))=0,1,SUM(COUNTIF($Z$3:Z59,1),COUNTIF($Z$3:Z59,-1)))),(IF(SUM(COUNTIF($AC$3:AC59,1),COUNTIF($AC$3:AC59,-1))=0,1,SUM(COUNTIF($AC$3:AC59,1),COUNTIF($AC$3:AC59,-1)))),(IF(SUM(COUNTIF($AE$3:AE59,1),COUNTIF($AE$3:AE59,-1))=0,1,SUM(COUNTIF($AE$3:AE59,1),COUNTIF($AE$3:AE59,-1)))),(IF(SUM(COUNTIF($AG$3:AG59,1),COUNTIF($AG$3:AG59,-1))=0,1,SUM(COUNTIF($AG$3:AG59,1),COUNTIF($AG$3:AG59,-1)))),(IF(SUM(COUNTIF($AI$3:AI59,1),COUNTIF($AI$3:AI59,-1))=0,1,SUM(COUNTIF($AI$3:AI59,1),COUNTIF($AI$3:AI59,-1)))),(IF(SUM(COUNTIF($AK$3:AK59,1),COUNTIF($AK$3:AK59,-1))=0,1,SUM(COUNTIF($AK$3:AK59,1),COUNTIF($AK$3:AK59,-1)))))/1000)","v":1.1618907634543179},-17.100999999999999,null,{"$f":"+SUM(COUNTIF($AK$3:AK59,1),COUNTIF($AK$3:AK59,-1))","v":32},{"$f":"+SUM($W$4:W59)","v":3591},112.21875,{"$f":"+SUM(COUNTIF($AK$3:AK59,1))","v":12},{"$f":"+SUM(COUNTIF($AK$3:AK59,-1))","v":20},-8,{"$f":"+CG59*(HARMEAN((IF(SUM(COUNTIF($Z$3:Z59,1),COUNTIF($Z$3:Z59,-1))=0,1,SUM(COUNTIF($Z$3:Z59,1),COUNTIF($Z$3:Z59,-1)))),(IF(SUM(COUNTIF($AC$3:AC59,1),COUNTIF($AC$3:AC59,-1))=0,1,SUM(COUNTIF($AC$3:AC59,1),COUNTIF($AC$3:AC59,-1)))),(IF(SUM(COUNTIF($AE$3:AE59,1),COUNTIF($AE$3:AE59,-1))=0,1,SUM(COUNTIF($AE$3:AE59,1),COUNTIF($AE$3:AE59,-1)))),(IF(SUM(COUNTIF($AG$3:AG59,1),COUNTIF($AG$3:AG59,-1))=0,1,SUM(COUNTIF($AG$3:AG59,1),COUNTIF($AG$3:AG59,-1)))),(IF(SUM(COUNTIF($AI$3:AI59,1),COUNTIF($AI$3:AI59,-1))=0,1,SUM(COUNTIF($AI$3:AI59,1),COUNTIF($AI$3:AI59,-1)))),(IF(SUM(COUNTIF($AK$3:AK59,1),COUNTIF($AK$3:AK59,-1))=0,1,SUM(COUNTIF($AK$3:AK59,1),COUNTIF($AK$3:AK59,-1)))))/1000)","v":1.1266819524405507},-15.523999999999999]
[57,"",null,{"$f":"+IFERROR(INDEX('Auswertung AoE II'!$AE:$AE,MATCH(A60,'Auswertung AoE II'!$AD:$AD,0)),\"\")","v":""},{"$f":"+IFERROR(INDEX('Auswertung AoE III'!$AE:$AE,MATCH(A60,'Auswertung AoE III'!$AD:$AD,0)),\"\")","v":""},{"$f":"+IFERROR(INDEX('Auswertung AoM'!$AE:$AE,MATCH(A60,'Auswertung AoM'!$AD:$AD,0)),\"\")","v":""},{"$f":"+IFERROR(INDEX('Auswertung RA'!$AE:$AE,MATCH(A60,'Auswertung RA'!$AD:$AD,0)),\"\")","v":""},{"$f":"+IFERROR(INDEX('Auswertung Yuri'!$AE:$AE,MATCH(A60,'Auswertung Yuri'!$AD:$AD,0)),\"\")","v":""},{"$f":"+IFERROR(INDEX('Auswertung Generals'!$AE:$AE,MATCH(A60,'Auswertung Generals'!$AD:$AD,0)),\"\")","v":""},"Auswertung ",null,null,{"$f":"+IF(ISERROR(+INDIRECT(CONCATENATE(\"'\",J60,\"'!\",(ADDRESS((COUNTIF($J$3:J60,IF(B60<>0,CONCATENATE(\"Auswertung \",B60,\"\"))))+2,2)))))=FALSE,+INDIRECT(CONCATENATE(\"'\",J60,\"'!\",(ADDRESS((COUNTIF($J$3:J60,IF(B60<>0,CONCATENATE(\"Auswertung \",B60,\"\"))))+4,2)))),\"\")","v":""},{"$f":"IF(ISERROR(+INDIRECT(CONCATENATE(\"'\",J60,\"'!\",(ADDRESS((COUNTIF($J$3:J60,IF(B60<>0,CONCATENATE(\"Auswertung \",B60,\"\"))))+2,2+1)))))=FALSE,+INDIRECT(CONCATENATE(\"'\",J60,\"'!\",(ADDRESS((COUNTIF($J$3:J60,IF(B60<>0,CONCATENATE(\"Auswertung \",B60,\"\"))))+4,2+1)))),\"\")","v":""},{"$f":"+IF(ISERROR(+INDIRECT(CONCATENATE(\"'\",J60,\"'!\",(ADDRESS((COUNTIF($J$3:J60,IF(B60<>0,CONCATENATE(\"Auswertung \",B60,\"\"))))+2,4)))))=FALSE,+INDIRECT(CONCATENATE(\"'\",J60,\"'!\",(ADDRESS((COUNTIF($J$3:J60,IF(B60<>0,CONCATENATE(\"Auswertung \",B60,\"\"))))+4,4)))),\"\")","v":""},{"$f":"+IF(ISERROR(+INDIRECT(CONCATENATE(\"'\",J60,\"'!\",(ADDRESS((COUNTIF($J$3:J60,IF(B60<>0,CONCATENATE(\"Auswertung \",B60,\"\"))))+2,5)))))=FALSE,+INDIRECT(CONCATENATE(\"'\",J60,\"'!\",(ADDRESS((COUNTIF($J$3:J60,IF(B60<>0,CONCATENATE(\"Auswertung \",B60,\"\"))))+4,5)))),\"\")","v":""},{"$f":"+IF(ISERROR(+INDIRECT(CONCATENATE(\"'\",J60,\"'!\",(ADDRESS((COUNTIF($J$3:J60,IF(B60<>0,CONCATENATE(\"Auswertung \",B60,\"\"))))+2,6)))))=FALSE,+INDIRECT(CONCATENATE(\"'\",J60,\"'!\",(ADDRESS((COUNTIF($J$3:J60,IF(B60<>0,CONCATENATE(\"Auswertung \",B60,\"\"))))+4,6)))),\"\")","v":""},{"$f":"+IF(ISERROR(+INDIRECT(CONCATENATE(\"'\",J60,\"'!\",(ADDRESS((COUNTIF($J$3:J60,IF(B60<>0,CONCATENATE(\"Auswertung \",B60,\"\"))))+2,7)))))=FALSE,+INDIRECT(CONCATENATE(\"'\",J60,\"'!\",(ADDRESS((COUNTIF($J$3:J60,IF(B60<>0,CONCATENATE(\"Auswertung \",B60,\"\"))))+4,7)))),\"\")","v":""},{"$f":"+IF(ISERROR(+INDIRECT(CONCATENATE(\"'\",J60,\"'!\",(ADDRESS((COUNTIF($J$3:J60,IF(B60<>0,CONCATENATE(\"Auswertung \",B60,\"\"))))+2,10)))))=FALSE,+INDIRECT(CONCATENATE(\"'\",J60,\"'!\",(ADDRESS((COUNTIF($J$3:J60,IF(B60<>0,CONCATENATE(\"Auswertung \",B60,\"\"))))+4,8)))),\"\")","v":""},{"$f":"+IF(ISERROR(+INDIRECT(CONCATENATE(\"'\",J60,\"'!\",(ADDRESS((COUNTIF($J$3:J60,IF(B60<>0,CONCATENATE(\"Auswertung \",B60,\"\"))))+2,11)))))=FALSE,+INDIRECT(CONCATENATE(\"'\",J60,\"'!\",(ADDRESS((COUNTIF($J$3:J60,IF(B60<>0,CONCATENATE(\"Auswertung \",B60,\"\"))))+4,9)))),\"\")","v":""},{"$f":"+IF(ISERROR(+INDIRECT(CONCATENATE(\"'\",J60,\"'!\",(ADDRESS((COUNTIF($J$3:J60,IF(B60<>0,CONCATENATE(\"Auswertung \",B60,\"\"))))+2,10)))))=FALSE,+INDIRECT(CONCATENATE(\"'\",J60,\"'!\",(ADDRESS((COUNTIF($J$3:J60,IF(B60<>0,CONCATENATE(\"Auswertung \",B60,\"\"))))+4,10)))),\"\")","v":""},{"$f":"+IF(ISERROR(+INDIRECT(CONCATENATE(\"'\",J60,\"'!\",(ADDRESS((COUNTIF($J$3:J60,IF(B60<>0,CONCATENATE(\"Auswertung \",B60,\"\"))))+2,11)))))=FALSE,+INDIRECT(CONCATENATE(\"'\",J60,\"'!\",(ADDRESS((COUNTIF($J$3:J60,IF(B60<>0,CONCATENATE(\"Auswertung \",B60,\"\"))))+4,11)))),\"\")","v":""},{"$f":"+IF(ISERROR(+INDIRECT(CONCATENATE(\"'\",J60,\"'!\",(ADDRESS((COUNTIF($J$3:J60,IF(D60<>0,CONCATENATE(\"Auswertung \",D60,\"\"))))+2,12)))))=FALSE,+INDIRECT(CONCATENATE(\"'\",J60,\"'!\",(ADDRESS((COUNTIF($J$3:J60,IF(D60<>0,CONCATENATE(\"Auswertung \",B60,\"\"))))+4,12)))),\"\")","v":""},{"$f":"+IF(ISERROR(+INDIRECT(CONCATENATE(\"'\",J60,\"'!\",(ADDRESS((COUNTIF($J$3:J60,IF(D60<>0,CONCATENATE(\"Auswertung \",D60,\"\"))))+2,13)))))=FALSE,+INDIRECT(CONCATENATE(\"'\",J60,\"'!\",(ADDRESS((COUNTIF($J$3:J60,IF(D60<>0,CONCATENATE(\"Auswertung \",B60,\"\"))))+4,13)))),\"\")","v":""},null,{"$f":"+IFERROR(INDIRECT(CONCATENATE(\"'\",J60,\"'!\",(ADDRESS((COUNTIF($J$3:J60,IF(B60<>0,J60)))+4,16)))),\"\")","v":""},21.942,{"$f":"+SUM($M$4:M60)/COUNT($M$4:M60)/1000*2","v":0.28281081081081083},{"$f":"+IFERROR(INDIRECT(CONCATENATE(\"'\",J60,\"'!\",(ADDRESS((COUNTIF($J$3:J60,IF(B60<>0,J60)))+4,18)))),\"\")","v":""},50.264000000000003,{"$f":"+IFERROR(INDIRECT(CONCATENATE(\"'\",J60,\"'!\",(ADDRESS((COUNTIF($J$3:J60,IF(B60<>0,J60)))+4,20)))),\"\")","v":""},44.247,{"$f":"+IFERROR(INDIRECT(CONCATENATE(\"'\",J60,\"'!\",(ADDRESS((COUNTIF($J$3:J60,IF(B60<>0,J60)))+4,22)))),\"\")","v":""},16.149999999999999,{"$f":"+IFERROR(INDIRECT(CONCATENATE(\"'\",J60,\"'!\",(ADDRESS((COUNTIF($J$3:J60,IF(B60<>0,J60)))+4,24)))),\"\")","v":""},-17.100999999999999,{"$f":"+IFERROR(INDIRECT(CONCATENATE(\"'\",J60,\"'!\",(ADDRESS((COUNTIF($J$3:J60,IF(B60<>0,J60)))+4,26)))),\"\")","v":""},-15.523999999999999,57,{"$f":"+SUM(COUNTIF($Z$3:Z60,1),COUNTIF($Z$3:Z60,-1))","v":37},{"$f":"+SUM($M$4:M60)","v":5232},141.40540540540542,{"$f":"+SUM(COUNTIF($Z$3:Z60,1))","v":19},{"$f":"+SUM(COUNTIF($Z$3:Z60,-1))","v":18},1,{"$f":"AN60*(HARMEAN((IF(SUM(COUNTIF($Z$3:Z60,1),COUNTIF($Z$3:Z60,-1))=0,1,SUM(COUNTIF($Z$3:Z60,1),COUNTIF($Z$3:Z60,-1)))),(IF(SUM(COUNTIF($AC$3:AC60,1),COUNTIF($AC$3:AC60,-1))=0,1,SUM(COUNTIF($AC$3:AC60,1),COUNTIF($AC$3:AC60,-1)))),(IF(SUM(COUNTIF($AE$3:AE60,1),COUNTIF($AE$3:AE60,-1))=0,1,SUM(COUNTIF($AE$3:AE60,1),COUNTIF($AE$3:AE60,-1)))),(IF(SUM(COUNTIF($AG$3:AG60,1),COUNTIF($AG$3:AG60,-1))=0,1,SUM(COUNTIF($AG$3:AG60,1),COUNTIF($AG$3:AG60,-1)))),(IF(SUM(COUNTIF($AI$3:AI60,1),COUNTIF($AI$3:AI60,-1))=0,1,SUM(COUNTIF($AI$3:AI60,1),COUNTIF($AI$3:AI60,-1)))),(IF(SUM(COUNTIF($AK$3:AK60,1),COUNTIF($AK$3:AK60,-1))=0,1,SUM(COUNTIF($AK$3:AK60,1),COUNTIF($AK$3:AK60,-1)))))/1000)","v":1.3027260075093867},21.942,null,{"$f":"+SUM(COUNTIF($AC$3:AC60,1),COUNTIF($AC$3:AC60,-1))","v":37},{"$f":"+SUM($O$4:O60)","v":5276},142.59459459459458,{"$f":"+SUM(COUNTIF($AC$3:AC60,1))","v":23},{"$f":"+SUM(COUNTIF($AC$3:AC60,-1))","v":14},9,{"$f":"AW60*(HARMEAN((IF(SUM(COUNTIF($Z$3:Z60,1),COUNTIF($Z$3:Z60,-1))=0,1,SUM(COUNTIF($Z$3:Z60,1),COUNTIF($Z$3:Z60,-1)))),(IF(SUM(COUNTIF($AC$3:AC60,1),COUNTIF($AC$3:AC60,-1))=0,1,SUM(COUNTIF($AC$3:AC60,1),COUNTIF($AC$3:AC60,-1)))),(IF(SUM(COUNTIF($AE$3:AE60,1),COUNTIF($AE$3:AE60,-1))=0,1,SUM(COUNTIF($AE$3:AE60,1),COUNTIF($AE$3:AE60,-1)))),(IF(SUM(COUNTIF($AG$3:AG60,1),COUNTIF($AG$3:AG60,-1))=0,1,SUM(COUNTIF($AG$3:AG60,1),COUNTIF($AG$3:AG60,-1)))),(IF(SUM(COUNTIF($AI$3:AI60,1),COUNTIF($AI$3:AI60,-1))=0,1,SUM(COUNTIF($AI$3:AI60,1),COUNTIF($AI$3:AI60,-1)))),(IF(SUM(COUNTIF($AK$3:AK60,1),COUNTIF($AK$3:AK60,-1))=0,1,SUM(COUNTIF($AK$3:AK60,1),COUNTIF($AK$3:AK60,-1)))))/1000)","v":1.3027260075093867},50.264000000000003,null,{"$f":"+SUM(COUNTIF($AE$3:AE60,1),COUNTIF(AE$3:$AE60,-1))","v":36},{"$f":"+SUM($Q$4:Q60)","v":4567},126.86111111111111,{"$f":"+SUM(COUNTIF($AE$3:AE60,1))","v":22},{"$f":"+SUM(COUNTIF($AE$3:AE60,-1))","v":14},8,{"$f":"BF60*(HARMEAN((IF(SUM(COUNTIF($Z$3:Z60,1),COUNTIF($Z$3:Z60,-1))=0,1,SUM(COUNTIF($Z$3:Z60,1),COUNTIF($Z$3:Z60,-1)))),(IF(SUM(COUNTIF($AC$3:AC60,1),COUNTIF($AC$3:AC60,-1))=0,1,SUM(COUNTIF($AC$3:AC60,1),COUNTIF($AC$3:AC60,-1)))),(IF(SUM(COUNTIF($AE$3:AE60,1),COUNTIF($AE$3:AE60,-1))=0,1,SUM(COUNTIF($AE$3:AE60,1),COUNTIF($AE$3:AE60,-1)))),(IF(SUM(COUNTIF($AG$3:AG60,1),COUNTIF($AG$3:AG60,-1))=0,1,SUM(COUNTIF($AG$3:AG60,1),COUNTIF($AG$3:AG60,-1)))),(IF(SUM(COUNTIF($AI$3:AI60,1),COUNTIF($AI$3:AI60,-1))=0,1,SUM(COUNTIF($AI$3:AI60,1),COUNTIF($AI$3:AI60,-1)))),(IF(SUM(COUNTIF($AK$3:AK60,1),COUNTIF($AK$3:AK60,-1))=0,1,SUM(COUNTIF($AK$3:AK60,1),COUNTIF($AK$3:AK60,-1)))))/1000)","v":1.2675171964956196},44.247,null,{"$f":"+SUM(COUNTIF($AG$3:AG60,1),COUNTIF($AG$3:AG60,-1))","v":37},{"$f":"+SUM($S$4:S60)","v":5587},151,{"$f":"+SUM(COUNTIF($AG$3:AG60,1))","v":18},{"$f":"+SUM(COUNTIF($AG$3:AG60,-1))","v":19},-1,{"$f":"BO60*(HARMEAN((IF(SUM(COUNTIF($Z$3:Z60,1),COUNTIF($Z$3:Z60,-1))=0,1,SUM(COUNTIF($Z$3:Z60,1),COUNTIF($Z$3:Z60,-1)))),(IF(SUM(COUNTIF($AC$3:AC60,1),COUNTIF($AC$3:AC60,-1))=0,1,SUM(COUNTIF($AC$3:AC60,1),COUNTIF($AC$3:AC60,-1)))),(IF(SUM(COUNTIF($AE$3:AE60,1),COUNTIF($AE$3:AE60,-1))=0,1,SUM(COUNTIF($AE$3:AE60,1),COUNTIF($AE$3:AE60,-1)))),(IF(SUM(COUNTIF($AG$3:AG60,1),COUNTIF($AG$3:AG60,-1))=0,1,SUM(COUNTIF($AG$3:AG60,1),COUNTIF($AG$3:AG60,-1)))),(IF(SUM(COUNTIF($AI$3:AI60,1),COUNTIF($AI$3:AI60,-1))=0,1,SUM(COUNTIF($AI$3:AI60,1),COUNTIF($AI$3:AI60,-1)))),(IF(SUM(COUNTIF($AK$3:AK60,1),COUNTIF($AK$3:AK60,-1))=0,1,SUM(COUNTIF($AK$3:AK60,1),COUNTIF($AK$3:AK60,-1)))))/1000)","v":1.3027260075093867},16.149999999999999,null,{"$f":"+SUM(COUNTIF($AI$3:AI60,1),COUNTIF($AI$3:AI60,-1))","v":33},{"$f":"+SUM($U$4:U60)","v":4143},125.54545454545455,{"$f":"+SUM(COUNTIF($AI$3:AI60,1))","v":12},{"$f":"+SUM(COUNTIF($AI$3:AI60,-1))","v":21},-9,{"$f":"+BX60*(HARMEAN((IF(SUM(COUNTIF($Z$3:Z60,1),COUNTIF($Z$3:Z60,-1))=0,1,SUM(COUNTIF($Z$3:Z60,1),COUNTIF($Z$3:Z60,-1)))),(IF(SUM(COUNTIF($AC$3:AC60,1),COUNTIF($AC$3:AC60,-1))=0,1,SUM(COUNTIF($AC$3:AC60,1),COUNTIF($AC$3:AC60,-1)))),(IF(SUM(COUNTIF($AE$3:AE60,1),COUNTIF($AE$3:AE60,-1))=0,1,SUM(COUNTIF($AE$3:AE60,1),COUNTIF($AE$3:AE60,-1)))),(IF(SUM(COUNTIF($AG$3:AG60,1),COUNTIF($AG$3:AG60,-1))=0,1,SUM(COUNTIF($AG$3:AG60,1),COUNTIF($AG$3:AG60,-1)))),(IF(SUM(COUNTIF($AI$3:AI60,1),COUNTIF($AI$3:AI60,-1))=0,1,SUM(COUNTIF($AI$3:AI60,1),COUNTIF($AI$3:AI60,-1)))),(IF(SUM(COUNTIF($AK$3:AK60,1),COUNTIF($AK$3:AK60,-1))=0,1,SUM(COUNTIF($AK$3:AK60,1),COUNTIF($AK$3:AK60,-1)))))/1000)","v":1.1618907634543179},-17.100999999999999,null,{"$f":"+SUM(COUNTIF($AK$3:AK60,1),COUNTIF($AK$3:AK60,-1))","v":32},{"$f":"+SUM($W$4:W60)","v":3591},112.21875,{"$f":"+SUM(COUNTIF($AK$3:AK60,1))","v":12},{"$f":"+SUM(COUNTIF($AK$3:AK60,-1))","v":20},-8,{"$f":"+CG60*(HARMEAN((IF(SUM(COUNTIF($Z$3:Z60,1),COUNTIF($Z$3:Z60,-1))=0,1,SUM(COUNTIF($Z$3:Z60,1),COUNTIF($Z$3:Z60,-1)))),(IF(SUM(COUNTIF($AC$3:AC60,1),COUNTIF($AC$3:AC60,-1))=0,1,SUM(COUNTIF($AC$3:AC60,1),COUNTIF($AC$3:AC60,-1)))),(IF(SUM(COUNTIF($AE$3:AE60,1),COUNTIF($AE$3:AE60,-1))=0,1,SUM(COUNTIF($AE$3:AE60,1),COUNTIF($AE$3:AE60,-1)))),(IF(SUM(COUNTIF($AG$3:AG60,1),COUNTIF($AG$3:AG60,-1))=0,1,SUM(COUNTIF($AG$3:AG60,1),COUNTIF($AG$3:AG60,-1)))),(IF(SUM(COUNTIF($AI$3:AI60,1),COUNTIF($AI$3:AI60,-1))=0,1,SUM(COUNTIF($AI$3:AI60,1),COUNTIF($AI$3:AI60,-1)))),(IF(SUM(COUNTIF($AK$3:AK60,1),COUNTIF($AK$3:AK60,-1))=0,1,SUM(COUNTIF($AK$3:AK60,1),COUNTIF($AK$3:AK60,-1)))))/1000)","v":1.1266819524405507},-15.523999999999999]
[58,"",null,{"$f":"+IFERROR(INDEX('Auswertung AoE II'!$AE:$AE,MATCH(A61,'Auswertung AoE II'!$AD:$AD,0)),\"\")","v":""},{"$f":"+IFERROR(INDEX('Auswertung AoE III'!$AE:$AE,MATCH(A61,'Auswertung AoE III'!$AD:$AD,0)),\"\")","v":""},{"$f":"+IFERROR(INDEX('Auswertung AoM'!$AE:$AE,MATCH(A61,'Auswertung AoM'!$AD:$AD,0)),\"\")","v":""},{"$f":"+IFERROR(INDEX('Auswertung RA'!$AE:$AE,MATCH(A61,'Auswertung RA'!$AD:$AD,0)),\"\")","v":""},{"$f":"+IFERROR(INDEX('Auswertung Yuri'!$AE:$AE,MATCH(A61,'Auswertung Yuri'!$AD:$AD,0)),\"\")","v":""},{"$f":"+IFERROR(INDEX('Auswertung Generals'!$AE:$AE,MATCH(A61,'Auswertung Generals'!$AD:$AD,0)),\"\")","v":""},"Auswertung ",null,null,{"$f":"+IF(ISERROR(+INDIRECT(CONCATENATE(\"'\",J61,\"'!\",(ADDRESS((COUNTIF($J$3:J61,IF(B61<>0,CONCATENATE(\"Auswertung \",B61,\"\"))))+2,2)))))=FALSE,+INDIRECT(CONCATENATE(\"'\",J61,\"'!\",(ADDRESS((COUNTIF($J$3:J61,IF(B61<>0,CONCATENATE(\"Auswertung \",B61,\"\"))))+4,2)))),\"\")","v":""},{"$f":"IF(ISERROR(+INDIRECT(CONCATENATE(\"'\",J61,\"'!\",(ADDRESS((COUNTIF($J$3:J61,IF(B61<>0,CONCATENATE(\"Auswertung \",B61,\"\"))))+2,2+1)))))=FALSE,+INDIRECT(CONCATENATE(\"'\",J61,\"'!\",(ADDRESS((COUNTIF($J$3:J61,IF(B61<>0,CONCATENATE(\"Auswertung \",B61,\"\"))))+4,2+1)))),\"\")","v":""},{"$f":"+IF(ISERROR(+INDIRECT(CONCATENATE(\"'\",J61,\"'!\",(ADDRESS((COUNTIF($J$3:J61,IF(B61<>0,CONCATENATE(\"Auswertung \",B61,\"\"))))+2,4)))))=FALSE,+INDIRECT(CONCATENATE(\"'\",J61,\"'!\",(ADDRESS((COUNTIF($J$3:J61,IF(B61<>0,CONCATENATE(\"Auswertung \",B61,\"\"))))+4,4)))),\"\")","v":""},{"$f":"+IF(ISERROR(+INDIRECT(CONCATENATE(\"'\",J61,\"'!\",(ADDRESS((COUNTIF($J$3:J61,IF(B61<>0,CONCATENATE(\"Auswertung \",B61,\"\"))))+2,5)))))=FALSE,+INDIRECT(CONCATENATE(\"'\",J61,\"'!\",(ADDRESS((COUNTIF($J$3:J61,IF(B61<>0,CONCATENATE(\"Auswertung \",B61,\"\"))))+4,5)))),\"\")","v":""},{"$f":"+IF(ISERROR(+INDIRECT(CONCATENATE(\"'\",J61,\"'!\",(ADDRESS((COUNTIF($J$3:J61,IF(B61<>0,CONCATENATE(\"Auswertung \",B61,\"\"))))+2,6)))))=FALSE,+INDIRECT(CONCATENATE(\"'\",J61,\"'!\",(ADDRESS((COUNTIF($J$3:J61,IF(B61<>0,CONCATENATE(\"Auswertung \",B61,\"\"))))+4,6)))),\"\")","v":""},{"$f":"+IF(ISERROR(+INDIRECT(CONCATENATE(\"'\",J61,\"'!\",(ADDRESS((COUNTIF($J$3:J61,IF(B61<>0,CONCATENATE(\"Auswertung \",B61,\"\"))))+2,7)))))=FALSE,+INDIRECT(CONCATENATE(\"'\",J61,\"'!\",(ADDRESS((COUNTIF($J$3:J61,IF(B61<>0,CONCATENATE(\"Auswertung \",B61,\"\"))))+4,7)))),\"\")","v":""},{"$f":"+IF(ISERROR(+INDIRECT(CONCATENATE(\"'\",J61,\"'!\",(ADDRESS((COUNTIF($J$3:J61,IF(B61<>0,CONCATENATE(\"Auswertung \",B61,\"\"))))+2,10)))))=FALSE,+INDIRECT(CONCATENATE(\"'\",J61,\"'!\",(ADDRESS((COUNTIF($J$3:J61,IF(B61<>0,CONCATENATE(\"Auswertung \",B61,\"\"))))+4,8)))),\"\")","v":""},{"$f":"+IF(ISERROR(+INDIRECT(CONCATENATE(\"'\",J61,\"'!\",(ADDRESS((COUNTIF($J$3:J61,IF(B61<>0,CONCATENATE(\"Auswertung \",B61,\"\"))))+2,11)))))=FALSE,+INDIRECT(CONCATENATE(\"'\",J61,\"'!\",(ADDRESS((COUNTIF($J$3:J61,IF(B61<>0,CONCATENATE(\"Auswertung \",B61,\"\"))))+4,9)))),\"\")","v":""},{"$f":"+IF(ISERROR(+INDIRECT(CONCATENATE(\"'\",J61,\"'!\",(ADDRESS((COUNTIF($J$3:J61,IF(B61<>0,CONCATENATE(\"Auswertung \",B61,\"\"))))+2,10)))))=FALSE,+INDIRECT(CONCATENATE(\"'\",J61,\"'!\",(ADDRESS((COUNTIF($J$3:J61,IF(B61<>0,CONCATENATE(\"Auswertung \",B61,\"\"))))+4,10)))),\"\")","v":""},{"$f":"+IF(ISERROR(+INDIRECT(CONCATENATE(\"'\",J61,\"'!\",(ADDRESS((COUNTIF($J$3:J61,IF(B61<>0,CONCATENATE(\"Auswertung \",B61,\"\"))))+2,11)))))=FALSE,+INDIRECT(CONCATENATE(\"'\",J61,\"'!\",(ADDRESS((COUNTIF($J$3:J61,IF(B61<>0,CONCATENATE(\"Auswertung \",B61,\"\"))))+4,11)))),\"\")","v":""},{"$f":"+IF(ISERROR(+INDIRECT(CONCATENATE(\"'\",J61,\"'!\",(ADDRESS((COUNTIF($J$3:J61,IF(D61<>0,CONCATENATE(\"Auswertung \",D61,\"\"))))+2,12)))))=FALSE,+INDIRECT(CONCATENATE(\"'\",J61,\"'!\",(ADDRESS((COUNTIF($J$3:J61,IF(D61<>0,CONCATENATE(\"Auswertung \",B61,\"\"))))+4,12)))),\"\")","v":""},{"$f":"+IF(ISERROR(+INDIRECT(CONCATENATE(\"'\",J61,\"'!\",(ADDRESS((COUNTIF($J$3:J61,IF(D61<>0,CONCATENATE(\"Auswertung \",D61,\"\"))))+2,13)))))=FALSE,+INDIRECT(CONCATENATE(\"'\",J61,\"'!\",(ADDRESS((COUNTIF($J$3:J61,IF(D61<>0,CONCATENATE(\"Auswertung \",B61,\"\"))))+4,13)))),\"\")","v":""},null,{"$f":"+IFERROR(INDIRECT(CONCATENATE(\"'\",J61,\"'!\",(ADDRESS((COUNTIF($J$3:J61,IF(B61<>0,J61)))+4,16)))),\"\")","v":""},21.942,{"$f":"+SUM($M$4:M61)/COUNT($M$4:M61)/1000*2","v":0.28281081081081083},{"$f":"+IFERROR(INDIRECT(CONCATENATE(\"'\",J61,\"'!\",(ADDRESS((COUNTIF($J$3:J61,IF(B61<>0,J61)))+4,18)))),\"\")","v":""},50.264000000000003,{"$f":"+IFERROR(INDIRECT(CONCATENATE(\"'\",J61,\"'!\",(ADDRESS((COUNTIF($J$3:J61,IF(B61<>0,J61)))+4,20)))),\"\")","v":""},44.247,{"$f":"+IFERROR(INDIRECT(CONCATENATE(\"'\",J61,\"'!\",(ADDRESS((COUNTIF($J$3:J61,IF(B61<>0,J61)))+4,22)))),\"\")","v":""},16.149999999999999,{"$f":"+IFERROR(INDIRECT(CONCATENATE(\"'\",J61,\"'!\",(ADDRESS((COUNTIF($J$3:J61,IF(B61<>0,J61)))+4,24)))),\"\")","v":""},-17.100999999999999,{"$f":"+IFERROR(INDIRECT(CONCATENATE(\"'\",J61,\"'!\",(ADDRESS((COUNTIF($J$3:J61,IF(B61<>0,J61)))+4,26)))),\"\")","v":""},-15.523999999999999,58,{"$f":"+SUM(COUNTIF($Z$3:Z61,1),COUNTIF($Z$3:Z61,-1))","v":37},{"$f":"+SUM($M$4:M61)","v":5232},141.40540540540542,{"$f":"+SUM(COUNTIF($Z$3:Z61,1))","v":19},{"$f":"+SUM(COUNTIF($Z$3:Z61,-1))","v":18},1,{"$f":"AN61*(HARMEAN((IF(SUM(COUNTIF($Z$3:Z61,1),COUNTIF($Z$3:Z61,-1))=0,1,SUM(COUNTIF($Z$3:Z61,1),COUNTIF($Z$3:Z61,-1)))),(IF(SUM(COUNTIF($AC$3:AC61,1),COUNTIF($AC$3:AC61,-1))=0,1,SUM(COUNTIF($AC$3:AC61,1),COUNTIF($AC$3:AC61,-1)))),(IF(SUM(COUNTIF($AE$3:AE61,1),COUNTIF($AE$3:AE61,-1))=0,1,SUM(COUNTIF($AE$3:AE61,1),COUNTIF($AE$3:AE61,-1)))),(IF(SUM(COUNTIF($AG$3:AG61,1),COUNTIF($AG$3:AG61,-1))=0,1,SUM(COUNTIF($AG$3:AG61,1),COUNTIF($AG$3:AG61,-1)))),(IF(SUM(COUNTIF($AI$3:AI61,1),COUNTIF($AI$3:AI61,-1))=0,1,SUM(COUNTIF($AI$3:AI61,1),COUNTIF($AI$3:AI61,-1)))),(IF(SUM(COUNTIF($AK$3:AK61,1),COUNTIF($AK$3:AK61,-1))=0,1,SUM(COUNTIF($AK$3:AK61,1),COUNTIF($AK$3:AK61,-1)))))/1000)","v":1.3027260075093867},21.942,null,{"$f":"+SUM(COUNTIF($AC$3:AC61,1),COUNTIF($AC$3:AC61,-1))","v":37},{"$f":"+SUM($O$4:O61)","v":5276},142.59459459459458,{"$f":"+SUM(COUNTIF($AC$3:AC61,1))","v":23},{"$f":"+SUM(COUNTIF($AC$3:AC61,-1))","v":14},9,{"$f":"AW61*(HARMEAN((IF(SUM(COUNTIF($Z$3:Z61,1),COUNTIF($Z$3:Z61,-1))=0,1,SUM(COUNTIF($Z$3:Z61,1),COUNTIF($Z$3:Z61,-1)))),(IF(SUM(COUNTIF($AC$3:AC61,1),COUNTIF($AC$3:AC61,-1))=0,1,SUM(COUNTIF($AC$3:AC61,1),COUNTIF($AC$3:AC61,-1)))),(IF(SUM(COUNTIF($AE$3:AE61,1),COUNTIF($AE$3:AE61,-1))=0,1,SUM(COUNTIF($AE$3:AE61,1),COUNTIF($AE$3:AE61,-1)))),(IF(SUM(COUNTIF($AG$3:AG61,1),COUNTIF($AG$3:AG61,-1))=0,1,SUM(COUNTIF($AG$3:AG61,1),COUNTIF($AG$3:AG61,-1)))),(IF(SUM(COUNTIF($AI$3:AI61,1),COUNTIF($AI$3:AI61,-1))=0,1,SUM(COUNTIF($AI$3:AI61,1),COUNTIF($AI$3:AI61,-1)))),(IF(SUM(COUNTIF($AK$3:AK61,1),COUNTIF($AK$3:AK61,-1))=0,1,SUM(COUNTIF($AK$3:AK61,1),COUNTIF($AK$3:AK61,-1)))))/1000)","v":1.3027260075093867},50.264000000000003,null,{"$f":"+SUM(COUNTIF($AE$3:AE61,1),COUNTIF(AE$3:$AE61,-1))","v":36},{"$f":"+SUM($Q$4:Q61)","v":4567},126.86111111111111,{"$f":"+SUM(COUNTIF($AE$3:AE61,1))","v":22},{"$f":"+SUM(COUNTIF($AE$3:AE61,-1))","v":14},8,{"$f":"BF61*(HARMEAN((IF(SUM(COUNTIF($Z$3:Z61,1),COUNTIF($Z$3:Z61,-1))=0,1,SUM(COUNTIF($Z$3:Z61,1),COUNTIF($Z$3:Z61,-1)))),(IF(SUM(COUNTIF($AC$3:AC61,1),COUNTIF($AC$3:AC61,-1))=0,1,SUM(COUNTIF($AC$3:AC61,1),COUNTIF($AC$3:AC61,-1)))),(IF(SUM(COUNTIF($AE$3:AE61,1),COUNTIF($AE$3:AE61,-1))=0,1,SUM(COUNTIF($AE$3:AE61,1),COUNTIF($AE$3:AE61,-1)))),(IF(SUM(COUNTIF($AG$3:AG61,1),COUNTIF($AG$3:AG61,-1))=0,1,SUM(COUNTIF($AG$3:AG61,1),COUNTIF($AG$3:AG61,-1)))),(IF(SUM(COUNTIF($AI$3:AI61,1),COUNTIF($AI$3:AI61,-1))=0,1,SUM(COUNTIF($AI$3:AI61,1),COUNTIF($AI$3:AI61,-1)))),(IF(SUM(COUNTIF($AK$3:AK61,1),COUNTIF($AK$3:AK61,-1))=0,1,SUM(COUNTIF($AK$3:AK61,1),COUNTIF($AK$3:AK61,-1)))))/1000)","v":1.2675171964956196},44.247,null,{"$f":"+SUM(COUNTIF($AG$3:AG61,1),COUNTIF($AG$3:AG61,-1))","v":37},{"$f":"+SUM($S$4:S61)","v":5587},151,{"$f":"+SUM(COUNTIF($AG$3:AG61,1))","v":18},{"$f":"+SUM(COUNTIF($AG$3:AG61,-1))","v":19},-1,{"$f":"BO61*(HARMEAN((IF(SUM(COUNTIF($Z$3:Z61,1),COUNTIF($Z$3:Z61,-1))=0,1,SUM(COUNTIF($Z$3:Z61,1),COUNTIF($Z$3:Z61,-1)))),(IF(SUM(COUNTIF($AC$3:AC61,1),COUNTIF($AC$3:AC61,-1))=0,1,SUM(COUNTIF($AC$3:AC61,1),COUNTIF($AC$3:AC61,-1)))),(IF(SUM(COUNTIF($AE$3:AE61,1),COUNTIF($AE$3:AE61,-1))=0,1,SUM(COUNTIF($AE$3:AE61,1),COUNTIF($AE$3:AE61,-1)))),(IF(SUM(COUNTIF($AG$3:AG61,1),COUNTIF($AG$3:AG61,-1))=0,1,SUM(COUNTIF($AG$3:AG61,1),COUNTIF($AG$3:AG61,-1)))),(IF(SUM(COUNTIF($AI$3:AI61,1),COUNTIF($AI$3:AI61,-1))=0,1,SUM(COUNTIF($AI$3:AI61,1),COUNTIF($AI$3:AI61,-1)))),(IF(SUM(COUNTIF($AK$3:AK61,1),COUNTIF($AK$3:AK61,-1))=0,1,SUM(COUNTIF($AK$3:AK61,1),COUNTIF($AK$3:AK61,-1)))))/1000)","v":1.3027260075093867},16.149999999999999,null,{"$f":"+SUM(COUNTIF($AI$3:AI61,1),COUNTIF($AI$3:AI61,-1))","v":33},{"$f":"+SUM($U$4:U61)","v":4143},125.54545454545455,{"$f":"+SUM(COUNTIF($AI$3:AI61,1))","v":12},{"$f":"+SUM(COUNTIF($AI$3:AI61,-1))","v":21},-9,{"$f":"+BX61*(HARMEAN((IF(SUM(COUNTIF($Z$3:Z61,1),COUNTIF($Z$3:Z61,-1))=0,1,SUM(COUNTIF($Z$3:Z61,1),COUNTIF($Z$3:Z61,-1)))),(IF(SUM(COUNTIF($AC$3:AC61,1),COUNTIF($AC$3:AC61,-1))=0,1,SUM(COUNTIF($AC$3:AC61,1),COUNTIF($AC$3:AC61,-1)))),(IF(SUM(COUNTIF($AE$3:AE61,1),COUNTIF($AE$3:AE61,-1))=0,1,SUM(COUNTIF($AE$3:AE61,1),COUNTIF($AE$3:AE61,-1)))),(IF(SUM(COUNTIF($AG$3:AG61,1),COUNTIF($AG$3:AG61,-1))=0,1,SUM(COUNTIF($AG$3:AG61,1),COUNTIF($AG$3:AG61,-1)))),(IF(SUM(COUNTIF($AI$3:AI61,1),COUNTIF($AI$3:AI61,-1))=0,1,SUM(COUNTIF($AI$3:AI61,1),COUNTIF($AI$3:AI61,-1)))),(IF(SUM(COUNTIF($AK$3:AK61,1),COUNTIF($AK$3:AK61,-1))=0,1,SUM(COUNTIF($AK$3:AK61,1),COUNTIF($AK$3:AK61,-1)))))/1000)","v":1.1618907634543179},-17.100999999999999,null,{"$f":"+SUM(COUNTIF($AK$3:AK61,1),COUNTIF($AK$3:AK61,-1))","v":32},{"$f":"+SUM($W$4:W61)","v":3591},112.21875,{"$f":"+SUM(COUNTIF($AK$3:AK61,1))","v":12},{"$f":"+SUM(COUNTIF($AK$3:AK61,-1))","v":20},-8,{"$f":"+CG61*(HARMEAN((IF(SUM(COUNTIF($Z$3:Z61,1),COUNTIF($Z$3:Z61,-1))=0,1,SUM(COUNTIF($Z$3:Z61,1),COUNTIF($Z$3:Z61,-1)))),(IF(SUM(COUNTIF($AC$3:AC61,1),COUNTIF($AC$3:AC61,-1))=0,1,SUM(COUNTIF($AC$3:AC61,1),COUNTIF($AC$3:AC61,-1)))),(IF(SUM(COUNTIF($AE$3:AE61,1),COUNTIF($AE$3:AE61,-1))=0,1,SUM(COUNTIF($AE$3:AE61,1),COUNTIF($AE$3:AE61,-1)))),(IF(SUM(COUNTIF($AG$3:AG61,1),COUNTIF($AG$3:AG61,-1))=0,1,SUM(COUNTIF($AG$3:AG61,1),COUNTIF($AG$3:AG61,-1)))),(IF(SUM(COUNTIF($AI$3:AI61,1),COUNTIF($AI$3:AI61,-1))=0,1,SUM(COUNTIF($AI$3:AI61,1),COUNTIF($AI$3:AI61,-1)))),(IF(SUM(COUNTIF($AK$3:AK61,1),COUNTIF($AK$3:AK61,-1))=0,1,SUM(COUNTIF($AK$3:AK61,1),COUNTIF($AK$3:AK61,-1)))))/1000)","v":1.1266819524405507},-15.523999999999999]
[59,"",null,{"$f":"+IFERROR(INDEX('Auswertung AoE II'!$AE:$AE,MATCH(A62,'Auswertung AoE II'!$AD:$AD,0)),\"\")","v":""},{"$f":"+IFERROR(INDEX('Auswertung AoE III'!$AE:$AE,MATCH(A62,'Auswertung AoE III'!$AD:$AD,0)),\"\")","v":""},{"$f":"+IFERROR(INDEX('Auswertung AoM'!$AE:$AE,MATCH(A62,'Auswertung AoM'!$AD:$AD,0)),\"\")","v":""},{"$f":"+IFERROR(INDEX('Auswertung RA'!$AE:$AE,MATCH(A62,'Auswertung RA'!$AD:$AD,0)),\"\")","v":""},{"$f":"+IFERROR(INDEX('Auswertung Yuri'!$AE:$AE,MATCH(A62,'Auswertung Yuri'!$AD:$AD,0)),\"\")","v":""},{"$f":"+IFERROR(INDEX('Auswertung Generals'!$AE:$AE,MATCH(A62,'Auswertung Generals'!$AD:$AD,0)),\"\")","v":""},"Auswertung ",null,null,{"$f":"+IF(ISERROR(+INDIRECT(CONCATENATE(\"'\",J62,\"'!\",(ADDRESS((COUNTIF($J$3:J62,IF(B62<>0,CONCATENATE(\"Auswertung \",B62,\"\"))))+2,2)))))=FALSE,+INDIRECT(CONCATENATE(\"'\",J62,\"'!\",(ADDRESS((COUNTIF($J$3:J62,IF(B62<>0,CONCATENATE(\"Auswertung \",B62,\"\"))))+4,2)))),\"\")","v":""},{"$f":"IF(ISERROR(+INDIRECT(CONCATENATE(\"'\",J62,\"'!\",(ADDRESS((COUNTIF($J$3:J62,IF(B62<>0,CONCATENATE(\"Auswertung \",B62,\"\"))))+2,2+1)))))=FALSE,+INDIRECT(CONCATENATE(\"'\",J62,\"'!\",(ADDRESS((COUNTIF($J$3:J62,IF(B62<>0,CONCATENATE(\"Auswertung \",B62,\"\"))))+4,2+1)))),\"\")","v":""},{"$f":"+IF(ISERROR(+INDIRECT(CONCATENATE(\"'\",J62,\"'!\",(ADDRESS((COUNTIF($J$3:J62,IF(B62<>0,CONCATENATE(\"Auswertung \",B62,\"\"))))+2,4)))))=FALSE,+INDIRECT(CONCATENATE(\"'\",J62,\"'!\",(ADDRESS((COUNTIF($J$3:J62,IF(B62<>0,CONCATENATE(\"Auswertung \",B62,\"\"))))+4,4)))),\"\")","v":""},{"$f":"+IF(ISERROR(+INDIRECT(CONCATENATE(\"'\",J62,\"'!\",(ADDRESS((COUNTIF($J$3:J62,IF(B62<>0,CONCATENATE(\"Auswertung \",B62,\"\"))))+2,5)))))=FALSE,+INDIRECT(CONCATENATE(\"'\",J62,\"'!\",(ADDRESS((COUNTIF($J$3:J62,IF(B62<>0,CONCATENATE(\"Auswertung \",B62,\"\"))))+4,5)))),\"\")","v":""},{"$f":"+IF(ISERROR(+INDIRECT(CONCATENATE(\"'\",J62,\"'!\",(ADDRESS((COUNTIF($J$3:J62,IF(B62<>0,CONCATENATE(\"Auswertung \",B62,\"\"))))+2,6)))))=FALSE,+INDIRECT(CONCATENATE(\"'\",J62,\"'!\",(ADDRESS((COUNTIF($J$3:J62,IF(B62<>0,CONCATENATE(\"Auswertung \",B62,\"\"))))+4,6)))),\"\")","v":""},{"$f":"+IF(ISERROR(+INDIRECT(CONCATENATE(\"'\",J62,\"'!\",(ADDRESS((COUNTIF($J$3:J62,IF(B62<>0,CONCATENATE(\"Auswertung \",B62,\"\"))))+2,7)))))=FALSE,+INDIRECT(CONCATENATE(\"'\",J62,\"'!\",(ADDRESS((COUNTIF($J$3:J62,IF(B62<>0,CONCATENATE(\"Auswertung \",B62,\"\"))))+4,7)))),\"\")","v":""},{"$f":"+IF(ISERROR(+INDIRECT(CONCATENATE(\"'\",J62,\"'!\",(ADDRESS((COUNTIF($J$3:J62,IF(B62<>0,CONCATENATE(\"Auswertung \",B62,\"\"))))+2,10)))))=FALSE,+INDIRECT(CONCATENATE(\"'\",J62,\"'!\",(ADDRESS((COUNTIF($J$3:J62,IF(B62<>0,CONCATENATE(\"Auswertung \",B62,\"\"))))+4,8)))),\"\")","v":""},{"$f":"+IF(ISERROR(+INDIRECT(CONCATENATE(\"'\",J62,\"'!\",(ADDRESS((COUNTIF($J$3:J62,IF(B62<>0,CONCATENATE(\"Auswertung \",B62,\"\"))))+2,11)))))=FALSE,+INDIRECT(CONCATENATE(\"'\",J62,\"'!\",(ADDRESS((COUNTIF($J$3:J62,IF(B62<>0,CONCATENATE(\"Auswertung \",B62,\"\"))))+4,9)))),\"\")","v":""},{"$f":"+IF(ISERROR(+INDIRECT(CONCATENATE(\"'\",J62,\"'!\",(ADDRESS((COUNTIF($J$3:J62,IF(B62<>0,CONCATENATE(\"Auswertung \",B62,\"\"))))+2,10)))))=FALSE,+INDIRECT(CONCATENATE(\"'\",J62,\"'!\",(ADDRESS((COUNTIF($J$3:J62,IF(B62<>0,CONCATENATE(\"Auswertung \",B62,\"\"))))+4,10)))),\"\")","v":""},{"$f":"+IF(ISERROR(+INDIRECT(CONCATENATE(\"'\",J62,\"'!\",(ADDRESS((COUNTIF($J$3:J62,IF(B62<>0,CONCATENATE(\"Auswertung \",B62,\"\"))))+2,11)))))=FALSE,+INDIRECT(CONCATENATE(\"'\",J62,\"'!\",(ADDRESS((COUNTIF($J$3:J62,IF(B62<>0,CONCATENATE(\"Auswertung \",B62,\"\"))))+4,11)))),\"\")","v":""},{"$f":"+IF(ISERROR(+INDIRECT(CONCATENATE(\"'\",J62,\"'!\",(ADDRESS((COUNTIF($J$3:J62,IF(D62<>0,CONCATENATE(\"Auswertung \",D62,\"\"))))+2,12)))))=FALSE,+INDIRECT(CONCATENATE(\"'\",J62,\"'!\",(ADDRESS((COUNTIF($J$3:J62,IF(D62<>0,CONCATENATE(\"Auswertung \",B62,\"\"))))+4,12)))),\"\")","v":""},{"$f":"+IF(ISERROR(+INDIRECT(CONCATENATE(\"'\",J62,\"'!\",(ADDRESS((COUNTIF($J$3:J62,IF(D62<>0,CONCATENATE(\"Auswertung \",D62,\"\"))))+2,13)))))=FALSE,+INDIRECT(CONCATENATE(\"'\",J62,\"'!\",(ADDRESS((COUNTIF($J$3:J62,IF(D62<>0,CONCATENATE(\"Auswertung \",B62,\"\"))))+4,13)))),\"\")","v":""},null,{"$f":"+IFERROR(INDIRECT(CONCATENATE(\"'\",J62,\"'!\",(ADDRESS((COUNTIF($J$3:J62,IF(B62<>0,J62)))+4,16)))),\"\")","v":""},21.942,{"$f":"+SUM($M$4:M62)/COUNT($M$4:M62)/1000*2","v":0.28281081081081083},{"$f":"+IFERROR(INDIRECT(CONCATENATE(\"'\",J62,\"'!\",(ADDRESS((COUNTIF($J$3:J62,IF(B62<>0,J62)))+4,18)))),\"\")","v":""},50.264000000000003,{"$f":"+IFERROR(INDIRECT(CONCATENATE(\"'\",J62,\"'!\",(ADDRESS((COUNTIF($J$3:J62,IF(B62<>0,J62)))+4,20)))),\"\")","v":""},44.247,{"$f":"+IFERROR(INDIRECT(CONCATENATE(\"'\",J62,\"'!\",(ADDRESS((COUNTIF($J$3:J62,IF(B62<>0,J62)))+4,22)))),\"\")","v":""},16.149999999999999,{"$f":"+IFERROR(INDIRECT(CONCATENATE(\"'\",J62,\"'!\",(ADDRESS((COUNTIF($J$3:J62,IF(B62<>0,J62)))+4,24)))),\"\")","v":""},-17.100999999999999,{"$f":"+IFERROR(INDIRECT(CONCATENATE(\"'\",J62,\"'!\",(ADDRESS((COUNTIF($J$3:J62,IF(B62<>0,J62)))+4,26)))),\"\")","v":""},-15.523999999999999,59,{"$f":"+SUM(COUNTIF($Z$3:Z62,1),COUNTIF($Z$3:Z62,-1))","v":37},{"$f":"+SUM($M$4:M62)","v":5232},141.40540540540542,{"$f":"+SUM(COUNTIF($Z$3:Z62,1))","v":19},{"$f":"+SUM(COUNTIF($Z$3:Z62,-1))","v":18},1,{"$f":"AN62*(HARMEAN((IF(SUM(COUNTIF($Z$3:Z62,1),COUNTIF($Z$3:Z62,-1))=0,1,SUM(COUNTIF($Z$3:Z62,1),COUNTIF($Z$3:Z62,-1)))),(IF(SUM(COUNTIF($AC$3:AC62,1),COUNTIF($AC$3:AC62,-1))=0,1,SUM(COUNTIF($AC$3:AC62,1),COUNTIF($AC$3:AC62,-1)))),(IF(SUM(COUNTIF($AE$3:AE62,1),COUNTIF($AE$3:AE62,-1))=0,1,SUM(COUNTIF($AE$3:AE62,1),COUNTIF($AE$3:AE62,-1)))),(IF(SUM(COUNTIF($AG$3:AG62,1),COUNTIF($AG$3:AG62,-1))=0,1,SUM(COUNTIF($AG$3:AG62,1),COUNTIF($AG$3:AG62,-1)))),(IF(SUM(COUNTIF($AI$3:AI62,1),COUNTIF($AI$3:AI62,-1))=0,1,SUM(COUNTIF($AI$3:AI62,1),COUNTIF($AI$3:AI62,-1)))),(IF(SUM(COUNTIF($AK$3:AK62,1),COUNTIF($AK$3:AK62,-1))=0,1,SUM(COUNTIF($AK$3:AK62,1),COUNTIF($AK$3:AK62,-1)))))/1000)","v":1.3027260075093867},21.942,null,{"$f":"+SUM(COUNTIF($AC$3:AC62,1),COUNTIF($AC$3:AC62,-1))","v":37},{"$f":"+SUM($O$4:O62)","v":5276},142.59459459459458,{"$f":"+SUM(COUNTIF($AC$3:AC62,1))","v":23},{"$f":"+SUM(COUNTIF($AC$3:AC62,-1))","v":14},9,{"$f":"AW62*(HARMEAN((IF(SUM(COUNTIF($Z$3:Z62,1),COUNTIF($Z$3:Z62,-1))=0,1,SUM(COUNTIF($Z$3:Z62,1),COUNTIF($Z$3:Z62,-1)))),(IF(SUM(COUNTIF($AC$3:AC62,1),COUNTIF($AC$3:AC62,-1))=0,1,SUM(COUNTIF($AC$3:AC62,1),COUNTIF($AC$3:AC62,-1)))),(IF(SUM(COUNTIF($AE$3:AE62,1),COUNTIF($AE$3:AE62,-1))=0,1,SUM(COUNTIF($AE$3:AE62,1),COUNTIF($AE$3:AE62,-1)))),(IF(SUM(COUNTIF($AG$3:AG62,1),COUNTIF($AG$3:AG62,-1))=0,1,SUM(COUNTIF($AG$3:AG62,1),COUNTIF($AG$3:AG62,-1)))),(IF(SUM(COUNTIF($AI$3:AI62,1),COUNTIF($AI$3:AI62,-1))=0,1,SUM(COUNTIF($AI$3:AI62,1),COUNTIF($AI$3:AI62,-1)))),(IF(SUM(COUNTIF($AK$3:AK62,1),COUNTIF($AK$3:AK62,-1))=0,1,SUM(COUNTIF($AK$3:AK62,1),COUNTIF($AK$3:AK62,-1)))))/1000)","v":1.3027260075093867},50.264000000000003,null,{"$f":"+SUM(COUNTIF($AE$3:AE62,1),COUNTIF(AE$3:$AE62,-1))","v":36},{"$f":"+SUM($Q$4:Q62)","v":4567},126.86111111111111,{"$f":"+SUM(COUNTIF($AE$3:AE62,1))","v":22},{"$f":"+SUM(COUNTIF($AE$3:AE62,-1))","v":14},8,{"$f":"BF62*(HARMEAN((IF(SUM(COUNTIF($Z$3:Z62,1),COUNTIF($Z$3:Z62,-1))=0,1,SUM(COUNTIF($Z$3:Z62,1),COUNTIF($Z$3:Z62,-1)))),(IF(SUM(COUNTIF($AC$3:AC62,1),COUNTIF($AC$3:AC62,-1))=0,1,SUM(COUNTIF($AC$3:AC62,1),COUNTIF($AC$3:AC62,-1)))),(IF(SUM(COUNTIF($AE$3:AE62,1),COUNTIF($AE$3:AE62,-1))=0,1,SUM(COUNTIF($AE$3:AE62,1),COUNTIF($AE$3:AE62,-1)))),(IF(SUM(COUNTIF($AG$3:AG62,1),COUNTIF($AG$3:AG62,-1))=0,1,SUM(COUNTIF($AG$3:AG62,1),COUNTIF($AG$3:AG62,-1)))),(IF(SUM(COUNTIF($AI$3:AI62,1),COUNTIF($AI$3:AI62,-1))=0,1,SUM(COUNTIF($AI$3:AI62,1),COUNTIF($AI$3:AI62,-1)))),(IF(SUM(COUNTIF($AK$3:AK62,1),COUNTIF($AK$3:AK62,-1))=0,1,SUM(COUNTIF($AK$3:AK62,1),COUNTIF($AK$3:AK62,-1)))))/1000)","v":1.2675171964956196},44.247,null,{"$f":"+SUM(COUNTIF($AG$3:AG62,1),COUNTIF($AG$3:AG62,-1))","v":37},{"$f":"+SUM($S$4:S62)","v":5587},151,{"$f":"+SUM(COUNTIF($AG$3:AG62,1))","v":18},{"$f":"+SUM(COUNTIF($AG$3:AG62,-1))","v":19},-1,{"$f":"BO62*(HARMEAN((IF(SUM(COUNTIF($Z$3:Z62,1),COUNTIF($Z$3:Z62,-1))=0,1,SUM(COUNTIF($Z$3:Z62,1),COUNTIF($Z$3:Z62,-1)))),(IF(SUM(COUNTIF($AC$3:AC62,1),COUNTIF($AC$3:AC62,-1))=0,1,SUM(COUNTIF($AC$3:AC62,1),COUNTIF($AC$3:AC62,-1)))),(IF(SUM(COUNTIF($AE$3:AE62,1),COUNTIF($AE$3:AE62,-1))=0,1,SUM(COUNTIF($AE$3:AE62,1),COUNTIF($AE$3:AE62,-1)))),(IF(SUM(COUNTIF($AG$3:AG62,1),COUNTIF($AG$3:AG62,-1))=0,1,SUM(COUNTIF($AG$3:AG62,1),COUNTIF($AG$3:AG62,-1)))),(IF(SUM(COUNTIF($AI$3:AI62,1),COUNTIF($AI$3:AI62,-1))=0,1,SUM(COUNTIF($AI$3:AI62,1),COUNTIF($AI$3:AI62,-1)))),(IF(SUM(COUNTIF($AK$3:AK62,1),COUNTIF($AK$3:AK62,-1))=0,1,SUM(COUNTIF($AK$3:AK62,1),COUNTIF($AK$3:AK62,-1)))))/1000)","v":1.3027260075093867},16.149999999999999,null,{"$f":"+SUM(COUNTIF($AI$3:AI62,1),COUNTIF($AI$3:AI62,-1))","v":33},{"$f":"+SUM($U$4:U62)","v":4143},125.54545454545455,{"$f":"+SUM(COUNTIF($AI$3:AI62,1))","v":12},{"$f":"+SUM(COUNTIF($AI$3:AI62,-1))","v":21},-9,{"$f":"+BX62*(HARMEAN((IF(SUM(COUNTIF($Z$3:Z62,1),COUNTIF($Z$3:Z62,-1))=0,1,SUM(COUNTIF($Z$3:Z62,1),COUNTIF($Z$3:Z62,-1)))),(IF(SUM(COUNTIF($AC$3:AC62,1),COUNTIF($AC$3:AC62,-1))=0,1,SUM(COUNTIF($AC$3:AC62,1),COUNTIF($AC$3:AC62,-1)))),(IF(SUM(COUNTIF($AE$3:AE62,1),COUNTIF($AE$3:AE62,-1))=0,1,SUM(COUNTIF($AE$3:AE62,1),COUNTIF($AE$3:AE62,-1)))),(IF(SUM(COUNTIF($AG$3:AG62,1),COUNTIF($AG$3:AG62,-1))=0,1,SUM(COUNTIF($AG$3:AG62,1),COUNTIF($AG$3:AG62,-1)))),(IF(SUM(COUNTIF($AI$3:AI62,1),COUNTIF($AI$3:AI62,-1))=0,1,SUM(COUNTIF($AI$3:AI62,1),COUNTIF($AI$3:AI62,-1)))),(IF(SUM(COUNTIF($AK$3:AK62,1),COUNTIF($AK$3:AK62,-1))=0,1,SUM(COUNTIF($AK$3:AK62,1),COUNTIF($AK$3:AK62,-1)))))/1000)","v":1.1618907634543179},-17.100999999999999,null,{"$f":"+SUM(COUNTIF($AK$3:AK62,1),COUNTIF($AK$3:AK62,-1))","v":32},{"$f":"+SUM($W$4:W62)","v":3591},112.21875,{"$f":"+SUM(COUNTIF($AK$3:AK62,1))","v":12},{"$f":"+SUM(COUNTIF($AK$3:AK62,-1))","v":20},-8,{"$f":"+CG62*(HARMEAN((IF(SUM(COUNTIF($Z$3:Z62,1),COUNTIF($Z$3:Z62,-1))=0,1,SUM(COUNTIF($Z$3:Z62,1),COUNTIF($Z$3:Z62,-1)))),(IF(SUM(COUNTIF($AC$3:AC62,1),COUNTIF($AC$3:AC62,-1))=0,1,SUM(COUNTIF($AC$3:AC62,1),COUNTIF($AC$3:AC62,-1)))),(IF(SUM(COUNTIF($AE$3:AE62,1),COUNTIF($AE$3:AE62,-1))=0,1,SUM(COUNTIF($AE$3:AE62,1),COUNTIF($AE$3:AE62,-1)))),(IF(SUM(COUNTIF($AG$3:AG62,1),COUNTIF($AG$3:AG62,-1))=0,1,SUM(COUNTIF($AG$3:AG62,1),COUNTIF($AG$3:AG62,-1)))),(IF(SUM(COUNTIF($AI$3:AI62,1),COUNTIF($AI$3:AI62,-1))=0,1,SUM(COUNTIF($AI$3:AI62,1),COUNTIF($AI$3:AI62,-1)))),(IF(SUM(COUNTIF($AK$3:AK62,1),COUNTIF($AK$3:AK62,-1))=0,1,SUM(COUNTIF($AK$3:AK62,1),COUNTIF($AK$3:AK62,-1)))))/1000)","v":1.1266819524405507},-15.523999999999999]
[60,"",null,{"$f":"+IFERROR(INDEX('Auswertung AoE II'!$AE:$AE,MATCH(A63,'Auswertung AoE II'!$AD:$AD,0)),\"\")","v":""},{"$f":"+IFERROR(INDEX('Auswertung AoE III'!$AE:$AE,MATCH(A63,'Auswertung AoE III'!$AD:$AD,0)),\"\")","v":""},{"$f":"+IFERROR(INDEX('Auswertung AoM'!$AE:$AE,MATCH(A63,'Auswertung AoM'!$AD:$AD,0)),\"\")","v":""},{"$f":"+IFERROR(INDEX('Auswertung RA'!$AE:$AE,MATCH(A63,'Auswertung RA'!$AD:$AD,0)),\"\")","v":""},{"$f":"+IFERROR(INDEX('Auswertung Yuri'!$AE:$AE,MATCH(A63,'Auswertung Yuri'!$AD:$AD,0)),\"\")","v":""},{"$f":"+IFERROR(INDEX('Auswertung Generals'!$AE:$AE,MATCH(A63,'Auswertung Generals'!$AD:$AD,0)),\"\")","v":""},"Auswertung ",null,null,{"$f":"+IF(ISERROR(+INDIRECT(CONCATENATE(\"'\",J63,\"'!\",(ADDRESS((COUNTIF($J$3:J63,IF(B63<>0,CONCATENATE(\"Auswertung \",B63,\"\"))))+2,2)))))=FALSE,+INDIRECT(CONCATENATE(\"'\",J63,\"'!\",(ADDRESS((COUNTIF($J$3:J63,IF(B63<>0,CONCATENATE(\"Auswertung \",B63,\"\"))))+4,2)))),\"\")","v":""},{"$f":"IF(ISERROR(+INDIRECT(CONCATENATE(\"'\",J63,\"'!\",(ADDRESS((COUNTIF($J$3:J63,IF(B63<>0,CONCATENATE(\"Auswertung \",B63,\"\"))))+2,2+1)))))=FALSE,+INDIRECT(CONCATENATE(\"'\",J63,\"'!\",(ADDRESS((COUNTIF($J$3:J63,IF(B63<>0,CONCATENATE(\"Auswertung \",B63,\"\"))))+4,2+1)))),\"\")","v":""},{"$f":"+IF(ISERROR(+INDIRECT(CONCATENATE(\"'\",J63,\"'!\",(ADDRESS((COUNTIF($J$3:J63,IF(B63<>0,CONCATENATE(\"Auswertung \",B63,\"\"))))+2,4)))))=FALSE,+INDIRECT(CONCATENATE(\"'\",J63,\"'!\",(ADDRESS((COUNTIF($J$3:J63,IF(B63<>0,CONCATENATE(\"Auswertung \",B63,\"\"))))+4,4)))),\"\")","v":""},{"$f":"+IF(ISERROR(+INDIRECT(CONCATENATE(\"'\",J63,\"'!\",(ADDRESS((COUNTIF($J$3:J63,IF(B63<>0,CONCATENATE(\"Auswertung \",B63,\"\"))))+2,5)))))=FALSE,+INDIRECT(CONCATENATE(\"'\",J63,\"'!\",(ADDRESS((COUNTIF($J$3:J63,IF(B63<>0,CONCATENATE(\"Auswertung \",B63,\"\"))))+4,5)))),\"\")","v":""},{"$f":"+IF(ISERROR(+INDIRECT(CONCATENATE(\"'\",J63,\"'!\",(ADDRESS((COUNTIF($J$3:J63,IF(B63<>0,CONCATENATE(\"Auswertung \",B63,\"\"))))+2,6)))))=FALSE,+INDIRECT(CONCATENATE(\"'\",J63,\"'!\",(ADDRESS((COUNTIF($J$3:J63,IF(B63<>0,CONCATENATE(\"Auswertung \",B63,\"\"))))+4,6)))),\"\")","v":""},{"$f":"+IF(ISERROR(+INDIRECT(CONCATENATE(\"'\",J63,\"'!\",(ADDRESS((COUNTIF($J$3:J63,IF(B63<>0,CONCATENATE(\"Auswertung \",B63,\"\"))))+2,7)))))=FALSE,+INDIRECT(CONCATENATE(\"'\",J63,\"'!\",(ADDRESS((COUNTIF($J$3:J63,IF(B63<>0,CONCATENATE(\"Auswertung \",B63,\"\"))))+4,7)))),\"\")","v":""},{"$f":"+IF(ISERROR(+INDIRECT(CONCATENATE(\"'\",J63,\"'!\",(ADDRESS((COUNTIF($J$3:J63,IF(B63<>0,CONCATENATE(\"Auswertung \",B63,\"\"))))+2,10)))))=FALSE,+INDIRECT(CONCATENATE(\"'\",J63,\"'!\",(ADDRESS((COUNTIF($J$3:J63,IF(B63<>0,CONCATENATE(\"Auswertung \",B63,\"\"))))+4,8)))),\"\")","v":""},{"$f":"+IF(ISERROR(+INDIRECT(CONCATENATE(\"'\",J63,\"'!\",(ADDRESS((COUNTIF($J$3:J63,IF(B63<>0,CONCATENATE(\"Auswertung \",B63,\"\"))))+2,11)))))=FALSE,+INDIRECT(CONCATENATE(\"'\",J63,\"'!\",(ADDRESS((COUNTIF($J$3:J63,IF(B63<>0,CONCATENATE(\"Auswertung \",B63,\"\"))))+4,9)))),\"\")","v":""},{"$f":"+IF(ISERROR(+INDIRECT(CONCATENATE(\"'\",J63,\"'!\",(ADDRESS((COUNTIF($J$3:J63,IF(B63<>0,CONCATENATE(\"Auswertung \",B63,\"\"))))+2,10)))))=FALSE,+INDIRECT(CONCATENATE(\"'\",J63,\"'!\",(ADDRESS((COUNTIF($J$3:J63,IF(B63<>0,CONCATENATE(\"Auswertung \",B63,\"\"))))+4,10)))),\"\")","v":""},{"$f":"+IF(ISERROR(+INDIRECT(CONCATENATE(\"'\",J63,\"'!\",(ADDRESS((COUNTIF($J$3:J63,IF(B63<>0,CONCATENATE(\"Auswertung \",B63,\"\"))))+2,11)))))=FALSE,+INDIRECT(CONCATENATE(\"'\",J63,\"'!\",(ADDRESS((COUNTIF($J$3:J63,IF(B63<>0,CONCATENATE(\"Auswertung \",B63,\"\"))))+4,11)))),\"\")","v":""},{"$f":"+IF(ISERROR(+INDIRECT(CONCATENATE(\"'\",J63,\"'!\",(ADDRESS((COUNTIF($J$3:J63,IF(D63<>0,CONCATENATE(\"Auswertung \",D63,\"\"))))+2,12)))))=FALSE,+INDIRECT(CONCATENATE(\"'\",J63,\"'!\",(ADDRESS((COUNTIF($J$3:J63,IF(D63<>0,CONCATENATE(\"Auswertung \",B63,\"\"))))+4,12)))),\"\")","v":""},{"$f":"+IF(ISERROR(+INDIRECT(CONCATENATE(\"'\",J63,\"'!\",(ADDRESS((COUNTIF($J$3:J63,IF(D63<>0,CONCATENATE(\"Auswertung \",D63,\"\"))))+2,13)))))=FALSE,+INDIRECT(CONCATENATE(\"'\",J63,\"'!\",(ADDRESS((COUNTIF($J$3:J63,IF(D63<>0,CONCATENATE(\"Auswertung \",B63,\"\"))))+4,13)))),\"\")","v":""},null,{"$f":"+IFERROR(INDIRECT(CONCATENATE(\"'\",J63,\"'!\",(ADDRESS((COUNTIF($J$3:J63,IF(B63<>0,J63)))+4,16)))),\"\")","v":""},21.942,{"$f":"+SUM($M$4:M63)/COUNT($M$4:M63)/1000*2","v":0.28281081081081083},{"$f":"+IFERROR(INDIRECT(CONCATENATE(\"'\",J63,\"'!\",(ADDRESS((COUNTIF($J$3:J63,IF(B63<>0,J63)))+4,18)))),\"\")","v":""},50.264000000000003,{"$f":"+IFERROR(INDIRECT(CONCATENATE(\"'\",J63,\"'!\",(ADDRESS((COUNTIF($J$3:J63,IF(B63<>0,J63)))+4,20)))),\"\")","v":""},44.247,{"$f":"+IFERROR(INDIRECT(CONCATENATE(\"'\",J63,\"'!\",(ADDRESS((COUNTIF($J$3:J63,IF(B63<>0,J63)))+4,22)))),\"\")","v":""},16.149999999999999,{"$f":"+IFERROR(INDIRECT(CONCATENATE(\"'\",J63,\"'!\",(ADDRESS((COUNTIF($J$3:J63,IF(B63<>0,J63)))+4,24)))),\"\")","v":""},-17.100999999999999,{"$f":"+IFERROR(INDIRECT(CONCATENATE(\"'\",J63,\"'!\",(ADDRESS((COUNTIF($J$3:J63,IF(B63<>0,J63)))+4,26)))),\"\")","v":""},-15.523999999999999,60,{"$f":"+SUM(COUNTIF($Z$3:Z63,1),COUNTIF($Z$3:Z63,-1))","v":37},{"$f":"+SUM($M$4:M63)","v":5232},141.40540540540542,{"$f":"+SUM(COUNTIF($Z$3:Z63,1))","v":19},{"$f":"+SUM(COUNTIF($Z$3:Z63,-1))","v":18},1,{"$f":"AN63*(HARMEAN((IF(SUM(COUNTIF($Z$3:Z63,1),COUNTIF($Z$3:Z63,-1))=0,1,SUM(COUNTIF($Z$3:Z63,1),COUNTIF($Z$3:Z63,-1)))),(IF(SUM(COUNTIF($AC$3:AC63,1),COUNTIF($AC$3:AC63,-1))=0,1,SUM(COUNTIF($AC$3:AC63,1),COUNTIF($AC$3:AC63,-1)))),(IF(SUM(COUNTIF($AE$3:AE63,1),COUNTIF($AE$3:AE63,-1))=0,1,SUM(COUNTIF($AE$3:AE63,1),COUNTIF($AE$3:AE63,-1)))),(IF(SUM(COUNTIF($AG$3:AG63,1),COUNTIF($AG$3:AG63,-1))=0,1,SUM(COUNTIF($AG$3:AG63,1),COUNTIF($AG$3:AG63,-1)))),(IF(SUM(COUNTIF($AI$3:AI63,1),COUNTIF($AI$3:AI63,-1))=0,1,SUM(COUNTIF($AI$3:AI63,1),COUNTIF($AI$3:AI63,-1)))),(IF(SUM(COUNTIF($AK$3:AK63,1),COUNTIF($AK$3:AK63,-1))=0,1,SUM(COUNTIF($AK$3:AK63,1),COUNTIF($AK$3:AK63,-1)))))/1000)","v":1.3027260075093867},21.942,null,{"$f":"+SUM(COUNTIF($AC$3:AC63,1),COUNTIF($AC$3:AC63,-1))","v":37},{"$f":"+SUM($O$4:O63)","v":5276},142.59459459459458,{"$f":"+SUM(COUNTIF($AC$3:AC63,1))","v":23},{"$f":"+SUM(COUNTIF($AC$3:AC63,-1))","v":14},9,{"$f":"AW63*(HARMEAN((IF(SUM(COUNTIF($Z$3:Z63,1),COUNTIF($Z$3:Z63,-1))=0,1,SUM(COUNTIF($Z$3:Z63,1),COUNTIF($Z$3:Z63,-1)))),(IF(SUM(COUNTIF($AC$3:AC63,1),COUNTIF($AC$3:AC63,-1))=0,1,SUM(COUNTIF($AC$3:AC63,1),COUNTIF($AC$3:AC63,-1)))),(IF(SUM(COUNTIF($AE$3:AE63,1),COUNTIF($AE$3:AE63,-1))=0,1,SUM(COUNTIF($AE$3:AE63,1),COUNTIF($AE$3:AE63,-1)))),(IF(SUM(COUNTIF($AG$3:AG63,1),COUNTIF($AG$3:AG63,-1))=0,1,SUM(COUNTIF($AG$3:AG63,1),COUNTIF($AG$3:AG63,-1)))),(IF(SUM(COUNTIF($AI$3:AI63,1),COUNTIF($AI$3:AI63,-1))=0,1,SUM(COUNTIF($AI$3:AI63,1),COUNTIF($AI$3:AI63,-1)))),(IF(SUM(COUNTIF($AK$3:AK63,1),COUNTIF($AK$3:AK63,-1))=0,1,SUM(COUNTIF($AK$3:AK63,1),COUNTIF($AK$3:AK63,-1)))))/1000)","v":1.3027260075093867},50.264000000000003,null,{"$f":"+SUM(COUNTIF($AE$3:AE63,1),COUNTIF(AE$3:$AE63,-1))","v":36},{"$f":"+SUM($Q$4:Q63)","v":4567},126.86111111111111,{"$f":"+SUM(COUNTIF($AE$3:AE63,1))","v":22},{"$f":"+SUM(COUNTIF($AE$3:AE63,-1))","v":14},8,{"$f":"BF63*(HARMEAN((IF(SUM(COUNTIF($Z$3:Z63,1),COUNTIF($Z$3:Z63,-1))=0,1,SUM(COUNTIF($Z$3:Z63,1),COUNTIF($Z$3:Z63,-1)))),(IF(SUM(COUNTIF($AC$3:AC63,1),COUNTIF($AC$3:AC63,-1))=0,1,SUM(COUNTIF($AC$3:AC63,1),COUNTIF($AC$3:AC63,-1)))),(IF(SUM(COUNTIF($AE$3:AE63,1),COUNTIF($AE$3:AE63,-1))=0,1,SUM(COUNTIF($AE$3:AE63,1),COUNTIF($AE$3:AE63,-1)))),(IF(SUM(COUNTIF($AG$3:AG63,1),COUNTIF($AG$3:AG63,-1))=0,1,SUM(COUNTIF($AG$3:AG63,1),COUNTIF($AG$3:AG63,-1)))),(IF(SUM(COUNTIF($AI$3:AI63,1),COUNTIF($AI$3:AI63,-1))=0,1,SUM(COUNTIF($AI$3:AI63,1),COUNTIF($AI$3:AI63,-1)))),(IF(SUM(COUNTIF($AK$3:AK63,1),COUNTIF($AK$3:AK63,-1))=0,1,SUM(COUNTIF($AK$3:AK63,1),COUNTIF($AK$3:AK63,-1)))))/1000)","v":1.2675171964956196},44.247,null,{"$f":"+SUM(COUNTIF($AG$3:AG63,1),COUNTIF($AG$3:AG63,-1))","v":37},{"$f":"+SUM($S$4:S63)","v":5587},151,{"$f":"+SUM(COUNTIF($AG$3:AG63,1))","v":18},{"$f":"+SUM(COUNTIF($AG$3:AG63,-1))","v":19},-1,{"$f":"BO63*(HARMEAN((IF(SUM(COUNTIF($Z$3:Z63,1),COUNTIF($Z$3:Z63,-1))=0,1,SUM(COUNTIF($Z$3:Z63,1),COUNTIF($Z$3:Z63,-1)))),(IF(SUM(COUNTIF($AC$3:AC63,1),COUNTIF($AC$3:AC63,-1))=0,1,SUM(COUNTIF($AC$3:AC63,1),COUNTIF($AC$3:AC63,-1)))),(IF(SUM(COUNTIF($AE$3:AE63,1),COUNTIF($AE$3:AE63,-1))=0,1,SUM(COUNTIF($AE$3:AE63,1),COUNTIF($AE$3:AE63,-1)))),(IF(SUM(COUNTIF($AG$3:AG63,1),COUNTIF($AG$3:AG63,-1))=0,1,SUM(COUNTIF($AG$3:AG63,1),COUNTIF($AG$3:AG63,-1)))),(IF(SUM(COUNTIF($AI$3:AI63,1),COUNTIF($AI$3:AI63,-1))=0,1,SUM(COUNTIF($AI$3:AI63,1),COUNTIF($AI$3:AI63,-1)))),(IF(SUM(COUNTIF($AK$3:AK63,1),COUNTIF($AK$3:AK63,-1))=0,1,SUM(COUNTIF($AK$3:AK63,1),COUNTIF($AK$3:AK63,-1)))))/1000)","v":1.3027260075093867},16.149999999999999,null,{"$f":"+SUM(COUNTIF($AI$3:AI63,1),COUNTIF($AI$3:AI63,-1))","v":33},{"$f":"+SUM($U$4:U63)","v":4143},125.54545454545455,{"$f":"+SUM(COUNTIF($AI$3:AI63,1))","v":12},{"$f":"+SUM(COUNTIF($AI$3:AI63,-1))","v":21},-9,{"$f":"+BX63*(HARMEAN((IF(SUM(COUNTIF($Z$3:Z63,1),COUNTIF($Z$3:Z63,-1))=0,1,SUM(COUNTIF($Z$3:Z63,1),COUNTIF($Z$3:Z63,-1)))),(IF(SUM(COUNTIF($AC$3:AC63,1),COUNTIF($AC$3:AC63,-1))=0,1,SUM(COUNTIF($AC$3:AC63,1),COUNTIF($AC$3:AC63,-1)))),(IF(SUM(COUNTIF($AE$3:AE63,1),COUNTIF($AE$3:AE63,-1))=0,1,SUM(COUNTIF($AE$3:AE63,1),COUNTIF($AE$3:AE63,-1)))),(IF(SUM(COUNTIF($AG$3:AG63,1),COUNTIF($AG$3:AG63,-1))=0,1,SUM(COUNTIF($AG$3:AG63,1),COUNTIF($AG$3:AG63,-1)))),(IF(SUM(COUNTIF($AI$3:AI63,1),COUNTIF($AI$3:AI63,-1))=0,1,SUM(COUNTIF($AI$3:AI63,1),COUNTIF($AI$3:AI63,-1)))),(IF(SUM(COUNTIF($AK$3:AK63,1),COUNTIF($AK$3:AK63,-1))=0,1,SUM(COUNTIF($AK$3:AK63,1),COUNTIF($AK$3:AK63,-1)))))/1000)","v":1.1618907634543179},-17.100999999999999,null,{"$f":"+SUM(COUNTIF($AK$3:AK63,1),COUNTIF($AK$3:AK63,-1))","v":32},{"$f":"+SUM($W$4:W63)","v":3591},112.21875,{"$f":"+SUM(COUNTIF($AK$3:AK63,1))","v":12},{"$f":"+SUM(COUNTIF($AK$3:AK63,-1))","v":20},-8,{"$f":"+CG63*(HARMEAN((IF(SUM(COUNTIF($Z$3:Z63,1),COUNTIF($Z$3:Z63,-1))=0,1,SUM(COUNTIF($Z$3:Z63,1),COUNTIF($Z$3:Z63,-1)))),(IF(SUM(COUNTIF($AC$3:AC63,1),COUNTIF($AC$3:AC63,-1))=0,1,SUM(COUNTIF($AC$3:AC63,1),COUNTIF($AC$3:AC63,-1)))),(IF(SUM(COUNTIF($AE$3:AE63,1),COUNTIF($AE$3:AE63,-1))=0,1,SUM(COUNTIF($AE$3:AE63,1),COUNTIF($AE$3:AE63,-1)))),(IF(SUM(COUNTIF($AG$3:AG63,1),COUNTIF($AG$3:AG63,-1))=0,1,SUM(COUNTIF($AG$3:AG63,1),COUNTIF($AG$3:AG63,-1)))),(IF(SUM(COUNTIF($AI$3:AI63,1),COUNTIF($AI$3:AI63,-1))=0,1,SUM(COUNTIF($AI$3:AI63,1),COUNTIF($AI$3:AI63,-1)))),(IF(SUM(COUNTIF($AK$3:AK63,1),COUNTIF($AK$3:AK63,-1))=0,1,SUM(COUNTIF($AK$3:AK63,1),COUNTIF($AK$3:AK63,-1)))))/1000)","v":1.1266819524405507},-15.523999999999999]
[61,"",null,{"$f":"+IFERROR(INDEX('Auswertung AoE II'!$AE:$AE,MATCH(A64,'Auswertung AoE II'!$AD:$AD,0)),\"\")","v":""},{"$f":"+IFERROR(INDEX('Auswertung AoE III'!$AE:$AE,MATCH(A64,'Auswertung AoE III'!$AD:$AD,0)),\"\")","v":""},{"$f":"+IFERROR(INDEX('Auswertung AoM'!$AE:$AE,MATCH(A64,'Auswertung AoM'!$AD:$AD,0)),\"\")","v":""},{"$f":"+IFERROR(INDEX('Auswertung RA'!$AE:$AE,MATCH(A64,'Auswertung RA'!$AD:$AD,0)),\"\")","v":""},{"$f":"+IFERROR(INDEX('Auswertung Yuri'!$AE:$AE,MATCH(A64,'Auswertung Yuri'!$AD:$AD,0)),\"\")","v":""},{"$f":"+IFERROR(INDEX('Auswertung Generals'!$AE:$AE,MATCH(A64,'Auswertung Generals'!$AD:$AD,0)),\"\")","v":""},"Auswertung ",null,null,{"$f":"+IF(ISERROR(+INDIRECT(CONCATENATE(\"'\",J64,\"'!\",(ADDRESS((COUNTIF($J$3:J64,IF(B64<>0,CONCATENATE(\"Auswertung \",B64,\"\"))))+2,2)))))=FALSE,+INDIRECT(CONCATENATE(\"'\",J64,\"'!\",(ADDRESS((COUNTIF($J$3:J64,IF(B64<>0,CONCATENATE(\"Auswertung \",B64,\"\"))))+4,2)))),\"\")","v":""},{"$f":"IF(ISERROR(+INDIRECT(CONCATENATE(\"'\",J64,\"'!\",(ADDRESS((COUNTIF($J$3:J64,IF(B64<>0,CONCATENATE(\"Auswertung \",B64,\"\"))))+2,2+1)))))=FALSE,+INDIRECT(CONCATENATE(\"'\",J64,\"'!\",(ADDRESS((COUNTIF($J$3:J64,IF(B64<>0,CONCATENATE(\"Auswertung \",B64,\"\"))))+4,2+1)))),\"\")","v":""},{"$f":"+IF(ISERROR(+INDIRECT(CONCATENATE(\"'\",J64,\"'!\",(ADDRESS((COUNTIF($J$3:J64,IF(B64<>0,CONCATENATE(\"Auswertung \",B64,\"\"))))+2,4)))))=FALSE,+INDIRECT(CONCATENATE(\"'\",J64,\"'!\",(ADDRESS((COUNTIF($J$3:J64,IF(B64<>0,CONCATENATE(\"Auswertung \",B64,\"\"))))+4,4)))),\"\")","v":""},{"$f":"+IF(ISERROR(+INDIRECT(CONCATENATE(\"'\",J64,\"'!\",(ADDRESS((COUNTIF($J$3:J64,IF(B64<>0,CONCATENATE(\"Auswertung \",B64,\"\"))))+2,5)))))=FALSE,+INDIRECT(CONCATENATE(\"'\",J64,\"'!\",(ADDRESS((COUNTIF($J$3:J64,IF(B64<>0,CONCATENATE(\"Auswertung \",B64,\"\"))))+4,5)))),\"\")","v":""},{"$f":"+IF(ISERROR(+INDIRECT(CONCATENATE(\"'\",J64,\"'!\",(ADDRESS((COUNTIF($J$3:J64,IF(B64<>0,CONCATENATE(\"Auswertung \",B64,\"\"))))+2,6)))))=FALSE,+INDIRECT(CONCATENATE(\"'\",J64,\"'!\",(ADDRESS((COUNTIF($J$3:J64,IF(B64<>0,CONCATENATE(\"Auswertung \",B64,\"\"))))+4,6)))),\"\")","v":""},{"$f":"+IF(ISERROR(+INDIRECT(CONCATENATE(\"'\",J64,\"'!\",(ADDRESS((COUNTIF($J$3:J64,IF(B64<>0,CONCATENATE(\"Auswertung \",B64,\"\"))))+2,7)))))=FALSE,+INDIRECT(CONCATENATE(\"'\",J64,\"'!\",(ADDRESS((COUNTIF($J$3:J64,IF(B64<>0,CONCATENATE(\"Auswertung \",B64,\"\"))))+4,7)))),\"\")","v":""},{"$f":"+IF(ISERROR(+INDIRECT(CONCATENATE(\"'\",J64,\"'!\",(ADDRESS((COUNTIF($J$3:J64,IF(B64<>0,CONCATENATE(\"Auswertung \",B64,\"\"))))+2,10)))))=FALSE,+INDIRECT(CONCATENATE(\"'\",J64,\"'!\",(ADDRESS((COUNTIF($J$3:J64,IF(B64<>0,CONCATENATE(\"Auswertung \",B64,\"\"))))+4,8)))),\"\")","v":""},{"$f":"+IF(ISERROR(+INDIRECT(CONCATENATE(\"'\",J64,\"'!\",(ADDRESS((COUNTIF($J$3:J64,IF(B64<>0,CONCATENATE(\"Auswertung \",B64,\"\"))))+2,11)))))=FALSE,+INDIRECT(CONCATENATE(\"'\",J64,\"'!\",(ADDRESS((COUNTIF($J$3:J64,IF(B64<>0,CONCATENATE(\"Auswertung \",B64,\"\"))))+4,9)))),\"\")","v":""},{"$f":"+IF(ISERROR(+INDIRECT(CONCATENATE(\"'\",J64,\"'!\",(ADDRESS((COUNTIF($J$3:J64,IF(B64<>0,CONCATENATE(\"Auswertung \",B64,\"\"))))+2,10)))))=FALSE,+INDIRECT(CONCATENATE(\"'\",J64,\"'!\",(ADDRESS((COUNTIF($J$3:J64,IF(B64<>0,CONCATENATE(\"Auswertung \",B64,\"\"))))+4,10)))),\"\")","v":""},{"$f":"+IF(ISERROR(+INDIRECT(CONCATENATE(\"'\",J64,\"'!\",(ADDRESS((COUNTIF($J$3:J64,IF(B64<>0,CONCATENATE(\"Auswertung \",B64,\"\"))))+2,11)))))=FALSE,+INDIRECT(CONCATENATE(\"'\",J64,\"'!\",(ADDRESS((COUNTIF($J$3:J64,IF(B64<>0,CONCATENATE(\"Auswertung \",B64,\"\"))))+4,11)))),\"\")","v":""},{"$f":"+IF(ISERROR(+INDIRECT(CONCATENATE(\"'\",J64,\"'!\",(ADDRESS((COUNTIF($J$3:J64,IF(D64<>0,CONCATENATE(\"Auswertung \",D64,\"\"))))+2,12)))))=FALSE,+INDIRECT(CONCATENATE(\"'\",J64,\"'!\",(ADDRESS((COUNTIF($J$3:J64,IF(D64<>0,CONCATENATE(\"Auswertung \",B64,\"\"))))+4,12)))),\"\")","v":""},{"$f":"+IF(ISERROR(+INDIRECT(CONCATENATE(\"'\",J64,\"'!\",(ADDRESS((COUNTIF($J$3:J64,IF(D64<>0,CONCATENATE(\"Auswertung \",D64,\"\"))))+2,13)))))=FALSE,+INDIRECT(CONCATENATE(\"'\",J64,\"'!\",(ADDRESS((COUNTIF($J$3:J64,IF(D64<>0,CONCATENATE(\"Auswertung \",B64,\"\"))))+4,13)))),\"\")","v":""},null,{"$f":"+IFERROR(INDIRECT(CONCATENATE(\"'\",J64,\"'!\",(ADDRESS((COUNTIF($J$3:J64,IF(B64<>0,J64)))+4,16)))),\"\")","v":""},21.942,{"$f":"+SUM($M$4:M64)/COUNT($M$4:M64)/1000*2","v":0.28281081081081083},{"$f":"+IFERROR(INDIRECT(CONCATENATE(\"'\",J64,\"'!\",(ADDRESS((COUNTIF($J$3:J64,IF(B64<>0,J64)))+4,18)))),\"\")","v":""},50.264000000000003,{"$f":"+IFERROR(INDIRECT(CONCATENATE(\"'\",J64,\"'!\",(ADDRESS((COUNTIF($J$3:J64,IF(B64<>0,J64)))+4,20)))),\"\")","v":""},44.247,{"$f":"+IFERROR(INDIRECT(CONCATENATE(\"'\",J64,\"'!\",(ADDRESS((COUNTIF($J$3:J64,IF(B64<>0,J64)))+4,22)))),\"\")","v":""},16.149999999999999,{"$f":"+IFERROR(INDIRECT(CONCATENATE(\"'\",J64,\"'!\",(ADDRESS((COUNTIF($J$3:J64,IF(B64<>0,J64)))+4,24)))),\"\")","v":""},-17.100999999999999,{"$f":"+IFERROR(INDIRECT(CONCATENATE(\"'\",J64,\"'!\",(ADDRESS((COUNTIF($J$3:J64,IF(B64<>0,J64)))+4,26)))),\"\")","v":""},-15.523999999999999,61,{"$f":"+SUM(COUNTIF($Z$3:Z64,1),COUNTIF($Z$3:Z64,-1))","v":37},{"$f":"+SUM($M$4:M64)","v":5232},141.40540540540542,{"$f":"+SUM(COUNTIF($Z$3:Z64,1))","v":19},{"$f":"+SUM(COUNTIF($Z$3:Z64,-1))","v":18},1,{"$f":"AN64*(HARMEAN((IF(SUM(COUNTIF($Z$3:Z64,1),COUNTIF($Z$3:Z64,-1))=0,1,SUM(COUNTIF($Z$3:Z64,1),COUNTIF($Z$3:Z64,-1)))),(IF(SUM(COUNTIF($AC$3:AC64,1),COUNTIF($AC$3:AC64,-1))=0,1,SUM(COUNTIF($AC$3:AC64,1),COUNTIF($AC$3:AC64,-1)))),(IF(SUM(COUNTIF($AE$3:AE64,1),COUNTIF($AE$3:AE64,-1))=0,1,SUM(COUNTIF($AE$3:AE64,1),COUNTIF($AE$3:AE64,-1)))),(IF(SUM(COUNTIF($AG$3:AG64,1),COUNTIF($AG$3:AG64,-1))=0,1,SUM(COUNTIF($AG$3:AG64,1),COUNTIF($AG$3:AG64,-1)))),(IF(SUM(COUNTIF($AI$3:AI64,1),COUNTIF($AI$3:AI64,-1))=0,1,SUM(COUNTIF($AI$3:AI64,1),COUNTIF($AI$3:AI64,-1)))),(IF(SUM(COUNTIF($AK$3:AK64,1),COUNTIF($AK$3:AK64,-1))=0,1,SUM(COUNTIF($AK$3:AK64,1),COUNTIF($AK$3:AK64,-1)))))/1000)","v":1.3027260075093867},21.942,null,{"$f":"+SUM(COUNTIF($AC$3:AC64,1),COUNTIF($AC$3:AC64,-1))","v":37},{"$f":"+SUM($O$4:O64)","v":5276},142.59459459459458,{"$f":"+SUM(COUNTIF($AC$3:AC64,1))","v":23},{"$f":"+SUM(COUNTIF($AC$3:AC64,-1))","v":14},9,{"$f":"AW64*(HARMEAN((IF(SUM(COUNTIF($Z$3:Z64,1),COUNTIF($Z$3:Z64,-1))=0,1,SUM(COUNTIF($Z$3:Z64,1),COUNTIF($Z$3:Z64,-1)))),(IF(SUM(COUNTIF($AC$3:AC64,1),COUNTIF($AC$3:AC64,-1))=0,1,SUM(COUNTIF($AC$3:AC64,1),COUNTIF($AC$3:AC64,-1)))),(IF(SUM(COUNTIF($AE$3:AE64,1),COUNTIF($AE$3:AE64,-1))=0,1,SUM(COUNTIF($AE$3:AE64,1),COUNTIF($AE$3:AE64,-1)))),(IF(SUM(COUNTIF($AG$3:AG64,1),COUNTIF($AG$3:AG64,-1))=0,1,SUM(COUNTIF($AG$3:AG64,1),COUNTIF($AG$3:AG64,-1)))),(IF(SUM(COUNTIF($AI$3:AI64,1),COUNTIF($AI$3:AI64,-1))=0,1,SUM(COUNTIF($AI$3:AI64,1),COUNTIF($AI$3:AI64,-1)))),(IF(SUM(COUNTIF($AK$3:AK64,1),COUNTIF($AK$3:AK64,-1))=0,1,SUM(COUNTIF($AK$3:AK64,1),COUNTIF($AK$3:AK64,-1)))))/1000)","v":1.3027260075093867},50.264000000000003,null,{"$f":"+SUM(COUNTIF($AE$3:AE64,1),COUNTIF(AE$3:$AE64,-1))","v":36},{"$f":"+SUM($Q$4:Q64)","v":4567},126.86111111111111,{"$f":"+SUM(COUNTIF($AE$3:AE64,1))","v":22},{"$f":"+SUM(COUNTIF($AE$3:AE64,-1))","v":14},8,{"$f":"BF64*(HARMEAN((IF(SUM(COUNTIF($Z$3:Z64,1),COUNTIF($Z$3:Z64,-1))=0,1,SUM(COUNTIF($Z$3:Z64,1),COUNTIF($Z$3:Z64,-1)))),(IF(SUM(COUNTIF($AC$3:AC64,1),COUNTIF($AC$3:AC64,-1))=0,1,SUM(COUNTIF($AC$3:AC64,1),COUNTIF($AC$3:AC64,-1)))),(IF(SUM(COUNTIF($AE$3:AE64,1),COUNTIF($AE$3:AE64,-1))=0,1,SUM(COUNTIF($AE$3:AE64,1),COUNTIF($AE$3:AE64,-1)))),(IF(SUM(COUNTIF($AG$3:AG64,1),COUNTIF($AG$3:AG64,-1))=0,1,SUM(COUNTIF($AG$3:AG64,1),COUNTIF($AG$3:AG64,-1)))),(IF(SUM(COUNTIF($AI$3:AI64,1),COUNTIF($AI$3:AI64,-1))=0,1,SUM(COUNTIF($AI$3:AI64,1),COUNTIF($AI$3:AI64,-1)))),(IF(SUM(COUNTIF($AK$3:AK64,1),COUNTIF($AK$3:AK64,-1))=0,1,SUM(COUNTIF($AK$3:AK64,1),COUNTIF($AK$3:AK64,-1)))))/1000)","v":1.2675171964956196},44.247,null,{"$f":"+SUM(COUNTIF($AG$3:AG64,1),COUNTIF($AG$3:AG64,-1))","v":37},{"$f":"+SUM($S$4:S64)","v":5587},151,{"$f":"+SUM(COUNTIF($AG$3:AG64,1))","v":18},{"$f":"+SUM(COUNTIF($AG$3:AG64,-1))","v":19},-1,{"$f":"BO64*(HARMEAN((IF(SUM(COUNTIF($Z$3:Z64,1),COUNTIF($Z$3:Z64,-1))=0,1,SUM(COUNTIF($Z$3:Z64,1),COUNTIF($Z$3:Z64,-1)))),(IF(SUM(COUNTIF($AC$3:AC64,1),COUNTIF($AC$3:AC64,-1))=0,1,SUM(COUNTIF($AC$3:AC64,1),COUNTIF($AC$3:AC64,-1)))),(IF(SUM(COUNTIF($AE$3:AE64,1),COUNTIF($AE$3:AE64,-1))=0,1,SUM(COUNTIF($AE$3:AE64,1),COUNTIF($AE$3:AE64,-1)))),(IF(SUM(COUNTIF($AG$3:AG64,1),COUNTIF($AG$3:AG64,-1))=0,1,SUM(COUNTIF($AG$3:AG64,1),COUNTIF($AG$3:AG64,-1)))),(IF(SUM(COUNTIF($AI$3:AI64,1),COUNTIF($AI$3:AI64,-1))=0,1,SUM(COUNTIF($AI$3:AI64,1),COUNTIF($AI$3:AI64,-1)))),(IF(SUM(COUNTIF($AK$3:AK64,1),COUNTIF($AK$3:AK64,-1))=0,1,SUM(COUNTIF($AK$3:AK64,1),COUNTIF($AK$3:AK64,-1)))))/1000)","v":1.3027260075093867},16.149999999999999,null,{"$f":"+SUM(COUNTIF($AI$3:AI64,1),COUNTIF($AI$3:AI64,-1))","v":33},{"$f":"+SUM($U$4:U64)","v":4143},125.54545454545455,{"$f":"+SUM(COUNTIF($AI$3:AI64,1))","v":12},{"$f":"+SUM(COUNTIF($AI$3:AI64,-1))","v":21},-9,{"$f":"+BX64*(HARMEAN((IF(SUM(COUNTIF($Z$3:Z64,1),COUNTIF($Z$3:Z64,-1))=0,1,SUM(COUNTIF($Z$3:Z64,1),COUNTIF($Z$3:Z64,-1)))),(IF(SUM(COUNTIF($AC$3:AC64,1),COUNTIF($AC$3:AC64,-1))=0,1,SUM(COUNTIF($AC$3:AC64,1),COUNTIF($AC$3:AC64,-1)))),(IF(SUM(COUNTIF($AE$3:AE64,1),COUNTIF($AE$3:AE64,-1))=0,1,SUM(COUNTIF($AE$3:AE64,1),COUNTIF($AE$3:AE64,-1)))),(IF(SUM(COUNTIF($AG$3:AG64,1),COUNTIF($AG$3:AG64,-1))=0,1,SUM(COUNTIF($AG$3:AG64,1),COUNTIF($AG$3:AG64,-1)))),(IF(SUM(COUNTIF($AI$3:AI64,1),COUNTIF($AI$3:AI64,-1))=0,1,SUM(COUNTIF($AI$3:AI64,1),COUNTIF($AI$3:AI64,-1)))),(IF(SUM(COUNTIF($AK$3:AK64,1),COUNTIF($AK$3:AK64,-1))=0,1,SUM(COUNTIF($AK$3:AK64,1),COUNTIF($AK$3:AK64,-1)))))/1000)","v":1.1618907634543179},-17.100999999999999,null,{"$f":"+SUM(COUNTIF($AK$3:AK64,1),COUNTIF($AK$3:AK64,-1))","v":32},{"$f":"+SUM($W$4:W64)","v":3591},112.21875,{"$f":"+SUM(COUNTIF($AK$3:AK64,1))","v":12},{"$f":"+SUM(COUNTIF($AK$3:AK64,-1))","v":20},-8,{"$f":"+CG64*(HARMEAN((IF(SUM(COUNTIF($Z$3:Z64,1),COUNTIF($Z$3:Z64,-1))=0,1,SUM(COUNTIF($Z$3:Z64,1),COUNTIF($Z$3:Z64,-1)))),(IF(SUM(COUNTIF($AC$3:AC64,1),COUNTIF($AC$3:AC64,-1))=0,1,SUM(COUNTIF($AC$3:AC64,1),COUNTIF($AC$3:AC64,-1)))),(IF(SUM(COUNTIF($AE$3:AE64,1),COUNTIF($AE$3:AE64,-1))=0,1,SUM(COUNTIF($AE$3:AE64,1),COUNTIF($AE$3:AE64,-1)))),(IF(SUM(COUNTIF($AG$3:AG64,1),COUNTIF($AG$3:AG64,-1))=0,1,SUM(COUNTIF($AG$3:AG64,1),COUNTIF($AG$3:AG64,-1)))),(IF(SUM(COUNTIF($AI$3:AI64,1),COUNTIF($AI$3:AI64,-1))=0,1,SUM(COUNTIF($AI$3:AI64,1),COUNTIF($AI$3:AI64,-1)))),(IF(SUM(COUNTIF($AK$3:AK64,1),COUNTIF($AK$3:AK64,-1))=0,1,SUM(COUNTIF($AK$3:AK64,1),COUNTIF($AK$3:AK64,-1)))))/1000)","v":1.1266819524405507},-15.523999999999999]
[62,"",null,{"$f":"+IFERROR(INDEX('Auswertung AoE II'!$AE:$AE,MATCH(A65,'Auswertung AoE II'!$AD:$AD,0)),\"\")","v":""},{"$f":"+IFERROR(INDEX('Auswertung AoE III'!$AE:$AE,MATCH(A65,'Auswertung AoE III'!$AD:$AD,0)),\"\")","v":""},{"$f":"+IFERROR(INDEX('Auswertung AoM'!$AE:$AE,MATCH(A65,'Auswertung AoM'!$AD:$AD,0)),\"\")","v":""},{"$f":"+IFERROR(INDEX('Auswertung RA'!$AE:$AE,MATCH(A65,'Auswertung RA'!$AD:$AD,0)),\"\")","v":""},{"$f":"+IFERROR(INDEX('Auswertung Yuri'!$AE:$AE,MATCH(A65,'Auswertung Yuri'!$AD:$AD,0)),\"\")","v":""},{"$f":"+IFERROR(INDEX('Auswertung Generals'!$AE:$AE,MATCH(A65,'Auswertung Generals'!$AD:$AD,0)),\"\")","v":""},"Auswertung ",null,null,{"$f":"+IF(ISERROR(+INDIRECT(CONCATENATE(\"'\",J65,\"'!\",(ADDRESS((COUNTIF($J$3:J65,IF(B65<>0,CONCATENATE(\"Auswertung \",B65,\"\"))))+2,2)))))=FALSE,+INDIRECT(CONCATENATE(\"'\",J65,\"'!\",(ADDRESS((COUNTIF($J$3:J65,IF(B65<>0,CONCATENATE(\"Auswertung \",B65,\"\"))))+4,2)))),\"\")","v":""},{"$f":"IF(ISERROR(+INDIRECT(CONCATENATE(\"'\",J65,\"'!\",(ADDRESS((COUNTIF($J$3:J65,IF(B65<>0,CONCATENATE(\"Auswertung \",B65,\"\"))))+2,2+1)))))=FALSE,+INDIRECT(CONCATENATE(\"'\",J65,\"'!\",(ADDRESS((COUNTIF($J$3:J65,IF(B65<>0,CONCATENATE(\"Auswertung \",B65,\"\"))))+4,2+1)))),\"\")","v":""},{"$f":"+IF(ISERROR(+INDIRECT(CONCATENATE(\"'\",J65,\"'!\",(ADDRESS((COUNTIF($J$3:J65,IF(B65<>0,CONCATENATE(\"Auswertung \",B65,\"\"))))+2,4)))))=FALSE,+INDIRECT(CONCATENATE(\"'\",J65,\"'!\",(ADDRESS((COUNTIF($J$3:J65,IF(B65<>0,CONCATENATE(\"Auswertung \",B65,\"\"))))+4,4)))),\"\")","v":""},{"$f":"+IF(ISERROR(+INDIRECT(CONCATENATE(\"'\",J65,\"'!\",(ADDRESS((COUNTIF($J$3:J65,IF(B65<>0,CONCATENATE(\"Auswertung \",B65,\"\"))))+2,5)))))=FALSE,+INDIRECT(CONCATENATE(\"'\",J65,\"'!\",(ADDRESS((COUNTIF($J$3:J65,IF(B65<>0,CONCATENATE(\"Auswertung \",B65,\"\"))))+4,5)))),\"\")","v":""},{"$f":"+IF(ISERROR(+INDIRECT(CONCATENATE(\"'\",J65,\"'!\",(ADDRESS((COUNTIF($J$3:J65,IF(B65<>0,CONCATENATE(\"Auswertung \",B65,\"\"))))+2,6)))))=FALSE,+INDIRECT(CONCATENATE(\"'\",J65,\"'!\",(ADDRESS((COUNTIF($J$3:J65,IF(B65<>0,CONCATENATE(\"Auswertung \",B65,\"\"))))+4,6)))),\"\")","v":""},{"$f":"+IF(ISERROR(+INDIRECT(CONCATENATE(\"'\",J65,\"'!\",(ADDRESS((COUNTIF($J$3:J65,IF(B65<>0,CONCATENATE(\"Auswertung \",B65,\"\"))))+2,7)))))=FALSE,+INDIRECT(CONCATENATE(\"'\",J65,\"'!\",(ADDRESS((COUNTIF($J$3:J65,IF(B65<>0,CONCATENATE(\"Auswertung \",B65,\"\"))))+4,7)))),\"\")","v":""},{"$f":"+IF(ISERROR(+INDIRECT(CONCATENATE(\"'\",J65,\"'!\",(ADDRESS((COUNTIF($J$3:J65,IF(B65<>0,CONCATENATE(\"Auswertung \",B65,\"\"))))+2,10)))))=FALSE,+INDIRECT(CONCATENATE(\"'\",J65,\"'!\",(ADDRESS((COUNTIF($J$3:J65,IF(B65<>0,CONCATENATE(\"Auswertung \",B65,\"\"))))+4,8)))),\"\")","v":""},{"$f":"+IF(ISERROR(+INDIRECT(CONCATENATE(\"'\",J65,\"'!\",(ADDRESS((COUNTIF($J$3:J65,IF(B65<>0,CONCATENATE(\"Auswertung \",B65,\"\"))))+2,11)))))=FALSE,+INDIRECT(CONCATENATE(\"'\",J65,\"'!\",(ADDRESS((COUNTIF($J$3:J65,IF(B65<>0,CONCATENATE(\"Auswertung \",B65,\"\"))))+4,9)))),\"\")","v":""},{"$f":"+IF(ISERROR(+INDIRECT(CONCATENATE(\"'\",J65,\"'!\",(ADDRESS((COUNTIF($J$3:J65,IF(B65<>0,CONCATENATE(\"Auswertung \",B65,\"\"))))+2,10)))))=FALSE,+INDIRECT(CONCATENATE(\"'\",J65,\"'!\",(ADDRESS((COUNTIF($J$3:J65,IF(B65<>0,CONCATENATE(\"Auswertung \",B65,\"\"))))+4,10)))),\"\")","v":""},{"$f":"+IF(ISERROR(+INDIRECT(CONCATENATE(\"'\",J65,\"'!\",(ADDRESS((COUNTIF($J$3:J65,IF(B65<>0,CONCATENATE(\"Auswertung \",B65,\"\"))))+2,11)))))=FALSE,+INDIRECT(CONCATENATE(\"'\",J65,\"'!\",(ADDRESS((COUNTIF($J$3:J65,IF(B65<>0,CONCATENATE(\"Auswertung \",B65,\"\"))))+4,11)))),\"\")","v":""},{"$f":"+IF(ISERROR(+INDIRECT(CONCATENATE(\"'\",J65,\"'!\",(ADDRESS((COUNTIF($J$3:J65,IF(D65<>0,CONCATENATE(\"Auswertung \",D65,\"\"))))+2,12)))))=FALSE,+INDIRECT(CONCATENATE(\"'\",J65,\"'!\",(ADDRESS((COUNTIF($J$3:J65,IF(D65<>0,CONCATENATE(\"Auswertung \",B65,\"\"))))+4,12)))),\"\")","v":""},{"$f":"+IF(ISERROR(+INDIRECT(CONCATENATE(\"'\",J65,\"'!\",(ADDRESS((COUNTIF($J$3:J65,IF(D65<>0,CONCATENATE(\"Auswertung \",D65,\"\"))))+2,13)))))=FALSE,+INDIRECT(CONCATENATE(\"'\",J65,\"'!\",(ADDRESS((COUNTIF($J$3:J65,IF(D65<>0,CONCATENATE(\"Auswertung \",B65,\"\"))))+4,13)))),\"\")","v":""},null,{"$f":"+IFERROR(INDIRECT(CONCATENATE(\"'\",J65,\"'!\",(ADDRESS((COUNTIF($J$3:J65,IF(B65<>0,J65)))+4,16)))),\"\")","v":""},21.942,{"$f":"+SUM($M$4:M65)/COUNT($M$4:M65)/1000*2","v":0.28281081081081083},{"$f":"+IFERROR(INDIRECT(CONCATENATE(\"'\",J65,\"'!\",(ADDRESS((COUNTIF($J$3:J65,IF(B65<>0,J65)))+4,18)))),\"\")","v":""},50.264000000000003,{"$f":"+IFERROR(INDIRECT(CONCATENATE(\"'\",J65,\"'!\",(ADDRESS((COUNTIF($J$3:J65,IF(B65<>0,J65)))+4,20)))),\"\")","v":""},44.247,{"$f":"+IFERROR(INDIRECT(CONCATENATE(\"'\",J65,\"'!\",(ADDRESS((COUNTIF($J$3:J65,IF(B65<>0,J65)))+4,22)))),\"\")","v":""},16.149999999999999,{"$f":"+IFERROR(INDIRECT(CONCATENATE(\"'\",J65,\"'!\",(ADDRESS((COUNTIF($J$3:J65,IF(B65<>0,J65)))+4,24)))),\"\")","v":""},-17.100999999999999,{"$f":"+IFERROR(INDIRECT(CONCATENATE(\"'\",J65,\"'!\",(ADDRESS((COUNTIF($J$3:J65,IF(B65<>0,J65)))+4,26)))),\"\")","v":""},-15.523999999999999,62,{"$f":"+SUM(COUNTIF($Z$3:Z65,1),COUNTIF($Z$3:Z65,-1))","v":37},{"$f":"+SUM($M$4:M65)","v":5232},141.40540540540542,{"$f":"+SUM(COUNTIF($Z$3:Z65,1))","v":19},{"$f":"+SUM(COUNTIF($Z$3:Z65,-1))","v":18},1,{"$f":"AN65*(HARMEAN((IF(SUM(COUNTIF($Z$3:Z65,1),COUNTIF($Z$3:Z65,-1))=0,1,SUM(COUNTIF($Z$3:Z65,1),COUNTIF($Z$3:Z65,-1)))),(IF(SUM(COUNTIF($AC$3:AC65,1),COUNTIF($AC$3:AC65,-1))=0,1,SUM(COUNTIF($AC$3:AC65,1),COUNTIF($AC$3:AC65,-1)))),(IF(SUM(COUNTIF($AE$3:AE65,1),COUNTIF($AE$3:AE65,-1))=0,1,SUM(COUNTIF($AE$3:AE65,1),COUNTIF($AE$3:AE65,-1)))),(IF(SUM(COUNTIF($AG$3:AG65,1),COUNTIF($AG$3:AG65,-1))=0,1,SUM(COUNTIF($AG$3:AG65,1),COUNTIF($AG$3:AG65,-1)))),(IF(SUM(COUNTIF($AI$3:AI65,1),COUNTIF($AI$3:AI65,-1))=0,1,SUM(COUNTIF($AI$3:AI65,1),COUNTIF($AI$3:AI65,-1)))),(IF(SUM(COUNTIF($AK$3:AK65,1),COUNTIF($AK$3:AK65,-1))=0,1,SUM(COUNTIF($AK$3:AK65,1),COUNTIF($AK$3:AK65,-1)))))/1000)","v":1.3027260075093867},21.942,null,{"$f":"+SUM(COUNTIF($AC$3:AC65,1),COUNTIF($AC$3:AC65,-1))","v":37},{"$f":"+SUM($O$4:O65)","v":5276},142.59459459459458,{"$f":"+SUM(COUNTIF($AC$3:AC65,1))","v":23},{"$f":"+SUM(COUNTIF($AC$3:AC65,-1))","v":14},9,{"$f":"AW65*(HARMEAN((IF(SUM(COUNTIF($Z$3:Z65,1),COUNTIF($Z$3:Z65,-1))=0,1,SUM(COUNTIF($Z$3:Z65,1),COUNTIF($Z$3:Z65,-1)))),(IF(SUM(COUNTIF($AC$3:AC65,1),COUNTIF($AC$3:AC65,-1))=0,1,SUM(COUNTIF($AC$3:AC65,1),COUNTIF($AC$3:AC65,-1)))),(IF(SUM(COUNTIF($AE$3:AE65,1),COUNTIF($AE$3:AE65,-1))=0,1,SUM(COUNTIF($AE$3:AE65,1),COUNTIF($AE$3:AE65,-1)))),(IF(SUM(COUNTIF($AG$3:AG65,1),COUNTIF($AG$3:AG65,-1))=0,1,SUM(COUNTIF($AG$3:AG65,1),COUNTIF($AG$3:AG65,-1)))),(IF(SUM(COUNTIF($AI$3:AI65,1),COUNTIF($AI$3:AI65,-1))=0,1,SUM(COUNTIF($AI$3:AI65,1),COUNTIF($AI$3:AI65,-1)))),(IF(SUM(COUNTIF($AK$3:AK65,1),COUNTIF($AK$3:AK65,-1))=0,1,SUM(COUNTIF($AK$3:AK65,1),COUNTIF($AK$3:AK65,-1)))))/1000)","v":1.3027260075093867},50.264000000000003,null,{"$f":"+SUM(COUNTIF($AE$3:AE65,1),COUNTIF(AE$3:$AE65,-1))","v":36},{"$f":"+SUM($Q$4:Q65)","v":4567},126.86111111111111,{"$f":"+SUM(COUNTIF($AE$3:AE65,1))","v":22},{"$f":"+SUM(COUNTIF($AE$3:AE65,-1))","v":14},8,{"$f":"BF65*(HARMEAN((IF(SUM(COUNTIF($Z$3:Z65,1),COUNTIF($Z$3:Z65,-1))=0,1,SUM(COUNTIF($Z$3:Z65,1),COUNTIF($Z$3:Z65,-1)))),(IF(SUM(COUNTIF($AC$3:AC65,1),COUNTIF($AC$3:AC65,-1))=0,1,SUM(COUNTIF($AC$3:AC65,1),COUNTIF($AC$3:AC65,-1)))),(IF(SUM(COUNTIF($AE$3:AE65,1),COUNTIF($AE$3:AE65,-1))=0,1,SUM(COUNTIF($AE$3:AE65,1),COUNTIF($AE$3:AE65,-1)))),(IF(SUM(COUNTIF($AG$3:AG65,1),COUNTIF($AG$3:AG65,-1))=0,1,SUM(COUNTIF($AG$3:AG65,1),COUNTIF($AG$3:AG65,-1)))),(IF(SUM(COUNTIF($AI$3:AI65,1),COUNTIF($AI$3:AI65,-1))=0,1,SUM(COUNTIF($AI$3:AI65,1),COUNTIF($AI$3:AI65,-1)))),(IF(SUM(COUNTIF($AK$3:AK65,1),COUNTIF($AK$3:AK65,-1))=0,1,SUM(COUNTIF($AK$3:AK65,1),COUNTIF($AK$3:AK65,-1)))))/1000)","v":1.2675171964956196},44.247,null,{"$f":"+SUM(COUNTIF($AG$3:AG65,1),COUNTIF($AG$3:AG65,-1))","v":37},{"$f":"+SUM($S$4:S65)","v":5587},151,{"$f":"+SUM(COUNTIF($AG$3:AG65,1))","v":18},{"$f":"+SUM(COUNTIF($AG$3:AG65,-1))","v":19},-1,{"$f":"BO65*(HARMEAN((IF(SUM(COUNTIF($Z$3:Z65,1),COUNTIF($Z$3:Z65,-1))=0,1,SUM(COUNTIF($Z$3:Z65,1),COUNTIF($Z$3:Z65,-1)))),(IF(SUM(COUNTIF($AC$3:AC65,1),COUNTIF($AC$3:AC65,-1))=0,1,SUM(COUNTIF($AC$3:AC65,1),COUNTIF($AC$3:AC65,-1)))),(IF(SUM(COUNTIF($AE$3:AE65,1),COUNTIF($AE$3:AE65,-1))=0,1,SUM(COUNTIF($AE$3:AE65,1),COUNTIF($AE$3:AE65,-1)))),(IF(SUM(COUNTIF($AG$3:AG65,1),COUNTIF($AG$3:AG65,-1))=0,1,SUM(COUNTIF($AG$3:AG65,1),COUNTIF($AG$3:AG65,-1)))),(IF(SUM(COUNTIF($AI$3:AI65,1),COUNTIF($AI$3:AI65,-1))=0,1,SUM(COUNTIF($AI$3:AI65,1),COUNTIF($AI$3:AI65,-1)))),(IF(SUM(COUNTIF($AK$3:AK65,1),COUNTIF($AK$3:AK65,-1))=0,1,SUM(COUNTIF($AK$3:AK65,1),COUNTIF($AK$3:AK65,-1)))))/1000)","v":1.3027260075093867},16.149999999999999,null,{"$f":"+SUM(COUNTIF($AI$3:AI65,1),COUNTIF($AI$3:AI65,-1))","v":33},{"$f":"+SUM($U$4:U65)","v":4143},125.54545454545455,{"$f":"+SUM(COUNTIF($AI$3:AI65,1))","v":12},{"$f":"+SUM(COUNTIF($AI$3:AI65,-1))","v":21},-9,{"$f":"+BX65*(HARMEAN((IF(SUM(COUNTIF($Z$3:Z65,1),COUNTIF($Z$3:Z65,-1))=0,1,SUM(COUNTIF($Z$3:Z65,1),COUNTIF($Z$3:Z65,-1)))),(IF(SUM(COUNTIF($AC$3:AC65,1),COUNTIF($AC$3:AC65,-1))=0,1,SUM(COUNTIF($AC$3:AC65,1),COUNTIF($AC$3:AC65,-1)))),(IF(SUM(COUNTIF($AE$3:AE65,1),COUNTIF($AE$3:AE65,-1))=0,1,SUM(COUNTIF($AE$3:AE65,1),COUNTIF($AE$3:AE65,-1)))),(IF(SUM(COUNTIF($AG$3:AG65,1),COUNTIF($AG$3:AG65,-1))=0,1,SUM(COUNTIF($AG$3:AG65,1),COUNTIF($AG$3:AG65,-1)))),(IF(SUM(COUNTIF($AI$3:AI65,1),COUNTIF($AI$3:AI65,-1))=0,1,SUM(COUNTIF($AI$3:AI65,1),COUNTIF($AI$3:AI65,-1)))),(IF(SUM(COUNTIF($AK$3:AK65,1),COUNTIF($AK$3:AK65,-1))=0,1,SUM(COUNTIF($AK$3:AK65,1),COUNTIF($AK$3:AK65,-1)))))/1000)","v":1.1618907634543179},-17.100999999999999,null,{"$f":"+SUM(COUNTIF($AK$3:AK65,1),COUNTIF($AK$3:AK65,-1))","v":32},{"$f":"+SUM($W$4:W65)","v":3591},112.21875,{"$f":"+SUM(COUNTIF($AK$3:AK65,1))","v":12},{"$f":"+SUM(COUNTIF($AK$3:AK65,-1))","v":20},-8,{"$f":"+CG65*(HARMEAN((IF(SUM(COUNTIF($Z$3:Z65,1),COUNTIF($Z$3:Z65,-1))=0,1,SUM(COUNTIF($Z$3:Z65,1),COUNTIF($Z$3:Z65,-1)))),(IF(SUM(COUNTIF($AC$3:AC65,1),COUNTIF($AC$3:AC65,-1))=0,1,SUM(COUNTIF($AC$3:AC65,1),COUNTIF($AC$3:AC65,-1)))),(IF(SUM(COUNTIF($AE$3:AE65,1),COUNTIF($AE$3:AE65,-1))=0,1,SUM(COUNTIF($AE$3:AE65,1),COUNTIF($AE$3:AE65,-1)))),(IF(SUM(COUNTIF($AG$3:AG65,1),COUNTIF($AG$3:AG65,-1))=0,1,SUM(COUNTIF($AG$3:AG65,1),COUNTIF($AG$3:AG65,-1)))),(IF(SUM(COUNTIF($AI$3:AI65,1),COUNTIF($AI$3:AI65,-1))=0,1,SUM(COUNTIF($AI$3:AI65,1),COUNTIF($AI$3:AI65,-1)))),(IF(SUM(COUNTIF($AK$3:AK65,1),COUNTIF($AK$3:AK65,-1))=0,1,SUM(COUNTIF($AK$3:AK65,1),COUNTIF($AK$3:AK65,-1)))))/1000)","v":1.1266819524405507},-15.523999999999999]
[63,"",null,{"$f":"+IFERROR(INDEX('Auswertung AoE II'!$AE:$AE,MATCH(A66,'Auswertung AoE II'!$AD:$AD,0)),\"\")","v":""},{"$f":"+IFERROR(INDEX('Auswertung AoE III'!$AE:$AE,MATCH(A66,'Auswertung AoE III'!$AD:$AD,0)),\"\")","v":""},{"$f":"+IFERROR(INDEX('Auswertung AoM'!$AE:$AE,MATCH(A66,'Auswertung AoM'!$AD:$AD,0)),\"\")","v":""},{"$f":"+IFERROR(INDEX('Auswertung RA'!$AE:$AE,MATCH(A66,'Auswertung RA'!$AD:$AD,0)),\"\")","v":""},{"$f":"+IFERROR(INDEX('Auswertung Yuri'!$AE:$AE,MATCH(A66,'Auswertung Yuri'!$AD:$AD,0)),\"\")","v":""},{"$f":"+IFERROR(INDEX('Auswertung Generals'!$AE:$AE,MATCH(A66,'Auswertung Generals'!$AD:$AD,0)),\"\")","v":""},"Auswertung ",null,null,{"$f":"+IF(ISERROR(+INDIRECT(CONCATENATE(\"'\",J66,\"'!\",(ADDRESS((COUNTIF($J$3:J66,IF(B66<>0,CONCATENATE(\"Auswertung \",B66,\"\"))))+2,2)))))=FALSE,+INDIRECT(CONCATENATE(\"'\",J66,\"'!\",(ADDRESS((COUNTIF($J$3:J66,IF(B66<>0,CONCATENATE(\"Auswertung \",B66,\"\"))))+4,2)))),\"\")","v":""},{"$f":"IF(ISERROR(+INDIRECT(CONCATENATE(\"'\",J66,\"'!\",(ADDRESS((COUNTIF($J$3:J66,IF(B66<>0,CONCATENATE(\"Auswertung \",B66,\"\"))))+2,2+1)))))=FALSE,+INDIRECT(CONCATENATE(\"'\",J66,\"'!\",(ADDRESS((COUNTIF($J$3:J66,IF(B66<>0,CONCATENATE(\"Auswertung \",B66,\"\"))))+4,2+1)))),\"\")","v":""},{"$f":"+IF(ISERROR(+INDIRECT(CONCATENATE(\"'\",J66,\"'!\",(ADDRESS((COUNTIF($J$3:J66,IF(B66<>0,CONCATENATE(\"Auswertung \",B66,\"\"))))+2,4)))))=FALSE,+INDIRECT(CONCATENATE(\"'\",J66,\"'!\",(ADDRESS((COUNTIF($J$3:J66,IF(B66<>0,CONCATENATE(\"Auswertung \",B66,\"\"))))+4,4)))),\"\")","v":""},{"$f":"+IF(ISERROR(+INDIRECT(CONCATENATE(\"'\",J66,\"'!\",(ADDRESS((COUNTIF($J$3:J66,IF(B66<>0,CONCATENATE(\"Auswertung \",B66,\"\"))))+2,5)))))=FALSE,+INDIRECT(CONCATENATE(\"'\",J66,\"'!\",(ADDRESS((COUNTIF($J$3:J66,IF(B66<>0,CONCATENATE(\"Auswertung \",B66,\"\"))))+4,5)))),\"\")","v":""},{"$f":"+IF(ISERROR(+INDIRECT(CONCATENATE(\"'\",J66,\"'!\",(ADDRESS((COUNTIF($J$3:J66,IF(B66<>0,CONCATENATE(\"Auswertung \",B66,\"\"))))+2,6)))))=FALSE,+INDIRECT(CONCATENATE(\"'\",J66,\"'!\",(ADDRESS((COUNTIF($J$3:J66,IF(B66<>0,CONCATENATE(\"Auswertung \",B66,\"\"))))+4,6)))),\"\")","v":""},{"$f":"+IF(ISERROR(+INDIRECT(CONCATENATE(\"'\",J66,\"'!\",(ADDRESS((COUNTIF($J$3:J66,IF(B66<>0,CONCATENATE(\"Auswertung \",B66,\"\"))))+2,7)))))=FALSE,+INDIRECT(CONCATENATE(\"'\",J66,\"'!\",(ADDRESS((COUNTIF($J$3:J66,IF(B66<>0,CONCATENATE(\"Auswertung \",B66,\"\"))))+4,7)))),\"\")","v":""},{"$f":"+IF(ISERROR(+INDIRECT(CONCATENATE(\"'\",J66,\"'!\",(ADDRESS((COUNTIF($J$3:J66,IF(B66<>0,CONCATENATE(\"Auswertung \",B66,\"\"))))+2,10)))))=FALSE,+INDIRECT(CONCATENATE(\"'\",J66,\"'!\",(ADDRESS((COUNTIF($J$3:J66,IF(B66<>0,CONCATENATE(\"Auswertung \",B66,\"\"))))+4,8)))),\"\")","v":""},{"$f":"+IF(ISERROR(+INDIRECT(CONCATENATE(\"'\",J66,\"'!\",(ADDRESS((COUNTIF($J$3:J66,IF(B66<>0,CONCATENATE(\"Auswertung \",B66,\"\"))))+2,11)))))=FALSE,+INDIRECT(CONCATENATE(\"'\",J66,\"'!\",(ADDRESS((COUNTIF($J$3:J66,IF(B66<>0,CONCATENATE(\"Auswertung \",B66,\"\"))))+4,9)))),\"\")","v":""},{"$f":"+IF(ISERROR(+INDIRECT(CONCATENATE(\"'\",J66,\"'!\",(ADDRESS((COUNTIF($J$3:J66,IF(B66<>0,CONCATENATE(\"Auswertung \",B66,\"\"))))+2,10)))))=FALSE,+INDIRECT(CONCATENATE(\"'\",J66,\"'!\",(ADDRESS((COUNTIF($J$3:J66,IF(B66<>0,CONCATENATE(\"Auswertung \",B66,\"\"))))+4,10)))),\"\")","v":""},{"$f":"+IF(ISERROR(+INDIRECT(CONCATENATE(\"'\",J66,\"'!\",(ADDRESS((COUNTIF($J$3:J66,IF(B66<>0,CONCATENATE(\"Auswertung \",B66,\"\"))))+2,11)))))=FALSE,+INDIRECT(CONCATENATE(\"'\",J66,\"'!\",(ADDRESS((COUNTIF($J$3:J66,IF(B66<>0,CONCATENATE(\"Auswertung \",B66,\"\"))))+4,11)))),\"\")","v":""},{"$f":"+IF(ISERROR(+INDIRECT(CONCATENATE(\"'\",J66,\"'!\",(ADDRESS((COUNTIF($J$3:J66,IF(D66<>0,CONCATENATE(\"Auswertung \",D66,\"\"))))+2,12)))))=FALSE,+INDIRECT(CONCATENATE(\"'\",J66,\"'!\",(ADDRESS((COUNTIF($J$3:J66,IF(D66<>0,CONCATENATE(\"Auswertung \",B66,\"\"))))+4,12)))),\"\")","v":""},{"$f":"+IF(ISERROR(+INDIRECT(CONCATENATE(\"'\",J66,\"'!\",(ADDRESS((COUNTIF($J$3:J66,IF(D66<>0,CONCATENATE(\"Auswertung \",D66,\"\"))))+2,13)))))=FALSE,+INDIRECT(CONCATENATE(\"'\",J66,\"'!\",(ADDRESS((COUNTIF($J$3:J66,IF(D66<>0,CONCATENATE(\"Auswertung \",B66,\"\"))))+4,13)))),\"\")","v":""},null,{"$f":"+IFERROR(INDIRECT(CONCATENATE(\"'\",J66,\"'!\",(ADDRESS((COUNTIF($J$3:J66,IF(B66<>0,J66)))+4,16)))),\"\")","v":""},21.942,{"$f":"+SUM($M$4:M66)/COUNT($M$4:M66)/1000*2","v":0.28281081081081083},{"$f":"+IFERROR(INDIRECT(CONCATENATE(\"'\",J66,\"'!\",(ADDRESS((COUNTIF($J$3:J66,IF(B66<>0,J66)))+4,18)))),\"\")","v":""},50.264000000000003,{"$f":"+IFERROR(INDIRECT(CONCATENATE(\"'\",J66,\"'!\",(ADDRESS((COUNTIF($J$3:J66,IF(B66<>0,J66)))+4,20)))),\"\")","v":""},44.247,{"$f":"+IFERROR(INDIRECT(CONCATENATE(\"'\",J66,\"'!\",(ADDRESS((COUNTIF($J$3:J66,IF(B66<>0,J66)))+4,22)))),\"\")","v":""},16.149999999999999,{"$f":"+IFERROR(INDIRECT(CONCATENATE(\"'\",J66,\"'!\",(ADDRESS((COUNTIF($J$3:J66,IF(B66<>0,J66)))+4,24)))),\"\")","v":""},-17.100999999999999,{"$f":"+IFERROR(INDIRECT(CONCATENATE(\"'\",J66,\"'!\",(ADDRESS((COUNTIF($J$3:J66,IF(B66<>0,J66)))+4,26)))),\"\")","v":""},-15.523999999999999,63,{"$f":"+SUM(COUNTIF($Z$3:Z66,1),COUNTIF($Z$3:Z66,-1))","v":37},{"$f":"+SUM($M$4:M66)","v":5232},141.40540540540542,{"$f":"+SUM(COUNTIF($Z$3:Z66,1))","v":19},{"$f":"+SUM(COUNTIF($Z$3:Z66,-1))","v":18},1,{"$f":"AN66*(HARMEAN((IF(SUM(COUNTIF($Z$3:Z66,1),COUNTIF($Z$3:Z66,-1))=0,1,SUM(COUNTIF($Z$3:Z66,1),COUNTIF($Z$3:Z66,-1)))),(IF(SUM(COUNTIF($AC$3:AC66,1),COUNTIF($AC$3:AC66,-1))=0,1,SUM(COUNTIF($AC$3:AC66,1),COUNTIF($AC$3:AC66,-1)))),(IF(SUM(COUNTIF($AE$3:AE66,1),COUNTIF($AE$3:AE66,-1))=0,1,SUM(COUNTIF($AE$3:AE66,1),COUNTIF($AE$3:AE66,-1)))),(IF(SUM(COUNTIF($AG$3:AG66,1),COUNTIF($AG$3:AG66,-1))=0,1,SUM(COUNTIF($AG$3:AG66,1),COUNTIF($AG$3:AG66,-1)))),(IF(SUM(COUNTIF($AI$3:AI66,1),COUNTIF($AI$3:AI66,-1))=0,1,SUM(COUNTIF($AI$3:AI66,1),COUNTIF($AI$3:AI66,-1)))),(IF(SUM(COUNTIF($AK$3:AK66,1),COUNTIF($AK$3:AK66,-1))=0,1,SUM(COUNTIF($AK$3:AK66,1),COUNTIF($AK$3:AK66,-1)))))/1000)","v":1.3027260075093867},21.942,null,{"$f":"+SUM(COUNTIF($AC$3:AC66,1),COUNTIF($AC$3:AC66,-1))","v":37},{"$f":"+SUM($O$4:O66)","v":5276},142.59459459459458,{"$f":"+SUM(COUNTIF($AC$3:AC66,1))","v":23},{"$f":"+SUM(COUNTIF($AC$3:AC66,-1))","v":14},9,{"$f":"AW66*(HARMEAN((IF(SUM(COUNTIF($Z$3:Z66,1),COUNTIF($Z$3:Z66,-1))=0,1,SUM(COUNTIF($Z$3:Z66,1),COUNTIF($Z$3:Z66,-1)))),(IF(SUM(COUNTIF($AC$3:AC66,1),COUNTIF($AC$3:AC66,-1))=0,1,SUM(COUNTIF($AC$3:AC66,1),COUNTIF($AC$3:AC66,-1)))),(IF(SUM(COUNTIF($AE$3:AE66,1),COUNTIF($AE$3:AE66,-1))=0,1,SUM(COUNTIF($AE$3:AE66,1),COUNTIF($AE$3:AE66,-1)))),(IF(SUM(COUNTIF($AG$3:AG66,1),COUNTIF($AG$3:AG66,-1))=0,1,SUM(COUNTIF($AG$3:AG66,1),COUNTIF($AG$3:AG66,-1)))),(IF(SUM(COUNTIF($AI$3:AI66,1),COUNTIF($AI$3:AI66,-1))=0,1,SUM(COUNTIF($AI$3:AI66,1),COUNTIF($AI$3:AI66,-1)))),(IF(SUM(COUNTIF($AK$3:AK66,1),COUNTIF($AK$3:AK66,-1))=0,1,SUM(COUNTIF($AK$3:AK66,1),COUNTIF($AK$3:AK66,-1)))))/1000)","v":1.3027260075093867},50.264000000000003,null,{"$f":"+SUM(COUNTIF($AE$3:AE66,1),COUNTIF(AE$3:$AE66,-1))","v":36},{"$f":"+SUM($Q$4:Q66)","v":4567},126.86111111111111,{"$f":"+SUM(COUNTIF($AE$3:AE66,1))","v":22},{"$f":"+SUM(COUNTIF($AE$3:AE66,-1))","v":14},8,{"$f":"BF66*(HARMEAN((IF(SUM(COUNTIF($Z$3:Z66,1),COUNTIF($Z$3:Z66,-1))=0,1,SUM(COUNTIF($Z$3:Z66,1),COUNTIF($Z$3:Z66,-1)))),(IF(SUM(COUNTIF($AC$3:AC66,1),COUNTIF($AC$3:AC66,-1))=0,1,SUM(COUNTIF($AC$3:AC66,1),COUNTIF($AC$3:AC66,-1)))),(IF(SUM(COUNTIF($AE$3:AE66,1),COUNTIF($AE$3:AE66,-1))=0,1,SUM(COUNTIF($AE$3:AE66,1),COUNTIF($AE$3:AE66,-1)))),(IF(SUM(COUNTIF($AG$3:AG66,1),COUNTIF($AG$3:AG66,-1))=0,1,SUM(COUNTIF($AG$3:AG66,1),COUNTIF($AG$3:AG66,-1)))),(IF(SUM(COUNTIF($AI$3:AI66,1),COUNTIF($AI$3:AI66,-1))=0,1,SUM(COUNTIF($AI$3:AI66,1),COUNTIF($AI$3:AI66,-1)))),(IF(SUM(COUNTIF($AK$3:AK66,1),COUNTIF($AK$3:AK66,-1))=0,1,SUM(COUNTIF($AK$3:AK66,1),COUNTIF($AK$3:AK66,-1)))))/1000)","v":1.2675171964956196},44.247,null,{"$f":"+SUM(COUNTIF($AG$3:AG66,1),COUNTIF($AG$3:AG66,-1))","v":37},{"$f":"+SUM($S$4:S66)","v":5587},151,{"$f":"+SUM(COUNTIF($AG$3:AG66,1))","v":18},{"$f":"+SUM(COUNTIF($AG$3:AG66,-1))","v":19},-1,{"$f":"BO66*(HARMEAN((IF(SUM(COUNTIF($Z$3:Z66,1),COUNTIF($Z$3:Z66,-1))=0,1,SUM(COUNTIF($Z$3:Z66,1),COUNTIF($Z$3:Z66,-1)))),(IF(SUM(COUNTIF($AC$3:AC66,1),COUNTIF($AC$3:AC66,-1))=0,1,SUM(COUNTIF($AC$3:AC66,1),COUNTIF($AC$3:AC66,-1)))),(IF(SUM(COUNTIF($AE$3:AE66,1),COUNTIF($AE$3:AE66,-1))=0,1,SUM(COUNTIF($AE$3:AE66,1),COUNTIF($AE$3:AE66,-1)))),(IF(SUM(COUNTIF($AG$3:AG66,1),COUNTIF($AG$3:AG66,-1))=0,1,SUM(COUNTIF($AG$3:AG66,1),COUNTIF($AG$3:AG66,-1)))),(IF(SUM(COUNTIF($AI$3:AI66,1),COUNTIF($AI$3:AI66,-1))=0,1,SUM(COUNTIF($AI$3:AI66,1),COUNTIF($AI$3:AI66,-1)))),(IF(SUM(COUNTIF($AK$3:AK66,1),COUNTIF($AK$3:AK66,-1))=0,1,SUM(COUNTIF($AK$3:AK66,1),COUNTIF($AK$3:AK66,-1)))))/1000)","v":1.3027260075093867},16.149999999999999,null,{"$f":"+SUM(COUNTIF($AI$3:AI66,1),COUNTIF($AI$3:AI66,-1))","v":33},{"$f":"+SUM($U$4:U66)","v":4143},125.54545454545455,{"$f":"+SUM(COUNTIF($AI$3:AI66,1))","v":12},{"$f":"+SUM(COUNTIF($AI$3:AI66,-1))","v":21},-9,{"$f":"+BX66*(HARMEAN((IF(SUM(COUNTIF($Z$3:Z66,1),COUNTIF($Z$3:Z66,-1))=0,1,SUM(COUNTIF($Z$3:Z66,1),COUNTIF($Z$3:Z66,-1)))),(IF(SUM(COUNTIF($AC$3:AC66,1),COUNTIF($AC$3:AC66,-1))=0,1,SUM(COUNTIF($AC$3:AC66,1),COUNTIF($AC$3:AC66,-1)))),(IF(SUM(COUNTIF($AE$3:AE66,1),COUNTIF($AE$3:AE66,-1))=0,1,SUM(COUNTIF($AE$3:AE66,1),COUNTIF($AE$3:AE66,-1)))),(IF(SUM(COUNTIF($AG$3:AG66,1),COUNTIF($AG$3:AG66,-1))=0,1,SUM(COUNTIF($AG$3:AG66,1),COUNTIF($AG$3:AG66,-1)))),(IF(SUM(COUNTIF($AI$3:AI66,1),COUNTIF($AI$3:AI66,-1))=0,1,SUM(COUNTIF($AI$3:AI66,1),COUNTIF($AI$3:AI66,-1)))),(IF(SUM(COUNTIF($AK$3:AK66,1),COUNTIF($AK$3:AK66,-1))=0,1,SUM(COUNTIF($AK$3:AK66,1),COUNTIF($AK$3:AK66,-1)))))/1000)","v":1.1618907634543179},-17.100999999999999,null,{"$f":"+SUM(COUNTIF($AK$3:AK66,1),COUNTIF($AK$3:AK66,-1))","v":32},{"$f":"+SUM($W$4:W66)","v":3591},112.21875,{"$f":"+SUM(COUNTIF($AK$3:AK66,1))","v":12},{"$f":"+SUM(COUNTIF($AK$3:AK66,-1))","v":20},-8,{"$f":"+CG66*(HARMEAN((IF(SUM(COUNTIF($Z$3:Z66,1),COUNTIF($Z$3:Z66,-1))=0,1,SUM(COUNTIF($Z$3:Z66,1),COUNTIF($Z$3:Z66,-1)))),(IF(SUM(COUNTIF($AC$3:AC66,1),COUNTIF($AC$3:AC66,-1))=0,1,SUM(COUNTIF($AC$3:AC66,1),COUNTIF($AC$3:AC66,-1)))),(IF(SUM(COUNTIF($AE$3:AE66,1),COUNTIF($AE$3:AE66,-1))=0,1,SUM(COUNTIF($AE$3:AE66,1),COUNTIF($AE$3:AE66,-1)))),(IF(SUM(COUNTIF($AG$3:AG66,1),COUNTIF($AG$3:AG66,-1))=0,1,SUM(COUNTIF($AG$3:AG66,1),COUNTIF($AG$3:AG66,-1)))),(IF(SUM(COUNTIF($AI$3:AI66,1),COUNTIF($AI$3:AI66,-1))=0,1,SUM(COUNTIF($AI$3:AI66,1),COUNTIF($AI$3:AI66,-1)))),(IF(SUM(COUNTIF($AK$3:AK66,1),COUNTIF($AK$3:AK66,-1))=0,1,SUM(COUNTIF($AK$3:AK66,1),COUNTIF($AK$3:AK66,-1)))))/1000)","v":1.1266819524405507},-15.523999999999999]
[64,"",null,{"$f":"+IFERROR(INDEX('Auswertung AoE II'!$AE:$AE,MATCH(A67,'Auswertung AoE II'!$AD:$AD,0)),\"\")","v":""},{"$f":"+IFERROR(INDEX('Auswertung AoE III'!$AE:$AE,MATCH(A67,'Auswertung AoE III'!$AD:$AD,0)),\"\")","v":""},{"$f":"+IFERROR(INDEX('Auswertung AoM'!$AE:$AE,MATCH(A67,'Auswertung AoM'!$AD:$AD,0)),\"\")","v":""},{"$f":"+IFERROR(INDEX('Auswertung RA'!$AE:$AE,MATCH(A67,'Auswertung RA'!$AD:$AD,0)),\"\")","v":""},{"$f":"+IFERROR(INDEX('Auswertung Yuri'!$AE:$AE,MATCH(A67,'Auswertung Yuri'!$AD:$AD,0)),\"\")","v":""},{"$f":"+IFERROR(INDEX('Auswertung Generals'!$AE:$AE,MATCH(A67,'Auswertung Generals'!$AD:$AD,0)),\"\")","v":""},"Auswertung ",null,null,{"$f":"+IF(ISERROR(+INDIRECT(CONCATENATE(\"'\",J67,\"'!\",(ADDRESS((COUNTIF($J$3:J67,IF(B67<>0,CONCATENATE(\"Auswertung \",B67,\"\"))))+2,2)))))=FALSE,+INDIRECT(CONCATENATE(\"'\",J67,\"'!\",(ADDRESS((COUNTIF($J$3:J67,IF(B67<>0,CONCATENATE(\"Auswertung \",B67,\"\"))))+4,2)))),\"\")","v":""},{"$f":"IF(ISERROR(+INDIRECT(CONCATENATE(\"'\",J67,\"'!\",(ADDRESS((COUNTIF($J$3:J67,IF(B67<>0,CONCATENATE(\"Auswertung \",B67,\"\"))))+2,2+1)))))=FALSE,+INDIRECT(CONCATENATE(\"'\",J67,\"'!\",(ADDRESS((COUNTIF($J$3:J67,IF(B67<>0,CONCATENATE(\"Auswertung \",B67,\"\"))))+4,2+1)))),\"\")","v":""},{"$f":"+IF(ISERROR(+INDIRECT(CONCATENATE(\"'\",J67,\"'!\",(ADDRESS((COUNTIF($J$3:J67,IF(B67<>0,CONCATENATE(\"Auswertung \",B67,\"\"))))+2,4)))))=FALSE,+INDIRECT(CONCATENATE(\"'\",J67,\"'!\",(ADDRESS((COUNTIF($J$3:J67,IF(B67<>0,CONCATENATE(\"Auswertung \",B67,\"\"))))+4,4)))),\"\")","v":""},null,{"$f":"+IF(ISERROR(+INDIRECT(CONCATENATE(\"'\",J67,\"'!\",(ADDRESS((COUNTIF($J$3:J67,IF(B67<>0,CONCATENATE(\"Auswertung \",B67,\"\"))))+2,6)))))=FALSE,+INDIRECT(CONCATENATE(\"'\",J67,\"'!\",(ADDRESS((COUNTIF($J$3:J67,IF(B67<>0,CONCATENATE(\"Auswertung \",B67,\"\"))))+4,6)))),\"\")","v":""},{"$f":"+IF(ISERROR(+INDIRECT(CONCATENATE(\"'\",J67,\"'!\",(ADDRESS((COUNTIF($J$3:J67,IF(B67<>0,CONCATENATE(\"Auswertung \",B67,\"\"))))+2,7)))))=FALSE,+INDIRECT(CONCATENATE(\"'\",J67,\"'!\",(ADDRESS((COUNTIF($J$3:J67,IF(B67<>0,CONCATENATE(\"Auswertung \",B67,\"\"))))+4,7)))),\"\")","v":""},{"$f":"+IF(ISERROR(+INDIRECT(CONCATENATE(\"'\",J67,\"'!\",(ADDRESS((COUNTIF($J$3:J67,IF(B67<>0,CONCATENATE(\"Auswertung \",B67,\"\"))))+2,10)))))=FALSE,+INDIRECT(CONCATENATE(\"'\",J67,\"'!\",(ADDRESS((COUNTIF($J$3:J67,IF(B67<>0,CONCATENATE(\"Auswertung \",B67,\"\"))))+4,8)))),\"\")","v":""},{"$f":"+IF(ISERROR(+INDIRECT(CONCATENATE(\"'\",J67,\"'!\",(ADDRESS((COUNTIF($J$3:J67,IF(B67<>0,CONCATENATE(\"Auswertung \",B67,\"\"))))+2,11)))))=FALSE,+INDIRECT(CONCATENATE(\"'\",J67,\"'!\",(ADDRESS((COUNTIF($J$3:J67,IF(B67<>0,CONCATENATE(\"Auswertung \",B67,\"\"))))+4,9)))),\"\")","v":""},{"$f":"+IF(ISERROR(+INDIRECT(CONCATENATE(\"'\",J67,\"'!\",(ADDRESS((COUNTIF($J$3:J67,IF(B67<>0,CONCATENATE(\"Auswertung \",B67,\"\"))))+2,10)))))=FALSE,+INDIRECT(CONCATENATE(\"'\",J67,\"'!\",(ADDRESS((COUNTIF($J$3:J67,IF(B67<>0,CONCATENATE(\"Auswertung \",B67,\"\"))))+4,10)))),\"\")","v":""},{"$f":"+IF(ISERROR(+INDIRECT(CONCATENATE(\"'\",J67,\"'!\",(ADDRESS((COUNTIF($J$3:J67,IF(B67<>0,CONCATENATE(\"Auswertung \",B67,\"\"))))+2,11)))))=FALSE,+INDIRECT(CONCATENATE(\"'\",J67,\"'!\",(ADDRESS((COUNTIF($J$3:J67,IF(B67<>0,CONCATENATE(\"Auswertung \",B67,\"\"))))+4,11)))),\"\")","v":""},{"$f":"+IF(ISERROR(+INDIRECT(CONCATENATE(\"'\",J67,\"'!\",(ADDRESS((COUNTIF($J$3:J67,IF(D67<>0,CONCATENATE(\"Auswertung \",D67,\"\"))))+2,12)))))=FALSE,+INDIRECT(CONCATENATE(\"'\",J67,\"'!\",(ADDRESS((COUNTIF($J$3:J67,IF(D67<>0,CONCATENATE(\"Auswertung \",B67,\"\"))))+4,12)))),\"\")","v":""},{"$f":"+IF(ISERROR(+INDIRECT(CONCATENATE(\"'\",J67,\"'!\",(ADDRESS((COUNTIF($J$3:J67,IF(D67<>0,CONCATENATE(\"Auswertung \",D67,\"\"))))+2,13)))))=FALSE,+INDIRECT(CONCATENATE(\"'\",J67,\"'!\",(ADDRESS((COUNTIF($J$3:J67,IF(D67<>0,CONCATENATE(\"Auswertung \",B67,\"\"))))+4,13)))),\"\")","v":""},null,{"$f":"+IFERROR(INDIRECT(CONCATENATE(\"'\",J67,\"'!\",(ADDRESS((COUNTIF($J$3:J67,IF(B67<>0,J67)))+4,16)))),\"\")","v":""},21.942,{"$f":"+SUM($M$4:M67)/COUNT($M$4:M67)/1000*2","v":0.28281081081081083},{"$f":"+IFERROR(INDIRECT(CONCATENATE(\"'\",J67,\"'!\",(ADDRESS((COUNTIF($J$3:J67,IF(B67<>0,J67)))+4,18)))),\"\")","v":""},50.264000000000003,{"$f":"+IFERROR(INDIRECT(CONCATENATE(\"'\",J67,\"'!\",(ADDRESS((COUNTIF($J$3:J67,IF(B67<>0,J67)))+4,20)))),\"\")","v":""},44.247,{"$f":"+IFERROR(INDIRECT(CONCATENATE(\"'\",J67,\"'!\",(ADDRESS((COUNTIF($J$3:J67,IF(B67<>0,J67)))+4,22)))),\"\")","v":""},16.149999999999999,{"$f":"+IFERROR(INDIRECT(CONCATENATE(\"'\",J67,\"'!\",(ADDRESS((COUNTIF($J$3:J67,IF(B67<>0,J67)))+4,24)))),\"\")","v":""},-17.100999999999999,{"$f":"+IFERROR(INDIRECT(CONCATENATE(\"'\",J67,\"'!\",(ADDRESS((COUNTIF($J$3:J67,IF(B67<>0,J67)))+4,26)))),\"\")","v":""},-15.523999999999999,64,{"$f":"+SUM(COUNTIF($Z$3:Z67,1),COUNTIF($Z$3:Z67,-1))","v":37},{"$f":"+SUM($M$4:M67)","v":5232},141.40540540540542,{"$f":"+SUM(COUNTIF($Z$3:Z67,1))","v":19},{"$f":"+SUM(COUNTIF($Z$3:Z67,-1))","v":18},1,{"$f":"AN67*(HARMEAN((IF(SUM(COUNTIF($Z$3:Z67,1),COUNTIF($Z$3:Z67,-1))=0,1,SUM(COUNTIF($Z$3:Z67,1),COUNTIF($Z$3:Z67,-1)))),(IF(SUM(COUNTIF($AC$3:AC67,1),COUNTIF($AC$3:AC67,-1))=0,1,SUM(COUNTIF($AC$3:AC67,1),COUNTIF($AC$3:AC67,-1)))),(IF(SUM(COUNTIF($AE$3:AE67,1),COUNTIF($AE$3:AE67,-1))=0,1,SUM(COUNTIF($AE$3:AE67,1),COUNTIF($AE$3:AE67,-1)))),(IF(SUM(COUNTIF($AG$3:AG67,1),COUNTIF($AG$3:AG67,-1))=0,1,SUM(COUNTIF($AG$3:AG67,1),COUNTIF($AG$3:AG67,-1)))),(IF(SUM(COUNTIF($AI$3:AI67,1),COUNTIF($AI$3:AI67,-1))=0,1,SUM(COUNTIF($AI$3:AI67,1),COUNTIF($AI$3:AI67,-1)))),(IF(SUM(COUNTIF($AK$3:AK67,1),COUNTIF($AK$3:AK67,-1))=0,1,SUM(COUNTIF($AK$3:AK67,1),COUNTIF($AK$3:AK67,-1)))))/1000)","v":1.3027260075093867},21.942,null,{"$f":"+SUM(COUNTIF($AC$3:AC67,1),COUNTIF($AC$3:AC67,-1))","v":37},{"$f":"+SUM($O$4:O67)","v":5276},142.59459459459458,{"$f":"+SUM(COUNTIF($AC$3:AC67,1))","v":23},{"$f":"+SUM(COUNTIF($AC$3:AC67,-1))","v":14},9,{"$f":"AW67*(HARMEAN((IF(SUM(COUNTIF($Z$3:Z67,1),COUNTIF($Z$3:Z67,-1))=0,1,SUM(COUNTIF($Z$3:Z67,1),COUNTIF($Z$3:Z67,-1)))),(IF(SUM(COUNTIF($AC$3:AC67,1),COUNTIF($AC$3:AC67,-1))=0,1,SUM(COUNTIF($AC$3:AC67,1),COUNTIF($AC$3:AC67,-1)))),(IF(SUM(COUNTIF($AE$3:AE67,1),COUNTIF($AE$3:AE67,-1))=0,1,SUM(COUNTIF($AE$3:AE67,1),COUNTIF($AE$3:AE67,-1)))),(IF(SUM(COUNTIF($AG$3:AG67,1),COUNTIF($AG$3:AG67,-1))=0,1,SUM(COUNTIF($AG$3:AG67,1),COUNTIF($AG$3:AG67,-1)))),(IF(SUM(COUNTIF($AI$3:AI67,1),COUNTIF($AI$3:AI67,-1))=0,1,SUM(COUNTIF($AI$3:AI67,1),COUNTIF($AI$3:AI67,-1)))),(IF(SUM(COUNTIF($AK$3:AK67,1),COUNTIF($AK$3:AK67,-1))=0,1,SUM(COUNTIF($AK$3:AK67,1),COUNTIF($AK$3:AK67,-1)))))/1000)","v":1.3027260075093867},50.264000000000003,null,{"$f":"+SUM(COUNTIF($AE$3:AE67,1),COUNTIF(AE$3:$AE67,-1))","v":36},{"$f":"+SUM($Q$4:Q67)","v":4567},126.86111111111111,{"$f":"+SUM(COUNTIF($AE$3:AE67,1))","v":22},{"$f":"+SUM(COUNTIF($AE$3:AE67,-1))","v":14},8,{"$f":"BF67*(HARMEAN((IF(SUM(COUNTIF($Z$3:Z67,1),COUNTIF($Z$3:Z67,-1))=0,1,SUM(COUNTIF($Z$3:Z67,1),COUNTIF($Z$3:Z67,-1)))),(IF(SUM(COUNTIF($AC$3:AC67,1),COUNTIF($AC$3:AC67,-1))=0,1,SUM(COUNTIF($AC$3:AC67,1),COUNTIF($AC$3:AC67,-1)))),(IF(SUM(COUNTIF($AE$3:AE67,1),COUNTIF($AE$3:AE67,-1))=0,1,SUM(COUNTIF($AE$3:AE67,1),COUNTIF($AE$3:AE67,-1)))),(IF(SUM(COUNTIF($AG$3:AG67,1),COUNTIF($AG$3:AG67,-1))=0,1,SUM(COUNTIF($AG$3:AG67,1),COUNTIF($AG$3:AG67,-1)))),(IF(SUM(COUNTIF($AI$3:AI67,1),COUNTIF($AI$3:AI67,-1))=0,1,SUM(COUNTIF($AI$3:AI67,1),COUNTIF($AI$3:AI67,-1)))),(IF(SUM(COUNTIF($AK$3:AK67,1),COUNTIF($AK$3:AK67,-1))=0,1,SUM(COUNTIF($AK$3:AK67,1),COUNTIF($AK$3:AK67,-1)))))/1000)","v":1.2675171964956196},44.247,null,{"$f":"+SUM(COUNTIF($AG$3:AG67,1),COUNTIF($AG$3:AG67,-1))","v":37},{"$f":"+SUM($S$4:S67)","v":5587},151,{"$f":"+SUM(COUNTIF($AG$3:AG67,1))","v":18},{"$f":"+SUM(COUNTIF($AG$3:AG67,-1))","v":19},-1,{"$f":"BO67*(HARMEAN((IF(SUM(COUNTIF($Z$3:Z67,1),COUNTIF($Z$3:Z67,-1))=0,1,SUM(COUNTIF($Z$3:Z67,1),COUNTIF($Z$3:Z67,-1)))),(IF(SUM(COUNTIF($AC$3:AC67,1),COUNTIF($AC$3:AC67,-1))=0,1,SUM(COUNTIF($AC$3:AC67,1),COUNTIF($AC$3:AC67,-1)))),(IF(SUM(COUNTIF($AE$3:AE67,1),COUNTIF($AE$3:AE67,-1))=0,1,SUM(COUNTIF($AE$3:AE67,1),COUNTIF($AE$3:AE67,-1)))),(IF(SUM(COUNTIF($AG$3:AG67,1),COUNTIF($AG$3:AG67,-1))=0,1,SUM(COUNTIF($AG$3:AG67,1),COUNTIF($AG$3:AG67,-1)))),(IF(SUM(COUNTIF($AI$3:AI67,1),COUNTIF($AI$3:AI67,-1))=0,1,SUM(COUNTIF($AI$3:AI67,1),COUNTIF($AI$3:AI67,-1)))),(IF(SUM(COUNTIF($AK$3:AK67,1),COUNTIF($AK$3:AK67,-1))=0,1,SUM(COUNTIF($AK$3:AK67,1),COUNTIF($AK$3:AK67,-1)))))/1000)","v":1.3027260075093867},16.149999999999999,null,{"$f":"+SUM(COUNTIF($AI$3:AI67,1),COUNTIF($AI$3:AI67,-1))","v":33},{"$f":"+SUM($U$4:U67)","v":4143},125.54545454545455,{"$f":"+SUM(COUNTIF($AI$3:AI67,1))","v":12},{"$f":"+SUM(COUNTIF($AI$3:AI67,-1))","v":21},-9,{"$f":"+BX67*(HARMEAN((IF(SUM(COUNTIF($Z$3:Z67,1),COUNTIF($Z$3:Z67,-1))=0,1,SUM(COUNTIF($Z$3:Z67,1),COUNTIF($Z$3:Z67,-1)))),(IF(SUM(COUNTIF($AC$3:AC67,1),COUNTIF($AC$3:AC67,-1))=0,1,SUM(COUNTIF($AC$3:AC67,1),COUNTIF($AC$3:AC67,-1)))),(IF(SUM(COUNTIF($AE$3:AE67,1),COUNTIF($AE$3:AE67,-1))=0,1,SUM(COUNTIF($AE$3:AE67,1),COUNTIF($AE$3:AE67,-1)))),(IF(SUM(COUNTIF($AG$3:AG67,1),COUNTIF($AG$3:AG67,-1))=0,1,SUM(COUNTIF($AG$3:AG67,1),COUNTIF($AG$3:AG67,-1)))),(IF(SUM(COUNTIF($AI$3:AI67,1),COUNTIF($AI$3:AI67,-1))=0,1,SUM(COUNTIF($AI$3:AI67,1),COUNTIF($AI$3:AI67,-1)))),(IF(SUM(COUNTIF($AK$3:AK67,1),COUNTIF($AK$3:AK67,-1))=0,1,SUM(COUNTIF($AK$3:AK67,1),COUNTIF($AK$3:AK67,-1)))))/1000)","v":1.1618907634543179},-17.100999999999999,null,{"$f":"+SUM(COUNTIF($AK$3:AK67,1),COUNTIF($AK$3:AK67,-1))","v":32},{"$f":"+SUM($W$4:W67)","v":3591},112.21875,{"$f":"+SUM(COUNTIF($AK$3:AK67,1))","v":12},{"$f":"+SUM(COUNTIF($AK$3:AK67,-1))","v":20},-8,{"$f":"+CG67*(HARMEAN((IF(SUM(COUNTIF($Z$3:Z67,1),COUNTIF($Z$3:Z67,-1))=0,1,SUM(COUNTIF($Z$3:Z67,1),COUNTIF($Z$3:Z67,-1)))),(IF(SUM(COUNTIF($AC$3:AC67,1),COUNTIF($AC$3:AC67,-1))=0,1,SUM(COUNTIF($AC$3:AC67,1),COUNTIF($AC$3:AC67,-1)))),(IF(SUM(COUNTIF($AE$3:AE67,1),COUNTIF($AE$3:AE67,-1))=0,1,SUM(COUNTIF($AE$3:AE67,1),COUNTIF($AE$3:AE67,-1)))),(IF(SUM(COUNTIF($AG$3:AG67,1),COUNTIF($AG$3:AG67,-1))=0,1,SUM(COUNTIF($AG$3:AG67,1),COUNTIF($AG$3:AG67,-1)))),(IF(SUM(COUNTIF($AI$3:AI67,1),COUNTIF($AI$3:AI67,-1))=0,1,SUM(COUNTIF($AI$3:AI67,1),COUNTIF($AI$3:AI67,-1)))),(IF(SUM(COUNTIF($AK$3:AK67,1),COUNTIF($AK$3:AK67,-1))=0,1,SUM(COUNTIF($AK$3:AK67,1),COUNTIF($AK$3:AK67,-1)))))/1000)","v":1.1266819524405507},-15.523999999999999]
[65,"",null,{"$f":"+IFERROR(INDEX('Auswertung AoE II'!$AE:$AE,MATCH(A68,'Auswertung AoE II'!$AD:$AD,0)),\"\")","v":""},{"$f":"+IFERROR(INDEX('Auswertung AoE III'!$AE:$AE,MATCH(A68,'Auswertung AoE III'!$AD:$AD,0)),\"\")","v":""},{"$f":"+IFERROR(INDEX('Auswertung AoM'!$AE:$AE,MATCH(A68,'Auswertung AoM'!$AD:$AD,0)),\"\")","v":""},{"$f":"+IFERROR(INDEX('Auswertung RA'!$AE:$AE,MATCH(A68,'Auswertung RA'!$AD:$AD,0)),\"\")","v":""},{"$f":"+IFERROR(INDEX('Auswertung Yuri'!$AE:$AE,MATCH(A68,'Auswertung Yuri'!$AD:$AD,0)),\"\")","v":""},{"$f":"+IFERROR(INDEX('Auswertung Generals'!$AE:$AE,MATCH(A68,'Auswertung Generals'!$AD:$AD,0)),\"\")","v":""},{"$f":"+IF(B68<>0,CONCATENATE(\"Auswertung \",B68,\"\"))","v":"Auswertung "},null,null,{"$f":"+IF(ISERROR(+INDIRECT(CONCATENATE(\"'\",J68,\"'!\",(ADDRESS((COUNTIF($J$3:J68,IF(B68<>0,CONCATENATE(\"Auswertung \",B68,\"\"))))+2,2)))))=FALSE,+INDIRECT(CONCATENATE(\"'\",J68,\"'!\",(ADDRESS((COUNTIF($J$3:J68,IF(B68<>0,CONCATENATE(\"Auswertung \",B68,\"\"))))+4,2)))),\"\")","v":""},{"$f":"IF(ISERROR(+INDIRECT(CONCATENATE(\"'\",J68,\"'!\",(ADDRESS((COUNTIF($J$3:J68,IF(B68<>0,CONCATENATE(\"Auswertung \",B68,\"\"))))+2,2+1)))))=FALSE,+INDIRECT(CONCATENATE(\"'\",J68,\"'!\",(ADDRESS((COUNTIF($J$3:J68,IF(B68<>0,CONCATENATE(\"Auswertung \",B68,\"\"))))+4,2+1)))),\"\")","v":""},{"$f":"+IF(ISERROR(+INDIRECT(CONCATENATE(\"'\",J68,\"'!\",(ADDRESS((COUNTIF($J$3:J68,IF(B68<>0,CONCATENATE(\"Auswertung \",B68,\"\"))))+2,4)))))=FALSE,+INDIRECT(CONCATENATE(\"'\",J68,\"'!\",(ADDRESS((COUNTIF($J$3:J68,IF(B68<>0,CONCATENATE(\"Auswertung \",B68,\"\"))))+4,4)))),\"\")","v":""},{"$f":"+IF(ISERROR(+INDIRECT(CONCATENATE(\"'\",J68,\"'!\",(ADDRESS((COUNTIF($J$3:J68,IF(B68<>0,CONCATENATE(\"Auswertung \",B68,\"\"))))+2,5)))))=FALSE,+INDIRECT(CONCATENATE(\"'\",J68,\"'!\",(ADDRESS((COUNTIF($J$3:J68,IF(B68<>0,CONCATENATE(\"Auswertung \",B68,\"\"))))+4,5)))),\"\")","v":""},{"$f":"+IF(ISERROR(+INDIRECT(CONCATENATE(\"'\",J68,\"'!\",(ADDRESS((COUNTIF($J$3:J68,IF(B68<>0,CONCATENATE(\"Auswertung \",B68,\"\"))))+2,6)))))=FALSE,+INDIRECT(CONCATENATE(\"'\",J68,\"'!\",(ADDRESS((COUNTIF($J$3:J68,IF(B68<>0,CONCATENATE(\"Auswertung \",B68,\"\"))))+4,6)))),\"\")","v":""},{"$f":"+IF(ISERROR(+INDIRECT(CONCATENATE(\"'\",J68,\"'!\",(ADDRESS((COUNTIF($J$3:J68,IF(B68<>0,CONCATENATE(\"Auswertung \",B68,\"\"))))+2,7)))))=FALSE,+INDIRECT(CONCATENATE(\"'\",J68,\"'!\",(ADDRESS((COUNTIF($J$3:J68,IF(B68<>0,CONCATENATE(\"Auswertung \",B68,\"\"))))+4,7)))),\"\")","v":""},{"$f":"+IF(ISERROR(+INDIRECT(CONCATENATE(\"'\",J68,\"'!\",(ADDRESS((COUNTIF($J$3:J68,IF(B68<>0,CONCATENATE(\"Auswertung \",B68,\"\"))))+2,10)))))=FALSE,+INDIRECT(CONCATENATE(\"'\",J68,\"'!\",(ADDRESS((COUNTIF($J$3:J68,IF(B68<>0,CONCATENATE(\"Auswertung \",B68,\"\"))))+4,8)))),\"\")","v":""},{"$f":"+IF(ISERROR(+INDIRECT(CONCATENATE(\"'\",J68,\"'!\",(ADDRESS((COUNTIF($J$3:J68,IF(B68<>0,CONCATENATE(\"Auswertung \",B68,\"\"))))+2,11)))))=FALSE,+INDIRECT(CONCATENATE(\"'\",J68,\"'!\",(ADDRESS((COUNTIF($J$3:J68,IF(B68<>0,CONCATENATE(\"Auswertung \",B68,\"\"))))+4,9)))),\"\")","v":""},{"$f":"+IF(ISERROR(+INDIRECT(CONCATENATE(\"'\",J68,\"'!\",(ADDRESS((COUNTIF($J$3:J68,IF(B68<>0,CONCATENATE(\"Auswertung \",B68,\"\"))))+2,10)))))=FALSE,+INDIRECT(CONCATENATE(\"'\",J68,\"'!\",(ADDRESS((COUNTIF($J$3:J68,IF(B68<>0,CONCATENATE(\"Auswertung \",B68,\"\"))))+4,10)))),\"\")","v":""},{"$f":"+IF(ISERROR(+INDIRECT(CONCATENATE(\"'\",J68,\"'!\",(ADDRESS((COUNTIF($J$3:J68,IF(B68<>0,CONCATENATE(\"Auswertung \",B68,\"\"))))+2,11)))))=FALSE,+INDIRECT(CONCATENATE(\"'\",J68,\"'!\",(ADDRESS((COUNTIF($J$3:J68,IF(B68<>0,CONCATENATE(\"Auswertung \",B68,\"\"))))+4,11)))),\"\")","v":""},{"$f":"+IF(ISERROR(+INDIRECT(CONCATENATE(\"'\",J68,\"'!\",(ADDRESS((COUNTIF($J$3:J68,IF(D68<>0,CONCATENATE(\"Auswertung \",D68,\"\"))))+2,12)))))=FALSE,+INDIRECT(CONCATENATE(\"'\",J68,\"'!\",(ADDRESS((COUNTIF($J$3:J68,IF(D68<>0,CONCATENATE(\"Auswertung \",B68,\"\"))))+4,12)))),\"\")","v":""},{"$f":"+IF(ISERROR(+INDIRECT(CONCATENATE(\"'\",J68,\"'!\",(ADDRESS((COUNTIF($J$3:J68,IF(D68<>0,CONCATENATE(\"Auswertung \",D68,\"\"))))+2,13)))))=FALSE,+INDIRECT(CONCATENATE(\"'\",J68,\"'!\",(ADDRESS((COUNTIF($J$3:J68,IF(D68<>0,CONCATENATE(\"Auswertung \",B68,\"\"))))+4,13)))),\"\")","v":""},null,{"$f":"+IFERROR(INDIRECT(CONCATENATE(\"'\",J68,\"'!\",(ADDRESS((COUNTIF($J$3:J68,IF(B68<>0,J68)))+4,16)))),\"\")","v":""},21.942,{"$f":"+SUM($M$4:M68)/COUNT($M$4:M68)/1000*2","v":0.28281081081081083},{"$f":"+IFERROR(INDIRECT(CONCATENATE(\"'\",J68,\"'!\",(ADDRESS((COUNTIF($J$3:J68,IF(B68<>0,J68)))+4,18)))),\"\")","v":""},50.264000000000003,{"$f":"+IFERROR(INDIRECT(CONCATENATE(\"'\",J68,\"'!\",(ADDRESS((COUNTIF($J$3:J68,IF(B68<>0,J68)))+4,20)))),\"\")","v":""},44.247,{"$f":"+IFERROR(INDIRECT(CONCATENATE(\"'\",J68,\"'!\",(ADDRESS((COUNTIF($J$3:J68,IF(B68<>0,J68)))+4,22)))),\"\")","v":""},16.149999999999999,{"$f":"+IFERROR(INDIRECT(CONCATENATE(\"'\",J68,\"'!\",(ADDRESS((COUNTIF($J$3:J68,IF(B68<>0,J68)))+4,24)))),\"\")","v":""},-17.100999999999999,{"$f":"+IFERROR(INDIRECT(CONCATENATE(\"'\",J68,\"'!\",(ADDRESS((COUNTIF($J$3:J68,IF(B68<>0,J68)))+4,26)))),\"\")","v":""},-15.523999999999999,65,{"$f":"+SUM(COUNTIF($Z$3:Z68,1),COUNTIF($Z$3:Z68,-1))","v":37},{"$f":"+SUM($M$4:M68)","v":5232},141.40540540540542,{"$f":"+SUM(COUNTIF($Z$3:Z68,1))","v":19},{"$f":"+SUM(COUNTIF($Z$3:Z68,-1))","v":18},1,{"$f":"AN68*(HARMEAN((IF(SUM(COUNTIF($Z$3:Z68,1),COUNTIF($Z$3:Z68,-1))=0,1,SUM(COUNTIF($Z$3:Z68,1),COUNTIF($Z$3:Z68,-1)))),(IF(SUM(COUNTIF($AC$3:AC68,1),COUNTIF($AC$3:AC68,-1))=0,1,SUM(COUNTIF($AC$3:AC68,1),COUNTIF($AC$3:AC68,-1)))),(IF(SUM(COUNTIF($AE$3:AE68,1),COUNTIF($AE$3:AE68,-1))=0,1,SUM(COUNTIF($AE$3:AE68,1),COUNTIF($AE$3:AE68,-1)))),(IF(SUM(COUNTIF($AG$3:AG68,1),COUNTIF($AG$3:AG68,-1))=0,1,SUM(COUNTIF($AG$3:AG68,1),COUNTIF($AG$3:AG68,-1)))),(IF(SUM(COUNTIF($AI$3:AI68,1),COUNTIF($AI$3:AI68,-1))=0,1,SUM(COUNTIF($AI$3:AI68,1),COUNTIF($AI$3:AI68,-1)))),(IF(SUM(COUNTIF($AK$3:AK68,1),COUNTIF($AK$3:AK68,-1))=0,1,SUM(COUNTIF($AK$3:AK68,1),COUNTIF($AK$3:AK68,-1)))))/1000)","v":1.3027260075093867},21.942,null,{"$f":"+SUM(COUNTIF($AC$3:AC68,1),COUNTIF($AC$3:AC68,-1))","v":37},{"$f":"+SUM($O$4:O68)","v":5276},142.59459459459458,{"$f":"+SUM(COUNTIF($AC$3:AC68,1))","v":23},{"$f":"+SUM(COUNTIF($AC$3:AC68,-1))","v":14},9,{"$f":"AW68*(HARMEAN((IF(SUM(COUNTIF($Z$3:Z68,1),COUNTIF($Z$3:Z68,-1))=0,1,SUM(COUNTIF($Z$3:Z68,1),COUNTIF($Z$3:Z68,-1)))),(IF(SUM(COUNTIF($AC$3:AC68,1),COUNTIF($AC$3:AC68,-1))=0,1,SUM(COUNTIF($AC$3:AC68,1),COUNTIF($AC$3:AC68,-1)))),(IF(SUM(COUNTIF($AE$3:AE68,1),COUNTIF($AE$3:AE68,-1))=0,1,SUM(COUNTIF($AE$3:AE68,1),COUNTIF($AE$3:AE68,-1)))),(IF(SUM(COUNTIF($AG$3:AG68,1),COUNTIF($AG$3:AG68,-1))=0,1,SUM(COUNTIF($AG$3:AG68,1),COUNTIF($AG$3:AG68,-1)))),(IF(SUM(COUNTIF($AI$3:AI68,1),COUNTIF($AI$3:AI68,-1))=0,1,SUM(COUNTIF($AI$3:AI68,1),COUNTIF($AI$3:AI68,-1)))),(IF(SUM(COUNTIF($AK$3:AK68,1),COUNTIF($AK$3:AK68,-1))=0,1,SUM(COUNTIF($AK$3:AK68,1),COUNTIF($AK$3:AK68,-1)))))/1000)","v":1.3027260075093867},50.264000000000003,null,{"$f":"+SUM(COUNTIF($AE$3:AE68,1),COUNTIF(AE$3:$AE68,-1))","v":36},{"$f":"+SUM($Q$4:Q68)","v":4567},126.86111111111111,{"$f":"+SUM(COUNTIF($AE$3:AE68,1))","v":22},{"$f":"+SUM(COUNTIF($AE$3:AE68,-1))","v":14},8,{"$f":"BF68*(HARMEAN((IF(SUM(COUNTIF($Z$3:Z68,1),COUNTIF($Z$3:Z68,-1))=0,1,SUM(COUNTIF($Z$3:Z68,1),COUNTIF($Z$3:Z68,-1)))),(IF(SUM(COUNTIF($AC$3:AC68,1),COUNTIF($AC$3:AC68,-1))=0,1,SUM(COUNTIF($AC$3:AC68,1),COUNTIF($AC$3:AC68,-1)))),(IF(SUM(COUNTIF($AE$3:AE68,1),COUNTIF($AE$3:AE68,-1))=0,1,SUM(COUNTIF($AE$3:AE68,1),COUNTIF($AE$3:AE68,-1)))),(IF(SUM(COUNTIF($AG$3:AG68,1),COUNTIF($AG$3:AG68,-1))=0,1,SUM(COUNTIF($AG$3:AG68,1),COUNTIF($AG$3:AG68,-1)))),(IF(SUM(COUNTIF($AI$3:AI68,1),COUNTIF($AI$3:AI68,-1))=0,1,SUM(COUNTIF($AI$3:AI68,1),COUNTIF($AI$3:AI68,-1)))),(IF(SUM(COUNTIF($AK$3:AK68,1),COUNTIF($AK$3:AK68,-1))=0,1,SUM(COUNTIF($AK$3:AK68,1),COUNTIF($AK$3:AK68,-1)))))/1000)","v":1.2675171964956196},44.247,null,{"$f":"+SUM(COUNTIF($AG$3:AG68,1),COUNTIF($AG$3:AG68,-1))","v":37},{"$f":"+SUM($S$4:S68)","v":5587},151,{"$f":"+SUM(COUNTIF($AG$3:AG68,1))","v":18},{"$f":"+SUM(COUNTIF($AG$3:AG68,-1))","v":19},-1,{"$f":"BO68*(HARMEAN((IF(SUM(COUNTIF($Z$3:Z68,1),COUNTIF($Z$3:Z68,-1))=0,1,SUM(COUNTIF($Z$3:Z68,1),COUNTIF($Z$3:Z68,-1)))),(IF(SUM(COUNTIF($AC$3:AC68,1),COUNTIF($AC$3:AC68,-1))=0,1,SUM(COUNTIF($AC$3:AC68,1),COUNTIF($AC$3:AC68,-1)))),(IF(SUM(COUNTIF($AE$3:AE68,1),COUNTIF($AE$3:AE68,-1))=0,1,SUM(COUNTIF($AE$3:AE68,1),COUNTIF($AE$3:AE68,-1)))),(IF(SUM(COUNTIF($AG$3:AG68,1),COUNTIF($AG$3:AG68,-1))=0,1,SUM(COUNTIF($AG$3:AG68,1),COUNTIF($AG$3:AG68,-1)))),(IF(SUM(COUNTIF($AI$3:AI68,1),COUNTIF($AI$3:AI68,-1))=0,1,SUM(COUNTIF($AI$3:AI68,1),COUNTIF($AI$3:AI68,-1)))),(IF(SUM(COUNTIF($AK$3:AK68,1),COUNTIF($AK$3:AK68,-1))=0,1,SUM(COUNTIF($AK$3:AK68,1),COUNTIF($AK$3:AK68,-1)))))/1000)","v":1.3027260075093867},16.149999999999999,null,{"$f":"+SUM(COUNTIF($AI$3:AI68,1),COUNTIF($AI$3:AI68,-1))","v":33},{"$f":"+SUM($U$4:U68)","v":4143},125.54545454545455,{"$f":"+SUM(COUNTIF($AI$3:AI68,1))","v":12},{"$f":"+SUM(COUNTIF($AI$3:AI68,-1))","v":21},-9,{"$f":"+BX68*(HARMEAN((IF(SUM(COUNTIF($Z$3:Z68,1),COUNTIF($Z$3:Z68,-1))=0,1,SUM(COUNTIF($Z$3:Z68,1),COUNTIF($Z$3:Z68,-1)))),(IF(SUM(COUNTIF($AC$3:AC68,1),COUNTIF($AC$3:AC68,-1))=0,1,SUM(COUNTIF($AC$3:AC68,1),COUNTIF($AC$3:AC68,-1)))),(IF(SUM(COUNTIF($AE$3:AE68,1),COUNTIF($AE$3:AE68,-1))=0,1,SUM(COUNTIF($AE$3:AE68,1),COUNTIF($AE$3:AE68,-1)))),(IF(SUM(COUNTIF($AG$3:AG68,1),COUNTIF($AG$3:AG68,-1))=0,1,SUM(COUNTIF($AG$3:AG68,1),COUNTIF($AG$3:AG68,-1)))),(IF(SUM(COUNTIF($AI$3:AI68,1),COUNTIF($AI$3:AI68,-1))=0,1,SUM(COUNTIF($AI$3:AI68,1),COUNTIF($AI$3:AI68,-1)))),(IF(SUM(COUNTIF($AK$3:AK68,1),COUNTIF($AK$3:AK68,-1))=0,1,SUM(COUNTIF($AK$3:AK68,1),COUNTIF($AK$3:AK68,-1)))))/1000)","v":1.1618907634543179},-17.100999999999999,null,{"$f":"+SUM(COUNTIF($AK$3:AK68,1),COUNTIF($AK$3:AK68,-1))","v":32},{"$f":"+SUM($W$4:W68)","v":3591},112.21875,{"$f":"+SUM(COUNTIF($AK$3:AK68,1))","v":12},{"$f":"+SUM(COUNTIF($AK$3:AK68,-1))","v":20},-8,{"$f":"+CG68*(HARMEAN((IF(SUM(COUNTIF($Z$3:Z68,1),COUNTIF($Z$3:Z68,-1))=0,1,SUM(COUNTIF($Z$3:Z68,1),COUNTIF($Z$3:Z68,-1)))),(IF(SUM(COUNTIF($AC$3:AC68,1),COUNTIF($AC$3:AC68,-1))=0,1,SUM(COUNTIF($AC$3:AC68,1),COUNTIF($AC$3:AC68,-1)))),(IF(SUM(COUNTIF($AE$3:AE68,1),COUNTIF($AE$3:AE68,-1))=0,1,SUM(COUNTIF($AE$3:AE68,1),COUNTIF($AE$3:AE68,-1)))),(IF(SUM(COUNTIF($AG$3:AG68,1),COUNTIF($AG$3:AG68,-1))=0,1,SUM(COUNTIF($AG$3:AG68,1),COUNTIF($AG$3:AG68,-1)))),(IF(SUM(COUNTIF($AI$3:AI68,1),COUNTIF($AI$3:AI68,-1))=0,1,SUM(COUNTIF($AI$3:AI68,1),COUNTIF($AI$3:AI68,-1)))),(IF(SUM(COUNTIF($AK$3:AK68,1),COUNTIF($AK$3:AK68,-1))=0,1,SUM(COUNTIF($AK$3:AK68,1),COUNTIF($AK$3:AK68,-1)))))/1000)","v":1.1266819524405507},-15.523999999999999]
[66,{"$f":"+I69&H69&G69&F69&E69&D69","v":""},null,{"$f":"+IFERROR(INDEX('Auswertung AoE II'!$AE:$AE,MATCH(A69,'Auswertung AoE II'!$AD:$AD,0)),\"\")","v":""},{"$f":"+IFERROR(INDEX('Auswertung AoE III'!$AE:$AE,MATCH(A69,'Auswertung AoE III'!$AD:$AD,0)),\"\")","v":""},{"$f":"+IFERROR(INDEX('Auswertung AoM'!$AE:$AE,MATCH(A69,'Auswertung AoM'!$AD:$AD,0)),\"\")","v":""},{"$f":"+IFERROR(INDEX('Auswertung RA'!$AE:$AE,MATCH(A69,'Auswertung RA'!$AD:$AD,0)),\"\")","v":""},{"$f":"+IFERROR(INDEX('Auswertung Yuri'!$AE:$AE,MATCH(A69,'Auswertung Yuri'!$AD:$AD,0)),\"\")","v":""},{"$f":"+IFERROR(INDEX('Auswertung Generals'!$AE:$AE,MATCH(A69,'Auswertung Generals'!$AD:$AD,0)),\"\")","v":""},"Auswertung ",null,null,{"$f":"+IF(ISERROR(+INDIRECT(CONCATENATE(\"'\",J69,\"'!\",(ADDRESS((COUNTIF($J$3:J69,IF(B69<>0,CONCATENATE(\"Auswertung \",B69,\"\"))))+2,2)))))=FALSE,+INDIRECT(CONCATENATE(\"'\",J69,\"'!\",(ADDRESS((COUNTIF($J$3:J69,IF(B69<>0,CONCATENATE(\"Auswertung \",B69,\"\"))))+4,2)))),\"\")","v":""},{"$f":"IF(ISERROR(+INDIRECT(CONCATENATE(\"'\",J69,\"'!\",(ADDRESS((COUNTIF($J$3:J69,IF(B69<>0,CONCATENATE(\"Auswertung \",B69,\"\"))))+2,2+1)))))=FALSE,+INDIRECT(CONCATENATE(\"'\",J69,\"'!\",(ADDRESS((COUNTIF($J$3:J69,IF(B69<>0,CONCATENATE(\"Auswertung \",B69,\"\"))))+4,2+1)))),\"\")","v":""},{"$f":"+IF(ISERROR(+INDIRECT(CONCATENATE(\"'\",J69,\"'!\",(ADDRESS((COUNTIF($J$3:J69,IF(B69<>0,CONCATENATE(\"Auswertung \",B69,\"\"))))+2,4)))))=FALSE,+INDIRECT(CONCATENATE(\"'\",J69,\"'!\",(ADDRESS((COUNTIF($J$3:J69,IF(B69<>0,CONCATENATE(\"Auswertung \",B69,\"\"))))+4,4)))),\"\")","v":""},{"$f":"+IF(ISERROR(+INDIRECT(CONCATENATE(\"'\",J69,\"'!\",(ADDRESS((COUNTIF($J$3:J69,IF(B69<>0,CONCATENATE(\"Auswertung \",B69,\"\"))))+2,5)))))=FALSE,+INDIRECT(CONCATENATE(\"'\",J69,\"'!\",(ADDRESS((COUNTIF($J$3:J69,IF(B69<>0,CONCATENATE(\"Auswertung \",B69,\"\"))))+4,5)))),\"\")","v":""},{"$f":"+IF(ISERROR(+INDIRECT(CONCATENATE(\"'\",J69,\"'!\",(ADDRESS((COUNTIF($J$3:J69,IF(B69<>0,CONCATENATE(\"Auswertung \",B69,\"\"))))+2,6)))))=FALSE,+INDIRECT(CONCATENATE(\"'\",J69,\"'!\",(ADDRESS((COUNTIF($J$3:J69,IF(B69<>0,CONCATENATE(\"Auswertung \",B69,\"\"))))+4,6)))),\"\")","v":""},{"$f":"+IF(ISERROR(+INDIRECT(CONCATENATE(\"'\",J69,\"'!\",(ADDRESS((COUNTIF($J$3:J69,IF(B69<>0,CONCATENATE(\"Auswertung \",B69,\"\"))))+2,7)))))=FALSE,+INDIRECT(CONCATENATE(\"'\",J69,\"'!\",(ADDRESS((COUNTIF($J$3:J69,IF(B69<>0,CONCATENATE(\"Auswertung \",B69,\"\"))))+4,7)))),\"\")","v":""},{"$f":"+IF(ISERROR(+INDIRECT(CONCATENATE(\"'\",J69,\"'!\",(ADDRESS((COUNTIF($J$3:J69,IF(B69<>0,CONCATENATE(\"Auswertung \",B69,\"\"))))+2,10)))))=FALSE,+INDIRECT(CONCATENATE(\"'\",J69,\"'!\",(ADDRESS((COUNTIF($J$3:J69,IF(B69<>0,CONCATENATE(\"Auswertung \",B69,\"\"))))+4,8)))),\"\")","v":""},{"$f":"+IF(ISERROR(+INDIRECT(CONCATENATE(\"'\",J69,\"'!\",(ADDRESS((COUNTIF($J$3:J69,IF(B69<>0,CONCATENATE(\"Auswertung \",B69,\"\"))))+2,11)))))=FALSE,+INDIRECT(CONCATENATE(\"'\",J69,\"'!\",(ADDRESS((COUNTIF($J$3:J69,IF(B69<>0,CONCATENATE(\"Auswertung \",B69,\"\"))))+4,9)))),\"\")","v":""},{"$f":"+IF(ISERROR(+INDIRECT(CONCATENATE(\"'\",J69,\"'!\",(ADDRESS((COUNTIF($J$3:J69,IF(B69<>0,CONCATENATE(\"Auswertung \",B69,\"\"))))+2,10)))))=FALSE,+INDIRECT(CONCATENATE(\"'\",J69,\"'!\",(ADDRESS((COUNTIF($J$3:J69,IF(B69<>0,CONCATENATE(\"Auswertung \",B69,\"\"))))+4,10)))),\"\")","v":""},{"$f":"+IF(ISERROR(+INDIRECT(CONCATENATE(\"'\",J69,\"'!\",(ADDRESS((COUNTIF($J$3:J69,IF(B69<>0,CONCATENATE(\"Auswertung \",B69,\"\"))))+2,11)))))=FALSE,+INDIRECT(CONCATENATE(\"'\",J69,\"'!\",(ADDRESS((COUNTIF($J$3:J69,IF(B69<>0,CONCATENATE(\"Auswertung \",B69,\"\"))))+4,11)))),\"\")","v":""},{"$f":"+IF(ISERROR(+INDIRECT(CONCATENATE(\"'\",J69,\"'!\",(ADDRESS((COUNTIF($J$3:J69,IF(D69<>0,CONCATENATE(\"Auswertung \",D69,\"\"))))+2,12)))))=FALSE,+INDIRECT(CONCATENATE(\"'\",J69,\"'!\",(ADDRESS((COUNTIF($J$3:J69,IF(D69<>0,CONCATENATE(\"Auswertung \",B69,\"\"))))+4,12)))),\"\")","v":""},{"$f":"+IF(ISERROR(+INDIRECT(CONCATENATE(\"'\",J69,\"'!\",(ADDRESS((COUNTIF($J$3:J69,IF(D69<>0,CONCATENATE(\"Auswertung \",D69,\"\"))))+2,13)))))=FALSE,+INDIRECT(CONCATENATE(\"'\",J69,\"'!\",(ADDRESS((COUNTIF($J$3:J69,IF(D69<>0,CONCATENATE(\"Auswertung \",B69,\"\"))))+4,13)))),\"\")","v":""},null,{"$f":"+IFERROR(INDIRECT(CONCATENATE(\"'\",J69,\"'!\",(ADDRESS((COUNTIF($J$3:J69,IF(B69<>0,J69)))+4,16)))),\"\")","v":""},21.942,{"$f":"+SUM($M$4:M69)/COUNT($M$4:M69)/1000*2","v":0.28281081081081083},{"$f":"+IFERROR(INDIRECT(CONCATENATE(\"'\",J69,\"'!\",(ADDRESS((COUNTIF($J$3:J69,IF(B69<>0,J69)))+4,18)))),\"\")","v":""},{"$f":"+BD69","v":50.264000000000003},{"$f":"+IFERROR(INDIRECT(CONCATENATE(\"'\",J69,\"'!\",(ADDRESS((COUNTIF($J$3:J69,IF(B69<>0,J69)))+4,20)))),\"\")","v":""},{"$f":"+BM69","v":44.247},{"$f":"+IFERROR(INDIRECT(CONCATENATE(\"'\",J69,\"'!\",(ADDRESS((COUNTIF($J$3:J69,IF(B69<>0,J69)))+4,22)))),\"\")","v":""},{"$f":"+BV69","v":16.149999999999999},{"$f":"+IFERROR(INDIRECT(CONCATENATE(\"'\",J69,\"'!\",(ADDRESS((COUNTIF($J$3:J69,IF(B69<>0,J69)))+4,24)))),\"\")","v":""},{"$f":"+CE69","v":-17.100999999999999},{"$f":"+IFERROR(INDIRECT(CONCATENATE(\"'\",J69,\"'!\",(ADDRESS((COUNTIF($J$3:J69,IF(B69<>0,J69)))+4,26)))),\"\")","v":""},{"$f":"+CN69","v":-15.523999999999999},66,{"$f":"+SUM(COUNTIF($Z$3:Z69,1),COUNTIF($Z$3:Z69,-1))","v":37},{"$f":"+SUM($M$4:M69)","v":5232},141.40540540540542,{"$f":"+SUM(COUNTIF($Z$3:Z69,1))","v":19},{"$f":"+SUM(COUNTIF($Z$3:Z69,-1))","v":18},1,{"$f":"AN69*(HARMEAN((IF(SUM(COUNTIF($Z$3:Z69,1),COUNTIF($Z$3:Z69,-1))=0,1,SUM(COUNTIF($Z$3:Z69,1),COUNTIF($Z$3:Z69,-1)))),(IF(SUM(COUNTIF($AC$3:AC69,1),COUNTIF($AC$3:AC69,-1))=0,1,SUM(COUNTIF($AC$3:AC69,1),COUNTIF($AC$3:AC69,-1)))),(IF(SUM(COUNTIF($AE$3:AE69,1),COUNTIF($AE$3:AE69,-1))=0,1,SUM(COUNTIF($AE$3:AE69,1),COUNTIF($AE$3:AE69,-1)))),(IF(SUM(COUNTIF($AG$3:AG69,1),COUNTIF($AG$3:AG69,-1))=0,1,SUM(COUNTIF($AG$3:AG69,1),COUNTIF($AG$3:AG69,-1)))),(IF(SUM(COUNTIF($AI$3:AI69,1),COUNTIF($AI$3:AI69,-1))=0,1,SUM(COUNTIF($AI$3:AI69,1),COUNTIF($AI$3:AI69,-1)))),(IF(SUM(COUNTIF($AK$3:AK69,1),COUNTIF($AK$3:AK69,-1))=0,1,SUM(COUNTIF($AK$3:AK69,1),COUNTIF($AK$3:AK69,-1)))))/1000)","v":1.3027260075093867},21.942,null,{"$f":"+SUM(COUNTIF($AC$3:AC69,1),COUNTIF($AC$3:AC69,-1))","v":37},{"$f":"+SUM($O$4:O69)","v":5276},142.59459459459458,{"$f":"+SUM(COUNTIF($AC$3:AC69,1))","v":23},{"$f":"+SUM(COUNTIF($AC$3:AC69,-1))","v":14},9,{"$f":"AW69*(HARMEAN((IF(SUM(COUNTIF($Z$3:Z69,1),COUNTIF($Z$3:Z69,-1))=0,1,SUM(COUNTIF($Z$3:Z69,1),COUNTIF($Z$3:Z69,-1)))),(IF(SUM(COUNTIF($AC$3:AC69,1),COUNTIF($AC$3:AC69,-1))=0,1,SUM(COUNTIF($AC$3:AC69,1),COUNTIF($AC$3:AC69,-1)))),(IF(SUM(COUNTIF($AE$3:AE69,1),COUNTIF($AE$3:AE69,-1))=0,1,SUM(COUNTIF($AE$3:AE69,1),COUNTIF($AE$3:AE69,-1)))),(IF(SUM(COUNTIF($AG$3:AG69,1),COUNTIF($AG$3:AG69,-1))=0,1,SUM(COUNTIF($AG$3:AG69,1),COUNTIF($AG$3:AG69,-1)))),(IF(SUM(COUNTIF($AI$3:AI69,1),COUNTIF($AI$3:AI69,-1))=0,1,SUM(COUNTIF($AI$3:AI69,1),COUNTIF($AI$3:AI69,-1)))),(IF(SUM(COUNTIF($AK$3:AK69,1),COUNTIF($AK$3:AK69,-1))=0,1,SUM(COUNTIF($AK$3:AK69,1),COUNTIF($AK$3:AK69,-1)))))/1000)","v":1.3027260075093867},50.264000000000003,null,{"$f":"+SUM(COUNTIF($AE$3:AE69,1),COUNTIF(AE$3:$AE69,-1))","v":36},{"$f":"+SUM($Q$4:Q69)","v":4567},126.86111111111111,{"$f":"+SUM(COUNTIF($AE$3:AE69,1))","v":22},{"$f":"+SUM(COUNTIF($AE$3:AE69,-1))","v":14},8,{"$f":"BF69*(HARMEAN((IF(SUM(COUNTIF($Z$3:Z69,1),COUNTIF($Z$3:Z69,-1))=0,1,SUM(COUNTIF($Z$3:Z69,1),COUNTIF($Z$3:Z69,-1)))),(IF(SUM(COUNTIF($AC$3:AC69,1),COUNTIF($AC$3:AC69,-1))=0,1,SUM(COUNTIF($AC$3:AC69,1),COUNTIF($AC$3:AC69,-1)))),(IF(SUM(COUNTIF($AE$3:AE69,1),COUNTIF($AE$3:AE69,-1))=0,1,SUM(COUNTIF($AE$3:AE69,1),COUNTIF($AE$3:AE69,-1)))),(IF(SUM(COUNTIF($AG$3:AG69,1),COUNTIF($AG$3:AG69,-1))=0,1,SUM(COUNTIF($AG$3:AG69,1),COUNTIF($AG$3:AG69,-1)))),(IF(SUM(COUNTIF($AI$3:AI69,1),COUNTIF($AI$3:AI69,-1))=0,1,SUM(COUNTIF($AI$3:AI69,1),COUNTIF($AI$3:AI69,-1)))),(IF(SUM(COUNTIF($AK$3:AK69,1),COUNTIF($AK$3:AK69,-1))=0,1,SUM(COUNTIF($AK$3:AK69,1),COUNTIF($AK$3:AK69,-1)))))/1000)","v":1.2675171964956196},44.247,null,{"$f":"+SUM(COUNTIF($AG$3:AG69,1),COUNTIF($AG$3:AG69,-1))","v":37},{"$f":"+SUM($S$4:S69)","v":5587},151,{"$f":"+SUM(COUNTIF($AG$3:AG69,1))","v":18},{"$f":"+SUM(COUNTIF($AG$3:AG69,-1))","v":19},-1,{"$f":"BO69*(HARMEAN((IF(SUM(COUNTIF($Z$3:Z69,1),COUNTIF($Z$3:Z69,-1))=0,1,SUM(COUNTIF($Z$3:Z69,1),COUNTIF($Z$3:Z69,-1)))),(IF(SUM(COUNTIF($AC$3:AC69,1),COUNTIF($AC$3:AC69,-1))=0,1,SUM(COUNTIF($AC$3:AC69,1),COUNTIF($AC$3:AC69,-1)))),(IF(SUM(COUNTIF($AE$3:AE69,1),COUNTIF($AE$3:AE69,-1))=0,1,SUM(COUNTIF($AE$3:AE69,1),COUNTIF($AE$3:AE69,-1)))),(IF(SUM(COUNTIF($AG$3:AG69,1),COUNTIF($AG$3:AG69,-1))=0,1,SUM(COUNTIF($AG$3:AG69,1),COUNTIF($AG$3:AG69,-1)))),(IF(SUM(COUNTIF($AI$3:AI69,1),COUNTIF($AI$3:AI69,-1))=0,1,SUM(COUNTIF($AI$3:AI69,1),COUNTIF($AI$3:AI69,-1)))),(IF(SUM(COUNTIF($AK$3:AK69,1),COUNTIF($AK$3:AK69,-1))=0,1,SUM(COUNTIF($AK$3:AK69,1),COUNTIF($AK$3:AK69,-1)))))/1000)","v":1.3027260075093867},16.149999999999999,null,{"$f":"+SUM(COUNTIF($AI$3:AI69,1),COUNTIF($AI$3:AI69,-1))","v":33},{"$f":"+SUM($U$4:U69)","v":4143},{"$f":"+BY69/BX69","v":125.54545454545455},{"$f":"+SUM(COUNTIF($AI$3:AI69,1))","v":12},{"$f":"+SUM(COUNTIF($AI$3:AI69,-1))","v":21},{"$f":"+CA69-CB69","v":-9},{"$f":"+BX69*(HARMEAN((IF(SUM(COUNTIF($Z$3:Z69,1),COUNTIF($Z$3:Z69,-1))=0,1,SUM(COUNTIF($Z$3:Z69,1),COUNTIF($Z$3:Z69,-1)))),(IF(SUM(COUNTIF($AC$3:AC69,1),COUNTIF($AC$3:AC69,-1))=0,1,SUM(COUNTIF($AC$3:AC69,1),COUNTIF($AC$3:AC69,-1)))),(IF(SUM(COUNTIF($AE$3:AE69,1),COUNTIF($AE$3:AE69,-1))=0,1,SUM(COUNTIF($AE$3:AE69,1),COUNTIF($AE$3:AE69,-1)))),(IF(SUM(COUNTIF($AG$3:AG69,1),COUNTIF($AG$3:AG69,-1))=0,1,SUM(COUNTIF($AG$3:AG69,1),COUNTIF($AG$3:AG69,-1)))),(IF(SUM(COUNTIF($AI$3:AI69,1),COUNTIF($AI$3:AI69,-1))=0,1,SUM(COUNTIF($AI$3:AI69,1),COUNTIF($AI$3:AI69,-1)))),(IF(SUM(COUNTIF($AK$3:AK69,1),COUNTIF($AK$3:AK69,-1))=0,1,SUM(COUNTIF($AK$3:AK69,1),COUNTIF($AK$3:AK69,-1)))))/1000)","v":1.1618907634543179},{"$f":"IF(BX69=0,\"-\",IF(BX69=0,0,ROUND(((CA69/BX69-CB69/BX69)*100+BZ69/10)*CD69,3)))","v":-17.100999999999999},null,{"$f":"+SUM(COUNTIF($AK$3:AK69,1),COUNTIF($AK$3:AK69,-1))","v":32},{"$f":"+SUM($W$4:W69)","v":3591},{"$f":"+CH69/CG69","v":112.21875},{"$f":"+SUM(COUNTIF($AK$3:AK69,1))","v":12},{"$f":"+SUM(COUNTIF($AK$3:AK69,-1))","v":20},{"$f":"+CJ69-CK69","v":-8},{"$f":"+CG69*(HARMEAN((IF(SUM(COUNTIF($Z$3:Z69,1),COUNTIF($Z$3:Z69,-1))=0,1,SUM(COUNTIF($Z$3:Z69,1),COUNTIF($Z$3:Z69,-1)))),(IF(SUM(COUNTIF($AC$3:AC69,1),COUNTIF($AC$3:AC69,-1))=0,1,SUM(COUNTIF($AC$3:AC69,1),COUNTIF($AC$3:AC69,-1)))),(IF(SUM(COUNTIF($AE$3:AE69,1),COUNTIF($AE$3:AE69,-1))=0,1,SUM(COUNTIF($AE$3:AE69,1),COUNTIF($AE$3:AE69,-1)))),(IF(SUM(COUNTIF($AG$3:AG69,1),COUNTIF($AG$3:AG69,-1))=0,1,SUM(COUNTIF($AG$3:AG69,1),COUNTIF($AG$3:AG69,-1)))),(IF(SUM(COUNTIF($AI$3:AI69,1),COUNTIF($AI$3:AI69,-1))=0,1,SUM(COUNTIF($AI$3:AI69,1),COUNTIF($AI$3:AI69,-1)))),(IF(SUM(COUNTIF($AK$3:AK69,1),COUNTIF($AK$3:AK69,-1))=0,1,SUM(COUNTIF($AK$3:AK69,1),COUNTIF($AK$3:AK69,-1)))))/1000)","v":1.1266819524405507},{"$f":"IF(CG69=0,\"-\",IF(CG69=0,0,ROUND(((CJ69/CG69-CK69/CG69)*100+CI69/10)*CM69,3)))","v":-15.523999999999999}]
[67,"",null,{"$f":"+IFERROR(INDEX('Auswertung AoE II'!$AE:$AE,MATCH(A70,'Auswertung AoE II'!$AD:$AD,0)),\"\")","v":""},{"$f":"+IFERROR(INDEX('Auswertung AoE III'!$AE:$AE,MATCH(A70,'Auswertung AoE III'!$AD:$AD,0)),\"\")","v":""},{"$f":"+IFERROR(INDEX('Auswertung AoM'!$AE:$AE,MATCH(A70,'Auswertung AoM'!$AD:$AD,0)),\"\")","v":""},{"$f":"+IFERROR(INDEX('Auswertung RA'!$AE:$AE,MATCH(A70,'Auswertung RA'!$AD:$AD,0)),\"\")","v":""},{"$f":"+IFERROR(INDEX('Auswertung Yuri'!$AE:$AE,MATCH(A70,'Auswertung Yuri'!$AD:$AD,0)),\"\")","v":""},{"$f":"+IFERROR(INDEX('Auswertung Generals'!$AE:$AE,MATCH(A70,'Auswertung Generals'!$AD:$AD,0)),\"\")","v":""},"Auswertung ",null,null,{"$f":"+IF(ISERROR(+INDIRECT(CONCATENATE(\"'\",J70,\"'!\",(ADDRESS((COUNTIF($J$3:J70,IF(B70<>0,CONCATENATE(\"Auswertung \",B70,\"\"))))+2,2)))))=FALSE,+INDIRECT(CONCATENATE(\"'\",J70,\"'!\",(ADDRESS((COUNTIF($J$3:J70,IF(B70<>0,CONCATENATE(\"Auswertung \",B70,\"\"))))+4,2)))),\"\")","v":""},{"$f":"IF(ISERROR(+INDIRECT(CONCATENATE(\"'\",J70,\"'!\",(ADDRESS((COUNTIF($J$3:J70,IF(B70<>0,CONCATENATE(\"Auswertung \",B70,\"\"))))+2,2+1)))))=FALSE,+INDIRECT(CONCATENATE(\"'\",J70,\"'!\",(ADDRESS((COUNTIF($J$3:J70,IF(B70<>0,CONCATENATE(\"Auswertung \",B70,\"\"))))+4,2+1)))),\"\")","v":""},{"$f":"+IF(ISERROR(+INDIRECT(CONCATENATE(\"'\",J70,\"'!\",(ADDRESS((COUNTIF($J$3:J70,IF(B70<>0,CONCATENATE(\"Auswertung \",B70,\"\"))))+2,4)))))=FALSE,+INDIRECT(CONCATENATE(\"'\",J70,\"'!\",(ADDRESS((COUNTIF($J$3:J70,IF(B70<>0,CONCATENATE(\"Auswertung \",B70,\"\"))))+4,4)))),\"\")","v":""},{"$f":"+IF(ISERROR(+INDIRECT(CONCATENATE(\"'\",J70,\"'!\",(ADDRESS((COUNTIF($J$3:J70,IF(B70<>0,CONCATENATE(\"Auswertung \",B70,\"\"))))+2,5)))))=FALSE,+INDIRECT(CONCATENATE(\"'\",J70,\"'!\",(ADDRESS((COUNTIF($J$3:J70,IF(B70<>0,CONCATENATE(\"Auswertung \",B70,\"\"))))+4,5)))),\"\")","v":""},{"$f":"+IF(ISERROR(+INDIRECT(CONCATENATE(\"'\",J70,\"'!\",(ADDRESS((COUNTIF($J$3:J70,IF(B70<>0,CONCATENATE(\"Auswertung \",B70,\"\"))))+2,6)))))=FALSE,+INDIRECT(CONCATENATE(\"'\",J70,\"'!\",(ADDRESS((COUNTIF($J$3:J70,IF(B70<>0,CONCATENATE(\"Auswertung \",B70,\"\"))))+4,6)))),\"\")","v":""},{"$f":"+IF(ISERROR(+INDIRECT(CONCATENATE(\"'\",J70,\"'!\",(ADDRESS((COUNTIF($J$3:J70,IF(B70<>0,CONCATENATE(\"Auswertung \",B70,\"\"))))+2,7)))))=FALSE,+INDIRECT(CONCATENATE(\"'\",J70,\"'!\",(ADDRESS((COUNTIF($J$3:J70,IF(B70<>0,CONCATENATE(\"Auswertung \",B70,\"\"))))+4,7)))),\"\")","v":""},{"$f":"+IF(ISERROR(+INDIRECT(CONCATENATE(\"'\",J70,\"'!\",(ADDRESS((COUNTIF($J$3:J70,IF(B70<>0,CONCATENATE(\"Auswertung \",B70,\"\"))))+2,10)))))=FALSE,+INDIRECT(CONCATENATE(\"'\",J70,\"'!\",(ADDRESS((COUNTIF($J$3:J70,IF(B70<>0,CONCATENATE(\"Auswertung \",B70,\"\"))))+4,8)))),\"\")","v":""},{"$f":"+IF(ISERROR(+INDIRECT(CONCATENATE(\"'\",J70,\"'!\",(ADDRESS((COUNTIF($J$3:J70,IF(B70<>0,CONCATENATE(\"Auswertung \",B70,\"\"))))+2,11)))))=FALSE,+INDIRECT(CONCATENATE(\"'\",J70,\"'!\",(ADDRESS((COUNTIF($J$3:J70,IF(B70<>0,CONCATENATE(\"Auswertung \",B70,\"\"))))+4,9)))),\"\")","v":""},{"$f":"+IF(ISERROR(+INDIRECT(CONCATENATE(\"'\",J70,\"'!\",(ADDRESS((COUNTIF($J$3:J70,IF(B70<>0,CONCATENATE(\"Auswertung \",B70,\"\"))))+2,10)))))=FALSE,+INDIRECT(CONCATENATE(\"'\",J70,\"'!\",(ADDRESS((COUNTIF($J$3:J70,IF(B70<>0,CONCATENATE(\"Auswertung \",B70,\"\"))))+4,10)))),\"\")","v":""},{"$f":"+IF(ISERROR(+INDIRECT(CONCATENATE(\"'\",J70,\"'!\",(ADDRESS((COUNTIF($J$3:J70,IF(B70<>0,CONCATENATE(\"Auswertung \",B70,\"\"))))+2,11)))))=FALSE,+INDIRECT(CONCATENATE(\"'\",J70,\"'!\",(ADDRESS((COUNTIF($J$3:J70,IF(B70<>0,CONCATENATE(\"Auswertung \",B70,\"\"))))+4,11)))),\"\")","v":""},{"$f":"+IF(ISERROR(+INDIRECT(CONCATENATE(\"'\",J70,\"'!\",(ADDRESS((COUNTIF($J$3:J70,IF(D70<>0,CONCATENATE(\"Auswertung \",D70,\"\"))))+2,12)))))=FALSE,+INDIRECT(CONCATENATE(\"'\",J70,\"'!\",(ADDRESS((COUNTIF($J$3:J70,IF(D70<>0,CONCATENATE(\"Auswertung \",B70,\"\"))))+4,12)))),\"\")","v":""},{"$f":"+IF(ISERROR(+INDIRECT(CONCATENATE(\"'\",J70,\"'!\",(ADDRESS((COUNTIF($J$3:J70,IF(D70<>0,CONCATENATE(\"Auswertung \",D70,\"\"))))+2,13)))))=FALSE,+INDIRECT(CONCATENATE(\"'\",J70,\"'!\",(ADDRESS((COUNTIF($J$3:J70,IF(D70<>0,CONCATENATE(\"Auswertung \",B70,\"\"))))+4,13)))),\"\")","v":""},null,{"$f":"+IFERROR(INDIRECT(CONCATENATE(\"'\",J70,\"'!\",(ADDRESS((COUNTIF($J$3:J70,IF(B70<>0,J70)))+4,16)))),\"\")","v":""},{"$f":"AU70","v":21.942},{"$f":"+SUM($M$4:M70)/COUNT($M$4:M70)/1000*2","v":0.28281081081081083},{"$f":"+IFERROR(INDIRECT(CONCATENATE(\"'\",J70,\"'!\",(ADDRESS((COUNTIF($J$3:J70,IF(B70<>0,J70)))+4,18)))),\"\")","v":""},50.264000000000003,{"$f":"+IFERROR(INDIRECT(CONCATENATE(\"'\",J70,\"'!\",(ADDRESS((COUNTIF($J$3:J70,IF(B70<>0,J70)))+4,20)))),\"\")","v":""},44.247,{"$f":"+IFERROR(INDIRECT(CONCATENATE(\"'\",J70,\"'!\",(ADDRESS((COUNTIF($J$3:J70,IF(B70<>0,J70)))+4,22)))),\"\")","v":""},16.149999999999999,{"$f":"+IFERROR(INDIRECT(CONCATENATE(\"'\",J70,\"'!\",(ADDRESS((COUNTIF($J$3:J70,IF(B70<>0,J70)))+4,24)))),\"\")","v":""},-17.100999999999999,{"$f":"+IFERROR(INDIRECT(CONCATENATE(\"'\",J70,\"'!\",(ADDRESS((COUNTIF($J$3:J70,IF(B70<>0,J70)))+4,26)))),\"\")","v":""},-15.523999999999999,67,{"$f":"+SUM(COUNTIF($Z$3:Z70,1),COUNTIF($Z$3:Z70,-1))","v":37},{"$f":"+SUM($M$4:M70)","v":5232},141.40540540540542,{"$f":"+SUM(COUNTIF($Z$3:Z70,1))","v":19},{"$f":"+SUM(COUNTIF($Z$3:Z70,-1))","v":18},1,{"$f":"AN70*(HARMEAN((IF(SUM(COUNTIF($Z$3:Z70,1),COUNTIF($Z$3:Z70,-1))=0,1,SUM(COUNTIF($Z$3:Z70,1),COUNTIF($Z$3:Z70,-1)))),(IF(SUM(COUNTIF($AC$3:AC70,1),COUNTIF($AC$3:AC70,-1))=0,1,SUM(COUNTIF($AC$3:AC70,1),COUNTIF($AC$3:AC70,-1)))),(IF(SUM(COUNTIF($AE$3:AE70,1),COUNTIF($AE$3:AE70,-1))=0,1,SUM(COUNTIF($AE$3:AE70,1),COUNTIF($AE$3:AE70,-1)))),(IF(SUM(COUNTIF($AG$3:AG70,1),COUNTIF($AG$3:AG70,-1))=0,1,SUM(COUNTIF($AG$3:AG70,1),COUNTIF($AG$3:AG70,-1)))),(IF(SUM(COUNTIF($AI$3:AI70,1),COUNTIF($AI$3:AI70,-1))=0,1,SUM(COUNTIF($AI$3:AI70,1),COUNTIF($AI$3:AI70,-1)))),(IF(SUM(COUNTIF($AK$3:AK70,1),COUNTIF($AK$3:AK70,-1))=0,1,SUM(COUNTIF($AK$3:AK70,1),COUNTIF($AK$3:AK70,-1)))))/1000)","v":1.3027260075093867},21.942,null,{"$f":"+SUM(COUNTIF($AC$3:AC70,1),COUNTIF($AC$3:AC70,-1))","v":37},{"$f":"+SUM($O$4:O70)","v":5276},142.59459459459458,{"$f":"+SUM(COUNTIF($AC$3:AC70,1))","v":23},{"$f":"+SUM(COUNTIF($AC$3:AC70,-1))","v":14},9,{"$f":"AW70*(HARMEAN((IF(SUM(COUNTIF($Z$3:Z70,1),COUNTIF($Z$3:Z70,-1))=0,1,SUM(COUNTIF($Z$3:Z70,1),COUNTIF($Z$3:Z70,-1)))),(IF(SUM(COUNTIF($AC$3:AC70,1),COUNTIF($AC$3:AC70,-1))=0,1,SUM(COUNTIF($AC$3:AC70,1),COUNTIF($AC$3:AC70,-1)))),(IF(SUM(COUNTIF($AE$3:AE70,1),COUNTIF($AE$3:AE70,-1))=0,1,SUM(COUNTIF($AE$3:AE70,1),COUNTIF($AE$3:AE70,-1)))),(IF(SUM(COUNTIF($AG$3:AG70,1),COUNTIF($AG$3:AG70,-1))=0,1,SUM(COUNTIF($AG$3:AG70,1),COUNTIF($AG$3:AG70,-1)))),(IF(SUM(COUNTIF($AI$3:AI70,1),COUNTIF($AI$3:AI70,-1))=0,1,SUM(COUNTIF($AI$3:AI70,1),COUNTIF($AI$3:AI70,-1)))),(IF(SUM(COUNTIF($AK$3:AK70,1),COUNTIF($AK$3:AK70,-1))=0,1,SUM(COUNTIF($AK$3:AK70,1),COUNTIF($AK$3:AK70,-1)))))/1000)","v":1.3027260075093867},50.264000000000003,null,{"$f":"+SUM(COUNTIF($AE$3:AE70,1),COUNTIF(AE$3:$AE70,-1))","v":36},{"$f":"+SUM($Q$4:Q70)","v":4567},126.86111111111111,{"$f":"+SUM(COUNTIF($AE$3:AE70,1))","v":22},{"$f":"+SUM(COUNTIF($AE$3:AE70,-1))","v":14},8,{"$f":"BF70*(HARMEAN((IF(SUM(COUNTIF($Z$3:Z70,1),COUNTIF($Z$3:Z70,-1))=0,1,SUM(COUNTIF($Z$3:Z70,1),COUNTIF($Z$3:Z70,-1)))),(IF(SUM(COUNTIF($AC$3:AC70,1),COUNTIF($AC$3:AC70,-1))=0,1,SUM(COUNTIF($AC$3:AC70,1),COUNTIF($AC$3:AC70,-1)))),(IF(SUM(COUNTIF($AE$3:AE70,1),COUNTIF($AE$3:AE70,-1))=0,1,SUM(COUNTIF($AE$3:AE70,1),COUNTIF($AE$3:AE70,-1)))),(IF(SUM(COUNTIF($AG$3:AG70,1),COUNTIF($AG$3:AG70,-1))=0,1,SUM(COUNTIF($AG$3:AG70,1),COUNTIF($AG$3:AG70,-1)))),(IF(SUM(COUNTIF($AI$3:AI70,1),COUNTIF($AI$3:AI70,-1))=0,1,SUM(COUNTIF($AI$3:AI70,1),COUNTIF($AI$3:AI70,-1)))),(IF(SUM(COUNTIF($AK$3:AK70,1),COUNTIF($AK$3:AK70,-1))=0,1,SUM(COUNTIF($AK$3:AK70,1),COUNTIF($AK$3:AK70,-1)))))/1000)","v":1.2675171964956196},44.247,null,{"$f":"+SUM(COUNTIF($AG$3:AG70,1),COUNTIF($AG$3:AG70,-1))","v":37},{"$f":"+SUM($S$4:S70)","v":5587},151,{"$f":"+SUM(COUNTIF($AG$3:AG70,1))","v":18},{"$f":"+SUM(COUNTIF($AG$3:AG70,-1))","v":19},-1,{"$f":"BO70*(HARMEAN((IF(SUM(COUNTIF($Z$3:Z70,1),COUNTIF($Z$3:Z70,-1))=0,1,SUM(COUNTIF($Z$3:Z70,1),COUNTIF($Z$3:Z70,-1)))),(IF(SUM(COUNTIF($AC$3:AC70,1),COUNTIF($AC$3:AC70,-1))=0,1,SUM(COUNTIF($AC$3:AC70,1),COUNTIF($AC$3:AC70,-1)))),(IF(SUM(COUNTIF($AE$3:AE70,1),COUNTIF($AE$3:AE70,-1))=0,1,SUM(COUNTIF($AE$3:AE70,1),COUNTIF($AE$3:AE70,-1)))),(IF(SUM(COUNTIF($AG$3:AG70,1),COUNTIF($AG$3:AG70,-1))=0,1,SUM(COUNTIF($AG$3:AG70,1),COUNTIF($AG$3:AG70,-1)))),(IF(SUM(COUNTIF($AI$3:AI70,1),COUNTIF($AI$3:AI70,-1))=0,1,SUM(COUNTIF($AI$3:AI70,1),COUNTIF($AI$3:AI70,-1)))),(IF(SUM(COUNTIF($AK$3:AK70,1),COUNTIF($AK$3:AK70,-1))=0,1,SUM(COUNTIF($AK$3:AK70,1),COUNTIF($AK$3:AK70,-1)))))/1000)","v":1.3027260075093867},16.149999999999999,null,{"$f":"+SUM(COUNTIF($AI$3:AI70,1),COUNTIF($AI$3:AI70,-1))","v":33},{"$f":"+SUM($U$4:U70)","v":4143},125.54545454545455,{"$f":"+SUM(COUNTIF($AI$3:AI70,1))","v":12},{"$f":"+SUM(COUNTIF($AI$3:AI70,-1))","v":21},-9,{"$f":"+BX70*(HARMEAN((IF(SUM(COUNTIF($Z$3:Z70,1),COUNTIF($Z$3:Z70,-1))=0,1,SUM(COUNTIF($Z$3:Z70,1),COUNTIF($Z$3:Z70,-1)))),(IF(SUM(COUNTIF($AC$3:AC70,1),COUNTIF($AC$3:AC70,-1))=0,1,SUM(COUNTIF($AC$3:AC70,1),COUNTIF($AC$3:AC70,-1)))),(IF(SUM(COUNTIF($AE$3:AE70,1),COUNTIF($AE$3:AE70,-1))=0,1,SUM(COUNTIF($AE$3:AE70,1),COUNTIF($AE$3:AE70,-1)))),(IF(SUM(COUNTIF($AG$3:AG70,1),COUNTIF($AG$3:AG70,-1))=0,1,SUM(COUNTIF($AG$3:AG70,1),COUNTIF($AG$3:AG70,-1)))),(IF(SUM(COUNTIF($AI$3:AI70,1),COUNTIF($AI$3:AI70,-1))=0,1,SUM(COUNTIF($AI$3:AI70,1),COUNTIF($AI$3:AI70,-1)))),(IF(SUM(COUNTIF($AK$3:AK70,1),COUNTIF($AK$3:AK70,-1))=0,1,SUM(COUNTIF($AK$3:AK70,1),COUNTIF($AK$3:AK70,-1)))))/1000)","v":1.1618907634543179},-17.100999999999999,null,{"$f":"+SUM(COUNTIF($AK$3:AK70,1),COUNTIF($AK$3:AK70,-1))","v":32},{"$f":"+SUM($W$4:W70)","v":3591},112.21875,{"$f":"+SUM(COUNTIF($AK$3:AK70,1))","v":12},{"$f":"+SUM(COUNTIF($AK$3:AK70,-1))","v":20},-8,{"$f":"+CG70*(HARMEAN((IF(SUM(COUNTIF($Z$3:Z70,1),COUNTIF($Z$3:Z70,-1))=0,1,SUM(COUNTIF($Z$3:Z70,1),COUNTIF($Z$3:Z70,-1)))),(IF(SUM(COUNTIF($AC$3:AC70,1),COUNTIF($AC$3:AC70,-1))=0,1,SUM(COUNTIF($AC$3:AC70,1),COUNTIF($AC$3:AC70,-1)))),(IF(SUM(COUNTIF($AE$3:AE70,1),COUNTIF($AE$3:AE70,-1))=0,1,SUM(COUNTIF($AE$3:AE70,1),COUNTIF($AE$3:AE70,-1)))),(IF(SUM(COUNTIF($AG$3:AG70,1),COUNTIF($AG$3:AG70,-1))=0,1,SUM(COUNTIF($AG$3:AG70,1),COUNTIF($AG$3:AG70,-1)))),(IF(SUM(COUNTIF($AI$3:AI70,1),COUNTIF($AI$3:AI70,-1))=0,1,SUM(COUNTIF($AI$3:AI70,1),COUNTIF($AI$3:AI70,-1)))),(IF(SUM(COUNTIF($AK$3:AK70,1),COUNTIF($AK$3:AK70,-1))=0,1,SUM(COUNTIF($AK$3:AK70,1),COUNTIF($AK$3:AK70,-1)))))/1000)","v":1.1266819524405507},-15.523999999999999]
[68,"",null,{"$f":"+IFERROR(INDEX('Auswertung AoE II'!$AE:$AE,MATCH(A71,'Auswertung AoE II'!$AD:$AD,0)),\"\")","v":""},{"$f":"+IFERROR(INDEX('Auswertung AoE III'!$AE:$AE,MATCH(A71,'Auswertung AoE III'!$AD:$AD,0)),\"\")","v":""},{"$f":"+IFERROR(INDEX('Auswertung AoM'!$AE:$AE,MATCH(A71,'Auswertung AoM'!$AD:$AD,0)),\"\")","v":""},{"$f":"+IFERROR(INDEX('Auswertung RA'!$AE:$AE,MATCH(A71,'Auswertung RA'!$AD:$AD,0)),\"\")","v":""},{"$f":"+IFERROR(INDEX('Auswertung Yuri'!$AE:$AE,MATCH(A71,'Auswertung Yuri'!$AD:$AD,0)),\"\")","v":""},{"$f":"+IFERROR(INDEX('Auswertung Generals'!$AE:$AE,MATCH(A71,'Auswertung Generals'!$AD:$AD,0)),\"\")","v":""},"Auswertung ",null,null,{"$f":"+IF(ISERROR(+INDIRECT(CONCATENATE(\"'\",J71,\"'!\",(ADDRESS((COUNTIF($J$3:J71,IF(B71<>0,CONCATENATE(\"Auswertung \",B71,\"\"))))+2,2)))))=FALSE,+INDIRECT(CONCATENATE(\"'\",J71,\"'!\",(ADDRESS((COUNTIF($J$3:J71,IF(B71<>0,CONCATENATE(\"Auswertung \",B71,\"\"))))+4,2)))),\"\")","v":""},{"$f":"IF(ISERROR(+INDIRECT(CONCATENATE(\"'\",J71,\"'!\",(ADDRESS((COUNTIF($J$3:J71,IF(B71<>0,CONCATENATE(\"Auswertung \",B71,\"\"))))+2,2+1)))))=FALSE,+INDIRECT(CONCATENATE(\"'\",J71,\"'!\",(ADDRESS((COUNTIF($J$3:J71,IF(B71<>0,CONCATENATE(\"Auswertung \",B71,\"\"))))+4,2+1)))),\"\")","v":""},{"$f":"+IF(ISERROR(+INDIRECT(CONCATENATE(\"'\",J71,\"'!\",(ADDRESS((COUNTIF($J$3:J71,IF(B71<>0,CONCATENATE(\"Auswertung \",B71,\"\"))))+2,4)))))=FALSE,+INDIRECT(CONCATENATE(\"'\",J71,\"'!\",(ADDRESS((COUNTIF($J$3:J71,IF(B71<>0,CONCATENATE(\"Auswertung \",B71,\"\"))))+4,4)))),\"\")","v":""},{"$f":"+IF(ISERROR(+INDIRECT(CONCATENATE(\"'\",J71,\"'!\",(ADDRESS((COUNTIF($J$3:J71,IF(B71<>0,CONCATENATE(\"Auswertung \",B71,\"\"))))+2,5)))))=FALSE,+INDIRECT(CONCATENATE(\"'\",J71,\"'!\",(ADDRESS((COUNTIF($J$3:J71,IF(B71<>0,CONCATENATE(\"Auswertung \",B71,\"\"))))+4,5)))),\"\")","v":""},{"$f":"+IF(ISERROR(+INDIRECT(CONCATENATE(\"'\",J71,\"'!\",(ADDRESS((COUNTIF($J$3:J71,IF(B71<>0,CONCATENATE(\"Auswertung \",B71,\"\"))))+2,6)))))=FALSE,+INDIRECT(CONCATENATE(\"'\",J71,\"'!\",(ADDRESS((COUNTIF($J$3:J71,IF(B71<>0,CONCATENATE(\"Auswertung \",B71,\"\"))))+4,6)))),\"\")","v":""},{"$f":"+IF(ISERROR(+INDIRECT(CONCATENATE(\"'\",J71,\"'!\",(ADDRESS((COUNTIF($J$3:J71,IF(B71<>0,CONCATENATE(\"Auswertung \",B71,\"\"))))+2,7)))))=FALSE,+INDIRECT(CONCATENATE(\"'\",J71,\"'!\",(ADDRESS((COUNTIF($J$3:J71,IF(B71<>0,CONCATENATE(\"Auswertung \",B71,\"\"))))+4,7)))),\"\")","v":""},{"$f":"+IF(ISERROR(+INDIRECT(CONCATENATE(\"'\",J71,\"'!\",(ADDRESS((COUNTIF($J$3:J71,IF(B71<>0,CONCATENATE(\"Auswertung \",B71,\"\"))))+2,10)))))=FALSE,+INDIRECT(CONCATENATE(\"'\",J71,\"'!\",(ADDRESS((COUNTIF($J$3:J71,IF(B71<>0,CONCATENATE(\"Auswertung \",B71,\"\"))))+4,8)))),\"\")","v":""},{"$f":"+IF(ISERROR(+INDIRECT(CONCATENATE(\"'\",J71,\"'!\",(ADDRESS((COUNTIF($J$3:J71,IF(B71<>0,CONCATENATE(\"Auswertung \",B71,\"\"))))+2,11)))))=FALSE,+INDIRECT(CONCATENATE(\"'\",J71,\"'!\",(ADDRESS((COUNTIF($J$3:J71,IF(B71<>0,CONCATENATE(\"Auswertung \",B71,\"\"))))+4,9)))),\"\")","v":""},{"$f":"+IF(ISERROR(+INDIRECT(CONCATENATE(\"'\",J71,\"'!\",(ADDRESS((COUNTIF($J$3:J71,IF(B71<>0,CONCATENATE(\"Auswertung \",B71,\"\"))))+2,10)))))=FALSE,+INDIRECT(CONCATENATE(\"'\",J71,\"'!\",(ADDRESS((COUNTIF($J$3:J71,IF(B71<>0,CONCATENATE(\"Auswertung \",B71,\"\"))))+4,10)))),\"\")","v":""},{"$f":"+IF(ISERROR(+INDIRECT(CONCATENATE(\"'\",J71,\"'!\",(ADDRESS((COUNTIF($J$3:J71,IF(B71<>0,CONCATENATE(\"Auswertung \",B71,\"\"))))+2,11)))))=FALSE,+INDIRECT(CONCATENATE(\"'\",J71,\"'!\",(ADDRESS((COUNTIF($J$3:J71,IF(B71<>0,CONCATENATE(\"Auswertung \",B71,\"\"))))+4,11)))),\"\")","v":""},{"$f":"+IF(ISERROR(+INDIRECT(CONCATENATE(\"'\",J71,\"'!\",(ADDRESS((COUNTIF($J$3:J71,IF(D71<>0,CONCATENATE(\"Auswertung \",D71,\"\"))))+2,12)))))=FALSE,+INDIRECT(CONCATENATE(\"'\",J71,\"'!\",(ADDRESS((COUNTIF($J$3:J71,IF(D71<>0,CONCATENATE(\"Auswertung \",B71,\"\"))))+4,12)))),\"\")","v":""},{"$f":"+IF(ISERROR(+INDIRECT(CONCATENATE(\"'\",J71,\"'!\",(ADDRESS((COUNTIF($J$3:J71,IF(D71<>0,CONCATENATE(\"Auswertung \",D71,\"\"))))+2,13)))))=FALSE,+INDIRECT(CONCATENATE(\"'\",J71,\"'!\",(ADDRESS((COUNTIF($J$3:J71,IF(D71<>0,CONCATENATE(\"Auswertung \",B71,\"\"))))+4,13)))),\"\")","v":""},null,{"$f":"+IFERROR(INDIRECT(CONCATENATE(\"'\",J71,\"'!\",(ADDRESS((COUNTIF($J$3:J71,IF(B71<>0,J71)))+4,16)))),\"\")","v":""},21.942,{"$f":"+SUM($M$4:M71)/COUNT($M$4:M71)/1000*2","v":0.28281081081081083},{"$f":"+IFERROR(INDIRECT(CONCATENATE(\"'\",J71,\"'!\",(ADDRESS((COUNTIF($J$3:J71,IF(B71<>0,J71)))+4,18)))),\"\")","v":""},50.264000000000003,{"$f":"+IFERROR(INDIRECT(CONCATENATE(\"'\",J71,\"'!\",(ADDRESS((COUNTIF($J$3:J71,IF(B71<>0,J71)))+4,20)))),\"\")","v":""},44.247,{"$f":"+IFERROR(INDIRECT(CONCATENATE(\"'\",J71,\"'!\",(ADDRESS((COUNTIF($J$3:J71,IF(B71<>0,J71)))+4,22)))),\"\")","v":""},16.149999999999999,{"$f":"+IFERROR(INDIRECT(CONCATENATE(\"'\",J71,\"'!\",(ADDRESS((COUNTIF($J$3:J71,IF(B71<>0,J71)))+4,24)))),\"\")","v":""},-17.100999999999999,{"$f":"+IFERROR(INDIRECT(CONCATENATE(\"'\",J71,\"'!\",(ADDRESS((COUNTIF($J$3:J71,IF(B71<>0,J71)))+4,26)))),\"\")","v":""},-15.523999999999999,68,{"$f":"+SUM(COUNTIF($Z$3:Z71,1),COUNTIF($Z$3:Z71,-1))","v":37},{"$f":"+SUM($M$4:M71)","v":5232},141.40540540540542,{"$f":"+SUM(COUNTIF($Z$3:Z71,1))","v":19},{"$f":"+SUM(COUNTIF($Z$3:Z71,-1))","v":18},1,{"$f":"AN71*(HARMEAN((IF(SUM(COUNTIF($Z$3:Z71,1),COUNTIF($Z$3:Z71,-1))=0,1,SUM(COUNTIF($Z$3:Z71,1),COUNTIF($Z$3:Z71,-1)))),(IF(SUM(COUNTIF($AC$3:AC71,1),COUNTIF($AC$3:AC71,-1))=0,1,SUM(COUNTIF($AC$3:AC71,1),COUNTIF($AC$3:AC71,-1)))),(IF(SUM(COUNTIF($AE$3:AE71,1),COUNTIF($AE$3:AE71,-1))=0,1,SUM(COUNTIF($AE$3:AE71,1),COUNTIF($AE$3:AE71,-1)))),(IF(SUM(COUNTIF($AG$3:AG71,1),COUNTIF($AG$3:AG71,-1))=0,1,SUM(COUNTIF($AG$3:AG71,1),COUNTIF($AG$3:AG71,-1)))),(IF(SUM(COUNTIF($AI$3:AI71,1),COUNTIF($AI$3:AI71,-1))=0,1,SUM(COUNTIF($AI$3:AI71,1),COUNTIF($AI$3:AI71,-1)))),(IF(SUM(COUNTIF($AK$3:AK71,1),COUNTIF($AK$3:AK71,-1))=0,1,SUM(COUNTIF($AK$3:AK71,1),COUNTIF($AK$3:AK71,-1)))))/1000)","v":1.3027260075093867},21.942,null,{"$f":"+SUM(COUNTIF($AC$3:AC71,1),COUNTIF($AC$3:AC71,-1))","v":37},{"$f":"+SUM($O$4:O71)","v":5276},142.59459459459458,{"$f":"+SUM(COUNTIF($AC$3:AC71,1))","v":23},{"$f":"+SUM(COUNTIF($AC$3:AC71,-1))","v":14},9,{"$f":"AW71*(HARMEAN((IF(SUM(COUNTIF($Z$3:Z71,1),COUNTIF($Z$3:Z71,-1))=0,1,SUM(COUNTIF($Z$3:Z71,1),COUNTIF($Z$3:Z71,-1)))),(IF(SUM(COUNTIF($AC$3:AC71,1),COUNTIF($AC$3:AC71,-1))=0,1,SUM(COUNTIF($AC$3:AC71,1),COUNTIF($AC$3:AC71,-1)))),(IF(SUM(COUNTIF($AE$3:AE71,1),COUNTIF($AE$3:AE71,-1))=0,1,SUM(COUNTIF($AE$3:AE71,1),COUNTIF($AE$3:AE71,-1)))),(IF(SUM(COUNTIF($AG$3:AG71,1),COUNTIF($AG$3:AG71,-1))=0,1,SUM(COUNTIF($AG$3:AG71,1),COUNTIF($AG$3:AG71,-1)))),(IF(SUM(COUNTIF($AI$3:AI71,1),COUNTIF($AI$3:AI71,-1))=0,1,SUM(COUNTIF($AI$3:AI71,1),COUNTIF($AI$3:AI71,-1)))),(IF(SUM(COUNTIF($AK$3:AK71,1),COUNTIF($AK$3:AK71,-1))=0,1,SUM(COUNTIF($AK$3:AK71,1),COUNTIF($AK$3:AK71,-1)))))/1000)","v":1.3027260075093867},50.264000000000003,null,{"$f":"+SUM(COUNTIF($AE$3:AE71,1),COUNTIF(AE$3:$AE71,-1))","v":36},{"$f":"+SUM($Q$4:Q71)","v":4567},126.86111111111111,{"$f":"+SUM(COUNTIF($AE$3:AE71,1))","v":22},{"$f":"+SUM(COUNTIF($AE$3:AE71,-1))","v":14},8,{"$f":"BF71*(HARMEAN((IF(SUM(COUNTIF($Z$3:Z71,1),COUNTIF($Z$3:Z71,-1))=0,1,SUM(COUNTIF($Z$3:Z71,1),COUNTIF($Z$3:Z71,-1)))),(IF(SUM(COUNTIF($AC$3:AC71,1),COUNTIF($AC$3:AC71,-1))=0,1,SUM(COUNTIF($AC$3:AC71,1),COUNTIF($AC$3:AC71,-1)))),(IF(SUM(COUNTIF($AE$3:AE71,1),COUNTIF($AE$3:AE71,-1))=0,1,SUM(COUNTIF($AE$3:AE71,1),COUNTIF($AE$3:AE71,-1)))),(IF(SUM(COUNTIF($AG$3:AG71,1),COUNTIF($AG$3:AG71,-1))=0,1,SUM(COUNTIF($AG$3:AG71,1),COUNTIF($AG$3:AG71,-1)))),(IF(SUM(COUNTIF($AI$3:AI71,1),COUNTIF($AI$3:AI71,-1))=0,1,SUM(COUNTIF($AI$3:AI71,1),COUNTIF($AI$3:AI71,-1)))),(IF(SUM(COUNTIF($AK$3:AK71,1),COUNTIF($AK$3:AK71,-1))=0,1,SUM(COUNTIF($AK$3:AK71,1),COUNTIF($AK$3:AK71,-1)))))/1000)","v":1.2675171964956196},44.247,null,{"$f":"+SUM(COUNTIF($AG$3:AG71,1),COUNTIF($AG$3:AG71,-1))","v":37},{"$f":"+SUM($S$4:S71)","v":5587},151,{"$f":"+SUM(COUNTIF($AG$3:AG71,1))","v":18},{"$f":"+SUM(COUNTIF($AG$3:AG71,-1))","v":19},-1,{"$f":"BO71*(HARMEAN((IF(SUM(COUNTIF($Z$3:Z71,1),COUNTIF($Z$3:Z71,-1))=0,1,SUM(COUNTIF($Z$3:Z71,1),COUNTIF($Z$3:Z71,-1)))),(IF(SUM(COUNTIF($AC$3:AC71,1),COUNTIF($AC$3:AC71,-1))=0,1,SUM(COUNTIF($AC$3:AC71,1),COUNTIF($AC$3:AC71,-1)))),(IF(SUM(COUNTIF($AE$3:AE71,1),COUNTIF($AE$3:AE71,-1))=0,1,SUM(COUNTIF($AE$3:AE71,1),COUNTIF($AE$3:AE71,-1)))),(IF(SUM(COUNTIF($AG$3:AG71,1),COUNTIF($AG$3:AG71,-1))=0,1,SUM(COUNTIF($AG$3:AG71,1),COUNTIF($AG$3:AG71,-1)))),(IF(SUM(COUNTIF($AI$3:AI71,1),COUNTIF($AI$3:AI71,-1))=0,1,SUM(COUNTIF($AI$3:AI71,1),COUNTIF($AI$3:AI71,-1)))),(IF(SUM(COUNTIF($AK$3:AK71,1),COUNTIF($AK$3:AK71,-1))=0,1,SUM(COUNTIF($AK$3:AK71,1),COUNTIF($AK$3:AK71,-1)))))/1000)","v":1.3027260075093867},16.149999999999999,null,{"$f":"+SUM(COUNTIF($AI$3:AI71,1),COUNTIF($AI$3:AI71,-1))","v":33},{"$f":"+SUM($U$4:U71)","v":4143},125.54545454545455,{"$f":"+SUM(COUNTIF($AI$3:AI71,1))","v":12},{"$f":"+SUM(COUNTIF($AI$3:AI71,-1))","v":21},-9,{"$f":"+BX71*(HARMEAN((IF(SUM(COUNTIF($Z$3:Z71,1),COUNTIF($Z$3:Z71,-1))=0,1,SUM(COUNTIF($Z$3:Z71,1),COUNTIF($Z$3:Z71,-1)))),(IF(SUM(COUNTIF($AC$3:AC71,1),COUNTIF($AC$3:AC71,-1))=0,1,SUM(COUNTIF($AC$3:AC71,1),COUNTIF($AC$3:AC71,-1)))),(IF(SUM(COUNTIF($AE$3:AE71,1),COUNTIF($AE$3:AE71,-1))=0,1,SUM(COUNTIF($AE$3:AE71,1),COUNTIF($AE$3:AE71,-1)))),(IF(SUM(COUNTIF($AG$3:AG71,1),COUNTIF($AG$3:AG71,-1))=0,1,SUM(COUNTIF($AG$3:AG71,1),COUNTIF($AG$3:AG71,-1)))),(IF(SUM(COUNTIF($AI$3:AI71,1),COUNTIF($AI$3:AI71,-1))=0,1,SUM(COUNTIF($AI$3:AI71,1),COUNTIF($AI$3:AI71,-1)))),(IF(SUM(COUNTIF($AK$3:AK71,1),COUNTIF($AK$3:AK71,-1))=0,1,SUM(COUNTIF($AK$3:AK71,1),COUNTIF($AK$3:AK71,-1)))))/1000)","v":1.1618907634543179},-17.100999999999999,null,{"$f":"+SUM(COUNTIF($AK$3:AK71,1),COUNTIF($AK$3:AK71,-1))","v":32},{"$f":"+SUM($W$4:W71)","v":3591},112.21875,{"$f":"+SUM(COUNTIF($AK$3:AK71,1))","v":12},{"$f":"+SUM(COUNTIF($AK$3:AK71,-1))","v":20},-8,{"$f":"+CG71*(HARMEAN((IF(SUM(COUNTIF($Z$3:Z71,1),COUNTIF($Z$3:Z71,-1))=0,1,SUM(COUNTIF($Z$3:Z71,1),COUNTIF($Z$3:Z71,-1)))),(IF(SUM(COUNTIF($AC$3:AC71,1),COUNTIF($AC$3:AC71,-1))=0,1,SUM(COUNTIF($AC$3:AC71,1),COUNTIF($AC$3:AC71,-1)))),(IF(SUM(COUNTIF($AE$3:AE71,1),COUNTIF($AE$3:AE71,-1))=0,1,SUM(COUNTIF($AE$3:AE71,1),COUNTIF($AE$3:AE71,-1)))),(IF(SUM(COUNTIF($AG$3:AG71,1),COUNTIF($AG$3:AG71,-1))=0,1,SUM(COUNTIF($AG$3:AG71,1),COUNTIF($AG$3:AG71,-1)))),(IF(SUM(COUNTIF($AI$3:AI71,1),COUNTIF($AI$3:AI71,-1))=0,1,SUM(COUNTIF($AI$3:AI71,1),COUNTIF($AI$3:AI71,-1)))),(IF(SUM(COUNTIF($AK$3:AK71,1),COUNTIF($AK$3:AK71,-1))=0,1,SUM(COUNTIF($AK$3:AK71,1),COUNTIF($AK$3:AK71,-1)))))/1000)","v":1.1266819524405507},-15.523999999999999]
[69,"",null,{"$f":"+IFERROR(INDEX('Auswertung AoE II'!$AE:$AE,MATCH(A72,'Auswertung AoE II'!$AD:$AD,0)),\"\")","v":""},{"$f":"+IFERROR(INDEX('Auswertung AoE III'!$AE:$AE,MATCH(A72,'Auswertung AoE III'!$AD:$AD,0)),\"\")","v":""},{"$f":"+IFERROR(INDEX('Auswertung AoM'!$AE:$AE,MATCH(A72,'Auswertung AoM'!$AD:$AD,0)),\"\")","v":""},{"$f":"+IFERROR(INDEX('Auswertung RA'!$AE:$AE,MATCH(A72,'Auswertung RA'!$AD:$AD,0)),\"\")","v":""},{"$f":"+IFERROR(INDEX('Auswertung Yuri'!$AE:$AE,MATCH(A72,'Auswertung Yuri'!$AD:$AD,0)),\"\")","v":""},{"$f":"+IFERROR(INDEX('Auswertung Generals'!$AE:$AE,MATCH(A72,'Auswertung Generals'!$AD:$AD,0)),\"\")","v":""},"Auswertung ",null,null,{"$f":"+IF(ISERROR(+INDIRECT(CONCATENATE(\"'\",J72,\"'!\",(ADDRESS((COUNTIF($J$3:J72,IF(B72<>0,CONCATENATE(\"Auswertung \",B72,\"\"))))+2,2)))))=FALSE,+INDIRECT(CONCATENATE(\"'\",J72,\"'!\",(ADDRESS((COUNTIF($J$3:J72,IF(B72<>0,CONCATENATE(\"Auswertung \",B72,\"\"))))+4,2)))),\"\")","v":""},{"$f":"IF(ISERROR(+INDIRECT(CONCATENATE(\"'\",J72,\"'!\",(ADDRESS((COUNTIF($J$3:J72,IF(B72<>0,CONCATENATE(\"Auswertung \",B72,\"\"))))+2,2+1)))))=FALSE,+INDIRECT(CONCATENATE(\"'\",J72,\"'!\",(ADDRESS((COUNTIF($J$3:J72,IF(B72<>0,CONCATENATE(\"Auswertung \",B72,\"\"))))+4,2+1)))),\"\")","v":""},{"$f":"+IF(ISERROR(+INDIRECT(CONCATENATE(\"'\",J72,\"'!\",(ADDRESS((COUNTIF($J$3:J72,IF(B72<>0,CONCATENATE(\"Auswertung \",B72,\"\"))))+2,4)))))=FALSE,+INDIRECT(CONCATENATE(\"'\",J72,\"'!\",(ADDRESS((COUNTIF($J$3:J72,IF(B72<>0,CONCATENATE(\"Auswertung \",B72,\"\"))))+4,4)))),\"\")","v":""},{"$f":"+IF(ISERROR(+INDIRECT(CONCATENATE(\"'\",J72,\"'!\",(ADDRESS((COUNTIF($J$3:J72,IF(B72<>0,CONCATENATE(\"Auswertung \",B72,\"\"))))+2,5)))))=FALSE,+INDIRECT(CONCATENATE(\"'\",J72,\"'!\",(ADDRESS((COUNTIF($J$3:J72,IF(B72<>0,CONCATENATE(\"Auswertung \",B72,\"\"))))+4,5)))),\"\")","v":""},{"$f":"+IF(ISERROR(+INDIRECT(CONCATENATE(\"'\",J72,\"'!\",(ADDRESS((COUNTIF($J$3:J72,IF(B72<>0,CONCATENATE(\"Auswertung \",B72,\"\"))))+2,6)))))=FALSE,+INDIRECT(CONCATENATE(\"'\",J72,\"'!\",(ADDRESS((COUNTIF($J$3:J72,IF(B72<>0,CONCATENATE(\"Auswertung \",B72,\"\"))))+4,6)))),\"\")","v":""},{"$f":"+IF(ISERROR(+INDIRECT(CONCATENATE(\"'\",J72,\"'!\",(ADDRESS((COUNTIF($J$3:J72,IF(B72<>0,CONCATENATE(\"Auswertung \",B72,\"\"))))+2,7)))))=FALSE,+INDIRECT(CONCATENATE(\"'\",J72,\"'!\",(ADDRESS((COUNTIF($J$3:J72,IF(B72<>0,CONCATENATE(\"Auswertung \",B72,\"\"))))+4,7)))),\"\")","v":""},{"$f":"+IF(ISERROR(+INDIRECT(CONCATENATE(\"'\",J72,\"'!\",(ADDRESS((COUNTIF($J$3:J72,IF(B72<>0,CONCATENATE(\"Auswertung \",B72,\"\"))))+2,10)))))=FALSE,+INDIRECT(CONCATENATE(\"'\",J72,\"'!\",(ADDRESS((COUNTIF($J$3:J72,IF(B72<>0,CONCATENATE(\"Auswertung \",B72,\"\"))))+4,8)))),\"\")","v":""},{"$f":"+IF(ISERROR(+INDIRECT(CONCATENATE(\"'\",J72,\"'!\",(ADDRESS((COUNTIF($J$3:J72,IF(B72<>0,CONCATENATE(\"Auswertung \",B72,\"\"))))+2,11)))))=FALSE,+INDIRECT(CONCATENATE(\"'\",J72,\"'!\",(ADDRESS((COUNTIF($J$3:J72,IF(B72<>0,CONCATENATE(\"Auswertung \",B72,\"\"))))+4,9)))),\"\")","v":""},{"$f":"+IF(ISERROR(+INDIRECT(CONCATENATE(\"'\",J72,\"'!\",(ADDRESS((COUNTIF($J$3:J72,IF(B72<>0,CONCATENATE(\"Auswertung \",B72,\"\"))))+2,10)))))=FALSE,+INDIRECT(CONCATENATE(\"'\",J72,\"'!\",(ADDRESS((COUNTIF($J$3:J72,IF(B72<>0,CONCATENATE(\"Auswertung \",B72,\"\"))))+4,10)))),\"\")","v":""},{"$f":"+IF(ISERROR(+INDIRECT(CONCATENATE(\"'\",J72,\"'!\",(ADDRESS((COUNTIF($J$3:J72,IF(B72<>0,CONCATENATE(\"Auswertung \",B72,\"\"))))+2,11)))))=FALSE,+INDIRECT(CONCATENATE(\"'\",J72,\"'!\",(ADDRESS((COUNTIF($J$3:J72,IF(B72<>0,CONCATENATE(\"Auswertung \",B72,\"\"))))+4,11)))),\"\")","v":""},{"$f":"+IF(ISERROR(+INDIRECT(CONCATENATE(\"'\",J72,\"'!\",(ADDRESS((COUNTIF($J$3:J72,IF(D72<>0,CONCATENATE(\"Auswertung \",D72,\"\"))))+2,12)))))=FALSE,+INDIRECT(CONCATENATE(\"'\",J72,\"'!\",(ADDRESS((COUNTIF($J$3:J72,IF(D72<>0,CONCATENATE(\"Auswertung \",B72,\"\"))))+4,12)))),\"\")","v":""},{"$f":"+IF(ISERROR(+INDIRECT(CONCATENATE(\"'\",J72,\"'!\",(ADDRESS((COUNTIF($J$3:J72,IF(D72<>0,CONCATENATE(\"Auswertung \",D72,\"\"))))+2,13)))))=FALSE,+INDIRECT(CONCATENATE(\"'\",J72,\"'!\",(ADDRESS((COUNTIF($J$3:J72,IF(D72<>0,CONCATENATE(\"Auswertung \",B72,\"\"))))+4,13)))),\"\")","v":""},null,{"$f":"+IFERROR(INDIRECT(CONCATENATE(\"'\",J72,\"'!\",(ADDRESS((COUNTIF($J$3:J72,IF(B72<>0,J72)))+4,16)))),\"\")","v":""},21.942,{"$f":"+SUM($M$4:M72)/COUNT($M$4:M72)/1000*2","v":0.28281081081081083},{"$f":"+IFERROR(INDIRECT(CONCATENATE(\"'\",J72,\"'!\",(ADDRESS((COUNTIF($J$3:J72,IF(B72<>0,J72)))+4,18)))),\"\")","v":""},50.264000000000003,{"$f":"+IFERROR(INDIRECT(CONCATENATE(\"'\",J72,\"'!\",(ADDRESS((COUNTIF($J$3:J72,IF(B72<>0,J72)))+4,20)))),\"\")","v":""},44.247,{"$f":"+IFERROR(INDIRECT(CONCATENATE(\"'\",J72,\"'!\",(ADDRESS((COUNTIF($J$3:J72,IF(B72<>0,J72)))+4,22)))),\"\")","v":""},16.149999999999999,{"$f":"+IFERROR(INDIRECT(CONCATENATE(\"'\",J72,\"'!\",(ADDRESS((COUNTIF($J$3:J72,IF(B72<>0,J72)))+4,24)))),\"\")","v":""},-17.100999999999999,{"$f":"+IFERROR(INDIRECT(CONCATENATE(\"'\",J72,\"'!\",(ADDRESS((COUNTIF($J$3:J72,IF(B72<>0,J72)))+4,26)))),\"\")","v":""},-15.523999999999999,69,{"$f":"+SUM(COUNTIF($Z$3:Z72,1),COUNTIF($Z$3:Z72,-1))","v":37},{"$f":"+SUM($M$4:M72)","v":5232},141.40540540540542,{"$f":"+SUM(COUNTIF($Z$3:Z72,1))","v":19},{"$f":"+SUM(COUNTIF($Z$3:Z72,-1))","v":18},1,{"$f":"AN72*(HARMEAN((IF(SUM(COUNTIF($Z$3:Z72,1),COUNTIF($Z$3:Z72,-1))=0,1,SUM(COUNTIF($Z$3:Z72,1),COUNTIF($Z$3:Z72,-1)))),(IF(SUM(COUNTIF($AC$3:AC72,1),COUNTIF($AC$3:AC72,-1))=0,1,SUM(COUNTIF($AC$3:AC72,1),COUNTIF($AC$3:AC72,-1)))),(IF(SUM(COUNTIF($AE$3:AE72,1),COUNTIF($AE$3:AE72,-1))=0,1,SUM(COUNTIF($AE$3:AE72,1),COUNTIF($AE$3:AE72,-1)))),(IF(SUM(COUNTIF($AG$3:AG72,1),COUNTIF($AG$3:AG72,-1))=0,1,SUM(COUNTIF($AG$3:AG72,1),COUNTIF($AG$3:AG72,-1)))),(IF(SUM(COUNTIF($AI$3:AI72,1),COUNTIF($AI$3:AI72,-1))=0,1,SUM(COUNTIF($AI$3:AI72,1),COUNTIF($AI$3:AI72,-1)))),(IF(SUM(COUNTIF($AK$3:AK72,1),COUNTIF($AK$3:AK72,-1))=0,1,SUM(COUNTIF($AK$3:AK72,1),COUNTIF($AK$3:AK72,-1)))))/1000)","v":1.3027260075093867},21.942,null,{"$f":"+SUM(COUNTIF($AC$3:AC72,1),COUNTIF($AC$3:AC72,-1))","v":37},{"$f":"+SUM($O$4:O72)","v":5276},142.59459459459458,{"$f":"+SUM(COUNTIF($AC$3:AC72,1))","v":23},{"$f":"+SUM(COUNTIF($AC$3:AC72,-1))","v":14},9,{"$f":"AW72*(HARMEAN((IF(SUM(COUNTIF($Z$3:Z72,1),COUNTIF($Z$3:Z72,-1))=0,1,SUM(COUNTIF($Z$3:Z72,1),COUNTIF($Z$3:Z72,-1)))),(IF(SUM(COUNTIF($AC$3:AC72,1),COUNTIF($AC$3:AC72,-1))=0,1,SUM(COUNTIF($AC$3:AC72,1),COUNTIF($AC$3:AC72,-1)))),(IF(SUM(COUNTIF($AE$3:AE72,1),COUNTIF($AE$3:AE72,-1))=0,1,SUM(COUNTIF($AE$3:AE72,1),COUNTIF($AE$3:AE72,-1)))),(IF(SUM(COUNTIF($AG$3:AG72,1),COUNTIF($AG$3:AG72,-1))=0,1,SUM(COUNTIF($AG$3:AG72,1),COUNTIF($AG$3:AG72,-1)))),(IF(SUM(COUNTIF($AI$3:AI72,1),COUNTIF($AI$3:AI72,-1))=0,1,SUM(COUNTIF($AI$3:AI72,1),COUNTIF($AI$3:AI72,-1)))),(IF(SUM(COUNTIF($AK$3:AK72,1),COUNTIF($AK$3:AK72,-1))=0,1,SUM(COUNTIF($AK$3:AK72,1),COUNTIF($AK$3:AK72,-1)))))/1000)","v":1.3027260075093867},50.264000000000003,null,{"$f":"+SUM(COUNTIF($AE$3:AE72,1),COUNTIF(AE$3:$AE72,-1))","v":36},{"$f":"+SUM($Q$4:Q72)","v":4567},126.86111111111111,{"$f":"+SUM(COUNTIF($AE$3:AE72,1))","v":22},{"$f":"+SUM(COUNTIF($AE$3:AE72,-1))","v":14},8,{"$f":"BF72*(HARMEAN((IF(SUM(COUNTIF($Z$3:Z72,1),COUNTIF($Z$3:Z72,-1))=0,1,SUM(COUNTIF($Z$3:Z72,1),COUNTIF($Z$3:Z72,-1)))),(IF(SUM(COUNTIF($AC$3:AC72,1),COUNTIF($AC$3:AC72,-1))=0,1,SUM(COUNTIF($AC$3:AC72,1),COUNTIF($AC$3:AC72,-1)))),(IF(SUM(COUNTIF($AE$3:AE72,1),COUNTIF($AE$3:AE72,-1))=0,1,SUM(COUNTIF($AE$3:AE72,1),COUNTIF($AE$3:AE72,-1)))),(IF(SUM(COUNTIF($AG$3:AG72,1),COUNTIF($AG$3:AG72,-1))=0,1,SUM(COUNTIF($AG$3:AG72,1),COUNTIF($AG$3:AG72,-1)))),(IF(SUM(COUNTIF($AI$3:AI72,1),COUNTIF($AI$3:AI72,-1))=0,1,SUM(COUNTIF($AI$3:AI72,1),COUNTIF($AI$3:AI72,-1)))),(IF(SUM(COUNTIF($AK$3:AK72,1),COUNTIF($AK$3:AK72,-1))=0,1,SUM(COUNTIF($AK$3:AK72,1),COUNTIF($AK$3:AK72,-1)))))/1000)","v":1.2675171964956196},44.247,null,{"$f":"+SUM(COUNTIF($AG$3:AG72,1),COUNTIF($AG$3:AG72,-1))","v":37},{"$f":"+SUM($S$4:S72)","v":5587},151,{"$f":"+SUM(COUNTIF($AG$3:AG72,1))","v":18},{"$f":"+SUM(COUNTIF($AG$3:AG72,-1))","v":19},-1,{"$f":"BO72*(HARMEAN((IF(SUM(COUNTIF($Z$3:Z72,1),COUNTIF($Z$3:Z72,-1))=0,1,SUM(COUNTIF($Z$3:Z72,1),COUNTIF($Z$3:Z72,-1)))),(IF(SUM(COUNTIF($AC$3:AC72,1),COUNTIF($AC$3:AC72,-1))=0,1,SUM(COUNTIF($AC$3:AC72,1),COUNTIF($AC$3:AC72,-1)))),(IF(SUM(COUNTIF($AE$3:AE72,1),COUNTIF($AE$3:AE72,-1))=0,1,SUM(COUNTIF($AE$3:AE72,1),COUNTIF($AE$3:AE72,-1)))),(IF(SUM(COUNTIF($AG$3:AG72,1),COUNTIF($AG$3:AG72,-1))=0,1,SUM(COUNTIF($AG$3:AG72,1),COUNTIF($AG$3:AG72,-1)))),(IF(SUM(COUNTIF($AI$3:AI72,1),COUNTIF($AI$3:AI72,-1))=0,1,SUM(COUNTIF($AI$3:AI72,1),COUNTIF($AI$3:AI72,-1)))),(IF(SUM(COUNTIF($AK$3:AK72,1),COUNTIF($AK$3:AK72,-1))=0,1,SUM(COUNTIF($AK$3:AK72,1),COUNTIF($AK$3:AK72,-1)))))/1000)","v":1.3027260075093867},16.149999999999999,null,{"$f":"+SUM(COUNTIF($AI$3:AI72,1),COUNTIF($AI$3:AI72,-1))","v":33},{"$f":"+SUM($U$4:U72)","v":4143},125.54545454545455,{"$f":"+SUM(COUNTIF($AI$3:AI72,1))","v":12},{"$f":"+SUM(COUNTIF($AI$3:AI72,-1))","v":21},-9,{"$f":"+BX72*(HARMEAN((IF(SUM(COUNTIF($Z$3:Z72,1),COUNTIF($Z$3:Z72,-1))=0,1,SUM(COUNTIF($Z$3:Z72,1),COUNTIF($Z$3:Z72,-1)))),(IF(SUM(COUNTIF($AC$3:AC72,1),COUNTIF($AC$3:AC72,-1))=0,1,SUM(COUNTIF($AC$3:AC72,1),COUNTIF($AC$3:AC72,-1)))),(IF(SUM(COUNTIF($AE$3:AE72,1),COUNTIF($AE$3:AE72,-1))=0,1,SUM(COUNTIF($AE$3:AE72,1),COUNTIF($AE$3:AE72,-1)))),(IF(SUM(COUNTIF($AG$3:AG72,1),COUNTIF($AG$3:AG72,-1))=0,1,SUM(COUNTIF($AG$3:AG72,1),COUNTIF($AG$3:AG72,-1)))),(IF(SUM(COUNTIF($AI$3:AI72,1),COUNTIF($AI$3:AI72,-1))=0,1,SUM(COUNTIF($AI$3:AI72,1),COUNTIF($AI$3:AI72,-1)))),(IF(SUM(COUNTIF($AK$3:AK72,1),COUNTIF($AK$3:AK72,-1))=0,1,SUM(COUNTIF($AK$3:AK72,1),COUNTIF($AK$3:AK72,-1)))))/1000)","v":1.1618907634543179},-17.100999999999999,null,{"$f":"+SUM(COUNTIF($AK$3:AK72,1),COUNTIF($AK$3:AK72,-1))","v":32},{"$f":"+SUM($W$4:W72)","v":3591},112.21875,{"$f":"+SUM(COUNTIF($AK$3:AK72,1))","v":12},{"$f":"+SUM(COUNTIF($AK$3:AK72,-1))","v":20},-8,{"$f":"+CG72*(HARMEAN((IF(SUM(COUNTIF($Z$3:Z72,1),COUNTIF($Z$3:Z72,-1))=0,1,SUM(COUNTIF($Z$3:Z72,1),COUNTIF($Z$3:Z72,-1)))),(IF(SUM(COUNTIF($AC$3:AC72,1),COUNTIF($AC$3:AC72,-1))=0,1,SUM(COUNTIF($AC$3:AC72,1),COUNTIF($AC$3:AC72,-1)))),(IF(SUM(COUNTIF($AE$3:AE72,1),COUNTIF($AE$3:AE72,-1))=0,1,SUM(COUNTIF($AE$3:AE72,1),COUNTIF($AE$3:AE72,-1)))),(IF(SUM(COUNTIF($AG$3:AG72,1),COUNTIF($AG$3:AG72,-1))=0,1,SUM(COUNTIF($AG$3:AG72,1),COUNTIF($AG$3:AG72,-1)))),(IF(SUM(COUNTIF($AI$3:AI72,1),COUNTIF($AI$3:AI72,-1))=0,1,SUM(COUNTIF($AI$3:AI72,1),COUNTIF($AI$3:AI72,-1)))),(IF(SUM(COUNTIF($AK$3:AK72,1),COUNTIF($AK$3:AK72,-1))=0,1,SUM(COUNTIF($AK$3:AK72,1),COUNTIF($AK$3:AK72,-1)))))/1000)","v":1.1266819524405507},-15.523999999999999]
[70,"",null,{"$f":"+IFERROR(INDEX('Auswertung AoE II'!$AE:$AE,MATCH(A73,'Auswertung AoE II'!$AD:$AD,0)),\"\")","v":""},{"$f":"+IFERROR(INDEX('Auswertung AoE III'!$AE:$AE,MATCH(A73,'Auswertung AoE III'!$AD:$AD,0)),\"\")","v":""},{"$f":"+IFERROR(INDEX('Auswertung AoM'!$AE:$AE,MATCH(A73,'Auswertung AoM'!$AD:$AD,0)),\"\")","v":""},{"$f":"+IFERROR(INDEX('Auswertung RA'!$AE:$AE,MATCH(A73,'Auswertung RA'!$AD:$AD,0)),\"\")","v":""},{"$f":"+IFERROR(INDEX('Auswertung Yuri'!$AE:$AE,MATCH(A73,'Auswertung Yuri'!$AD:$AD,0)),\"\")","v":""},{"$f":"+IFERROR(INDEX('Auswertung Generals'!$AE:$AE,MATCH(A73,'Auswertung Generals'!$AD:$AD,0)),\"\")","v":""},"Auswertung ",null,null,{"$f":"+IF(ISERROR(+INDIRECT(CONCATENATE(\"'\",J73,\"'!\",(ADDRESS((COUNTIF($J$3:J73,IF(B73<>0,CONCATENATE(\"Auswertung \",B73,\"\"))))+2,2)))))=FALSE,+INDIRECT(CONCATENATE(\"'\",J73,\"'!\",(ADDRESS((COUNTIF($J$3:J73,IF(B73<>0,CONCATENATE(\"Auswertung \",B73,\"\"))))+4,2)))),\"\")","v":""},{"$f":"IF(ISERROR(+INDIRECT(CONCATENATE(\"'\",J73,\"'!\",(ADDRESS((COUNTIF($J$3:J73,IF(B73<>0,CONCATENATE(\"Auswertung \",B73,\"\"))))+2,2+1)))))=FALSE,+INDIRECT(CONCATENATE(\"'\",J73,\"'!\",(ADDRESS((COUNTIF($J$3:J73,IF(B73<>0,CONCATENATE(\"Auswertung \",B73,\"\"))))+4,2+1)))),\"\")","v":""},{"$f":"+IF(ISERROR(+INDIRECT(CONCATENATE(\"'\",J73,\"'!\",(ADDRESS((COUNTIF($J$3:J73,IF(B73<>0,CONCATENATE(\"Auswertung \",B73,\"\"))))+2,4)))))=FALSE,+INDIRECT(CONCATENATE(\"'\",J73,\"'!\",(ADDRESS((COUNTIF($J$3:J73,IF(B73<>0,CONCATENATE(\"Auswertung \",B73,\"\"))))+4,4)))),\"\")","v":""},{"$f":"+IF(ISERROR(+INDIRECT(CONCATENATE(\"'\",J73,\"'!\",(ADDRESS((COUNTIF($J$3:J73,IF(B73<>0,CONCATENATE(\"Auswertung \",B73,\"\"))))+2,5)))))=FALSE,+INDIRECT(CONCATENATE(\"'\",J73,\"'!\",(ADDRESS((COUNTIF($J$3:J73,IF(B73<>0,CONCATENATE(\"Auswertung \",B73,\"\"))))+4,5)))),\"\")","v":""},{"$f":"+IF(ISERROR(+INDIRECT(CONCATENATE(\"'\",J73,\"'!\",(ADDRESS((COUNTIF($J$3:J73,IF(B73<>0,CONCATENATE(\"Auswertung \",B73,\"\"))))+2,6)))))=FALSE,+INDIRECT(CONCATENATE(\"'\",J73,\"'!\",(ADDRESS((COUNTIF($J$3:J73,IF(B73<>0,CONCATENATE(\"Auswertung \",B73,\"\"))))+4,6)))),\"\")","v":""},{"$f":"+IF(ISERROR(+INDIRECT(CONCATENATE(\"'\",J73,\"'!\",(ADDRESS((COUNTIF($J$3:J73,IF(B73<>0,CONCATENATE(\"Auswertung \",B73,\"\"))))+2,7)))))=FALSE,+INDIRECT(CONCATENATE(\"'\",J73,\"'!\",(ADDRESS((COUNTIF($J$3:J73,IF(B73<>0,CONCATENATE(\"Auswertung \",B73,\"\"))))+4,7)))),\"\")","v":""},{"$f":"+IF(ISERROR(+INDIRECT(CONCATENATE(\"'\",J73,\"'!\",(ADDRESS((COUNTIF($J$3:J73,IF(B73<>0,CONCATENATE(\"Auswertung \",B73,\"\"))))+2,10)))))=FALSE,+INDIRECT(CONCATENATE(\"'\",J73,\"'!\",(ADDRESS((COUNTIF($J$3:J73,IF(B73<>0,CONCATENATE(\"Auswertung \",B73,\"\"))))+4,8)))),\"\")","v":""},{"$f":"+IF(ISERROR(+INDIRECT(CONCATENATE(\"'\",J73,\"'!\",(ADDRESS((COUNTIF($J$3:J73,IF(B73<>0,CONCATENATE(\"Auswertung \",B73,\"\"))))+2,11)))))=FALSE,+INDIRECT(CONCATENATE(\"'\",J73,\"'!\",(ADDRESS((COUNTIF($J$3:J73,IF(B73<>0,CONCATENATE(\"Auswertung \",B73,\"\"))))+4,9)))),\"\")","v":""},{"$f":"+IF(ISERROR(+INDIRECT(CONCATENATE(\"'\",J73,\"'!\",(ADDRESS((COUNTIF($J$3:J73,IF(B73<>0,CONCATENATE(\"Auswertung \",B73,\"\"))))+2,10)))))=FALSE,+INDIRECT(CONCATENATE(\"'\",J73,\"'!\",(ADDRESS((COUNTIF($J$3:J73,IF(B73<>0,CONCATENATE(\"Auswertung \",B73,\"\"))))+4,10)))),\"\")","v":""},{"$f":"+IF(ISERROR(+INDIRECT(CONCATENATE(\"'\",J73,\"'!\",(ADDRESS((COUNTIF($J$3:J73,IF(B73<>0,CONCATENATE(\"Auswertung \",B73,\"\"))))+2,11)))))=FALSE,+INDIRECT(CONCATENATE(\"'\",J73,\"'!\",(ADDRESS((COUNTIF($J$3:J73,IF(B73<>0,CONCATENATE(\"Auswertung \",B73,\"\"))))+4,11)))),\"\")","v":""},{"$f":"+IF(ISERROR(+INDIRECT(CONCATENATE(\"'\",J73,\"'!\",(ADDRESS((COUNTIF($J$3:J73,IF(D73<>0,CONCATENATE(\"Auswertung \",D73,\"\"))))+2,12)))))=FALSE,+INDIRECT(CONCATENATE(\"'\",J73,\"'!\",(ADDRESS((COUNTIF($J$3:J73,IF(D73<>0,CONCATENATE(\"Auswertung \",B73,\"\"))))+4,12)))),\"\")","v":""},{"$f":"+IF(ISERROR(+INDIRECT(CONCATENATE(\"'\",J73,\"'!\",(ADDRESS((COUNTIF($J$3:J73,IF(D73<>0,CONCATENATE(\"Auswertung \",D73,\"\"))))+2,13)))))=FALSE,+INDIRECT(CONCATENATE(\"'\",J73,\"'!\",(ADDRESS((COUNTIF($J$3:J73,IF(D73<>0,CONCATENATE(\"Auswertung \",B73,\"\"))))+4,13)))),\"\")","v":""},null,{"$f":"+IFERROR(INDIRECT(CONCATENATE(\"'\",J73,\"'!\",(ADDRESS((COUNTIF($J$3:J73,IF(B73<>0,J73)))+4,16)))),\"\")","v":""},21.942,{"$f":"+SUM($M$4:M73)/COUNT($M$4:M73)/1000*2","v":0.28281081081081083},{"$f":"+IFERROR(INDIRECT(CONCATENATE(\"'\",J73,\"'!\",(ADDRESS((COUNTIF($J$3:J73,IF(B73<>0,J73)))+4,18)))),\"\")","v":""},50.264000000000003,{"$f":"+IFERROR(INDIRECT(CONCATENATE(\"'\",J73,\"'!\",(ADDRESS((COUNTIF($J$3:J73,IF(B73<>0,J73)))+4,20)))),\"\")","v":""},44.247,{"$f":"+IFERROR(INDIRECT(CONCATENATE(\"'\",J73,\"'!\",(ADDRESS((COUNTIF($J$3:J73,IF(B73<>0,J73)))+4,22)))),\"\")","v":""},16.149999999999999,{"$f":"+IFERROR(INDIRECT(CONCATENATE(\"'\",J73,\"'!\",(ADDRESS((COUNTIF($J$3:J73,IF(B73<>0,J73)))+4,24)))),\"\")","v":""},-17.100999999999999,{"$f":"+IFERROR(INDIRECT(CONCATENATE(\"'\",J73,\"'!\",(ADDRESS((COUNTIF($J$3:J73,IF(B73<>0,J73)))+4,26)))),\"\")","v":""},-15.523999999999999,70,{"$f":"+SUM(COUNTIF($Z$3:Z73,1),COUNTIF($Z$3:Z73,-1))","v":37},{"$f":"+SUM($M$4:M73)","v":5232},141.40540540540542,{"$f":"+SUM(COUNTIF($Z$3:Z73,1))","v":19},{"$f":"+SUM(COUNTIF($Z$3:Z73,-1))","v":18},1,{"$f":"AN73*(HARMEAN((IF(SUM(COUNTIF($Z$3:Z73,1),COUNTIF($Z$3:Z73,-1))=0,1,SUM(COUNTIF($Z$3:Z73,1),COUNTIF($Z$3:Z73,-1)))),(IF(SUM(COUNTIF($AC$3:AC73,1),COUNTIF($AC$3:AC73,-1))=0,1,SUM(COUNTIF($AC$3:AC73,1),COUNTIF($AC$3:AC73,-1)))),(IF(SUM(COUNTIF($AE$3:AE73,1),COUNTIF($AE$3:AE73,-1))=0,1,SUM(COUNTIF($AE$3:AE73,1),COUNTIF($AE$3:AE73,-1)))),(IF(SUM(COUNTIF($AG$3:AG73,1),COUNTIF($AG$3:AG73,-1))=0,1,SUM(COUNTIF($AG$3:AG73,1),COUNTIF($AG$3:AG73,-1)))),(IF(SUM(COUNTIF($AI$3:AI73,1),COUNTIF($AI$3:AI73,-1))=0,1,SUM(COUNTIF($AI$3:AI73,1),COUNTIF($AI$3:AI73,-1)))),(IF(SUM(COUNTIF($AK$3:AK73,1),COUNTIF($AK$3:AK73,-1))=0,1,SUM(COUNTIF($AK$3:AK73,1),COUNTIF($AK$3:AK73,-1)))))/1000)","v":1.3027260075093867},21.942,null,{"$f":"+SUM(COUNTIF($AC$3:AC73,1),COUNTIF($AC$3:AC73,-1))","v":37},{"$f":"+SUM($O$4:O73)","v":5276},142.59459459459458,{"$f":"+SUM(COUNTIF($AC$3:AC73,1))","v":23},{"$f":"+SUM(COUNTIF($AC$3:AC73,-1))","v":14},9,{"$f":"AW73*(HARMEAN((IF(SUM(COUNTIF($Z$3:Z73,1),COUNTIF($Z$3:Z73,-1))=0,1,SUM(COUNTIF($Z$3:Z73,1),COUNTIF($Z$3:Z73,-1)))),(IF(SUM(COUNTIF($AC$3:AC73,1),COUNTIF($AC$3:AC73,-1))=0,1,SUM(COUNTIF($AC$3:AC73,1),COUNTIF($AC$3:AC73,-1)))),(IF(SUM(COUNTIF($AE$3:AE73,1),COUNTIF($AE$3:AE73,-1))=0,1,SUM(COUNTIF($AE$3:AE73,1),COUNTIF($AE$3:AE73,-1)))),(IF(SUM(COUNTIF($AG$3:AG73,1),COUNTIF($AG$3:AG73,-1))=0,1,SUM(COUNTIF($AG$3:AG73,1),COUNTIF($AG$3:AG73,-1)))),(IF(SUM(COUNTIF($AI$3:AI73,1),COUNTIF($AI$3:AI73,-1))=0,1,SUM(COUNTIF($AI$3:AI73,1),COUNTIF($AI$3:AI73,-1)))),(IF(SUM(COUNTIF($AK$3:AK73,1),COUNTIF($AK$3:AK73,-1))=0,1,SUM(COUNTIF($AK$3:AK73,1),COUNTIF($AK$3:AK73,-1)))))/1000)","v":1.3027260075093867},50.264000000000003,null,{"$f":"+SUM(COUNTIF($AE$3:AE73,1),COUNTIF(AE$3:$AE73,-1))","v":36},{"$f":"+SUM($Q$4:Q73)","v":4567},126.86111111111111,{"$f":"+SUM(COUNTIF($AE$3:AE73,1))","v":22},{"$f":"+SUM(COUNTIF($AE$3:AE73,-1))","v":14},8,{"$f":"BF73*(HARMEAN((IF(SUM(COUNTIF($Z$3:Z73,1),COUNTIF($Z$3:Z73,-1))=0,1,SUM(COUNTIF($Z$3:Z73,1),COUNTIF($Z$3:Z73,-1)))),(IF(SUM(COUNTIF($AC$3:AC73,1),COUNTIF($AC$3:AC73,-1))=0,1,SUM(COUNTIF($AC$3:AC73,1),COUNTIF($AC$3:AC73,-1)))),(IF(SUM(COUNTIF($AE$3:AE73,1),COUNTIF($AE$3:AE73,-1))=0,1,SUM(COUNTIF($AE$3:AE73,1),COUNTIF($AE$3:AE73,-1)))),(IF(SUM(COUNTIF($AG$3:AG73,1),COUNTIF($AG$3:AG73,-1))=0,1,SUM(COUNTIF($AG$3:AG73,1),COUNTIF($AG$3:AG73,-1)))),(IF(SUM(COUNTIF($AI$3:AI73,1),COUNTIF($AI$3:AI73,-1))=0,1,SUM(COUNTIF($AI$3:AI73,1),COUNTIF($AI$3:AI73,-1)))),(IF(SUM(COUNTIF($AK$3:AK73,1),COUNTIF($AK$3:AK73,-1))=0,1,SUM(COUNTIF($AK$3:AK73,1),COUNTIF($AK$3:AK73,-1)))))/1000)","v":1.2675171964956196},44.247,null,{"$f":"+SUM(COUNTIF($AG$3:AG73,1),COUNTIF($AG$3:AG73,-1))","v":37},{"$f":"+SUM($S$4:S73)","v":5587},151,{"$f":"+SUM(COUNTIF($AG$3:AG73,1))","v":18},{"$f":"+SUM(COUNTIF($AG$3:AG73,-1))","v":19},-1,{"$f":"BO73*(HARMEAN((IF(SUM(COUNTIF($Z$3:Z73,1),COUNTIF($Z$3:Z73,-1))=0,1,SUM(COUNTIF($Z$3:Z73,1),COUNTIF($Z$3:Z73,-1)))),(IF(SUM(COUNTIF($AC$3:AC73,1),COUNTIF($AC$3:AC73,-1))=0,1,SUM(COUNTIF($AC$3:AC73,1),COUNTIF($AC$3:AC73,-1)))),(IF(SUM(COUNTIF($AE$3:AE73,1),COUNTIF($AE$3:AE73,-1))=0,1,SUM(COUNTIF($AE$3:AE73,1),COUNTIF($AE$3:AE73,-1)))),(IF(SUM(COUNTIF($AG$3:AG73,1),COUNTIF($AG$3:AG73,-1))=0,1,SUM(COUNTIF($AG$3:AG73,1),COUNTIF($AG$3:AG73,-1)))),(IF(SUM(COUNTIF($AI$3:AI73,1),COUNTIF($AI$3:AI73,-1))=0,1,SUM(COUNTIF($AI$3:AI73,1),COUNTIF($AI$3:AI73,-1)))),(IF(SUM(COUNTIF($AK$3:AK73,1),COUNTIF($AK$3:AK73,-1))=0,1,SUM(COUNTIF($AK$3:AK73,1),COUNTIF($AK$3:AK73,-1)))))/1000)","v":1.3027260075093867},16.149999999999999,null,{"$f":"+SUM(COUNTIF($AI$3:AI73,1),COUNTIF($AI$3:AI73,-1))","v":33},{"$f":"+SUM($U$4:U73)","v":4143},125.54545454545455,{"$f":"+SUM(COUNTIF($AI$3:AI73,1))","v":12},{"$f":"+SUM(COUNTIF($AI$3:AI73,-1))","v":21},-9,{"$f":"+BX73*(HARMEAN((IF(SUM(COUNTIF($Z$3:Z73,1),COUNTIF($Z$3:Z73,-1))=0,1,SUM(COUNTIF($Z$3:Z73,1),COUNTIF($Z$3:Z73,-1)))),(IF(SUM(COUNTIF($AC$3:AC73,1),COUNTIF($AC$3:AC73,-1))=0,1,SUM(COUNTIF($AC$3:AC73,1),COUNTIF($AC$3:AC73,-1)))),(IF(SUM(COUNTIF($AE$3:AE73,1),COUNTIF($AE$3:AE73,-1))=0,1,SUM(COUNTIF($AE$3:AE73,1),COUNTIF($AE$3:AE73,-1)))),(IF(SUM(COUNTIF($AG$3:AG73,1),COUNTIF($AG$3:AG73,-1))=0,1,SUM(COUNTIF($AG$3:AG73,1),COUNTIF($AG$3:AG73,-1)))),(IF(SUM(COUNTIF($AI$3:AI73,1),COUNTIF($AI$3:AI73,-1))=0,1,SUM(COUNTIF($AI$3:AI73,1),COUNTIF($AI$3:AI73,-1)))),(IF(SUM(COUNTIF($AK$3:AK73,1),COUNTIF($AK$3:AK73,-1))=0,1,SUM(COUNTIF($AK$3:AK73,1),COUNTIF($AK$3:AK73,-1)))))/1000)","v":1.1618907634543179},-17.100999999999999,null,{"$f":"+SUM(COUNTIF($AK$3:AK73,1),COUNTIF($AK$3:AK73,-1))","v":32},{"$f":"+SUM($W$4:W73)","v":3591},112.21875,{"$f":"+SUM(COUNTIF($AK$3:AK73,1))","v":12},{"$f":"+SUM(COUNTIF($AK$3:AK73,-1))","v":20},-8,{"$f":"+CG73*(HARMEAN((IF(SUM(COUNTIF($Z$3:Z73,1),COUNTIF($Z$3:Z73,-1))=0,1,SUM(COUNTIF($Z$3:Z73,1),COUNTIF($Z$3:Z73,-1)))),(IF(SUM(COUNTIF($AC$3:AC73,1),COUNTIF($AC$3:AC73,-1))=0,1,SUM(COUNTIF($AC$3:AC73,1),COUNTIF($AC$3:AC73,-1)))),(IF(SUM(COUNTIF($AE$3:AE73,1),COUNTIF($AE$3:AE73,-1))=0,1,SUM(COUNTIF($AE$3:AE73,1),COUNTIF($AE$3:AE73,-1)))),(IF(SUM(COUNTIF($AG$3:AG73,1),COUNTIF($AG$3:AG73,-1))=0,1,SUM(COUNTIF($AG$3:AG73,1),COUNTIF($AG$3:AG73,-1)))),(IF(SUM(COUNTIF($AI$3:AI73,1),COUNTIF($AI$3:AI73,-1))=0,1,SUM(COUNTIF($AI$3:AI73,1),COUNTIF($AI$3:AI73,-1)))),(IF(SUM(COUNTIF($AK$3:AK73,1),COUNTIF($AK$3:AK73,-1))=0,1,SUM(COUNTIF($AK$3:AK73,1),COUNTIF($AK$3:AK73,-1)))))/1000)","v":1.1266819524405507},-15.523999999999999]
[71,"",null,{"$f":"+IFERROR(INDEX('Auswertung AoE II'!$AE:$AE,MATCH(A74,'Auswertung AoE II'!$AD:$AD,0)),\"\")","v":""},{"$f":"+IFERROR(INDEX('Auswertung AoE III'!$AE:$AE,MATCH(A74,'Auswertung AoE III'!$AD:$AD,0)),\"\")","v":""},{"$f":"+IFERROR(INDEX('Auswertung AoM'!$AE:$AE,MATCH(A74,'Auswertung AoM'!$AD:$AD,0)),\"\")","v":""},{"$f":"+IFERROR(INDEX('Auswertung RA'!$AE:$AE,MATCH(A74,'Auswertung RA'!$AD:$AD,0)),\"\")","v":""},{"$f":"+IFERROR(INDEX('Auswertung Yuri'!$AE:$AE,MATCH(A74,'Auswertung Yuri'!$AD:$AD,0)),\"\")","v":""},{"$f":"+IFERROR(INDEX('Auswertung Generals'!$AE:$AE,MATCH(A74,'Auswertung Generals'!$AD:$AD,0)),\"\")","v":""},"Auswertung ",null,null,{"$f":"+IF(ISERROR(+INDIRECT(CONCATENATE(\"'\",J74,\"'!\",(ADDRESS((COUNTIF($J$3:J74,IF(B74<>0,CONCATENATE(\"Auswertung \",B74,\"\"))))+2,2)))))=FALSE,+INDIRECT(CONCATENATE(\"'\",J74,\"'!\",(ADDRESS((COUNTIF($J$3:J74,IF(B74<>0,CONCATENATE(\"Auswertung \",B74,\"\"))))+4,2)))),\"\")","v":""},{"$f":"IF(ISERROR(+INDIRECT(CONCATENATE(\"'\",J74,\"'!\",(ADDRESS((COUNTIF($J$3:J74,IF(B74<>0,CONCATENATE(\"Auswertung \",B74,\"\"))))+2,2+1)))))=FALSE,+INDIRECT(CONCATENATE(\"'\",J74,\"'!\",(ADDRESS((COUNTIF($J$3:J74,IF(B74<>0,CONCATENATE(\"Auswertung \",B74,\"\"))))+4,2+1)))),\"\")","v":""},{"$f":"+IF(ISERROR(+INDIRECT(CONCATENATE(\"'\",J74,\"'!\",(ADDRESS((COUNTIF($J$3:J74,IF(B74<>0,CONCATENATE(\"Auswertung \",B74,\"\"))))+2,4)))))=FALSE,+INDIRECT(CONCATENATE(\"'\",J74,\"'!\",(ADDRESS((COUNTIF($J$3:J74,IF(B74<>0,CONCATENATE(\"Auswertung \",B74,\"\"))))+4,4)))),\"\")","v":""},{"$f":"+IF(ISERROR(+INDIRECT(CONCATENATE(\"'\",J74,\"'!\",(ADDRESS((COUNTIF($J$3:J74,IF(B74<>0,CONCATENATE(\"Auswertung \",B74,\"\"))))+2,5)))))=FALSE,+INDIRECT(CONCATENATE(\"'\",J74,\"'!\",(ADDRESS((COUNTIF($J$3:J74,IF(B74<>0,CONCATENATE(\"Auswertung \",B74,\"\"))))+4,5)))),\"\")","v":""},{"$f":"+IF(ISERROR(+INDIRECT(CONCATENATE(\"'\",J74,\"'!\",(ADDRESS((COUNTIF($J$3:J74,IF(B74<>0,CONCATENATE(\"Auswertung \",B74,\"\"))))+2,6)))))=FALSE,+INDIRECT(CONCATENATE(\"'\",J74,\"'!\",(ADDRESS((COUNTIF($J$3:J74,IF(B74<>0,CONCATENATE(\"Auswertung \",B74,\"\"))))+4,6)))),\"\")","v":""},{"$f":"+IF(ISERROR(+INDIRECT(CONCATENATE(\"'\",J74,\"'!\",(ADDRESS((COUNTIF($J$3:J74,IF(B74<>0,CONCATENATE(\"Auswertung \",B74,\"\"))))+2,7)))))=FALSE,+INDIRECT(CONCATENATE(\"'\",J74,\"'!\",(ADDRESS((COUNTIF($J$3:J74,IF(B74<>0,CONCATENATE(\"Auswertung \",B74,\"\"))))+4,7)))),\"\")","v":""},{"$f":"+IF(ISERROR(+INDIRECT(CONCATENATE(\"'\",J74,\"'!\",(ADDRESS((COUNTIF($J$3:J74,IF(B74<>0,CONCATENATE(\"Auswertung \",B74,\"\"))))+2,10)))))=FALSE,+INDIRECT(CONCATENATE(\"'\",J74,\"'!\",(ADDRESS((COUNTIF($J$3:J74,IF(B74<>0,CONCATENATE(\"Auswertung \",B74,\"\"))))+4,8)))),\"\")","v":""},{"$f":"+IF(ISERROR(+INDIRECT(CONCATENATE(\"'\",J74,\"'!\",(ADDRESS((COUNTIF($J$3:J74,IF(B74<>0,CONCATENATE(\"Auswertung \",B74,\"\"))))+2,11)))))=FALSE,+INDIRECT(CONCATENATE(\"'\",J74,\"'!\",(ADDRESS((COUNTIF($J$3:J74,IF(B74<>0,CONCATENATE(\"Auswertung \",B74,\"\"))))+4,9)))),\"\")","v":""},{"$f":"+IF(ISERROR(+INDIRECT(CONCATENATE(\"'\",J74,\"'!\",(ADDRESS((COUNTIF($J$3:J74,IF(B74<>0,CONCATENATE(\"Auswertung \",B74,\"\"))))+2,10)))))=FALSE,+INDIRECT(CONCATENATE(\"'\",J74,\"'!\",(ADDRESS((COUNTIF($J$3:J74,IF(B74<>0,CONCATENATE(\"Auswertung \",B74,\"\"))))+4,10)))),\"\")","v":""},{"$f":"+IF(ISERROR(+INDIRECT(CONCATENATE(\"'\",J74,\"'!\",(ADDRESS((COUNTIF($J$3:J74,IF(B74<>0,CONCATENATE(\"Auswertung \",B74,\"\"))))+2,11)))))=FALSE,+INDIRECT(CONCATENATE(\"'\",J74,\"'!\",(ADDRESS((COUNTIF($J$3:J74,IF(B74<>0,CONCATENATE(\"Auswertung \",B74,\"\"))))+4,11)))),\"\")","v":""},{"$f":"+IF(ISERROR(+INDIRECT(CONCATENATE(\"'\",J74,\"'!\",(ADDRESS((COUNTIF($J$3:J74,IF(D74<>0,CONCATENATE(\"Auswertung \",D74,\"\"))))+2,12)))))=FALSE,+INDIRECT(CONCATENATE(\"'\",J74,\"'!\",(ADDRESS((COUNTIF($J$3:J74,IF(D74<>0,CONCATENATE(\"Auswertung \",B74,\"\"))))+4,12)))),\"\")","v":""},{"$f":"+IF(ISERROR(+INDIRECT(CONCATENATE(\"'\",J74,\"'!\",(ADDRESS((COUNTIF($J$3:J74,IF(D74<>0,CONCATENATE(\"Auswertung \",D74,\"\"))))+2,13)))))=FALSE,+INDIRECT(CONCATENATE(\"'\",J74,\"'!\",(ADDRESS((COUNTIF($J$3:J74,IF(D74<>0,CONCATENATE(\"Auswertung \",B74,\"\"))))+4,13)))),\"\")","v":""},null,{"$f":"+IFERROR(INDIRECT(CONCATENATE(\"'\",J74,\"'!\",(ADDRESS((COUNTIF($J$3:J74,IF(B74<>0,J74)))+4,16)))),\"\")","v":""},21.942,{"$f":"+SUM($M$4:M74)/COUNT($M$4:M74)/1000*2","v":0.28281081081081083},{"$f":"+IFERROR(INDIRECT(CONCATENATE(\"'\",J74,\"'!\",(ADDRESS((COUNTIF($J$3:J74,IF(B74<>0,J74)))+4,18)))),\"\")","v":""},50.264000000000003,{"$f":"+IFERROR(INDIRECT(CONCATENATE(\"'\",J74,\"'!\",(ADDRESS((COUNTIF($J$3:J74,IF(B74<>0,J74)))+4,20)))),\"\")","v":""},44.247,{"$f":"+IFERROR(INDIRECT(CONCATENATE(\"'\",J74,\"'!\",(ADDRESS((COUNTIF($J$3:J74,IF(B74<>0,J74)))+4,22)))),\"\")","v":""},16.149999999999999,{"$f":"+IFERROR(INDIRECT(CONCATENATE(\"'\",J74,\"'!\",(ADDRESS((COUNTIF($J$3:J74,IF(B74<>0,J74)))+4,24)))),\"\")","v":""},-17.100999999999999,{"$f":"+IFERROR(INDIRECT(CONCATENATE(\"'\",J74,\"'!\",(ADDRESS((COUNTIF($J$3:J74,IF(B74<>0,J74)))+4,26)))),\"\")","v":""},-15.523999999999999,71,{"$f":"+SUM(COUNTIF($Z$3:Z74,1),COUNTIF($Z$3:Z74,-1))","v":37},{"$f":"+SUM($M$4:M74)","v":5232},141.40540540540542,{"$f":"+SUM(COUNTIF($Z$3:Z74,1))","v":19},{"$f":"+SUM(COUNTIF($Z$3:Z74,-1))","v":18},1,{"$f":"AN74*(HARMEAN((IF(SUM(COUNTIF($Z$3:Z74,1),COUNTIF($Z$3:Z74,-1))=0,1,SUM(COUNTIF($Z$3:Z74,1),COUNTIF($Z$3:Z74,-1)))),(IF(SUM(COUNTIF($AC$3:AC74,1),COUNTIF($AC$3:AC74,-1))=0,1,SUM(COUNTIF($AC$3:AC74,1),COUNTIF($AC$3:AC74,-1)))),(IF(SUM(COUNTIF($AE$3:AE74,1),COUNTIF($AE$3:AE74,-1))=0,1,SUM(COUNTIF($AE$3:AE74,1),COUNTIF($AE$3:AE74,-1)))),(IF(SUM(COUNTIF($AG$3:AG74,1),COUNTIF($AG$3:AG74,-1))=0,1,SUM(COUNTIF($AG$3:AG74,1),COUNTIF($AG$3:AG74,-1)))),(IF(SUM(COUNTIF($AI$3:AI74,1),COUNTIF($AI$3:AI74,-1))=0,1,SUM(COUNTIF($AI$3:AI74,1),COUNTIF($AI$3:AI74,-1)))),(IF(SUM(COUNTIF($AK$3:AK74,1),COUNTIF($AK$3:AK74,-1))=0,1,SUM(COUNTIF($AK$3:AK74,1),COUNTIF($AK$3:AK74,-1)))))/1000)","v":1.3027260075093867},21.942,null,{"$f":"+SUM(COUNTIF($AC$3:AC74,1),COUNTIF($AC$3:AC74,-1))","v":37},{"$f":"+SUM($O$4:O74)","v":5276},142.59459459459458,{"$f":"+SUM(COUNTIF($AC$3:AC74,1))","v":23},{"$f":"+SUM(COUNTIF($AC$3:AC74,-1))","v":14},9,{"$f":"AW74*(HARMEAN((IF(SUM(COUNTIF($Z$3:Z74,1),COUNTIF($Z$3:Z74,-1))=0,1,SUM(COUNTIF($Z$3:Z74,1),COUNTIF($Z$3:Z74,-1)))),(IF(SUM(COUNTIF($AC$3:AC74,1),COUNTIF($AC$3:AC74,-1))=0,1,SUM(COUNTIF($AC$3:AC74,1),COUNTIF($AC$3:AC74,-1)))),(IF(SUM(COUNTIF($AE$3:AE74,1),COUNTIF($AE$3:AE74,-1))=0,1,SUM(COUNTIF($AE$3:AE74,1),COUNTIF($AE$3:AE74,-1)))),(IF(SUM(COUNTIF($AG$3:AG74,1),COUNTIF($AG$3:AG74,-1))=0,1,SUM(COUNTIF($AG$3:AG74,1),COUNTIF($AG$3:AG74,-1)))),(IF(SUM(COUNTIF($AI$3:AI74,1),COUNTIF($AI$3:AI74,-1))=0,1,SUM(COUNTIF($AI$3:AI74,1),COUNTIF($AI$3:AI74,-1)))),(IF(SUM(COUNTIF($AK$3:AK74,1),COUNTIF($AK$3:AK74,-1))=0,1,SUM(COUNTIF($AK$3:AK74,1),COUNTIF($AK$3:AK74,-1)))))/1000)","v":1.3027260075093867},50.264000000000003,null,{"$f":"+SUM(COUNTIF($AE$3:AE74,1),COUNTIF(AE$3:$AE74,-1))","v":36},{"$f":"+SUM($Q$4:Q74)","v":4567},126.86111111111111,{"$f":"+SUM(COUNTIF($AE$3:AE74,1))","v":22},{"$f":"+SUM(COUNTIF($AE$3:AE74,-1))","v":14},8,{"$f":"BF74*(HARMEAN((IF(SUM(COUNTIF($Z$3:Z74,1),COUNTIF($Z$3:Z74,-1))=0,1,SUM(COUNTIF($Z$3:Z74,1),COUNTIF($Z$3:Z74,-1)))),(IF(SUM(COUNTIF($AC$3:AC74,1),COUNTIF($AC$3:AC74,-1))=0,1,SUM(COUNTIF($AC$3:AC74,1),COUNTIF($AC$3:AC74,-1)))),(IF(SUM(COUNTIF($AE$3:AE74,1),COUNTIF($AE$3:AE74,-1))=0,1,SUM(COUNTIF($AE$3:AE74,1),COUNTIF($AE$3:AE74,-1)))),(IF(SUM(COUNTIF($AG$3:AG74,1),COUNTIF($AG$3:AG74,-1))=0,1,SUM(COUNTIF($AG$3:AG74,1),COUNTIF($AG$3:AG74,-1)))),(IF(SUM(COUNTIF($AI$3:AI74,1),COUNTIF($AI$3:AI74,-1))=0,1,SUM(COUNTIF($AI$3:AI74,1),COUNTIF($AI$3:AI74,-1)))),(IF(SUM(COUNTIF($AK$3:AK74,1),COUNTIF($AK$3:AK74,-1))=0,1,SUM(COUNTIF($AK$3:AK74,1),COUNTIF($AK$3:AK74,-1)))))/1000)","v":1.2675171964956196},44.247,null,{"$f":"+SUM(COUNTIF($AG$3:AG74,1),COUNTIF($AG$3:AG74,-1))","v":37},{"$f":"+SUM($S$4:S74)","v":5587},151,{"$f":"+SUM(COUNTIF($AG$3:AG74,1))","v":18},{"$f":"+SUM(COUNTIF($AG$3:AG74,-1))","v":19},-1,{"$f":"BO74*(HARMEAN((IF(SUM(COUNTIF($Z$3:Z74,1),COUNTIF($Z$3:Z74,-1))=0,1,SUM(COUNTIF($Z$3:Z74,1),COUNTIF($Z$3:Z74,-1)))),(IF(SUM(COUNTIF($AC$3:AC74,1),COUNTIF($AC$3:AC74,-1))=0,1,SUM(COUNTIF($AC$3:AC74,1),COUNTIF($AC$3:AC74,-1)))),(IF(SUM(COUNTIF($AE$3:AE74,1),COUNTIF($AE$3:AE74,-1))=0,1,SUM(COUNTIF($AE$3:AE74,1),COUNTIF($AE$3:AE74,-1)))),(IF(SUM(COUNTIF($AG$3:AG74,1),COUNTIF($AG$3:AG74,-1))=0,1,SUM(COUNTIF($AG$3:AG74,1),COUNTIF($AG$3:AG74,-1)))),(IF(SUM(COUNTIF($AI$3:AI74,1),COUNTIF($AI$3:AI74,-1))=0,1,SUM(COUNTIF($AI$3:AI74,1),COUNTIF($AI$3:AI74,-1)))),(IF(SUM(COUNTIF($AK$3:AK74,1),COUNTIF($AK$3:AK74,-1))=0,1,SUM(COUNTIF($AK$3:AK74,1),COUNTIF($AK$3:AK74,-1)))))/1000)","v":1.3027260075093867},16.149999999999999,null,{"$f":"+SUM(COUNTIF($AI$3:AI74,1),COUNTIF($AI$3:AI74,-1))","v":33},{"$f":"+SUM($U$4:U74)","v":4143},125.54545454545455,{"$f":"+SUM(COUNTIF($AI$3:AI74,1))","v":12},{"$f":"+SUM(COUNTIF($AI$3:AI74,-1))","v":21},-9,{"$f":"+BX74*(HARMEAN((IF(SUM(COUNTIF($Z$3:Z74,1),COUNTIF($Z$3:Z74,-1))=0,1,SUM(COUNTIF($Z$3:Z74,1),COUNTIF($Z$3:Z74,-1)))),(IF(SUM(COUNTIF($AC$3:AC74,1),COUNTIF($AC$3:AC74,-1))=0,1,SUM(COUNTIF($AC$3:AC74,1),COUNTIF($AC$3:AC74,-1)))),(IF(SUM(COUNTIF($AE$3:AE74,1),COUNTIF($AE$3:AE74,-1))=0,1,SUM(COUNTIF($AE$3:AE74,1),COUNTIF($AE$3:AE74,-1)))),(IF(SUM(COUNTIF($AG$3:AG74,1),COUNTIF($AG$3:AG74,-1))=0,1,SUM(COUNTIF($AG$3:AG74,1),COUNTIF($AG$3:AG74,-1)))),(IF(SUM(COUNTIF($AI$3:AI74,1),COUNTIF($AI$3:AI74,-1))=0,1,SUM(COUNTIF($AI$3:AI74,1),COUNTIF($AI$3:AI74,-1)))),(IF(SUM(COUNTIF($AK$3:AK74,1),COUNTIF($AK$3:AK74,-1))=0,1,SUM(COUNTIF($AK$3:AK74,1),COUNTIF($AK$3:AK74,-1)))))/1000)","v":1.1618907634543179},-17.100999999999999,null,{"$f":"+SUM(COUNTIF($AK$3:AK74,1),COUNTIF($AK$3:AK74,-1))","v":32},{"$f":"+SUM($W$4:W74)","v":3591},112.21875,{"$f":"+SUM(COUNTIF($AK$3:AK74,1))","v":12},{"$f":"+SUM(COUNTIF($AK$3:AK74,-1))","v":20},-8,{"$f":"+CG74*(HARMEAN((IF(SUM(COUNTIF($Z$3:Z74,1),COUNTIF($Z$3:Z74,-1))=0,1,SUM(COUNTIF($Z$3:Z74,1),COUNTIF($Z$3:Z74,-1)))),(IF(SUM(COUNTIF($AC$3:AC74,1),COUNTIF($AC$3:AC74,-1))=0,1,SUM(COUNTIF($AC$3:AC74,1),COUNTIF($AC$3:AC74,-1)))),(IF(SUM(COUNTIF($AE$3:AE74,1),COUNTIF($AE$3:AE74,-1))=0,1,SUM(COUNTIF($AE$3:AE74,1),COUNTIF($AE$3:AE74,-1)))),(IF(SUM(COUNTIF($AG$3:AG74,1),COUNTIF($AG$3:AG74,-1))=0,1,SUM(COUNTIF($AG$3:AG74,1),COUNTIF($AG$3:AG74,-1)))),(IF(SUM(COUNTIF($AI$3:AI74,1),COUNTIF($AI$3:AI74,-1))=0,1,SUM(COUNTIF($AI$3:AI74,1),COUNTIF($AI$3:AI74,-1)))),(IF(SUM(COUNTIF($AK$3:AK74,1),COUNTIF($AK$3:AK74,-1))=0,1,SUM(COUNTIF($AK$3:AK74,1),COUNTIF($AK$3:AK74,-1)))))/1000)","v":1.1266819524405507},-15.523999999999999]
[72,"",null,{"$f":"+IFERROR(INDEX('Auswertung AoE II'!$AE:$AE,MATCH(A75,'Auswertung AoE II'!$AD:$AD,0)),\"\")","v":""},{"$f":"+IFERROR(INDEX('Auswertung AoE III'!$AE:$AE,MATCH(A75,'Auswertung AoE III'!$AD:$AD,0)),\"\")","v":""},{"$f":"+IFERROR(INDEX('Auswertung AoM'!$AE:$AE,MATCH(A75,'Auswertung AoM'!$AD:$AD,0)),\"\")","v":""},{"$f":"+IFERROR(INDEX('Auswertung RA'!$AE:$AE,MATCH(A75,'Auswertung RA'!$AD:$AD,0)),\"\")","v":""},{"$f":"+IFERROR(INDEX('Auswertung Yuri'!$AE:$AE,MATCH(A75,'Auswertung Yuri'!$AD:$AD,0)),\"\")","v":""},{"$f":"+IFERROR(INDEX('Auswertung Generals'!$AE:$AE,MATCH(A75,'Auswertung Generals'!$AD:$AD,0)),\"\")","v":""},"Auswertung ",null,null,{"$f":"+IF(ISERROR(+INDIRECT(CONCATENATE(\"'\",J75,\"'!\",(ADDRESS((COUNTIF($J$3:J75,IF(B75<>0,CONCATENATE(\"Auswertung \",B75,\"\"))))+2,2)))))=FALSE,+INDIRECT(CONCATENATE(\"'\",J75,\"'!\",(ADDRESS((COUNTIF($J$3:J75,IF(B75<>0,CONCATENATE(\"Auswertung \",B75,\"\"))))+4,2)))),\"\")","v":""},{"$f":"IF(ISERROR(+INDIRECT(CONCATENATE(\"'\",J75,\"'!\",(ADDRESS((COUNTIF($J$3:J75,IF(B75<>0,CONCATENATE(\"Auswertung \",B75,\"\"))))+2,2+1)))))=FALSE,+INDIRECT(CONCATENATE(\"'\",J75,\"'!\",(ADDRESS((COUNTIF($J$3:J75,IF(B75<>0,CONCATENATE(\"Auswertung \",B75,\"\"))))+4,2+1)))),\"\")","v":""},{"$f":"+IF(ISERROR(+INDIRECT(CONCATENATE(\"'\",J75,\"'!\",(ADDRESS((COUNTIF($J$3:J75,IF(B75<>0,CONCATENATE(\"Auswertung \",B75,\"\"))))+2,4)))))=FALSE,+INDIRECT(CONCATENATE(\"'\",J75,\"'!\",(ADDRESS((COUNTIF($J$3:J75,IF(B75<>0,CONCATENATE(\"Auswertung \",B75,\"\"))))+4,4)))),\"\")","v":""},{"$f":"+IF(ISERROR(+INDIRECT(CONCATENATE(\"'\",J75,\"'!\",(ADDRESS((COUNTIF($J$3:J75,IF(B75<>0,CONCATENATE(\"Auswertung \",B75,\"\"))))+2,5)))))=FALSE,+INDIRECT(CONCATENATE(\"'\",J75,\"'!\",(ADDRESS((COUNTIF($J$3:J75,IF(B75<>0,CONCATENATE(\"Auswertung \",B75,\"\"))))+4,5)))),\"\")","v":""},{"$f":"+IF(ISERROR(+INDIRECT(CONCATENATE(\"'\",J75,\"'!\",(ADDRESS((COUNTIF($J$3:J75,IF(B75<>0,CONCATENATE(\"Auswertung \",B75,\"\"))))+2,6)))))=FALSE,+INDIRECT(CONCATENATE(\"'\",J75,\"'!\",(ADDRESS((COUNTIF($J$3:J75,IF(B75<>0,CONCATENATE(\"Auswertung \",B75,\"\"))))+4,6)))),\"\")","v":""},{"$f":"+IF(ISERROR(+INDIRECT(CONCATENATE(\"'\",J75,\"'!\",(ADDRESS((COUNTIF($J$3:J75,IF(B75<>0,CONCATENATE(\"Auswertung \",B75,\"\"))))+2,7)))))=FALSE,+INDIRECT(CONCATENATE(\"'\",J75,\"'!\",(ADDRESS((COUNTIF($J$3:J75,IF(B75<>0,CONCATENATE(\"Auswertung \",B75,\"\"))))+4,7)))),\"\")","v":""},{"$f":"+IF(ISERROR(+INDIRECT(CONCATENATE(\"'\",J75,\"'!\",(ADDRESS((COUNTIF($J$3:J75,IF(B75<>0,CONCATENATE(\"Auswertung \",B75,\"\"))))+2,10)))))=FALSE,+INDIRECT(CONCATENATE(\"'\",J75,\"'!\",(ADDRESS((COUNTIF($J$3:J75,IF(B75<>0,CONCATENATE(\"Auswertung \",B75,\"\"))))+4,8)))),\"\")","v":""},{"$f":"+IF(ISERROR(+INDIRECT(CONCATENATE(\"'\",J75,\"'!\",(ADDRESS((COUNTIF($J$3:J75,IF(B75<>0,CONCATENATE(\"Auswertung \",B75,\"\"))))+2,11)))))=FALSE,+INDIRECT(CONCATENATE(\"'\",J75,\"'!\",(ADDRESS((COUNTIF($J$3:J75,IF(B75<>0,CONCATENATE(\"Auswertung \",B75,\"\"))))+4,9)))),\"\")","v":""},{"$f":"+IF(ISERROR(+INDIRECT(CONCATENATE(\"'\",J75,\"'!\",(ADDRESS((COUNTIF($J$3:J75,IF(B75<>0,CONCATENATE(\"Auswertung \",B75,\"\"))))+2,10)))))=FALSE,+INDIRECT(CONCATENATE(\"'\",J75,\"'!\",(ADDRESS((COUNTIF($J$3:J75,IF(B75<>0,CONCATENATE(\"Auswertung \",B75,\"\"))))+4,10)))),\"\")","v":""},{"$f":"+IF(ISERROR(+INDIRECT(CONCATENATE(\"'\",J75,\"'!\",(ADDRESS((COUNTIF($J$3:J75,IF(B75<>0,CONCATENATE(\"Auswertung \",B75,\"\"))))+2,11)))))=FALSE,+INDIRECT(CONCATENATE(\"'\",J75,\"'!\",(ADDRESS((COUNTIF($J$3:J75,IF(B75<>0,CONCATENATE(\"Auswertung \",B75,\"\"))))+4,11)))),\"\")","v":""},{"$f":"+IF(ISERROR(+INDIRECT(CONCATENATE(\"'\",J75,\"'!\",(ADDRESS((COUNTIF($J$3:J75,IF(D75<>0,CONCATENATE(\"Auswertung \",D75,\"\"))))+2,12)))))=FALSE,+INDIRECT(CONCATENATE(\"'\",J75,\"'!\",(ADDRESS((COUNTIF($J$3:J75,IF(D75<>0,CONCATENATE(\"Auswertung \",B75,\"\"))))+4,12)))),\"\")","v":""},{"$f":"+IF(ISERROR(+INDIRECT(CONCATENATE(\"'\",J75,\"'!\",(ADDRESS((COUNTIF($J$3:J75,IF(D75<>0,CONCATENATE(\"Auswertung \",D75,\"\"))))+2,13)))))=FALSE,+INDIRECT(CONCATENATE(\"'\",J75,\"'!\",(ADDRESS((COUNTIF($J$3:J75,IF(D75<>0,CONCATENATE(\"Auswertung \",B75,\"\"))))+4,13)))),\"\")","v":""},null,{"$f":"+IFERROR(INDIRECT(CONCATENATE(\"'\",J75,\"'!\",(ADDRESS((COUNTIF($J$3:J75,IF(B75<>0,J75)))+4,16)))),\"\")","v":""},21.942,{"$f":"+SUM($M$4:M75)/COUNT($M$4:M75)/1000*2","v":0.28281081081081083},{"$f":"+IFERROR(INDIRECT(CONCATENATE(\"'\",J75,\"'!\",(ADDRESS((COUNTIF($J$3:J75,IF(B75<>0,J75)))+4,18)))),\"\")","v":""},50.264000000000003,{"$f":"+IFERROR(INDIRECT(CONCATENATE(\"'\",J75,\"'!\",(ADDRESS((COUNTIF($J$3:J75,IF(B75<>0,J75)))+4,20)))),\"\")","v":""},44.247,{"$f":"+IFERROR(INDIRECT(CONCATENATE(\"'\",J75,\"'!\",(ADDRESS((COUNTIF($J$3:J75,IF(B75<>0,J75)))+4,22)))),\"\")","v":""},16.149999999999999,{"$f":"+IFERROR(INDIRECT(CONCATENATE(\"'\",J75,\"'!\",(ADDRESS((COUNTIF($J$3:J75,IF(B75<>0,J75)))+4,24)))),\"\")","v":""},-17.100999999999999,{"$f":"+IFERROR(INDIRECT(CONCATENATE(\"'\",J75,\"'!\",(ADDRESS((COUNTIF($J$3:J75,IF(B75<>0,J75)))+4,26)))),\"\")","v":""},-15.523999999999999,72,{"$f":"+SUM(COUNTIF($Z$3:Z75,1),COUNTIF($Z$3:Z75,-1))","v":37},{"$f":"+SUM($M$4:M75)","v":5232},141.40540540540542,{"$f":"+SUM(COUNTIF($Z$3:Z75,1))","v":19},{"$f":"+SUM(COUNTIF($Z$3:Z75,-1))","v":18},1,{"$f":"AN75*(HARMEAN((IF(SUM(COUNTIF($Z$3:Z75,1),COUNTIF($Z$3:Z75,-1))=0,1,SUM(COUNTIF($Z$3:Z75,1),COUNTIF($Z$3:Z75,-1)))),(IF(SUM(COUNTIF($AC$3:AC75,1),COUNTIF($AC$3:AC75,-1))=0,1,SUM(COUNTIF($AC$3:AC75,1),COUNTIF($AC$3:AC75,-1)))),(IF(SUM(COUNTIF($AE$3:AE75,1),COUNTIF($AE$3:AE75,-1))=0,1,SUM(COUNTIF($AE$3:AE75,1),COUNTIF($AE$3:AE75,-1)))),(IF(SUM(COUNTIF($AG$3:AG75,1),COUNTIF($AG$3:AG75,-1))=0,1,SUM(COUNTIF($AG$3:AG75,1),COUNTIF($AG$3:AG75,-1)))),(IF(SUM(COUNTIF($AI$3:AI75,1),COUNTIF($AI$3:AI75,-1))=0,1,SUM(COUNTIF($AI$3:AI75,1),COUNTIF($AI$3:AI75,-1)))),(IF(SUM(COUNTIF($AK$3:AK75,1),COUNTIF($AK$3:AK75,-1))=0,1,SUM(COUNTIF($AK$3:AK75,1),COUNTIF($AK$3:AK75,-1)))))/1000)","v":1.3027260075093867},21.942,null,{"$f":"+SUM(COUNTIF($AC$3:AC75,1),COUNTIF($AC$3:AC75,-1))","v":37},{"$f":"+SUM($O$4:O75)","v":5276},142.59459459459458,{"$f":"+SUM(COUNTIF($AC$3:AC75,1))","v":23},{"$f":"+SUM(COUNTIF($AC$3:AC75,-1))","v":14},9,{"$f":"AW75*(HARMEAN((IF(SUM(COUNTIF($Z$3:Z75,1),COUNTIF($Z$3:Z75,-1))=0,1,SUM(COUNTIF($Z$3:Z75,1),COUNTIF($Z$3:Z75,-1)))),(IF(SUM(COUNTIF($AC$3:AC75,1),COUNTIF($AC$3:AC75,-1))=0,1,SUM(COUNTIF($AC$3:AC75,1),COUNTIF($AC$3:AC75,-1)))),(IF(SUM(COUNTIF($AE$3:AE75,1),COUNTIF($AE$3:AE75,-1))=0,1,SUM(COUNTIF($AE$3:AE75,1),COUNTIF($AE$3:AE75,-1)))),(IF(SUM(COUNTIF($AG$3:AG75,1),COUNTIF($AG$3:AG75,-1))=0,1,SUM(COUNTIF($AG$3:AG75,1),COUNTIF($AG$3:AG75,-1)))),(IF(SUM(COUNTIF($AI$3:AI75,1),COUNTIF($AI$3:AI75,-1))=0,1,SUM(COUNTIF($AI$3:AI75,1),COUNTIF($AI$3:AI75,-1)))),(IF(SUM(COUNTIF($AK$3:AK75,1),COUNTIF($AK$3:AK75,-1))=0,1,SUM(COUNTIF($AK$3:AK75,1),COUNTIF($AK$3:AK75,-1)))))/1000)","v":1.3027260075093867},50.264000000000003,null,{"$f":"+SUM(COUNTIF($AE$3:AE75,1),COUNTIF(AE$3:$AE75,-1))","v":36},{"$f":"+SUM($Q$4:Q75)","v":4567},126.86111111111111,{"$f":"+SUM(COUNTIF($AE$3:AE75,1))","v":22},{"$f":"+SUM(COUNTIF($AE$3:AE75,-1))","v":14},8,{"$f":"BF75*(HARMEAN((IF(SUM(COUNTIF($Z$3:Z75,1),COUNTIF($Z$3:Z75,-1))=0,1,SUM(COUNTIF($Z$3:Z75,1),COUNTIF($Z$3:Z75,-1)))),(IF(SUM(COUNTIF($AC$3:AC75,1),COUNTIF($AC$3:AC75,-1))=0,1,SUM(COUNTIF($AC$3:AC75,1),COUNTIF($AC$3:AC75,-1)))),(IF(SUM(COUNTIF($AE$3:AE75,1),COUNTIF($AE$3:AE75,-1))=0,1,SUM(COUNTIF($AE$3:AE75,1),COUNTIF($AE$3:AE75,-1)))),(IF(SUM(COUNTIF($AG$3:AG75,1),COUNTIF($AG$3:AG75,-1))=0,1,SUM(COUNTIF($AG$3:AG75,1),COUNTIF($AG$3:AG75,-1)))),(IF(SUM(COUNTIF($AI$3:AI75,1),COUNTIF($AI$3:AI75,-1))=0,1,SUM(COUNTIF($AI$3:AI75,1),COUNTIF($AI$3:AI75,-1)))),(IF(SUM(COUNTIF($AK$3:AK75,1),COUNTIF($AK$3:AK75,-1))=0,1,SUM(COUNTIF($AK$3:AK75,1),COUNTIF($AK$3:AK75,-1)))))/1000)","v":1.2675171964956196},44.247,null,{"$f":"+SUM(COUNTIF($AG$3:AG75,1),COUNTIF($AG$3:AG75,-1))","v":37},{"$f":"+SUM($S$4:S75)","v":5587},151,{"$f":"+SUM(COUNTIF($AG$3:AG75,1))","v":18},{"$f":"+SUM(COUNTIF($AG$3:AG75,-1))","v":19},-1,{"$f":"BO75*(HARMEAN((IF(SUM(COUNTIF($Z$3:Z75,1),COUNTIF($Z$3:Z75,-1))=0,1,SUM(COUNTIF($Z$3:Z75,1),COUNTIF($Z$3:Z75,-1)))),(IF(SUM(COUNTIF($AC$3:AC75,1),COUNTIF($AC$3:AC75,-1))=0,1,SUM(COUNTIF($AC$3:AC75,1),COUNTIF($AC$3:AC75,-1)))),(IF(SUM(COUNTIF($AE$3:AE75,1),COUNTIF($AE$3:AE75,-1))=0,1,SUM(COUNTIF($AE$3:AE75,1),COUNTIF($AE$3:AE75,-1)))),(IF(SUM(COUNTIF($AG$3:AG75,1),COUNTIF($AG$3:AG75,-1))=0,1,SUM(COUNTIF($AG$3:AG75,1),COUNTIF($AG$3:AG75,-1)))),(IF(SUM(COUNTIF($AI$3:AI75,1),COUNTIF($AI$3:AI75,-1))=0,1,SUM(COUNTIF($AI$3:AI75,1),COUNTIF($AI$3:AI75,-1)))),(IF(SUM(COUNTIF($AK$3:AK75,1),COUNTIF($AK$3:AK75,-1))=0,1,SUM(COUNTIF($AK$3:AK75,1),COUNTIF($AK$3:AK75,-1)))))/1000)","v":1.3027260075093867},16.149999999999999,null,{"$f":"+SUM(COUNTIF($AI$3:AI75,1),COUNTIF($AI$3:AI75,-1))","v":33},{"$f":"+SUM($U$4:U75)","v":4143},125.54545454545455,{"$f":"+SUM(COUNTIF($AI$3:AI75,1))","v":12},{"$f":"+SUM(COUNTIF($AI$3:AI75,-1))","v":21},-9,{"$f":"+BX75*(HARMEAN((IF(SUM(COUNTIF($Z$3:Z75,1),COUNTIF($Z$3:Z75,-1))=0,1,SUM(COUNTIF($Z$3:Z75,1),COUNTIF($Z$3:Z75,-1)))),(IF(SUM(COUNTIF($AC$3:AC75,1),COUNTIF($AC$3:AC75,-1))=0,1,SUM(COUNTIF($AC$3:AC75,1),COUNTIF($AC$3:AC75,-1)))),(IF(SUM(COUNTIF($AE$3:AE75,1),COUNTIF($AE$3:AE75,-1))=0,1,SUM(COUNTIF($AE$3:AE75,1),COUNTIF($AE$3:AE75,-1)))),(IF(SUM(COUNTIF($AG$3:AG75,1),COUNTIF($AG$3:AG75,-1))=0,1,SUM(COUNTIF($AG$3:AG75,1),COUNTIF($AG$3:AG75,-1)))),(IF(SUM(COUNTIF($AI$3:AI75,1),COUNTIF($AI$3:AI75,-1))=0,1,SUM(COUNTIF($AI$3:AI75,1),COUNTIF($AI$3:AI75,-1)))),(IF(SUM(COUNTIF($AK$3:AK75,1),COUNTIF($AK$3:AK75,-1))=0,1,SUM(COUNTIF($AK$3:AK75,1),COUNTIF($AK$3:AK75,-1)))))/1000)","v":1.1618907634543179},-17.100999999999999,null,{"$f":"+SUM(COUNTIF($AK$3:AK75,1),COUNTIF($AK$3:AK75,-1))","v":32},{"$f":"+SUM($W$4:W75)","v":3591},112.21875,{"$f":"+SUM(COUNTIF($AK$3:AK75,1))","v":12},{"$f":"+SUM(COUNTIF($AK$3:AK75,-1))","v":20},-8,{"$f":"+CG75*(HARMEAN((IF(SUM(COUNTIF($Z$3:Z75,1),COUNTIF($Z$3:Z75,-1))=0,1,SUM(COUNTIF($Z$3:Z75,1),COUNTIF($Z$3:Z75,-1)))),(IF(SUM(COUNTIF($AC$3:AC75,1),COUNTIF($AC$3:AC75,-1))=0,1,SUM(COUNTIF($AC$3:AC75,1),COUNTIF($AC$3:AC75,-1)))),(IF(SUM(COUNTIF($AE$3:AE75,1),COUNTIF($AE$3:AE75,-1))=0,1,SUM(COUNTIF($AE$3:AE75,1),COUNTIF($AE$3:AE75,-1)))),(IF(SUM(COUNTIF($AG$3:AG75,1),COUNTIF($AG$3:AG75,-1))=0,1,SUM(COUNTIF($AG$3:AG75,1),COUNTIF($AG$3:AG75,-1)))),(IF(SUM(COUNTIF($AI$3:AI75,1),COUNTIF($AI$3:AI75,-1))=0,1,SUM(COUNTIF($AI$3:AI75,1),COUNTIF($AI$3:AI75,-1)))),(IF(SUM(COUNTIF($AK$3:AK75,1),COUNTIF($AK$3:AK75,-1))=0,1,SUM(COUNTIF($AK$3:AK75,1),COUNTIF($AK$3:AK75,-1)))))/1000)","v":1.1266819524405507},-15.523999999999999]
[73,"",null,{"$f":"+IFERROR(INDEX('Auswertung AoE II'!$AE:$AE,MATCH(A76,'Auswertung AoE II'!$AD:$AD,0)),\"\")","v":""},{"$f":"+IFERROR(INDEX('Auswertung AoE III'!$AE:$AE,MATCH(A76,'Auswertung AoE III'!$AD:$AD,0)),\"\")","v":""},{"$f":"+IFERROR(INDEX('Auswertung AoM'!$AE:$AE,MATCH(A76,'Auswertung AoM'!$AD:$AD,0)),\"\")","v":""},{"$f":"+IFERROR(INDEX('Auswertung RA'!$AE:$AE,MATCH(A76,'Auswertung RA'!$AD:$AD,0)),\"\")","v":""},{"$f":"+IFERROR(INDEX('Auswertung Yuri'!$AE:$AE,MATCH(A76,'Auswertung Yuri'!$AD:$AD,0)),\"\")","v":""},{"$f":"+IFERROR(INDEX('Auswertung Generals'!$AE:$AE,MATCH(A76,'Auswertung Generals'!$AD:$AD,0)),\"\")","v":""},"Auswertung ",null,null,{"$f":"+IF(ISERROR(+INDIRECT(CONCATENATE(\"'\",J76,\"'!\",(ADDRESS((COUNTIF($J$3:J76,IF(B76<>0,CONCATENATE(\"Auswertung \",B76,\"\"))))+2,2)))))=FALSE,+INDIRECT(CONCATENATE(\"'\",J76,\"'!\",(ADDRESS((COUNTIF($J$3:J76,IF(B76<>0,CONCATENATE(\"Auswertung \",B76,\"\"))))+4,2)))),\"\")","v":""},{"$f":"IF(ISERROR(+INDIRECT(CONCATENATE(\"'\",J76,\"'!\",(ADDRESS((COUNTIF($J$3:J76,IF(B76<>0,CONCATENATE(\"Auswertung \",B76,\"\"))))+2,2+1)))))=FALSE,+INDIRECT(CONCATENATE(\"'\",J76,\"'!\",(ADDRESS((COUNTIF($J$3:J76,IF(B76<>0,CONCATENATE(\"Auswertung \",B76,\"\"))))+4,2+1)))),\"\")","v":""},{"$f":"+IF(ISERROR(+INDIRECT(CONCATENATE(\"'\",J76,\"'!\",(ADDRESS((COUNTIF($J$3:J76,IF(B76<>0,CONCATENATE(\"Auswertung \",B76,\"\"))))+2,4)))))=FALSE,+INDIRECT(CONCATENATE(\"'\",J76,\"'!\",(ADDRESS((COUNTIF($J$3:J76,IF(B76<>0,CONCATENATE(\"Auswertung \",B76,\"\"))))+4,4)))),\"\")","v":""},{"$f":"+IF(ISERROR(+INDIRECT(CONCATENATE(\"'\",J76,\"'!\",(ADDRESS((COUNTIF($J$3:J76,IF(B76<>0,CONCATENATE(\"Auswertung \",B76,\"\"))))+2,5)))))=FALSE,+INDIRECT(CONCATENATE(\"'\",J76,\"'!\",(ADDRESS((COUNTIF($J$3:J76,IF(B76<>0,CONCATENATE(\"Auswertung \",B76,\"\"))))+4,5)))),\"\")","v":""},{"$f":"+IF(ISERROR(+INDIRECT(CONCATENATE(\"'\",J76,\"'!\",(ADDRESS((COUNTIF($J$3:J76,IF(B76<>0,CONCATENATE(\"Auswertung \",B76,\"\"))))+2,6)))))=FALSE,+INDIRECT(CONCATENATE(\"'\",J76,\"'!\",(ADDRESS((COUNTIF($J$3:J76,IF(B76<>0,CONCATENATE(\"Auswertung \",B76,\"\"))))+4,6)))),\"\")","v":""},{"$f":"+IF(ISERROR(+INDIRECT(CONCATENATE(\"'\",J76,\"'!\",(ADDRESS((COUNTIF($J$3:J76,IF(B76<>0,CONCATENATE(\"Auswertung \",B76,\"\"))))+2,7)))))=FALSE,+INDIRECT(CONCATENATE(\"'\",J76,\"'!\",(ADDRESS((COUNTIF($J$3:J76,IF(B76<>0,CONCATENATE(\"Auswertung \",B76,\"\"))))+4,7)))),\"\")","v":""},{"$f":"+IF(ISERROR(+INDIRECT(CONCATENATE(\"'\",J76,\"'!\",(ADDRESS((COUNTIF($J$3:J76,IF(B76<>0,CONCATENATE(\"Auswertung \",B76,\"\"))))+2,10)))))=FALSE,+INDIRECT(CONCATENATE(\"'\",J76,\"'!\",(ADDRESS((COUNTIF($J$3:J76,IF(B76<>0,CONCATENATE(\"Auswertung \",B76,\"\"))))+4,8)))),\"\")","v":""},{"$f":"+IF(ISERROR(+INDIRECT(CONCATENATE(\"'\",J76,\"'!\",(ADDRESS((COUNTIF($J$3:J76,IF(B76<>0,CONCATENATE(\"Auswertung \",B76,\"\"))))+2,11)))))=FALSE,+INDIRECT(CONCATENATE(\"'\",J76,\"'!\",(ADDRESS((COUNTIF($J$3:J76,IF(B76<>0,CONCATENATE(\"Auswertung \",B76,\"\"))))+4,9)))),\"\")","v":""},{"$f":"+IF(ISERROR(+INDIRECT(CONCATENATE(\"'\",J76,\"'!\",(ADDRESS((COUNTIF($J$3:J76,IF(B76<>0,CONCATENATE(\"Auswertung \",B76,\"\"))))+2,10)))))=FALSE,+INDIRECT(CONCATENATE(\"'\",J76,\"'!\",(ADDRESS((COUNTIF($J$3:J76,IF(B76<>0,CONCATENATE(\"Auswertung \",B76,\"\"))))+4,10)))),\"\")","v":""},{"$f":"+IF(ISERROR(+INDIRECT(CONCATENATE(\"'\",J76,\"'!\",(ADDRESS((COUNTIF($J$3:J76,IF(B76<>0,CONCATENATE(\"Auswertung \",B76,\"\"))))+2,11)))))=FALSE,+INDIRECT(CONCATENATE(\"'\",J76,\"'!\",(ADDRESS((COUNTIF($J$3:J76,IF(B76<>0,CONCATENATE(\"Auswertung \",B76,\"\"))))+4,11)))),\"\")","v":""},{"$f":"+IF(ISERROR(+INDIRECT(CONCATENATE(\"'\",J76,\"'!\",(ADDRESS((COUNTIF($J$3:J76,IF(D76<>0,CONCATENATE(\"Auswertung \",D76,\"\"))))+2,12)))))=FALSE,+INDIRECT(CONCATENATE(\"'\",J76,\"'!\",(ADDRESS((COUNTIF($J$3:J76,IF(D76<>0,CONCATENATE(\"Auswertung \",B76,\"\"))))+4,12)))),\"\")","v":""},{"$f":"+IF(ISERROR(+INDIRECT(CONCATENATE(\"'\",J76,\"'!\",(ADDRESS((COUNTIF($J$3:J76,IF(D76<>0,CONCATENATE(\"Auswertung \",D76,\"\"))))+2,13)))))=FALSE,+INDIRECT(CONCATENATE(\"'\",J76,\"'!\",(ADDRESS((COUNTIF($J$3:J76,IF(D76<>0,CONCATENATE(\"Auswertung \",B76,\"\"))))+4,13)))),\"\")","v":""},null,{"$f":"+IFERROR(INDIRECT(CONCATENATE(\"'\",J76,\"'!\",(ADDRESS((COUNTIF($J$3:J76,IF(B76<>0,J76)))+4,16)))),\"\")","v":""},21.942,{"$f":"+SUM($M$4:M76)/COUNT($M$4:M76)/1000*2","v":0.28281081081081083},{"$f":"+IFERROR(INDIRECT(CONCATENATE(\"'\",J76,\"'!\",(ADDRESS((COUNTIF($J$3:J76,IF(B76<>0,J76)))+4,18)))),\"\")","v":""},50.264000000000003,{"$f":"+IFERROR(INDIRECT(CONCATENATE(\"'\",J76,\"'!\",(ADDRESS((COUNTIF($J$3:J76,IF(B76<>0,J76)))+4,20)))),\"\")","v":""},44.247,{"$f":"+IFERROR(INDIRECT(CONCATENATE(\"'\",J76,\"'!\",(ADDRESS((COUNTIF($J$3:J76,IF(B76<>0,J76)))+4,22)))),\"\")","v":""},16.149999999999999,{"$f":"+IFERROR(INDIRECT(CONCATENATE(\"'\",J76,\"'!\",(ADDRESS((COUNTIF($J$3:J76,IF(B76<>0,J76)))+4,24)))),\"\")","v":""},-17.100999999999999,{"$f":"+IFERROR(INDIRECT(CONCATENATE(\"'\",J76,\"'!\",(ADDRESS((COUNTIF($J$3:J76,IF(B76<>0,J76)))+4,26)))),\"\")","v":""},-15.523999999999999,73,{"$f":"+SUM(COUNTIF($Z$3:Z76,1),COUNTIF($Z$3:Z76,-1))","v":37},{"$f":"+SUM($M$4:M76)","v":5232},141.40540540540542,{"$f":"+SUM(COUNTIF($Z$3:Z76,1))","v":19},{"$f":"+SUM(COUNTIF($Z$3:Z76,-1))","v":18},1,{"$f":"AN76*(HARMEAN((IF(SUM(COUNTIF($Z$3:Z76,1),COUNTIF($Z$3:Z76,-1))=0,1,SUM(COUNTIF($Z$3:Z76,1),COUNTIF($Z$3:Z76,-1)))),(IF(SUM(COUNTIF($AC$3:AC76,1),COUNTIF($AC$3:AC76,-1))=0,1,SUM(COUNTIF($AC$3:AC76,1),COUNTIF($AC$3:AC76,-1)))),(IF(SUM(COUNTIF($AE$3:AE76,1),COUNTIF($AE$3:AE76,-1))=0,1,SUM(COUNTIF($AE$3:AE76,1),COUNTIF($AE$3:AE76,-1)))),(IF(SUM(COUNTIF($AG$3:AG76,1),COUNTIF($AG$3:AG76,-1))=0,1,SUM(COUNTIF($AG$3:AG76,1),COUNTIF($AG$3:AG76,-1)))),(IF(SUM(COUNTIF($AI$3:AI76,1),COUNTIF($AI$3:AI76,-1))=0,1,SUM(COUNTIF($AI$3:AI76,1),COUNTIF($AI$3:AI76,-1)))),(IF(SUM(COUNTIF($AK$3:AK76,1),COUNTIF($AK$3:AK76,-1))=0,1,SUM(COUNTIF($AK$3:AK76,1),COUNTIF($AK$3:AK76,-1)))))/1000)","v":1.3027260075093867},21.942,null,{"$f":"+SUM(COUNTIF($AC$3:AC76,1),COUNTIF($AC$3:AC76,-1))","v":37},{"$f":"+SUM($O$4:O76)","v":5276},142.59459459459458,{"$f":"+SUM(COUNTIF($AC$3:AC76,1))","v":23},{"$f":"+SUM(COUNTIF($AC$3:AC76,-1))","v":14},9,{"$f":"AW76*(HARMEAN((IF(SUM(COUNTIF($Z$3:Z76,1),COUNTIF($Z$3:Z76,-1))=0,1,SUM(COUNTIF($Z$3:Z76,1),COUNTIF($Z$3:Z76,-1)))),(IF(SUM(COUNTIF($AC$3:AC76,1),COUNTIF($AC$3:AC76,-1))=0,1,SUM(COUNTIF($AC$3:AC76,1),COUNTIF($AC$3:AC76,-1)))),(IF(SUM(COUNTIF($AE$3:AE76,1),COUNTIF($AE$3:AE76,-1))=0,1,SUM(COUNTIF($AE$3:AE76,1),COUNTIF($AE$3:AE76,-1)))),(IF(SUM(COUNTIF($AG$3:AG76,1),COUNTIF($AG$3:AG76,-1))=0,1,SUM(COUNTIF($AG$3:AG76,1),COUNTIF($AG$3:AG76,-1)))),(IF(SUM(COUNTIF($AI$3:AI76,1),COUNTIF($AI$3:AI76,-1))=0,1,SUM(COUNTIF($AI$3:AI76,1),COUNTIF($AI$3:AI76,-1)))),(IF(SUM(COUNTIF($AK$3:AK76,1),COUNTIF($AK$3:AK76,-1))=0,1,SUM(COUNTIF($AK$3:AK76,1),COUNTIF($AK$3:AK76,-1)))))/1000)","v":1.3027260075093867},50.264000000000003,null,{"$f":"+SUM(COUNTIF($AE$3:AE76,1),COUNTIF(AE$3:$AE76,-1))","v":36},{"$f":"+SUM($Q$4:Q76)","v":4567},126.86111111111111,{"$f":"+SUM(COUNTIF($AE$3:AE76,1))","v":22},{"$f":"+SUM(COUNTIF($AE$3:AE76,-1))","v":14},8,{"$f":"BF76*(HARMEAN((IF(SUM(COUNTIF($Z$3:Z76,1),COUNTIF($Z$3:Z76,-1))=0,1,SUM(COUNTIF($Z$3:Z76,1),COUNTIF($Z$3:Z76,-1)))),(IF(SUM(COUNTIF($AC$3:AC76,1),COUNTIF($AC$3:AC76,-1))=0,1,SUM(COUNTIF($AC$3:AC76,1),COUNTIF($AC$3:AC76,-1)))),(IF(SUM(COUNTIF($AE$3:AE76,1),COUNTIF($AE$3:AE76,-1))=0,1,SUM(COUNTIF($AE$3:AE76,1),COUNTIF($AE$3:AE76,-1)))),(IF(SUM(COUNTIF($AG$3:AG76,1),COUNTIF($AG$3:AG76,-1))=0,1,SUM(COUNTIF($AG$3:AG76,1),COUNTIF($AG$3:AG76,-1)))),(IF(SUM(COUNTIF($AI$3:AI76,1),COUNTIF($AI$3:AI76,-1))=0,1,SUM(COUNTIF($AI$3:AI76,1),COUNTIF($AI$3:AI76,-1)))),(IF(SUM(COUNTIF($AK$3:AK76,1),COUNTIF($AK$3:AK76,-1))=0,1,SUM(COUNTIF($AK$3:AK76,1),COUNTIF($AK$3:AK76,-1)))))/1000)","v":1.2675171964956196},44.247,null,{"$f":"+SUM(COUNTIF($AG$3:AG76,1),COUNTIF($AG$3:AG76,-1))","v":37},{"$f":"+SUM($S$4:S76)","v":5587},151,{"$f":"+SUM(COUNTIF($AG$3:AG76,1))","v":18},{"$f":"+SUM(COUNTIF($AG$3:AG76,-1))","v":19},-1,{"$f":"BO76*(HARMEAN((IF(SUM(COUNTIF($Z$3:Z76,1),COUNTIF($Z$3:Z76,-1))=0,1,SUM(COUNTIF($Z$3:Z76,1),COUNTIF($Z$3:Z76,-1)))),(IF(SUM(COUNTIF($AC$3:AC76,1),COUNTIF($AC$3:AC76,-1))=0,1,SUM(COUNTIF($AC$3:AC76,1),COUNTIF($AC$3:AC76,-1)))),(IF(SUM(COUNTIF($AE$3:AE76,1),COUNTIF($AE$3:AE76,-1))=0,1,SUM(COUNTIF($AE$3:AE76,1),COUNTIF($AE$3:AE76,-1)))),(IF(SUM(COUNTIF($AG$3:AG76,1),COUNTIF($AG$3:AG76,-1))=0,1,SUM(COUNTIF($AG$3:AG76,1),COUNTIF($AG$3:AG76,-1)))),(IF(SUM(COUNTIF($AI$3:AI76,1),COUNTIF($AI$3:AI76,-1))=0,1,SUM(COUNTIF($AI$3:AI76,1),COUNTIF($AI$3:AI76,-1)))),(IF(SUM(COUNTIF($AK$3:AK76,1),COUNTIF($AK$3:AK76,-1))=0,1,SUM(COUNTIF($AK$3:AK76,1),COUNTIF($AK$3:AK76,-1)))))/1000)","v":1.3027260075093867},16.149999999999999,null,{"$f":"+SUM(COUNTIF($AI$3:AI76,1),COUNTIF($AI$3:AI76,-1))","v":33},{"$f":"+SUM($U$4:U76)","v":4143},125.54545454545455,{"$f":"+SUM(COUNTIF($AI$3:AI76,1))","v":12},{"$f":"+SUM(COUNTIF($AI$3:AI76,-1))","v":21},-9,{"$f":"+BX76*(HARMEAN((IF(SUM(COUNTIF($Z$3:Z76,1),COUNTIF($Z$3:Z76,-1))=0,1,SUM(COUNTIF($Z$3:Z76,1),COUNTIF($Z$3:Z76,-1)))),(IF(SUM(COUNTIF($AC$3:AC76,1),COUNTIF($AC$3:AC76,-1))=0,1,SUM(COUNTIF($AC$3:AC76,1),COUNTIF($AC$3:AC76,-1)))),(IF(SUM(COUNTIF($AE$3:AE76,1),COUNTIF($AE$3:AE76,-1))=0,1,SUM(COUNTIF($AE$3:AE76,1),COUNTIF($AE$3:AE76,-1)))),(IF(SUM(COUNTIF($AG$3:AG76,1),COUNTIF($AG$3:AG76,-1))=0,1,SUM(COUNTIF($AG$3:AG76,1),COUNTIF($AG$3:AG76,-1)))),(IF(SUM(COUNTIF($AI$3:AI76,1),COUNTIF($AI$3:AI76,-1))=0,1,SUM(COUNTIF($AI$3:AI76,1),COUNTIF($AI$3:AI76,-1)))),(IF(SUM(COUNTIF($AK$3:AK76,1),COUNTIF($AK$3:AK76,-1))=0,1,SUM(COUNTIF($AK$3:AK76,1),COUNTIF($AK$3:AK76,-1)))))/1000)","v":1.1618907634543179},-17.100999999999999,null,{"$f":"+SUM(COUNTIF($AK$3:AK76,1),COUNTIF($AK$3:AK76,-1))","v":32},{"$f":"+SUM($W$4:W76)","v":3591},112.21875,{"$f":"+SUM(COUNTIF($AK$3:AK76,1))","v":12},{"$f":"+SUM(COUNTIF($AK$3:AK76,-1))","v":20},-8,{"$f":"+CG76*(HARMEAN((IF(SUM(COUNTIF($Z$3:Z76,1),COUNTIF($Z$3:Z76,-1))=0,1,SUM(COUNTIF($Z$3:Z76,1),COUNTIF($Z$3:Z76,-1)))),(IF(SUM(COUNTIF($AC$3:AC76,1),COUNTIF($AC$3:AC76,-1))=0,1,SUM(COUNTIF($AC$3:AC76,1),COUNTIF($AC$3:AC76,-1)))),(IF(SUM(COUNTIF($AE$3:AE76,1),COUNTIF($AE$3:AE76,-1))=0,1,SUM(COUNTIF($AE$3:AE76,1),COUNTIF($AE$3:AE76,-1)))),(IF(SUM(COUNTIF($AG$3:AG76,1),COUNTIF($AG$3:AG76,-1))=0,1,SUM(COUNTIF($AG$3:AG76,1),COUNTIF($AG$3:AG76,-1)))),(IF(SUM(COUNTIF($AI$3:AI76,1),COUNTIF($AI$3:AI76,-1))=0,1,SUM(COUNTIF($AI$3:AI76,1),COUNTIF($AI$3:AI76,-1)))),(IF(SUM(COUNTIF($AK$3:AK76,1),COUNTIF($AK$3:AK76,-1))=0,1,SUM(COUNTIF($AK$3:AK76,1),COUNTIF($AK$3:AK76,-1)))))/1000)","v":1.1266819524405507},-15.523999999999999]
[74,"",null,{"$f":"+IFERROR(INDEX('Auswertung AoE II'!$AE:$AE,MATCH(A77,'Auswertung AoE II'!$AD:$AD,0)),\"\")","v":""},{"$f":"+IFERROR(INDEX('Auswertung AoE III'!$AE:$AE,MATCH(A77,'Auswertung AoE III'!$AD:$AD,0)),\"\")","v":""},{"$f":"+IFERROR(INDEX('Auswertung AoM'!$AE:$AE,MATCH(A77,'Auswertung AoM'!$AD:$AD,0)),\"\")","v":""},{"$f":"+IFERROR(INDEX('Auswertung RA'!$AE:$AE,MATCH(A77,'Auswertung RA'!$AD:$AD,0)),\"\")","v":""},{"$f":"+IFERROR(INDEX('Auswertung Yuri'!$AE:$AE,MATCH(A77,'Auswertung Yuri'!$AD:$AD,0)),\"\")","v":""},{"$f":"+IFERROR(INDEX('Auswertung Generals'!$AE:$AE,MATCH(A77,'Auswertung Generals'!$AD:$AD,0)),\"\")","v":""},"Auswertung ",null,null,{"$f":"+IF(ISERROR(+INDIRECT(CONCATENATE(\"'\",J77,\"'!\",(ADDRESS((COUNTIF($J$3:J77,IF(B77<>0,CONCATENATE(\"Auswertung \",B77,\"\"))))+2,2)))))=FALSE,+INDIRECT(CONCATENATE(\"'\",J77,\"'!\",(ADDRESS((COUNTIF($J$3:J77,IF(B77<>0,CONCATENATE(\"Auswertung \",B77,\"\"))))+4,2)))),\"\")","v":""},{"$f":"IF(ISERROR(+INDIRECT(CONCATENATE(\"'\",J77,\"'!\",(ADDRESS((COUNTIF($J$3:J77,IF(B77<>0,CONCATENATE(\"Auswertung \",B77,\"\"))))+2,2+1)))))=FALSE,+INDIRECT(CONCATENATE(\"'\",J77,\"'!\",(ADDRESS((COUNTIF($J$3:J77,IF(B77<>0,CONCATENATE(\"Auswertung \",B77,\"\"))))+4,2+1)))),\"\")","v":""},{"$f":"+IF(ISERROR(+INDIRECT(CONCATENATE(\"'\",J77,\"'!\",(ADDRESS((COUNTIF($J$3:J77,IF(B77<>0,CONCATENATE(\"Auswertung \",B77,\"\"))))+2,4)))))=FALSE,+INDIRECT(CONCATENATE(\"'\",J77,\"'!\",(ADDRESS((COUNTIF($J$3:J77,IF(B77<>0,CONCATENATE(\"Auswertung \",B77,\"\"))))+4,4)))),\"\")","v":""},{"$f":"+IF(ISERROR(+INDIRECT(CONCATENATE(\"'\",J77,\"'!\",(ADDRESS((COUNTIF($J$3:J77,IF(B77<>0,CONCATENATE(\"Auswertung \",B77,\"\"))))+2,5)))))=FALSE,+INDIRECT(CONCATENATE(\"'\",J77,\"'!\",(ADDRESS((COUNTIF($J$3:J77,IF(B77<>0,CONCATENATE(\"Auswertung \",B77,\"\"))))+4,5)))),\"\")","v":""},{"$f":"+IF(ISERROR(+INDIRECT(CONCATENATE(\"'\",J77,\"'!\",(ADDRESS((COUNTIF($J$3:J77,IF(B77<>0,CONCATENATE(\"Auswertung \",B77,\"\"))))+2,6)))))=FALSE,+INDIRECT(CONCATENATE(\"'\",J77,\"'!\",(ADDRESS((COUNTIF($J$3:J77,IF(B77<>0,CONCATENATE(\"Auswertung \",B77,\"\"))))+4,6)))),\"\")","v":""},{"$f":"+IF(ISERROR(+INDIRECT(CONCATENATE(\"'\",J77,\"'!\",(ADDRESS((COUNTIF($J$3:J77,IF(B77<>0,CONCATENATE(\"Auswertung \",B77,\"\"))))+2,7)))))=FALSE,+INDIRECT(CONCATENATE(\"'\",J77,\"'!\",(ADDRESS((COUNTIF($J$3:J77,IF(B77<>0,CONCATENATE(\"Auswertung \",B77,\"\"))))+4,7)))),\"\")","v":""},{"$f":"+IF(ISERROR(+INDIRECT(CONCATENATE(\"'\",J77,\"'!\",(ADDRESS((COUNTIF($J$3:J77,IF(B77<>0,CONCATENATE(\"Auswertung \",B77,\"\"))))+2,10)))))=FALSE,+INDIRECT(CONCATENATE(\"'\",J77,\"'!\",(ADDRESS((COUNTIF($J$3:J77,IF(B77<>0,CONCATENATE(\"Auswertung \",B77,\"\"))))+4,8)))),\"\")","v":""},{"$f":"+IF(ISERROR(+INDIRECT(CONCATENATE(\"'\",J77,\"'!\",(ADDRESS((COUNTIF($J$3:J77,IF(B77<>0,CONCATENATE(\"Auswertung \",B77,\"\"))))+2,11)))))=FALSE,+INDIRECT(CONCATENATE(\"'\",J77,\"'!\",(ADDRESS((COUNTIF($J$3:J77,IF(B77<>0,CONCATENATE(\"Auswertung \",B77,\"\"))))+4,9)))),\"\")","v":""},{"$f":"+IF(ISERROR(+INDIRECT(CONCATENATE(\"'\",J77,\"'!\",(ADDRESS((COUNTIF($J$3:J77,IF(B77<>0,CONCATENATE(\"Auswertung \",B77,\"\"))))+2,10)))))=FALSE,+INDIRECT(CONCATENATE(\"'\",J77,\"'!\",(ADDRESS((COUNTIF($J$3:J77,IF(B77<>0,CONCATENATE(\"Auswertung \",B77,\"\"))))+4,10)))),\"\")","v":""},{"$f":"+IF(ISERROR(+INDIRECT(CONCATENATE(\"'\",J77,\"'!\",(ADDRESS((COUNTIF($J$3:J77,IF(B77<>0,CONCATENATE(\"Auswertung \",B77,\"\"))))+2,11)))))=FALSE,+INDIRECT(CONCATENATE(\"'\",J77,\"'!\",(ADDRESS((COUNTIF($J$3:J77,IF(B77<>0,CONCATENATE(\"Auswertung \",B77,\"\"))))+4,11)))),\"\")","v":""},{"$f":"+IF(ISERROR(+INDIRECT(CONCATENATE(\"'\",J77,\"'!\",(ADDRESS((COUNTIF($J$3:J77,IF(D77<>0,CONCATENATE(\"Auswertung \",D77,\"\"))))+2,12)))))=FALSE,+INDIRECT(CONCATENATE(\"'\",J77,\"'!\",(ADDRESS((COUNTIF($J$3:J77,IF(D77<>0,CONCATENATE(\"Auswertung \",B77,\"\"))))+4,12)))),\"\")","v":""},{"$f":"+IF(ISERROR(+INDIRECT(CONCATENATE(\"'\",J77,\"'!\",(ADDRESS((COUNTIF($J$3:J77,IF(D77<>0,CONCATENATE(\"Auswertung \",D77,\"\"))))+2,13)))))=FALSE,+INDIRECT(CONCATENATE(\"'\",J77,\"'!\",(ADDRESS((COUNTIF($J$3:J77,IF(D77<>0,CONCATENATE(\"Auswertung \",B77,\"\"))))+4,13)))),\"\")","v":""},null,{"$f":"+IFERROR(INDIRECT(CONCATENATE(\"'\",J77,\"'!\",(ADDRESS((COUNTIF($J$3:J77,IF(B77<>0,J77)))+4,16)))),\"\")","v":""},21.942,{"$f":"+SUM($M$4:M77)/COUNT($M$4:M77)/1000*2","v":0.28281081081081083},{"$f":"+IFERROR(INDIRECT(CONCATENATE(\"'\",J77,\"'!\",(ADDRESS((COUNTIF($J$3:J77,IF(B77<>0,J77)))+4,18)))),\"\")","v":""},50.264000000000003,{"$f":"+IFERROR(INDIRECT(CONCATENATE(\"'\",J77,\"'!\",(ADDRESS((COUNTIF($J$3:J77,IF(B77<>0,J77)))+4,20)))),\"\")","v":""},44.247,{"$f":"+IFERROR(INDIRECT(CONCATENATE(\"'\",J77,\"'!\",(ADDRESS((COUNTIF($J$3:J77,IF(B77<>0,J77)))+4,22)))),\"\")","v":""},16.149999999999999,{"$f":"+IFERROR(INDIRECT(CONCATENATE(\"'\",J77,\"'!\",(ADDRESS((COUNTIF($J$3:J77,IF(B77<>0,J77)))+4,24)))),\"\")","v":""},-17.100999999999999,{"$f":"+IFERROR(INDIRECT(CONCATENATE(\"'\",J77,\"'!\",(ADDRESS((COUNTIF($J$3:J77,IF(B77<>0,J77)))+4,26)))),\"\")","v":""},-15.523999999999999,74,{"$f":"+SUM(COUNTIF($Z$3:Z77,1),COUNTIF($Z$3:Z77,-1))","v":37},{"$f":"+SUM($M$4:M77)","v":5232},141.40540540540542,{"$f":"+SUM(COUNTIF($Z$3:Z77,1))","v":19},{"$f":"+SUM(COUNTIF($Z$3:Z77,-1))","v":18},1,{"$f":"AN77*(HARMEAN((IF(SUM(COUNTIF($Z$3:Z77,1),COUNTIF($Z$3:Z77,-1))=0,1,SUM(COUNTIF($Z$3:Z77,1),COUNTIF($Z$3:Z77,-1)))),(IF(SUM(COUNTIF($AC$3:AC77,1),COUNTIF($AC$3:AC77,-1))=0,1,SUM(COUNTIF($AC$3:AC77,1),COUNTIF($AC$3:AC77,-1)))),(IF(SUM(COUNTIF($AE$3:AE77,1),COUNTIF($AE$3:AE77,-1))=0,1,SUM(COUNTIF($AE$3:AE77,1),COUNTIF($AE$3:AE77,-1)))),(IF(SUM(COUNTIF($AG$3:AG77,1),COUNTIF($AG$3:AG77,-1))=0,1,SUM(COUNTIF($AG$3:AG77,1),COUNTIF($AG$3:AG77,-1)))),(IF(SUM(COUNTIF($AI$3:AI77,1),COUNTIF($AI$3:AI77,-1))=0,1,SUM(COUNTIF($AI$3:AI77,1),COUNTIF($AI$3:AI77,-1)))),(IF(SUM(COUNTIF($AK$3:AK77,1),COUNTIF($AK$3:AK77,-1))=0,1,SUM(COUNTIF($AK$3:AK77,1),COUNTIF($AK$3:AK77,-1)))))/1000)","v":1.3027260075093867},21.942,null,{"$f":"+SUM(COUNTIF($AC$3:AC77,1),COUNTIF($AC$3:AC77,-1))","v":37},{"$f":"+SUM($O$4:O77)","v":5276},142.59459459459458,{"$f":"+SUM(COUNTIF($AC$3:AC77,1))","v":23},{"$f":"+SUM(COUNTIF($AC$3:AC77,-1))","v":14},9,{"$f":"AW77*(HARMEAN((IF(SUM(COUNTIF($Z$3:Z77,1),COUNTIF($Z$3:Z77,-1))=0,1,SUM(COUNTIF($Z$3:Z77,1),COUNTIF($Z$3:Z77,-1)))),(IF(SUM(COUNTIF($AC$3:AC77,1),COUNTIF($AC$3:AC77,-1))=0,1,SUM(COUNTIF($AC$3:AC77,1),COUNTIF($AC$3:AC77,-1)))),(IF(SUM(COUNTIF($AE$3:AE77,1),COUNTIF($AE$3:AE77,-1))=0,1,SUM(COUNTIF($AE$3:AE77,1),COUNTIF($AE$3:AE77,-1)))),(IF(SUM(COUNTIF($AG$3:AG77,1),COUNTIF($AG$3:AG77,-1))=0,1,SUM(COUNTIF($AG$3:AG77,1),COUNTIF($AG$3:AG77,-1)))),(IF(SUM(COUNTIF($AI$3:AI77,1),COUNTIF($AI$3:AI77,-1))=0,1,SUM(COUNTIF($AI$3:AI77,1),COUNTIF($AI$3:AI77,-1)))),(IF(SUM(COUNTIF($AK$3:AK77,1),COUNTIF($AK$3:AK77,-1))=0,1,SUM(COUNTIF($AK$3:AK77,1),COUNTIF($AK$3:AK77,-1)))))/1000)","v":1.3027260075093867},50.264000000000003,null,{"$f":"+SUM(COUNTIF($AE$3:AE77,1),COUNTIF(AE$3:$AE77,-1))","v":36},{"$f":"+SUM($Q$4:Q77)","v":4567},126.86111111111111,{"$f":"+SUM(COUNTIF($AE$3:AE77,1))","v":22},{"$f":"+SUM(COUNTIF($AE$3:AE77,-1))","v":14},8,{"$f":"BF77*(HARMEAN((IF(SUM(COUNTIF($Z$3:Z77,1),COUNTIF($Z$3:Z77,-1))=0,1,SUM(COUNTIF($Z$3:Z77,1),COUNTIF($Z$3:Z77,-1)))),(IF(SUM(COUNTIF($AC$3:AC77,1),COUNTIF($AC$3:AC77,-1))=0,1,SUM(COUNTIF($AC$3:AC77,1),COUNTIF($AC$3:AC77,-1)))),(IF(SUM(COUNTIF($AE$3:AE77,1),COUNTIF($AE$3:AE77,-1))=0,1,SUM(COUNTIF($AE$3:AE77,1),COUNTIF($AE$3:AE77,-1)))),(IF(SUM(COUNTIF($AG$3:AG77,1),COUNTIF($AG$3:AG77,-1))=0,1,SUM(COUNTIF($AG$3:AG77,1),COUNTIF($AG$3:AG77,-1)))),(IF(SUM(COUNTIF($AI$3:AI77,1),COUNTIF($AI$3:AI77,-1))=0,1,SUM(COUNTIF($AI$3:AI77,1),COUNTIF($AI$3:AI77,-1)))),(IF(SUM(COUNTIF($AK$3:AK77,1),COUNTIF($AK$3:AK77,-1))=0,1,SUM(COUNTIF($AK$3:AK77,1),COUNTIF($AK$3:AK77,-1)))))/1000)","v":1.2675171964956196},44.247,null,{"$f":"+SUM(COUNTIF($AG$3:AG77,1),COUNTIF($AG$3:AG77,-1))","v":37},{"$f":"+SUM($S$4:S77)","v":5587},151,{"$f":"+SUM(COUNTIF($AG$3:AG77,1))","v":18},{"$f":"+SUM(COUNTIF($AG$3:AG77,-1))","v":19},-1,{"$f":"BO77*(HARMEAN((IF(SUM(COUNTIF($Z$3:Z77,1),COUNTIF($Z$3:Z77,-1))=0,1,SUM(COUNTIF($Z$3:Z77,1),COUNTIF($Z$3:Z77,-1)))),(IF(SUM(COUNTIF($AC$3:AC77,1),COUNTIF($AC$3:AC77,-1))=0,1,SUM(COUNTIF($AC$3:AC77,1),COUNTIF($AC$3:AC77,-1)))),(IF(SUM(COUNTIF($AE$3:AE77,1),COUNTIF($AE$3:AE77,-1))=0,1,SUM(COUNTIF($AE$3:AE77,1),COUNTIF($AE$3:AE77,-1)))),(IF(SUM(COUNTIF($AG$3:AG77,1),COUNTIF($AG$3:AG77,-1))=0,1,SUM(COUNTIF($AG$3:AG77,1),COUNTIF($AG$3:AG77,-1)))),(IF(SUM(COUNTIF($AI$3:AI77,1),COUNTIF($AI$3:AI77,-1))=0,1,SUM(COUNTIF($AI$3:AI77,1),COUNTIF($AI$3:AI77,-1)))),(IF(SUM(COUNTIF($AK$3:AK77,1),COUNTIF($AK$3:AK77,-1))=0,1,SUM(COUNTIF($AK$3:AK77,1),COUNTIF($AK$3:AK77,-1)))))/1000)","v":1.3027260075093867},16.149999999999999,null,{"$f":"+SUM(COUNTIF($AI$3:AI77,1),COUNTIF($AI$3:AI77,-1))","v":33},{"$f":"+SUM($U$4:U77)","v":4143},125.54545454545455,{"$f":"+SUM(COUNTIF($AI$3:AI77,1))","v":12},{"$f":"+SUM(COUNTIF($AI$3:AI77,-1))","v":21},-9,{"$f":"+BX77*(HARMEAN((IF(SUM(COUNTIF($Z$3:Z77,1),COUNTIF($Z$3:Z77,-1))=0,1,SUM(COUNTIF($Z$3:Z77,1),COUNTIF($Z$3:Z77,-1)))),(IF(SUM(COUNTIF($AC$3:AC77,1),COUNTIF($AC$3:AC77,-1))=0,1,SUM(COUNTIF($AC$3:AC77,1),COUNTIF($AC$3:AC77,-1)))),(IF(SUM(COUNTIF($AE$3:AE77,1),COUNTIF($AE$3:AE77,-1))=0,1,SUM(COUNTIF($AE$3:AE77,1),COUNTIF($AE$3:AE77,-1)))),(IF(SUM(COUNTIF($AG$3:AG77,1),COUNTIF($AG$3:AG77,-1))=0,1,SUM(COUNTIF($AG$3:AG77,1),COUNTIF($AG$3:AG77,-1)))),(IF(SUM(COUNTIF($AI$3:AI77,1),COUNTIF($AI$3:AI77,-1))=0,1,SUM(COUNTIF($AI$3:AI77,1),COUNTIF($AI$3:AI77,-1)))),(IF(SUM(COUNTIF($AK$3:AK77,1),COUNTIF($AK$3:AK77,-1))=0,1,SUM(COUNTIF($AK$3:AK77,1),COUNTIF($AK$3:AK77,-1)))))/1000)","v":1.1618907634543179},-17.100999999999999,null,{"$f":"+SUM(COUNTIF($AK$3:AK77,1),COUNTIF($AK$3:AK77,-1))","v":32},{"$f":"+SUM($W$4:W77)","v":3591},112.21875,{"$f":"+SUM(COUNTIF($AK$3:AK77,1))","v":12},{"$f":"+SUM(COUNTIF($AK$3:AK77,-1))","v":20},-8,{"$f":"+CG77*(HARMEAN((IF(SUM(COUNTIF($Z$3:Z77,1),COUNTIF($Z$3:Z77,-1))=0,1,SUM(COUNTIF($Z$3:Z77,1),COUNTIF($Z$3:Z77,-1)))),(IF(SUM(COUNTIF($AC$3:AC77,1),COUNTIF($AC$3:AC77,-1))=0,1,SUM(COUNTIF($AC$3:AC77,1),COUNTIF($AC$3:AC77,-1)))),(IF(SUM(COUNTIF($AE$3:AE77,1),COUNTIF($AE$3:AE77,-1))=0,1,SUM(COUNTIF($AE$3:AE77,1),COUNTIF($AE$3:AE77,-1)))),(IF(SUM(COUNTIF($AG$3:AG77,1),COUNTIF($AG$3:AG77,-1))=0,1,SUM(COUNTIF($AG$3:AG77,1),COUNTIF($AG$3:AG77,-1)))),(IF(SUM(COUNTIF($AI$3:AI77,1),COUNTIF($AI$3:AI77,-1))=0,1,SUM(COUNTIF($AI$3:AI77,1),COUNTIF($AI$3:AI77,-1)))),(IF(SUM(COUNTIF($AK$3:AK77,1),COUNTIF($AK$3:AK77,-1))=0,1,SUM(COUNTIF($AK$3:AK77,1),COUNTIF($AK$3:AK77,-1)))))/1000)","v":1.1266819524405507},-15.523999999999999]
[75,"",null,{"$f":"+IFERROR(INDEX('Auswertung AoE II'!$AE:$AE,MATCH(A78,'Auswertung AoE II'!$AD:$AD,0)),\"\")","v":""},{"$f":"+IFERROR(INDEX('Auswertung AoE III'!$AE:$AE,MATCH(A78,'Auswertung AoE III'!$AD:$AD,0)),\"\")","v":""},{"$f":"+IFERROR(INDEX('Auswertung AoM'!$AE:$AE,MATCH(A78,'Auswertung AoM'!$AD:$AD,0)),\"\")","v":""},{"$f":"+IFERROR(INDEX('Auswertung RA'!$AE:$AE,MATCH(A78,'Auswertung RA'!$AD:$AD,0)),\"\")","v":""},{"$f":"+IFERROR(INDEX('Auswertung Yuri'!$AE:$AE,MATCH(A78,'Auswertung Yuri'!$AD:$AD,0)),\"\")","v":""},{"$f":"+IFERROR(INDEX('Auswertung Generals'!$AE:$AE,MATCH(A78,'Auswertung Generals'!$AD:$AD,0)),\"\")","v":""},"Auswertung ",null,null,{"$f":"+IF(ISERROR(+INDIRECT(CONCATENATE(\"'\",J78,\"'!\",(ADDRESS((COUNTIF($J$3:J78,IF(B78<>0,CONCATENATE(\"Auswertung \",B78,\"\"))))+2,2)))))=FALSE,+INDIRECT(CONCATENATE(\"'\",J78,\"'!\",(ADDRESS((COUNTIF($J$3:J78,IF(B78<>0,CONCATENATE(\"Auswertung \",B78,\"\"))))+4,2)))),\"\")","v":""},{"$f":"IF(ISERROR(+INDIRECT(CONCATENATE(\"'\",J78,\"'!\",(ADDRESS((COUNTIF($J$3:J78,IF(B78<>0,CONCATENATE(\"Auswertung \",B78,\"\"))))+2,2+1)))))=FALSE,+INDIRECT(CONCATENATE(\"'\",J78,\"'!\",(ADDRESS((COUNTIF($J$3:J78,IF(B78<>0,CONCATENATE(\"Auswertung \",B78,\"\"))))+4,2+1)))),\"\")","v":""},{"$f":"+IF(ISERROR(+INDIRECT(CONCATENATE(\"'\",J78,\"'!\",(ADDRESS((COUNTIF($J$3:J78,IF(B78<>0,CONCATENATE(\"Auswertung \",B78,\"\"))))+2,4)))))=FALSE,+INDIRECT(CONCATENATE(\"'\",J78,\"'!\",(ADDRESS((COUNTIF($J$3:J78,IF(B78<>0,CONCATENATE(\"Auswertung \",B78,\"\"))))+4,4)))),\"\")","v":""},{"$f":"+IF(ISERROR(+INDIRECT(CONCATENATE(\"'\",J78,\"'!\",(ADDRESS((COUNTIF($J$3:J78,IF(B78<>0,CONCATENATE(\"Auswertung \",B78,\"\"))))+2,5)))))=FALSE,+INDIRECT(CONCATENATE(\"'\",J78,\"'!\",(ADDRESS((COUNTIF($J$3:J78,IF(B78<>0,CONCATENATE(\"Auswertung \",B78,\"\"))))+4,5)))),\"\")","v":""},{"$f":"+IF(ISERROR(+INDIRECT(CONCATENATE(\"'\",J78,\"'!\",(ADDRESS((COUNTIF($J$3:J78,IF(B78<>0,CONCATENATE(\"Auswertung \",B78,\"\"))))+2,6)))))=FALSE,+INDIRECT(CONCATENATE(\"'\",J78,\"'!\",(ADDRESS((COUNTIF($J$3:J78,IF(B78<>0,CONCATENATE(\"Auswertung \",B78,\"\"))))+4,6)))),\"\")","v":""},{"$f":"+IF(ISERROR(+INDIRECT(CONCATENATE(\"'\",J78,\"'!\",(ADDRESS((COUNTIF($J$3:J78,IF(B78<>0,CONCATENATE(\"Auswertung \",B78,\"\"))))+2,7)))))=FALSE,+INDIRECT(CONCATENATE(\"'\",J78,\"'!\",(ADDRESS((COUNTIF($J$3:J78,IF(B78<>0,CONCATENATE(\"Auswertung \",B78,\"\"))))+4,7)))),\"\")","v":""},{"$f":"+IF(ISERROR(+INDIRECT(CONCATENATE(\"'\",J78,\"'!\",(ADDRESS((COUNTIF($J$3:J78,IF(B78<>0,CONCATENATE(\"Auswertung \",B78,\"\"))))+2,10)))))=FALSE,+INDIRECT(CONCATENATE(\"'\",J78,\"'!\",(ADDRESS((COUNTIF($J$3:J78,IF(B78<>0,CONCATENATE(\"Auswertung \",B78,\"\"))))+4,8)))),\"\")","v":""},{"$f":"+IF(ISERROR(+INDIRECT(CONCATENATE(\"'\",J78,\"'!\",(ADDRESS((COUNTIF($J$3:J78,IF(B78<>0,CONCATENATE(\"Auswertung \",B78,\"\"))))+2,11)))))=FALSE,+INDIRECT(CONCATENATE(\"'\",J78,\"'!\",(ADDRESS((COUNTIF($J$3:J78,IF(B78<>0,CONCATENATE(\"Auswertung \",B78,\"\"))))+4,9)))),\"\")","v":""},{"$f":"+IF(ISERROR(+INDIRECT(CONCATENATE(\"'\",J78,\"'!\",(ADDRESS((COUNTIF($J$3:J78,IF(B78<>0,CONCATENATE(\"Auswertung \",B78,\"\"))))+2,10)))))=FALSE,+INDIRECT(CONCATENATE(\"'\",J78,\"'!\",(ADDRESS((COUNTIF($J$3:J78,IF(B78<>0,CONCATENATE(\"Auswertung \",B78,\"\"))))+4,10)))),\"\")","v":""},{"$f":"+IF(ISERROR(+INDIRECT(CONCATENATE(\"'\",J78,\"'!\",(ADDRESS((COUNTIF($J$3:J78,IF(B78<>0,CONCATENATE(\"Auswertung \",B78,\"\"))))+2,11)))))=FALSE,+INDIRECT(CONCATENATE(\"'\",J78,\"'!\",(ADDRESS((COUNTIF($J$3:J78,IF(B78<>0,CONCATENATE(\"Auswertung \",B78,\"\"))))+4,11)))),\"\")","v":""},{"$f":"+IF(ISERROR(+INDIRECT(CONCATENATE(\"'\",J78,\"'!\",(ADDRESS((COUNTIF($J$3:J78,IF(D78<>0,CONCATENATE(\"Auswertung \",D78,\"\"))))+2,12)))))=FALSE,+INDIRECT(CONCATENATE(\"'\",J78,\"'!\",(ADDRESS((COUNTIF($J$3:J78,IF(D78<>0,CONCATENATE(\"Auswertung \",B78,\"\"))))+4,12)))),\"\")","v":""},{"$f":"+IF(ISERROR(+INDIRECT(CONCATENATE(\"'\",J78,\"'!\",(ADDRESS((COUNTIF($J$3:J78,IF(D78<>0,CONCATENATE(\"Auswertung \",D78,\"\"))))+2,13)))))=FALSE,+INDIRECT(CONCATENATE(\"'\",J78,\"'!\",(ADDRESS((COUNTIF($J$3:J78,IF(D78<>0,CONCATENATE(\"Auswertung \",B78,\"\"))))+4,13)))),\"\")","v":""},null,{"$f":"+IFERROR(INDIRECT(CONCATENATE(\"'\",J78,\"'!\",(ADDRESS((COUNTIF($J$3:J78,IF(B78<>0,J78)))+4,16)))),\"\")","v":""},21.942,{"$f":"+SUM($M$4:M78)/COUNT($M$4:M78)/1000*2","v":0.28281081081081083},{"$f":"+IFERROR(INDIRECT(CONCATENATE(\"'\",J78,\"'!\",(ADDRESS((COUNTIF($J$3:J78,IF(B78<>0,J78)))+4,18)))),\"\")","v":""},50.264000000000003,{"$f":"+IFERROR(INDIRECT(CONCATENATE(\"'\",J78,\"'!\",(ADDRESS((COUNTIF($J$3:J78,IF(B78<>0,J78)))+4,20)))),\"\")","v":""},44.247,{"$f":"+IFERROR(INDIRECT(CONCATENATE(\"'\",J78,\"'!\",(ADDRESS((COUNTIF($J$3:J78,IF(B78<>0,J78)))+4,22)))),\"\")","v":""},16.149999999999999,{"$f":"+IFERROR(INDIRECT(CONCATENATE(\"'\",J78,\"'!\",(ADDRESS((COUNTIF($J$3:J78,IF(B78<>0,J78)))+4,24)))),\"\")","v":""},-17.100999999999999,{"$f":"+IFERROR(INDIRECT(CONCATENATE(\"'\",J78,\"'!\",(ADDRESS((COUNTIF($J$3:J78,IF(B78<>0,J78)))+4,26)))),\"\")","v":""},-15.523999999999999,75,{"$f":"+SUM(COUNTIF($Z$3:Z78,1),COUNTIF($Z$3:Z78,-1))","v":37},{"$f":"+SUM($M$4:M78)","v":5232},141.40540540540542,{"$f":"+SUM(COUNTIF($Z$3:Z78,1))","v":19},{"$f":"+SUM(COUNTIF($Z$3:Z78,-1))","v":18},1,{"$f":"AN78*(HARMEAN((IF(SUM(COUNTIF($Z$3:Z78,1),COUNTIF($Z$3:Z78,-1))=0,1,SUM(COUNTIF($Z$3:Z78,1),COUNTIF($Z$3:Z78,-1)))),(IF(SUM(COUNTIF($AC$3:AC78,1),COUNTIF($AC$3:AC78,-1))=0,1,SUM(COUNTIF($AC$3:AC78,1),COUNTIF($AC$3:AC78,-1)))),(IF(SUM(COUNTIF($AE$3:AE78,1),COUNTIF($AE$3:AE78,-1))=0,1,SUM(COUNTIF($AE$3:AE78,1),COUNTIF($AE$3:AE78,-1)))),(IF(SUM(COUNTIF($AG$3:AG78,1),COUNTIF($AG$3:AG78,-1))=0,1,SUM(COUNTIF($AG$3:AG78,1),COUNTIF($AG$3:AG78,-1)))),(IF(SUM(COUNTIF($AI$3:AI78,1),COUNTIF($AI$3:AI78,-1))=0,1,SUM(COUNTIF($AI$3:AI78,1),COUNTIF($AI$3:AI78,-1)))),(IF(SUM(COUNTIF($AK$3:AK78,1),COUNTIF($AK$3:AK78,-1))=0,1,SUM(COUNTIF($AK$3:AK78,1),COUNTIF($AK$3:AK78,-1)))))/1000)","v":1.3027260075093867},21.942,null,{"$f":"+SUM(COUNTIF($AC$3:AC78,1),COUNTIF($AC$3:AC78,-1))","v":37},{"$f":"+SUM($O$4:O78)","v":5276},142.59459459459458,{"$f":"+SUM(COUNTIF($AC$3:AC78,1))","v":23},{"$f":"+SUM(COUNTIF($AC$3:AC78,-1))","v":14},9,{"$f":"AW78*(HARMEAN((IF(SUM(COUNTIF($Z$3:Z78,1),COUNTIF($Z$3:Z78,-1))=0,1,SUM(COUNTIF($Z$3:Z78,1),COUNTIF($Z$3:Z78,-1)))),(IF(SUM(COUNTIF($AC$3:AC78,1),COUNTIF($AC$3:AC78,-1))=0,1,SUM(COUNTIF($AC$3:AC78,1),COUNTIF($AC$3:AC78,-1)))),(IF(SUM(COUNTIF($AE$3:AE78,1),COUNTIF($AE$3:AE78,-1))=0,1,SUM(COUNTIF($AE$3:AE78,1),COUNTIF($AE$3:AE78,-1)))),(IF(SUM(COUNTIF($AG$3:AG78,1),COUNTIF($AG$3:AG78,-1))=0,1,SUM(COUNTIF($AG$3:AG78,1),COUNTIF($AG$3:AG78,-1)))),(IF(SUM(COUNTIF($AI$3:AI78,1),COUNTIF($AI$3:AI78,-1))=0,1,SUM(COUNTIF($AI$3:AI78,1),COUNTIF($AI$3:AI78,-1)))),(IF(SUM(COUNTIF($AK$3:AK78,1),COUNTIF($AK$3:AK78,-1))=0,1,SUM(COUNTIF($AK$3:AK78,1),COUNTIF($AK$3:AK78,-1)))))/1000)","v":1.3027260075093867},50.264000000000003,null,{"$f":"+SUM(COUNTIF($AE$3:AE78,1),COUNTIF(AE$3:$AE78,-1))","v":36},{"$f":"+SUM($Q$4:Q78)","v":4567},126.86111111111111,{"$f":"+SUM(COUNTIF($AE$3:AE78,1))","v":22},{"$f":"+SUM(COUNTIF($AE$3:AE78,-1))","v":14},8,{"$f":"BF78*(HARMEAN((IF(SUM(COUNTIF($Z$3:Z78,1),COUNTIF($Z$3:Z78,-1))=0,1,SUM(COUNTIF($Z$3:Z78,1),COUNTIF($Z$3:Z78,-1)))),(IF(SUM(COUNTIF($AC$3:AC78,1),COUNTIF($AC$3:AC78,-1))=0,1,SUM(COUNTIF($AC$3:AC78,1),COUNTIF($AC$3:AC78,-1)))),(IF(SUM(COUNTIF($AE$3:AE78,1),COUNTIF($AE$3:AE78,-1))=0,1,SUM(COUNTIF($AE$3:AE78,1),COUNTIF($AE$3:AE78,-1)))),(IF(SUM(COUNTIF($AG$3:AG78,1),COUNTIF($AG$3:AG78,-1))=0,1,SUM(COUNTIF($AG$3:AG78,1),COUNTIF($AG$3:AG78,-1)))),(IF(SUM(COUNTIF($AI$3:AI78,1),COUNTIF($AI$3:AI78,-1))=0,1,SUM(COUNTIF($AI$3:AI78,1),COUNTIF($AI$3:AI78,-1)))),(IF(SUM(COUNTIF($AK$3:AK78,1),COUNTIF($AK$3:AK78,-1))=0,1,SUM(COUNTIF($AK$3:AK78,1),COUNTIF($AK$3:AK78,-1)))))/1000)","v":1.2675171964956196},44.247,null,{"$f":"+SUM(COUNTIF($AG$3:AG78,1),COUNTIF($AG$3:AG78,-1))","v":37},{"$f":"+SUM($S$4:S78)","v":5587},151,{"$f":"+SUM(COUNTIF($AG$3:AG78,1))","v":18},{"$f":"+SUM(COUNTIF($AG$3:AG78,-1))","v":19},-1,{"$f":"BO78*(HARMEAN((IF(SUM(COUNTIF($Z$3:Z78,1),COUNTIF($Z$3:Z78,-1))=0,1,SUM(COUNTIF($Z$3:Z78,1),COUNTIF($Z$3:Z78,-1)))),(IF(SUM(COUNTIF($AC$3:AC78,1),COUNTIF($AC$3:AC78,-1))=0,1,SUM(COUNTIF($AC$3:AC78,1),COUNTIF($AC$3:AC78,-1)))),(IF(SUM(COUNTIF($AE$3:AE78,1),COUNTIF($AE$3:AE78,-1))=0,1,SUM(COUNTIF($AE$3:AE78,1),COUNTIF($AE$3:AE78,-1)))),(IF(SUM(COUNTIF($AG$3:AG78,1),COUNTIF($AG$3:AG78,-1))=0,1,SUM(COUNTIF($AG$3:AG78,1),COUNTIF($AG$3:AG78,-1)))),(IF(SUM(COUNTIF($AI$3:AI78,1),COUNTIF($AI$3:AI78,-1))=0,1,SUM(COUNTIF($AI$3:AI78,1),COUNTIF($AI$3:AI78,-1)))),(IF(SUM(COUNTIF($AK$3:AK78,1),COUNTIF($AK$3:AK78,-1))=0,1,SUM(COUNTIF($AK$3:AK78,1),COUNTIF($AK$3:AK78,-1)))))/1000)","v":1.3027260075093867},16.149999999999999,null,{"$f":"+SUM(COUNTIF($AI$3:AI78,1),COUNTIF($AI$3:AI78,-1))","v":33},{"$f":"+SUM($U$4:U78)","v":4143},125.54545454545455,{"$f":"+SUM(COUNTIF($AI$3:AI78,1))","v":12},{"$f":"+SUM(COUNTIF($AI$3:AI78,-1))","v":21},-9,{"$f":"+BX78*(HARMEAN((IF(SUM(COUNTIF($Z$3:Z78,1),COUNTIF($Z$3:Z78,-1))=0,1,SUM(COUNTIF($Z$3:Z78,1),COUNTIF($Z$3:Z78,-1)))),(IF(SUM(COUNTIF($AC$3:AC78,1),COUNTIF($AC$3:AC78,-1))=0,1,SUM(COUNTIF($AC$3:AC78,1),COUNTIF($AC$3:AC78,-1)))),(IF(SUM(COUNTIF($AE$3:AE78,1),COUNTIF($AE$3:AE78,-1))=0,1,SUM(COUNTIF($AE$3:AE78,1),COUNTIF($AE$3:AE78,-1)))),(IF(SUM(COUNTIF($AG$3:AG78,1),COUNTIF($AG$3:AG78,-1))=0,1,SUM(COUNTIF($AG$3:AG78,1),COUNTIF($AG$3:AG78,-1)))),(IF(SUM(COUNTIF($AI$3:AI78,1),COUNTIF($AI$3:AI78,-1))=0,1,SUM(COUNTIF($AI$3:AI78,1),COUNTIF($AI$3:AI78,-1)))),(IF(SUM(COUNTIF($AK$3:AK78,1),COUNTIF($AK$3:AK78,-1))=0,1,SUM(COUNTIF($AK$3:AK78,1),COUNTIF($AK$3:AK78,-1)))))/1000)","v":1.1618907634543179},-17.100999999999999,null,{"$f":"+SUM(COUNTIF($AK$3:AK78,1),COUNTIF($AK$3:AK78,-1))","v":32},{"$f":"+SUM($W$4:W78)","v":3591},112.21875,{"$f":"+SUM(COUNTIF($AK$3:AK78,1))","v":12},{"$f":"+SUM(COUNTIF($AK$3:AK78,-1))","v":20},-8,{"$f":"+CG78*(HARMEAN((IF(SUM(COUNTIF($Z$3:Z78,1),COUNTIF($Z$3:Z78,-1))=0,1,SUM(COUNTIF($Z$3:Z78,1),COUNTIF($Z$3:Z78,-1)))),(IF(SUM(COUNTIF($AC$3:AC78,1),COUNTIF($AC$3:AC78,-1))=0,1,SUM(COUNTIF($AC$3:AC78,1),COUNTIF($AC$3:AC78,-1)))),(IF(SUM(COUNTIF($AE$3:AE78,1),COUNTIF($AE$3:AE78,-1))=0,1,SUM(COUNTIF($AE$3:AE78,1),COUNTIF($AE$3:AE78,-1)))),(IF(SUM(COUNTIF($AG$3:AG78,1),COUNTIF($AG$3:AG78,-1))=0,1,SUM(COUNTIF($AG$3:AG78,1),COUNTIF($AG$3:AG78,-1)))),(IF(SUM(COUNTIF($AI$3:AI78,1),COUNTIF($AI$3:AI78,-1))=0,1,SUM(COUNTIF($AI$3:AI78,1),COUNTIF($AI$3:AI78,-1)))),(IF(SUM(COUNTIF($AK$3:AK78,1),COUNTIF($AK$3:AK78,-1))=0,1,SUM(COUNTIF($AK$3:AK78,1),COUNTIF($AK$3:AK78,-1)))))/1000)","v":1.1266819524405507},-15.523999999999999]
[76,"",null,{"$f":"+IFERROR(INDEX('Auswertung AoE II'!$AE:$AE,MATCH(A79,'Auswertung AoE II'!$AD:$AD,0)),\"\")","v":""},{"$f":"+IFERROR(INDEX('Auswertung AoE III'!$AE:$AE,MATCH(A79,'Auswertung AoE III'!$AD:$AD,0)),\"\")","v":""},{"$f":"+IFERROR(INDEX('Auswertung AoM'!$AE:$AE,MATCH(A79,'Auswertung AoM'!$AD:$AD,0)),\"\")","v":""},{"$f":"+IFERROR(INDEX('Auswertung RA'!$AE:$AE,MATCH(A79,'Auswertung RA'!$AD:$AD,0)),\"\")","v":""},{"$f":"+IFERROR(INDEX('Auswertung Yuri'!$AE:$AE,MATCH(A79,'Auswertung Yuri'!$AD:$AD,0)),\"\")","v":""},{"$f":"+IFERROR(INDEX('Auswertung Generals'!$AE:$AE,MATCH(A79,'Auswertung Generals'!$AD:$AD,0)),\"\")","v":""},"Auswertung ",null,null,{"$f":"+IF(ISERROR(+INDIRECT(CONCATENATE(\"'\",J79,\"'!\",(ADDRESS((COUNTIF($J$3:J79,IF(B79<>0,CONCATENATE(\"Auswertung \",B79,\"\"))))+2,2)))))=FALSE,+INDIRECT(CONCATENATE(\"'\",J79,\"'!\",(ADDRESS((COUNTIF($J$3:J79,IF(B79<>0,CONCATENATE(\"Auswertung \",B79,\"\"))))+4,2)))),\"\")","v":""},{"$f":"IF(ISERROR(+INDIRECT(CONCATENATE(\"'\",J79,\"'!\",(ADDRESS((COUNTIF($J$3:J79,IF(B79<>0,CONCATENATE(\"Auswertung \",B79,\"\"))))+2,2+1)))))=FALSE,+INDIRECT(CONCATENATE(\"'\",J79,\"'!\",(ADDRESS((COUNTIF($J$3:J79,IF(B79<>0,CONCATENATE(\"Auswertung \",B79,\"\"))))+4,2+1)))),\"\")","v":""},{"$f":"+IF(ISERROR(+INDIRECT(CONCATENATE(\"'\",J79,\"'!\",(ADDRESS((COUNTIF($J$3:J79,IF(B79<>0,CONCATENATE(\"Auswertung \",B79,\"\"))))+2,4)))))=FALSE,+INDIRECT(CONCATENATE(\"'\",J79,\"'!\",(ADDRESS((COUNTIF($J$3:J79,IF(B79<>0,CONCATENATE(\"Auswertung \",B79,\"\"))))+4,4)))),\"\")","v":""},{"$f":"+IF(ISERROR(+INDIRECT(CONCATENATE(\"'\",J79,\"'!\",(ADDRESS((COUNTIF($J$3:J79,IF(B79<>0,CONCATENATE(\"Auswertung \",B79,\"\"))))+2,5)))))=FALSE,+INDIRECT(CONCATENATE(\"'\",J79,\"'!\",(ADDRESS((COUNTIF($J$3:J79,IF(B79<>0,CONCATENATE(\"Auswertung \",B79,\"\"))))+4,5)))),\"\")","v":""},{"$f":"+IF(ISERROR(+INDIRECT(CONCATENATE(\"'\",J79,\"'!\",(ADDRESS((COUNTIF($J$3:J79,IF(B79<>0,CONCATENATE(\"Auswertung \",B79,\"\"))))+2,6)))))=FALSE,+INDIRECT(CONCATENATE(\"'\",J79,\"'!\",(ADDRESS((COUNTIF($J$3:J79,IF(B79<>0,CONCATENATE(\"Auswertung \",B79,\"\"))))+4,6)))),\"\")","v":""},{"$f":"+IF(ISERROR(+INDIRECT(CONCATENATE(\"'\",J79,\"'!\",(ADDRESS((COUNTIF($J$3:J79,IF(B79<>0,CONCATENATE(\"Auswertung \",B79,\"\"))))+2,7)))))=FALSE,+INDIRECT(CONCATENATE(\"'\",J79,\"'!\",(ADDRESS((COUNTIF($J$3:J79,IF(B79<>0,CONCATENATE(\"Auswertung \",B79,\"\"))))+4,7)))),\"\")","v":""},{"$f":"+IF(ISERROR(+INDIRECT(CONCATENATE(\"'\",J79,\"'!\",(ADDRESS((COUNTIF($J$3:J79,IF(B79<>0,CONCATENATE(\"Auswertung \",B79,\"\"))))+2,10)))))=FALSE,+INDIRECT(CONCATENATE(\"'\",J79,\"'!\",(ADDRESS((COUNTIF($J$3:J79,IF(B79<>0,CONCATENATE(\"Auswertung \",B79,\"\"))))+4,8)))),\"\")","v":""},{"$f":"+IF(ISERROR(+INDIRECT(CONCATENATE(\"'\",J79,\"'!\",(ADDRESS((COUNTIF($J$3:J79,IF(B79<>0,CONCATENATE(\"Auswertung \",B79,\"\"))))+2,11)))))=FALSE,+INDIRECT(CONCATENATE(\"'\",J79,\"'!\",(ADDRESS((COUNTIF($J$3:J79,IF(B79<>0,CONCATENATE(\"Auswertung \",B79,\"\"))))+4,9)))),\"\")","v":""},{"$f":"+IF(ISERROR(+INDIRECT(CONCATENATE(\"'\",J79,\"'!\",(ADDRESS((COUNTIF($J$3:J79,IF(B79<>0,CONCATENATE(\"Auswertung \",B79,\"\"))))+2,10)))))=FALSE,+INDIRECT(CONCATENATE(\"'\",J79,\"'!\",(ADDRESS((COUNTIF($J$3:J79,IF(B79<>0,CONCATENATE(\"Auswertung \",B79,\"\"))))+4,10)))),\"\")","v":""},{"$f":"+IF(ISERROR(+INDIRECT(CONCATENATE(\"'\",J79,\"'!\",(ADDRESS((COUNTIF($J$3:J79,IF(B79<>0,CONCATENATE(\"Auswertung \",B79,\"\"))))+2,11)))))=FALSE,+INDIRECT(CONCATENATE(\"'\",J79,\"'!\",(ADDRESS((COUNTIF($J$3:J79,IF(B79<>0,CONCATENATE(\"Auswertung \",B79,\"\"))))+4,11)))),\"\")","v":""},{"$f":"+IF(ISERROR(+INDIRECT(CONCATENATE(\"'\",J79,\"'!\",(ADDRESS((COUNTIF($J$3:J79,IF(D79<>0,CONCATENATE(\"Auswertung \",D79,\"\"))))+2,12)))))=FALSE,+INDIRECT(CONCATENATE(\"'\",J79,\"'!\",(ADDRESS((COUNTIF($J$3:J79,IF(D79<>0,CONCATENATE(\"Auswertung \",B79,\"\"))))+4,12)))),\"\")","v":""},{"$f":"+IF(ISERROR(+INDIRECT(CONCATENATE(\"'\",J79,\"'!\",(ADDRESS((COUNTIF($J$3:J79,IF(D79<>0,CONCATENATE(\"Auswertung \",D79,\"\"))))+2,13)))))=FALSE,+INDIRECT(CONCATENATE(\"'\",J79,\"'!\",(ADDRESS((COUNTIF($J$3:J79,IF(D79<>0,CONCATENATE(\"Auswertung \",B79,\"\"))))+4,13)))),\"\")","v":""},null,{"$f":"+IFERROR(INDIRECT(CONCATENATE(\"'\",J79,\"'!\",(ADDRESS((COUNTIF($J$3:J79,IF(B79<>0,J79)))+4,16)))),\"\")","v":""},21.942,{"$f":"+SUM($M$4:M79)/COUNT($M$4:M79)/1000*2","v":0.28281081081081083},{"$f":"+IFERROR(INDIRECT(CONCATENATE(\"'\",J79,\"'!\",(ADDRESS((COUNTIF($J$3:J79,IF(B79<>0,J79)))+4,18)))),\"\")","v":""},50.264000000000003,{"$f":"+IFERROR(INDIRECT(CONCATENATE(\"'\",J79,\"'!\",(ADDRESS((COUNTIF($J$3:J79,IF(B79<>0,J79)))+4,20)))),\"\")","v":""},44.247,{"$f":"+IFERROR(INDIRECT(CONCATENATE(\"'\",J79,\"'!\",(ADDRESS((COUNTIF($J$3:J79,IF(B79<>0,J79)))+4,22)))),\"\")","v":""},16.149999999999999,{"$f":"+IFERROR(INDIRECT(CONCATENATE(\"'\",J79,\"'!\",(ADDRESS((COUNTIF($J$3:J79,IF(B79<>0,J79)))+4,24)))),\"\")","v":""},-17.100999999999999,{"$f":"+IFERROR(INDIRECT(CONCATENATE(\"'\",J79,\"'!\",(ADDRESS((COUNTIF($J$3:J79,IF(B79<>0,J79)))+4,26)))),\"\")","v":""},-15.523999999999999,76,{"$f":"+SUM(COUNTIF($Z$3:Z79,1),COUNTIF($Z$3:Z79,-1))","v":37},{"$f":"+SUM($M$4:M79)","v":5232},141.40540540540542,{"$f":"+SUM(COUNTIF($Z$3:Z79,1))","v":19},{"$f":"+SUM(COUNTIF($Z$3:Z79,-1))","v":18},1,{"$f":"AN79*(HARMEAN((IF(SUM(COUNTIF($Z$3:Z79,1),COUNTIF($Z$3:Z79,-1))=0,1,SUM(COUNTIF($Z$3:Z79,1),COUNTIF($Z$3:Z79,-1)))),(IF(SUM(COUNTIF($AC$3:AC79,1),COUNTIF($AC$3:AC79,-1))=0,1,SUM(COUNTIF($AC$3:AC79,1),COUNTIF($AC$3:AC79,-1)))),(IF(SUM(COUNTIF($AE$3:AE79,1),COUNTIF($AE$3:AE79,-1))=0,1,SUM(COUNTIF($AE$3:AE79,1),COUNTIF($AE$3:AE79,-1)))),(IF(SUM(COUNTIF($AG$3:AG79,1),COUNTIF($AG$3:AG79,-1))=0,1,SUM(COUNTIF($AG$3:AG79,1),COUNTIF($AG$3:AG79,-1)))),(IF(SUM(COUNTIF($AI$3:AI79,1),COUNTIF($AI$3:AI79,-1))=0,1,SUM(COUNTIF($AI$3:AI79,1),COUNTIF($AI$3:AI79,-1)))),(IF(SUM(COUNTIF($AK$3:AK79,1),COUNTIF($AK$3:AK79,-1))=0,1,SUM(COUNTIF($AK$3:AK79,1),COUNTIF($AK$3:AK79,-1)))))/1000)","v":1.3027260075093867},21.942,null,{"$f":"+SUM(COUNTIF($AC$3:AC79,1),COUNTIF($AC$3:AC79,-1))","v":37},{"$f":"+SUM($O$4:O79)","v":5276},142.59459459459458,{"$f":"+SUM(COUNTIF($AC$3:AC79,1))","v":23},{"$f":"+SUM(COUNTIF($AC$3:AC79,-1))","v":14},9,{"$f":"AW79*(HARMEAN((IF(SUM(COUNTIF($Z$3:Z79,1),COUNTIF($Z$3:Z79,-1))=0,1,SUM(COUNTIF($Z$3:Z79,1),COUNTIF($Z$3:Z79,-1)))),(IF(SUM(COUNTIF($AC$3:AC79,1),COUNTIF($AC$3:AC79,-1))=0,1,SUM(COUNTIF($AC$3:AC79,1),COUNTIF($AC$3:AC79,-1)))),(IF(SUM(COUNTIF($AE$3:AE79,1),COUNTIF($AE$3:AE79,-1))=0,1,SUM(COUNTIF($AE$3:AE79,1),COUNTIF($AE$3:AE79,-1)))),(IF(SUM(COUNTIF($AG$3:AG79,1),COUNTIF($AG$3:AG79,-1))=0,1,SUM(COUNTIF($AG$3:AG79,1),COUNTIF($AG$3:AG79,-1)))),(IF(SUM(COUNTIF($AI$3:AI79,1),COUNTIF($AI$3:AI79,-1))=0,1,SUM(COUNTIF($AI$3:AI79,1),COUNTIF($AI$3:AI79,-1)))),(IF(SUM(COUNTIF($AK$3:AK79,1),COUNTIF($AK$3:AK79,-1))=0,1,SUM(COUNTIF($AK$3:AK79,1),COUNTIF($AK$3:AK79,-1)))))/1000)","v":1.3027260075093867},50.264000000000003,null,{"$f":"+SUM(COUNTIF($AE$3:AE79,1),COUNTIF(AE$3:$AE79,-1))","v":36},{"$f":"+SUM($Q$4:Q79)","v":4567},126.86111111111111,{"$f":"+SUM(COUNTIF($AE$3:AE79,1))","v":22},{"$f":"+SUM(COUNTIF($AE$3:AE79,-1))","v":14},8,{"$f":"BF79*(HARMEAN((IF(SUM(COUNTIF($Z$3:Z79,1),COUNTIF($Z$3:Z79,-1))=0,1,SUM(COUNTIF($Z$3:Z79,1),COUNTIF($Z$3:Z79,-1)))),(IF(SUM(COUNTIF($AC$3:AC79,1),COUNTIF($AC$3:AC79,-1))=0,1,SUM(COUNTIF($AC$3:AC79,1),COUNTIF($AC$3:AC79,-1)))),(IF(SUM(COUNTIF($AE$3:AE79,1),COUNTIF($AE$3:AE79,-1))=0,1,SUM(COUNTIF($AE$3:AE79,1),COUNTIF($AE$3:AE79,-1)))),(IF(SUM(COUNTIF($AG$3:AG79,1),COUNTIF($AG$3:AG79,-1))=0,1,SUM(COUNTIF($AG$3:AG79,1),COUNTIF($AG$3:AG79,-1)))),(IF(SUM(COUNTIF($AI$3:AI79,1),COUNTIF($AI$3:AI79,-1))=0,1,SUM(COUNTIF($AI$3:AI79,1),COUNTIF($AI$3:AI79,-1)))),(IF(SUM(COUNTIF($AK$3:AK79,1),COUNTIF($AK$3:AK79,-1))=0,1,SUM(COUNTIF($AK$3:AK79,1),COUNTIF($AK$3:AK79,-1)))))/1000)","v":1.2675171964956196},44.247,null,{"$f":"+SUM(COUNTIF($AG$3:AG79,1),COUNTIF($AG$3:AG79,-1))","v":37},{"$f":"+SUM($S$4:S79)","v":5587},151,{"$f":"+SUM(COUNTIF($AG$3:AG79,1))","v":18},{"$f":"+SUM(COUNTIF($AG$3:AG79,-1))","v":19},-1,{"$f":"BO79*(HARMEAN((IF(SUM(COUNTIF($Z$3:Z79,1),COUNTIF($Z$3:Z79,-1))=0,1,SUM(COUNTIF($Z$3:Z79,1),COUNTIF($Z$3:Z79,-1)))),(IF(SUM(COUNTIF($AC$3:AC79,1),COUNTIF($AC$3:AC79,-1))=0,1,SUM(COUNTIF($AC$3:AC79,1),COUNTIF($AC$3:AC79,-1)))),(IF(SUM(COUNTIF($AE$3:AE79,1),COUNTIF($AE$3:AE79,-1))=0,1,SUM(COUNTIF($AE$3:AE79,1),COUNTIF($AE$3:AE79,-1)))),(IF(SUM(COUNTIF($AG$3:AG79,1),COUNTIF($AG$3:AG79,-1))=0,1,SUM(COUNTIF($AG$3:AG79,1),COUNTIF($AG$3:AG79,-1)))),(IF(SUM(COUNTIF($AI$3:AI79,1),COUNTIF($AI$3:AI79,-1))=0,1,SUM(COUNTIF($AI$3:AI79,1),COUNTIF($AI$3:AI79,-1)))),(IF(SUM(COUNTIF($AK$3:AK79,1),COUNTIF($AK$3:AK79,-1))=0,1,SUM(COUNTIF($AK$3:AK79,1),COUNTIF($AK$3:AK79,-1)))))/1000)","v":1.3027260075093867},16.149999999999999,null,{"$f":"+SUM(COUNTIF($AI$3:AI79,1),COUNTIF($AI$3:AI79,-1))","v":33},{"$f":"+SUM($U$4:U79)","v":4143},125.54545454545455,{"$f":"+SUM(COUNTIF($AI$3:AI79,1))","v":12},{"$f":"+SUM(COUNTIF($AI$3:AI79,-1))","v":21},-9,{"$f":"+BX79*(HARMEAN((IF(SUM(COUNTIF($Z$3:Z79,1),COUNTIF($Z$3:Z79,-1))=0,1,SUM(COUNTIF($Z$3:Z79,1),COUNTIF($Z$3:Z79,-1)))),(IF(SUM(COUNTIF($AC$3:AC79,1),COUNTIF($AC$3:AC79,-1))=0,1,SUM(COUNTIF($AC$3:AC79,1),COUNTIF($AC$3:AC79,-1)))),(IF(SUM(COUNTIF($AE$3:AE79,1),COUNTIF($AE$3:AE79,-1))=0,1,SUM(COUNTIF($AE$3:AE79,1),COUNTIF($AE$3:AE79,-1)))),(IF(SUM(COUNTIF($AG$3:AG79,1),COUNTIF($AG$3:AG79,-1))=0,1,SUM(COUNTIF($AG$3:AG79,1),COUNTIF($AG$3:AG79,-1)))),(IF(SUM(COUNTIF($AI$3:AI79,1),COUNTIF($AI$3:AI79,-1))=0,1,SUM(COUNTIF($AI$3:AI79,1),COUNTIF($AI$3:AI79,-1)))),(IF(SUM(COUNTIF($AK$3:AK79,1),COUNTIF($AK$3:AK79,-1))=0,1,SUM(COUNTIF($AK$3:AK79,1),COUNTIF($AK$3:AK79,-1)))))/1000)","v":1.1618907634543179},-17.100999999999999,null,{"$f":"+SUM(COUNTIF($AK$3:AK79,1),COUNTIF($AK$3:AK79,-1))","v":32},{"$f":"+SUM($W$4:W79)","v":3591},112.21875,{"$f":"+SUM(COUNTIF($AK$3:AK79,1))","v":12},{"$f":"+SUM(COUNTIF($AK$3:AK79,-1))","v":20},-8,{"$f":"+CG79*(HARMEAN((IF(SUM(COUNTIF($Z$3:Z79,1),COUNTIF($Z$3:Z79,-1))=0,1,SUM(COUNTIF($Z$3:Z79,1),COUNTIF($Z$3:Z79,-1)))),(IF(SUM(COUNTIF($AC$3:AC79,1),COUNTIF($AC$3:AC79,-1))=0,1,SUM(COUNTIF($AC$3:AC79,1),COUNTIF($AC$3:AC79,-1)))),(IF(SUM(COUNTIF($AE$3:AE79,1),COUNTIF($AE$3:AE79,-1))=0,1,SUM(COUNTIF($AE$3:AE79,1),COUNTIF($AE$3:AE79,-1)))),(IF(SUM(COUNTIF($AG$3:AG79,1),COUNTIF($AG$3:AG79,-1))=0,1,SUM(COUNTIF($AG$3:AG79,1),COUNTIF($AG$3:AG79,-1)))),(IF(SUM(COUNTIF($AI$3:AI79,1),COUNTIF($AI$3:AI79,-1))=0,1,SUM(COUNTIF($AI$3:AI79,1),COUNTIF($AI$3:AI79,-1)))),(IF(SUM(COUNTIF($AK$3:AK79,1),COUNTIF($AK$3:AK79,-1))=0,1,SUM(COUNTIF($AK$3:AK79,1),COUNTIF($AK$3:AK79,-1)))))/1000)","v":1.1266819524405507},-15.523999999999999]
[77,"",null,{"$f":"+IFERROR(INDEX('Auswertung AoE II'!$AE:$AE,MATCH(A80,'Auswertung AoE II'!$AD:$AD,0)),\"\")","v":""},{"$f":"+IFERROR(INDEX('Auswertung AoE III'!$AE:$AE,MATCH(A80,'Auswertung AoE III'!$AD:$AD,0)),\"\")","v":""},{"$f":"+IFERROR(INDEX('Auswertung AoM'!$AE:$AE,MATCH(A80,'Auswertung AoM'!$AD:$AD,0)),\"\")","v":""},{"$f":"+IFERROR(INDEX('Auswertung RA'!$AE:$AE,MATCH(A80,'Auswertung RA'!$AD:$AD,0)),\"\")","v":""},{"$f":"+IFERROR(INDEX('Auswertung Yuri'!$AE:$AE,MATCH(A80,'Auswertung Yuri'!$AD:$AD,0)),\"\")","v":""},{"$f":"+IFERROR(INDEX('Auswertung Generals'!$AE:$AE,MATCH(A80,'Auswertung Generals'!$AD:$AD,0)),\"\")","v":""},"Auswertung ",null,null,{"$f":"+IF(ISERROR(+INDIRECT(CONCATENATE(\"'\",J80,\"'!\",(ADDRESS((COUNTIF($J$3:J80,IF(B80<>0,CONCATENATE(\"Auswertung \",B80,\"\"))))+2,2)))))=FALSE,+INDIRECT(CONCATENATE(\"'\",J80,\"'!\",(ADDRESS((COUNTIF($J$3:J80,IF(B80<>0,CONCATENATE(\"Auswertung \",B80,\"\"))))+4,2)))),\"\")","v":""},{"$f":"IF(ISERROR(+INDIRECT(CONCATENATE(\"'\",J80,\"'!\",(ADDRESS((COUNTIF($J$3:J80,IF(B80<>0,CONCATENATE(\"Auswertung \",B80,\"\"))))+2,2+1)))))=FALSE,+INDIRECT(CONCATENATE(\"'\",J80,\"'!\",(ADDRESS((COUNTIF($J$3:J80,IF(B80<>0,CONCATENATE(\"Auswertung \",B80,\"\"))))+4,2+1)))),\"\")","v":""},{"$f":"+IF(ISERROR(+INDIRECT(CONCATENATE(\"'\",J80,\"'!\",(ADDRESS((COUNTIF($J$3:J80,IF(B80<>0,CONCATENATE(\"Auswertung \",B80,\"\"))))+2,4)))))=FALSE,+INDIRECT(CONCATENATE(\"'\",J80,\"'!\",(ADDRESS((COUNTIF($J$3:J80,IF(B80<>0,CONCATENATE(\"Auswertung \",B80,\"\"))))+4,4)))),\"\")","v":""},{"$f":"+IF(ISERROR(+INDIRECT(CONCATENATE(\"'\",J80,\"'!\",(ADDRESS((COUNTIF($J$3:J80,IF(B80<>0,CONCATENATE(\"Auswertung \",B80,\"\"))))+2,5)))))=FALSE,+INDIRECT(CONCATENATE(\"'\",J80,\"'!\",(ADDRESS((COUNTIF($J$3:J80,IF(B80<>0,CONCATENATE(\"Auswertung \",B80,\"\"))))+4,5)))),\"\")","v":""},{"$f":"+IF(ISERROR(+INDIRECT(CONCATENATE(\"'\",J80,\"'!\",(ADDRESS((COUNTIF($J$3:J80,IF(B80<>0,CONCATENATE(\"Auswertung \",B80,\"\"))))+2,6)))))=FALSE,+INDIRECT(CONCATENATE(\"'\",J80,\"'!\",(ADDRESS((COUNTIF($J$3:J80,IF(B80<>0,CONCATENATE(\"Auswertung \",B80,\"\"))))+4,6)))),\"\")","v":""},{"$f":"+IF(ISERROR(+INDIRECT(CONCATENATE(\"'\",J80,\"'!\",(ADDRESS((COUNTIF($J$3:J80,IF(B80<>0,CONCATENATE(\"Auswertung \",B80,\"\"))))+2,7)))))=FALSE,+INDIRECT(CONCATENATE(\"'\",J80,\"'!\",(ADDRESS((COUNTIF($J$3:J80,IF(B80<>0,CONCATENATE(\"Auswertung \",B80,\"\"))))+4,7)))),\"\")","v":""},{"$f":"+IF(ISERROR(+INDIRECT(CONCATENATE(\"'\",J80,\"'!\",(ADDRESS((COUNTIF($J$3:J80,IF(B80<>0,CONCATENATE(\"Auswertung \",B80,\"\"))))+2,10)))))=FALSE,+INDIRECT(CONCATENATE(\"'\",J80,\"'!\",(ADDRESS((COUNTIF($J$3:J80,IF(B80<>0,CONCATENATE(\"Auswertung \",B80,\"\"))))+4,8)))),\"\")","v":""},{"$f":"+IF(ISERROR(+INDIRECT(CONCATENATE(\"'\",J80,\"'!\",(ADDRESS((COUNTIF($J$3:J80,IF(B80<>0,CONCATENATE(\"Auswertung \",B80,\"\"))))+2,11)))))=FALSE,+INDIRECT(CONCATENATE(\"'\",J80,\"'!\",(ADDRESS((COUNTIF($J$3:J80,IF(B80<>0,CONCATENATE(\"Auswertung \",B80,\"\"))))+4,9)))),\"\")","v":""},{"$f":"+IF(ISERROR(+INDIRECT(CONCATENATE(\"'\",J80,\"'!\",(ADDRESS((COUNTIF($J$3:J80,IF(B80<>0,CONCATENATE(\"Auswertung \",B80,\"\"))))+2,10)))))=FALSE,+INDIRECT(CONCATENATE(\"'\",J80,\"'!\",(ADDRESS((COUNTIF($J$3:J80,IF(B80<>0,CONCATENATE(\"Auswertung \",B80,\"\"))))+4,10)))),\"\")","v":""},{"$f":"+IF(ISERROR(+INDIRECT(CONCATENATE(\"'\",J80,\"'!\",(ADDRESS((COUNTIF($J$3:J80,IF(B80<>0,CONCATENATE(\"Auswertung \",B80,\"\"))))+2,11)))))=FALSE,+INDIRECT(CONCATENATE(\"'\",J80,\"'!\",(ADDRESS((COUNTIF($J$3:J80,IF(B80<>0,CONCATENATE(\"Auswertung \",B80,\"\"))))+4,11)))),\"\")","v":""},{"$f":"+IF(ISERROR(+INDIRECT(CONCATENATE(\"'\",J80,\"'!\",(ADDRESS((COUNTIF($J$3:J80,IF(D80<>0,CONCATENATE(\"Auswertung \",D80,\"\"))))+2,12)))))=FALSE,+INDIRECT(CONCATENATE(\"'\",J80,\"'!\",(ADDRESS((COUNTIF($J$3:J80,IF(D80<>0,CONCATENATE(\"Auswertung \",B80,\"\"))))+4,12)))),\"\")","v":""},{"$f":"+IF(ISERROR(+INDIRECT(CONCATENATE(\"'\",J80,\"'!\",(ADDRESS((COUNTIF($J$3:J80,IF(D80<>0,CONCATENATE(\"Auswertung \",D80,\"\"))))+2,13)))))=FALSE,+INDIRECT(CONCATENATE(\"'\",J80,\"'!\",(ADDRESS((COUNTIF($J$3:J80,IF(D80<>0,CONCATENATE(\"Auswertung \",B80,\"\"))))+4,13)))),\"\")","v":""},null,{"$f":"+IFERROR(INDIRECT(CONCATENATE(\"'\",J80,\"'!\",(ADDRESS((COUNTIF($J$3:J80,IF(B80<>0,J80)))+4,16)))),\"\")","v":""},21.942,{"$f":"+SUM($M$4:M80)/COUNT($M$4:M80)/1000*2","v":0.28281081081081083},{"$f":"+IFERROR(INDIRECT(CONCATENATE(\"'\",J80,\"'!\",(ADDRESS((COUNTIF($J$3:J80,IF(B80<>0,J80)))+4,18)))),\"\")","v":""},50.264000000000003,{"$f":"+IFERROR(INDIRECT(CONCATENATE(\"'\",J80,\"'!\",(ADDRESS((COUNTIF($J$3:J80,IF(B80<>0,J80)))+4,20)))),\"\")","v":""},44.247,{"$f":"+IFERROR(INDIRECT(CONCATENATE(\"'\",J80,\"'!\",(ADDRESS((COUNTIF($J$3:J80,IF(B80<>0,J80)))+4,22)))),\"\")","v":""},16.149999999999999,{"$f":"+IFERROR(INDIRECT(CONCATENATE(\"'\",J80,\"'!\",(ADDRESS((COUNTIF($J$3:J80,IF(B80<>0,J80)))+4,24)))),\"\")","v":""},-17.100999999999999,{"$f":"+IFERROR(INDIRECT(CONCATENATE(\"'\",J80,\"'!\",(ADDRESS((COUNTIF($J$3:J80,IF(B80<>0,J80)))+4,26)))),\"\")","v":""},-15.523999999999999,77,{"$f":"+SUM(COUNTIF($Z$3:Z80,1),COUNTIF($Z$3:Z80,-1))","v":37},{"$f":"+SUM($M$4:M80)","v":5232},141.40540540540542,{"$f":"+SUM(COUNTIF($Z$3:Z80,1))","v":19},{"$f":"+SUM(COUNTIF($Z$3:Z80,-1))","v":18},1,{"$f":"AN80*(HARMEAN((IF(SUM(COUNTIF($Z$3:Z80,1),COUNTIF($Z$3:Z80,-1))=0,1,SUM(COUNTIF($Z$3:Z80,1),COUNTIF($Z$3:Z80,-1)))),(IF(SUM(COUNTIF($AC$3:AC80,1),COUNTIF($AC$3:AC80,-1))=0,1,SUM(COUNTIF($AC$3:AC80,1),COUNTIF($AC$3:AC80,-1)))),(IF(SUM(COUNTIF($AE$3:AE80,1),COUNTIF($AE$3:AE80,-1))=0,1,SUM(COUNTIF($AE$3:AE80,1),COUNTIF($AE$3:AE80,-1)))),(IF(SUM(COUNTIF($AG$3:AG80,1),COUNTIF($AG$3:AG80,-1))=0,1,SUM(COUNTIF($AG$3:AG80,1),COUNTIF($AG$3:AG80,-1)))),(IF(SUM(COUNTIF($AI$3:AI80,1),COUNTIF($AI$3:AI80,-1))=0,1,SUM(COUNTIF($AI$3:AI80,1),COUNTIF($AI$3:AI80,-1)))),(IF(SUM(COUNTIF($AK$3:AK80,1),COUNTIF($AK$3:AK80,-1))=0,1,SUM(COUNTIF($AK$3:AK80,1),COUNTIF($AK$3:AK80,-1)))))/1000)","v":1.3027260075093867},21.942,null,{"$f":"+SUM(COUNTIF($AC$3:AC80,1),COUNTIF($AC$3:AC80,-1))","v":37},{"$f":"+SUM($O$4:O80)","v":5276},142.59459459459458,{"$f":"+SUM(COUNTIF($AC$3:AC80,1))","v":23},{"$f":"+SUM(COUNTIF($AC$3:AC80,-1))","v":14},9,{"$f":"AW80*(HARMEAN((IF(SUM(COUNTIF($Z$3:Z80,1),COUNTIF($Z$3:Z80,-1))=0,1,SUM(COUNTIF($Z$3:Z80,1),COUNTIF($Z$3:Z80,-1)))),(IF(SUM(COUNTIF($AC$3:AC80,1),COUNTIF($AC$3:AC80,-1))=0,1,SUM(COUNTIF($AC$3:AC80,1),COUNTIF($AC$3:AC80,-1)))),(IF(SUM(COUNTIF($AE$3:AE80,1),COUNTIF($AE$3:AE80,-1))=0,1,SUM(COUNTIF($AE$3:AE80,1),COUNTIF($AE$3:AE80,-1)))),(IF(SUM(COUNTIF($AG$3:AG80,1),COUNTIF($AG$3:AG80,-1))=0,1,SUM(COUNTIF($AG$3:AG80,1),COUNTIF($AG$3:AG80,-1)))),(IF(SUM(COUNTIF($AI$3:AI80,1),COUNTIF($AI$3:AI80,-1))=0,1,SUM(COUNTIF($AI$3:AI80,1),COUNTIF($AI$3:AI80,-1)))),(IF(SUM(COUNTIF($AK$3:AK80,1),COUNTIF($AK$3:AK80,-1))=0,1,SUM(COUNTIF($AK$3:AK80,1),COUNTIF($AK$3:AK80,-1)))))/1000)","v":1.3027260075093867},50.264000000000003,null,{"$f":"+SUM(COUNTIF($AE$3:AE80,1),COUNTIF(AE$3:$AE80,-1))","v":36},{"$f":"+SUM($Q$4:Q80)","v":4567},126.86111111111111,{"$f":"+SUM(COUNTIF($AE$3:AE80,1))","v":22},{"$f":"+SUM(COUNTIF($AE$3:AE80,-1))","v":14},8,{"$f":"BF80*(HARMEAN((IF(SUM(COUNTIF($Z$3:Z80,1),COUNTIF($Z$3:Z80,-1))=0,1,SUM(COUNTIF($Z$3:Z80,1),COUNTIF($Z$3:Z80,-1)))),(IF(SUM(COUNTIF($AC$3:AC80,1),COUNTIF($AC$3:AC80,-1))=0,1,SUM(COUNTIF($AC$3:AC80,1),COUNTIF($AC$3:AC80,-1)))),(IF(SUM(COUNTIF($AE$3:AE80,1),COUNTIF($AE$3:AE80,-1))=0,1,SUM(COUNTIF($AE$3:AE80,1),COUNTIF($AE$3:AE80,-1)))),(IF(SUM(COUNTIF($AG$3:AG80,1),COUNTIF($AG$3:AG80,-1))=0,1,SUM(COUNTIF($AG$3:AG80,1),COUNTIF($AG$3:AG80,-1)))),(IF(SUM(COUNTIF($AI$3:AI80,1),COUNTIF($AI$3:AI80,-1))=0,1,SUM(COUNTIF($AI$3:AI80,1),COUNTIF($AI$3:AI80,-1)))),(IF(SUM(COUNTIF($AK$3:AK80,1),COUNTIF($AK$3:AK80,-1))=0,1,SUM(COUNTIF($AK$3:AK80,1),COUNTIF($AK$3:AK80,-1)))))/1000)","v":1.2675171964956196},44.247,null,{"$f":"+SUM(COUNTIF($AG$3:AG80,1),COUNTIF($AG$3:AG80,-1))","v":37},{"$f":"+SUM($S$4:S80)","v":5587},151,{"$f":"+SUM(COUNTIF($AG$3:AG80,1))","v":18},{"$f":"+SUM(COUNTIF($AG$3:AG80,-1))","v":19},-1,{"$f":"BO80*(HARMEAN((IF(SUM(COUNTIF($Z$3:Z80,1),COUNTIF($Z$3:Z80,-1))=0,1,SUM(COUNTIF($Z$3:Z80,1),COUNTIF($Z$3:Z80,-1)))),(IF(SUM(COUNTIF($AC$3:AC80,1),COUNTIF($AC$3:AC80,-1))=0,1,SUM(COUNTIF($AC$3:AC80,1),COUNTIF($AC$3:AC80,-1)))),(IF(SUM(COUNTIF($AE$3:AE80,1),COUNTIF($AE$3:AE80,-1))=0,1,SUM(COUNTIF($AE$3:AE80,1),COUNTIF($AE$3:AE80,-1)))),(IF(SUM(COUNTIF($AG$3:AG80,1),COUNTIF($AG$3:AG80,-1))=0,1,SUM(COUNTIF($AG$3:AG80,1),COUNTIF($AG$3:AG80,-1)))),(IF(SUM(COUNTIF($AI$3:AI80,1),COUNTIF($AI$3:AI80,-1))=0,1,SUM(COUNTIF($AI$3:AI80,1),COUNTIF($AI$3:AI80,-1)))),(IF(SUM(COUNTIF($AK$3:AK80,1),COUNTIF($AK$3:AK80,-1))=0,1,SUM(COUNTIF($AK$3:AK80,1),COUNTIF($AK$3:AK80,-1)))))/1000)","v":1.3027260075093867},16.149999999999999,null,{"$f":"+SUM(COUNTIF($AI$3:AI80,1),COUNTIF($AI$3:AI80,-1))","v":33},{"$f":"+SUM($U$4:U80)","v":4143},125.54545454545455,{"$f":"+SUM(COUNTIF($AI$3:AI80,1))","v":12},{"$f":"+SUM(COUNTIF($AI$3:AI80,-1))","v":21},-9,{"$f":"+BX80*(HARMEAN((IF(SUM(COUNTIF($Z$3:Z80,1),COUNTIF($Z$3:Z80,-1))=0,1,SUM(COUNTIF($Z$3:Z80,1),COUNTIF($Z$3:Z80,-1)))),(IF(SUM(COUNTIF($AC$3:AC80,1),COUNTIF($AC$3:AC80,-1))=0,1,SUM(COUNTIF($AC$3:AC80,1),COUNTIF($AC$3:AC80,-1)))),(IF(SUM(COUNTIF($AE$3:AE80,1),COUNTIF($AE$3:AE80,-1))=0,1,SUM(COUNTIF($AE$3:AE80,1),COUNTIF($AE$3:AE80,-1)))),(IF(SUM(COUNTIF($AG$3:AG80,1),COUNTIF($AG$3:AG80,-1))=0,1,SUM(COUNTIF($AG$3:AG80,1),COUNTIF($AG$3:AG80,-1)))),(IF(SUM(COUNTIF($AI$3:AI80,1),COUNTIF($AI$3:AI80,-1))=0,1,SUM(COUNTIF($AI$3:AI80,1),COUNTIF($AI$3:AI80,-1)))),(IF(SUM(COUNTIF($AK$3:AK80,1),COUNTIF($AK$3:AK80,-1))=0,1,SUM(COUNTIF($AK$3:AK80,1),COUNTIF($AK$3:AK80,-1)))))/1000)","v":1.1618907634543179},-17.100999999999999,null,{"$f":"+SUM(COUNTIF($AK$3:AK80,1),COUNTIF($AK$3:AK80,-1))","v":32},{"$f":"+SUM($W$4:W80)","v":3591},112.21875,{"$f":"+SUM(COUNTIF($AK$3:AK80,1))","v":12},{"$f":"+SUM(COUNTIF($AK$3:AK80,-1))","v":20},-8,{"$f":"+CG80*(HARMEAN((IF(SUM(COUNTIF($Z$3:Z80,1),COUNTIF($Z$3:Z80,-1))=0,1,SUM(COUNTIF($Z$3:Z80,1),COUNTIF($Z$3:Z80,-1)))),(IF(SUM(COUNTIF($AC$3:AC80,1),COUNTIF($AC$3:AC80,-1))=0,1,SUM(COUNTIF($AC$3:AC80,1),COUNTIF($AC$3:AC80,-1)))),(IF(SUM(COUNTIF($AE$3:AE80,1),COUNTIF($AE$3:AE80,-1))=0,1,SUM(COUNTIF($AE$3:AE80,1),COUNTIF($AE$3:AE80,-1)))),(IF(SUM(COUNTIF($AG$3:AG80,1),COUNTIF($AG$3:AG80,-1))=0,1,SUM(COUNTIF($AG$3:AG80,1),COUNTIF($AG$3:AG80,-1)))),(IF(SUM(COUNTIF($AI$3:AI80,1),COUNTIF($AI$3:AI80,-1))=0,1,SUM(COUNTIF($AI$3:AI80,1),COUNTIF($AI$3:AI80,-1)))),(IF(SUM(COUNTIF($AK$3:AK80,1),COUNTIF($AK$3:AK80,-1))=0,1,SUM(COUNTIF($AK$3:AK80,1),COUNTIF($AK$3:AK80,-1)))))/1000)","v":1.1266819524405507},-15.523999999999999]
[78,"",null,{"$f":"+IFERROR(INDEX('Auswertung AoE II'!$AE:$AE,MATCH(A81,'Auswertung AoE II'!$AD:$AD,0)),\"\")","v":""},{"$f":"+IFERROR(INDEX('Auswertung AoE III'!$AE:$AE,MATCH(A81,'Auswertung AoE III'!$AD:$AD,0)),\"\")","v":""},{"$f":"+IFERROR(INDEX('Auswertung AoM'!$AE:$AE,MATCH(A81,'Auswertung AoM'!$AD:$AD,0)),\"\")","v":""},{"$f":"+IFERROR(INDEX('Auswertung RA'!$AE:$AE,MATCH(A81,'Auswertung RA'!$AD:$AD,0)),\"\")","v":""},{"$f":"+IFERROR(INDEX('Auswertung Yuri'!$AE:$AE,MATCH(A81,'Auswertung Yuri'!$AD:$AD,0)),\"\")","v":""},{"$f":"+IFERROR(INDEX('Auswertung Generals'!$AE:$AE,MATCH(A81,'Auswertung Generals'!$AD:$AD,0)),\"\")","v":""},"Auswertung ",null,null,{"$f":"+IF(ISERROR(+INDIRECT(CONCATENATE(\"'\",J81,\"'!\",(ADDRESS((COUNTIF($J$3:J81,IF(B81<>0,CONCATENATE(\"Auswertung \",B81,\"\"))))+2,2)))))=FALSE,+INDIRECT(CONCATENATE(\"'\",J81,\"'!\",(ADDRESS((COUNTIF($J$3:J81,IF(B81<>0,CONCATENATE(\"Auswertung \",B81,\"\"))))+4,2)))),\"\")","v":""},{"$f":"IF(ISERROR(+INDIRECT(CONCATENATE(\"'\",J81,\"'!\",(ADDRESS((COUNTIF($J$3:J81,IF(B81<>0,CONCATENATE(\"Auswertung \",B81,\"\"))))+2,2+1)))))=FALSE,+INDIRECT(CONCATENATE(\"'\",J81,\"'!\",(ADDRESS((COUNTIF($J$3:J81,IF(B81<>0,CONCATENATE(\"Auswertung \",B81,\"\"))))+4,2+1)))),\"\")","v":""},{"$f":"+IF(ISERROR(+INDIRECT(CONCATENATE(\"'\",J81,\"'!\",(ADDRESS((COUNTIF($J$3:J81,IF(B81<>0,CONCATENATE(\"Auswertung \",B81,\"\"))))+2,4)))))=FALSE,+INDIRECT(CONCATENATE(\"'\",J81,\"'!\",(ADDRESS((COUNTIF($J$3:J81,IF(B81<>0,CONCATENATE(\"Auswertung \",B81,\"\"))))+4,4)))),\"\")","v":""},{"$f":"+IF(ISERROR(+INDIRECT(CONCATENATE(\"'\",J81,\"'!\",(ADDRESS((COUNTIF($J$3:J81,IF(B81<>0,CONCATENATE(\"Auswertung \",B81,\"\"))))+2,5)))))=FALSE,+INDIRECT(CONCATENATE(\"'\",J81,\"'!\",(ADDRESS((COUNTIF($J$3:J81,IF(B81<>0,CONCATENATE(\"Auswertung \",B81,\"\"))))+4,5)))),\"\")","v":""},{"$f":"+IF(ISERROR(+INDIRECT(CONCATENATE(\"'\",J81,\"'!\",(ADDRESS((COUNTIF($J$3:J81,IF(B81<>0,CONCATENATE(\"Auswertung \",B81,\"\"))))+2,6)))))=FALSE,+INDIRECT(CONCATENATE(\"'\",J81,\"'!\",(ADDRESS((COUNTIF($J$3:J81,IF(B81<>0,CONCATENATE(\"Auswertung \",B81,\"\"))))+4,6)))),\"\")","v":""},{"$f":"+IF(ISERROR(+INDIRECT(CONCATENATE(\"'\",J81,\"'!\",(ADDRESS((COUNTIF($J$3:J81,IF(B81<>0,CONCATENATE(\"Auswertung \",B81,\"\"))))+2,7)))))=FALSE,+INDIRECT(CONCATENATE(\"'\",J81,\"'!\",(ADDRESS((COUNTIF($J$3:J81,IF(B81<>0,CONCATENATE(\"Auswertung \",B81,\"\"))))+4,7)))),\"\")","v":""},{"$f":"+IF(ISERROR(+INDIRECT(CONCATENATE(\"'\",J81,\"'!\",(ADDRESS((COUNTIF($J$3:J81,IF(B81<>0,CONCATENATE(\"Auswertung \",B81,\"\"))))+2,10)))))=FALSE,+INDIRECT(CONCATENATE(\"'\",J81,\"'!\",(ADDRESS((COUNTIF($J$3:J81,IF(B81<>0,CONCATENATE(\"Auswertung \",B81,\"\"))))+4,8)))),\"\")","v":""},{"$f":"+IF(ISERROR(+INDIRECT(CONCATENATE(\"'\",J81,\"'!\",(ADDRESS((COUNTIF($J$3:J81,IF(B81<>0,CONCATENATE(\"Auswertung \",B81,\"\"))))+2,11)))))=FALSE,+INDIRECT(CONCATENATE(\"'\",J81,\"'!\",(ADDRESS((COUNTIF($J$3:J81,IF(B81<>0,CONCATENATE(\"Auswertung \",B81,\"\"))))+4,9)))),\"\")","v":""},{"$f":"+IF(ISERROR(+INDIRECT(CONCATENATE(\"'\",J81,\"'!\",(ADDRESS((COUNTIF($J$3:J81,IF(B81<>0,CONCATENATE(\"Auswertung \",B81,\"\"))))+2,10)))))=FALSE,+INDIRECT(CONCATENATE(\"'\",J81,\"'!\",(ADDRESS((COUNTIF($J$3:J81,IF(B81<>0,CONCATENATE(\"Auswertung \",B81,\"\"))))+4,10)))),\"\")","v":""},{"$f":"+IF(ISERROR(+INDIRECT(CONCATENATE(\"'\",J81,\"'!\",(ADDRESS((COUNTIF($J$3:J81,IF(B81<>0,CONCATENATE(\"Auswertung \",B81,\"\"))))+2,11)))))=FALSE,+INDIRECT(CONCATENATE(\"'\",J81,\"'!\",(ADDRESS((COUNTIF($J$3:J81,IF(B81<>0,CONCATENATE(\"Auswertung \",B81,\"\"))))+4,11)))),\"\")","v":""},{"$f":"+IF(ISERROR(+INDIRECT(CONCATENATE(\"'\",J81,\"'!\",(ADDRESS((COUNTIF($J$3:J81,IF(D81<>0,CONCATENATE(\"Auswertung \",D81,\"\"))))+2,12)))))=FALSE,+INDIRECT(CONCATENATE(\"'\",J81,\"'!\",(ADDRESS((COUNTIF($J$3:J81,IF(D81<>0,CONCATENATE(\"Auswertung \",B81,\"\"))))+4,12)))),\"\")","v":""},{"$f":"+IF(ISERROR(+INDIRECT(CONCATENATE(\"'\",J81,\"'!\",(ADDRESS((COUNTIF($J$3:J81,IF(D81<>0,CONCATENATE(\"Auswertung \",D81,\"\"))))+2,13)))))=FALSE,+INDIRECT(CONCATENATE(\"'\",J81,\"'!\",(ADDRESS((COUNTIF($J$3:J81,IF(D81<>0,CONCATENATE(\"Auswertung \",B81,\"\"))))+4,13)))),\"\")","v":""},null,{"$f":"+IFERROR(INDIRECT(CONCATENATE(\"'\",J81,\"'!\",(ADDRESS((COUNTIF($J$3:J81,IF(B81<>0,J81)))+4,16)))),\"\")","v":""},21.942,{"$f":"+SUM($M$4:M81)/COUNT($M$4:M81)/1000*2","v":0.28281081081081083},{"$f":"+IFERROR(INDIRECT(CONCATENATE(\"'\",J81,\"'!\",(ADDRESS((COUNTIF($J$3:J81,IF(B81<>0,J81)))+4,18)))),\"\")","v":""},50.264000000000003,{"$f":"+IFERROR(INDIRECT(CONCATENATE(\"'\",J81,\"'!\",(ADDRESS((COUNTIF($J$3:J81,IF(B81<>0,J81)))+4,20)))),\"\")","v":""},44.247,{"$f":"+IFERROR(INDIRECT(CONCATENATE(\"'\",J81,\"'!\",(ADDRESS((COUNTIF($J$3:J81,IF(B81<>0,J81)))+4,22)))),\"\")","v":""},16.149999999999999,{"$f":"+IFERROR(INDIRECT(CONCATENATE(\"'\",J81,\"'!\",(ADDRESS((COUNTIF($J$3:J81,IF(B81<>0,J81)))+4,24)))),\"\")","v":""},-17.100999999999999,{"$f":"+IFERROR(INDIRECT(CONCATENATE(\"'\",J81,\"'!\",(ADDRESS((COUNTIF($J$3:J81,IF(B81<>0,J81)))+4,26)))),\"\")","v":""},-15.523999999999999,78,{"$f":"+SUM(COUNTIF($Z$3:Z81,1),COUNTIF($Z$3:Z81,-1))","v":37},{"$f":"+SUM($M$4:M81)","v":5232},{"$f":"+AO81/AN81","v":141.40540540540542},{"$f":"+SUM(COUNTIF($Z$3:Z81,1))","v":19},{"$f":"+SUM(COUNTIF($Z$3:Z81,-1))","v":18},{"$f":"+AQ81-AR81","v":1},{"$f":"AN81*(HARMEAN((IF(SUM(COUNTIF($Z$3:Z81,1),COUNTIF($Z$3:Z81,-1))=0,1,SUM(COUNTIF($Z$3:Z81,1),COUNTIF($Z$3:Z81,-1)))),(IF(SUM(COUNTIF($AC$3:AC81,1),COUNTIF($AC$3:AC81,-1))=0,1,SUM(COUNTIF($AC$3:AC81,1),COUNTIF($AC$3:AC81,-1)))),(IF(SUM(COUNTIF($AE$3:AE81,1),COUNTIF($AE$3:AE81,-1))=0,1,SUM(COUNTIF($AE$3:AE81,1),COUNTIF($AE$3:AE81,-1)))),(IF(SUM(COUNTIF($AG$3:AG81,1),COUNTIF($AG$3:AG81,-1))=0,1,SUM(COUNTIF($AG$3:AG81,1),COUNTIF($AG$3:AG81,-1)))),(IF(SUM(COUNTIF($AI$3:AI81,1),COUNTIF($AI$3:AI81,-1))=0,1,SUM(COUNTIF($AI$3:AI81,1),COUNTIF($AI$3:AI81,-1)))),(IF(SUM(COUNTIF($AK$3:AK81,1),COUNTIF($AK$3:AK81,-1))=0,1,SUM(COUNTIF($AK$3:AK81,1),COUNTIF($AK$3:AK81,-1)))))/1000)","v":1.3027260075093867},{"$f":"IF(AN81=0,\"-\",IF(AN81=0,0,ROUND(((AQ81/AN81-AR81/AN81)*100+AP81/10)*AT81,3)))","v":21.942},null,{"$f":"+SUM(COUNTIF($AC$3:AC81,1),COUNTIF($AC$3:AC81,-1))","v":37},{"$f":"+SUM($O$4:O81)","v":5276},{"$f":"+AX81/AW81","v":142.59459459459458},{"$f":"+SUM(COUNTIF($AC$3:AC81,1))","v":23},{"$f":"+SUM(COUNTIF($AC$3:AC81,-1))","v":14},{"$f":"+AZ81-BA81","v":9},{"$f":"AW81*(HARMEAN((IF(SUM(COUNTIF($Z$3:Z81,1),COUNTIF($Z$3:Z81,-1))=0,1,SUM(COUNTIF($Z$3:Z81,1),COUNTIF($Z$3:Z81,-1)))),(IF(SUM(COUNTIF($AC$3:AC81,1),COUNTIF($AC$3:AC81,-1))=0,1,SUM(COUNTIF($AC$3:AC81,1),COUNTIF($AC$3:AC81,-1)))),(IF(SUM(COUNTIF($AE$3:AE81,1),COUNTIF($AE$3:AE81,-1))=0,1,SUM(COUNTIF($AE$3:AE81,1),COUNTIF($AE$3:AE81,-1)))),(IF(SUM(COUNTIF($AG$3:AG81,1),COUNTIF($AG$3:AG81,-1))=0,1,SUM(COUNTIF($AG$3:AG81,1),COUNTIF($AG$3:AG81,-1)))),(IF(SUM(COUNTIF($AI$3:AI81,1),COUNTIF($AI$3:AI81,-1))=0,1,SUM(COUNTIF($AI$3:AI81,1),COUNTIF($AI$3:AI81,-1)))),(IF(SUM(COUNTIF($AK$3:AK81,1),COUNTIF($AK$3:AK81,-1))=0,1,SUM(COUNTIF($AK$3:AK81,1),COUNTIF($AK$3:AK81,-1)))))/1000)","v":1.3027260075093867},{"$f":"IF(AW81=0,\"-\",IF(AN81=0,0,ROUND(((AZ81/AW81-BA81/AW81)*100+AY81/10)*BC81,3)))","v":50.264000000000003},null,{"$f":"+SUM(COUNTIF($AE$3:AE81,1),COUNTIF(AE$3:$AE81,-1))","v":36},{"$f":"+SUM($Q$4:Q81)","v":4567},{"$f":"+BG81/BF81","v":126.86111111111111},{"$f":"+SUM(COUNTIF($AE$3:AE81,1))","v":22},{"$f":"+SUM(COUNTIF($AE$3:AE81,-1))","v":14},{"$f":"+BI81-BJ81","v":8},{"$f":"BF81*(HARMEAN((IF(SUM(COUNTIF($Z$3:Z81,1),COUNTIF($Z$3:Z81,-1))=0,1,SUM(COUNTIF($Z$3:Z81,1),COUNTIF($Z$3:Z81,-1)))),(IF(SUM(COUNTIF($AC$3:AC81,1),COUNTIF($AC$3:AC81,-1))=0,1,SUM(COUNTIF($AC$3:AC81,1),COUNTIF($AC$3:AC81,-1)))),(IF(SUM(COUNTIF($AE$3:AE81,1),COUNTIF($AE$3:AE81,-1))=0,1,SUM(COUNTIF($AE$3:AE81,1),COUNTIF($AE$3:AE81,-1)))),(IF(SUM(COUNTIF($AG$3:AG81,1),COUNTIF($AG$3:AG81,-1))=0,1,SUM(COUNTIF($AG$3:AG81,1),COUNTIF($AG$3:AG81,-1)))),(IF(SUM(COUNTIF($AI$3:AI81,1),COUNTIF($AI$3:AI81,-1))=0,1,SUM(COUNTIF($AI$3:AI81,1),COUNTIF($AI$3:AI81,-1)))),(IF(SUM(COUNTIF($AK$3:AK81,1),COUNTIF($AK$3:AK81,-1))=0,1,SUM(COUNTIF($AK$3:AK81,1),COUNTIF($AK$3:AK81,-1)))))/1000)","v":1.2675171964956196},{"$f":"IF(BF81=0,\"-\",IF(BF81=0,0,ROUND(((BI81/BF81-BJ81/BF81)*100+BH81/10)*BL81,3)))","v":44.247},null,{"$f":"+SUM(COUNTIF($AG$3:AG81,1),COUNTIF($AG$3:AG81,-1))","v":37},{"$f":"+SUM($S$4:S81)","v":5587},{"$f":"+BP81/BO81","v":151},{"$f":"+SUM(COUNTIF($AG$3:AG81,1))","v":18},{"$f":"+SUM(COUNTIF($AG$3:AG81,-1))","v":19},{"$f":"+BR81-BS81","v":-1},{"$f":"BO81*(HARMEAN((IF(SUM(COUNTIF($Z$3:Z81,1),COUNTIF($Z$3:Z81,-1))=0,1,SUM(COUNTIF($Z$3:Z81,1),COUNTIF($Z$3:Z81,-1)))),(IF(SUM(COUNTIF($AC$3:AC81,1),COUNTIF($AC$3:AC81,-1))=0,1,SUM(COUNTIF($AC$3:AC81,1),COUNTIF($AC$3:AC81,-1)))),(IF(SUM(COUNTIF($AE$3:AE81,1),COUNTIF($AE$3:AE81,-1))=0,1,SUM(COUNTIF($AE$3:AE81,1),COUNTIF($AE$3:AE81,-1)))),(IF(SUM(COUNTIF($AG$3:AG81,1),COUNTIF($AG$3:AG81,-1))=0,1,SUM(COUNTIF($AG$3:AG81,1),COUNTIF($AG$3:AG81,-1)))),(IF(SUM(COUNTIF($AI$3:AI81,1),COUNTIF($AI$3:AI81,-1))=0,1,SUM(COUNTIF($AI$3:AI81,1),COUNTIF($AI$3:AI81,-1)))),(IF(SUM(COUNTIF($AK$3:AK81,1),COUNTIF($AK$3:AK81,-1))=0,1,SUM(COUNTIF($AK$3:AK81,1),COUNTIF($AK$3:AK81,-1)))))/1000)","v":1.3027260075093867},{"$f":"IF(BO81=0,\"-\",IF(BO81=0,0,ROUND(((BR81/BO81-BS81/BO81)*100+BQ81/10)*BU81,3)))","v":16.149999999999999},null,{"$f":"+SUM(COUNTIF($AI$3:AI81,1),COUNTIF($AI$3:AI81,-1))","v":33},{"$f":"+SUM($U$4:U81)","v":4143},125.54545454545455,{"$f":"+SUM(COUNTIF($AI$3:AI81,1))","v":12},{"$f":"+SUM(COUNTIF($AI$3:AI81,-1))","v":21},-9,{"$f":"+BX81*(HARMEAN((IF(SUM(COUNTIF($Z$3:Z81,1),COUNTIF($Z$3:Z81,-1))=0,1,SUM(COUNTIF($Z$3:Z81,1),COUNTIF($Z$3:Z81,-1)))),(IF(SUM(COUNTIF($AC$3:AC81,1),COUNTIF($AC$3:AC81,-1))=0,1,SUM(COUNTIF($AC$3:AC81,1),COUNTIF($AC$3:AC81,-1)))),(IF(SUM(COUNTIF($AE$3:AE81,1),COUNTIF($AE$3:AE81,-1))=0,1,SUM(COUNTIF($AE$3:AE81,1),COUNTIF($AE$3:AE81,-1)))),(IF(SUM(COUNTIF($AG$3:AG81,1),COUNTIF($AG$3:AG81,-1))=0,1,SUM(COUNTIF($AG$3:AG81,1),COUNTIF($AG$3:AG81,-1)))),(IF(SUM(COUNTIF($AI$3:AI81,1),COUNTIF($AI$3:AI81,-1))=0,1,SUM(COUNTIF($AI$3:AI81,1),COUNTIF($AI$3:AI81,-1)))),(IF(SUM(COUNTIF($AK$3:AK81,1),COUNTIF($AK$3:AK81,-1))=0,1,SUM(COUNTIF($AK$3:AK81,1),COUNTIF($AK$3:AK81,-1)))))/1000)","v":1.1618907634543179},-17.100999999999999,null,{"$f":"+SUM(COUNTIF($AK$3:AK81,1),COUNTIF($AK$3:AK81,-1))","v":32},{"$f":"+SUM($W$4:W81)","v":3591},112.21875,{"$f":"+SUM(COUNTIF($AK$3:AK81,1))","v":12},{"$f":"+SUM(COUNTIF($AK$3:AK81,-1))","v":20},-8,{"$f":"+CG81*(HARMEAN((IF(SUM(COUNTIF($Z$3:Z81,1),COUNTIF($Z$3:Z81,-1))=0,1,SUM(COUNTIF($Z$3:Z81,1),COUNTIF($Z$3:Z81,-1)))),(IF(SUM(COUNTIF($AC$3:AC81,1),COUNTIF($AC$3:AC81,-1))=0,1,SUM(COUNTIF($AC$3:AC81,1),COUNTIF($AC$3:AC81,-1)))),(IF(SUM(COUNTIF($AE$3:AE81,1),COUNTIF($AE$3:AE81,-1))=0,1,SUM(COUNTIF($AE$3:AE81,1),COUNTIF($AE$3:AE81,-1)))),(IF(SUM(COUNTIF($AG$3:AG81,1),COUNTIF($AG$3:AG81,-1))=0,1,SUM(COUNTIF($AG$3:AG81,1),COUNTIF($AG$3:AG81,-1)))),(IF(SUM(COUNTIF($AI$3:AI81,1),COUNTIF($AI$3:AI81,-1))=0,1,SUM(COUNTIF($AI$3:AI81,1),COUNTIF($AI$3:AI81,-1)))),(IF(SUM(COUNTIF($AK$3:AK81,1),COUNTIF($AK$3:AK81,-1))=0,1,SUM(COUNTIF($AK$3:AK81,1),COUNTIF($AK$3:AK81,-1)))))/1000)","v":1.1266819524405507},-15.523999999999999]
[79,"",null,{"$f":"+IFERROR(INDEX('Auswertung AoE II'!$AE:$AE,MATCH(A82,'Auswertung AoE II'!$AD:$AD,0)),\"\")","v":""},{"$f":"+IFERROR(INDEX('Auswertung AoE III'!$AE:$AE,MATCH(A82,'Auswertung AoE III'!$AD:$AD,0)),\"\")","v":""},{"$f":"+IFERROR(INDEX('Auswertung AoM'!$AE:$AE,MATCH(A82,'Auswertung AoM'!$AD:$AD,0)),\"\")","v":""},{"$f":"+IFERROR(INDEX('Auswertung RA'!$AE:$AE,MATCH(A82,'Auswertung RA'!$AD:$AD,0)),\"\")","v":""},{"$f":"+IFERROR(INDEX('Auswertung Yuri'!$AE:$AE,MATCH(A82,'Auswertung Yuri'!$AD:$AD,0)),\"\")","v":""},{"$f":"+IFERROR(INDEX('Auswertung Generals'!$AE:$AE,MATCH(A82,'Auswertung Generals'!$AD:$AD,0)),\"\")","v":""},"Auswertung ",null,null,{"$f":"+IF(ISERROR(+INDIRECT(CONCATENATE(\"'\",J82,\"'!\",(ADDRESS((COUNTIF($J$3:J82,IF(B82<>0,CONCATENATE(\"Auswertung \",B82,\"\"))))+2,2)))))=FALSE,+INDIRECT(CONCATENATE(\"'\",J82,\"'!\",(ADDRESS((COUNTIF($J$3:J82,IF(B82<>0,CONCATENATE(\"Auswertung \",B82,\"\"))))+4,2)))),\"\")","v":""},{"$f":"IF(ISERROR(+INDIRECT(CONCATENATE(\"'\",J82,\"'!\",(ADDRESS((COUNTIF($J$3:J82,IF(B82<>0,CONCATENATE(\"Auswertung \",B82,\"\"))))+2,2+1)))))=FALSE,+INDIRECT(CONCATENATE(\"'\",J82,\"'!\",(ADDRESS((COUNTIF($J$3:J82,IF(B82<>0,CONCATENATE(\"Auswertung \",B82,\"\"))))+4,2+1)))),\"\")","v":""},{"$f":"+IF(ISERROR(+INDIRECT(CONCATENATE(\"'\",J82,\"'!\",(ADDRESS((COUNTIF($J$3:J82,IF(B82<>0,CONCATENATE(\"Auswertung \",B82,\"\"))))+2,4)))))=FALSE,+INDIRECT(CONCATENATE(\"'\",J82,\"'!\",(ADDRESS((COUNTIF($J$3:J82,IF(B82<>0,CONCATENATE(\"Auswertung \",B82,\"\"))))+4,4)))),\"\")","v":""},{"$f":"+IF(ISERROR(+INDIRECT(CONCATENATE(\"'\",J82,\"'!\",(ADDRESS((COUNTIF($J$3:J82,IF(B82<>0,CONCATENATE(\"Auswertung \",B82,\"\"))))+2,5)))))=FALSE,+INDIRECT(CONCATENATE(\"'\",J82,\"'!\",(ADDRESS((COUNTIF($J$3:J82,IF(B82<>0,CONCATENATE(\"Auswertung \",B82,\"\"))))+4,5)))),\"\")","v":""},{"$f":"+IF(ISERROR(+INDIRECT(CONCATENATE(\"'\",J82,\"'!\",(ADDRESS((COUNTIF($J$3:J82,IF(B82<>0,CONCATENATE(\"Auswertung \",B82,\"\"))))+2,6)))))=FALSE,+INDIRECT(CONCATENATE(\"'\",J82,\"'!\",(ADDRESS((COUNTIF($J$3:J82,IF(B82<>0,CONCATENATE(\"Auswertung \",B82,\"\"))))+4,6)))),\"\")","v":""},{"$f":"+IF(ISERROR(+INDIRECT(CONCATENATE(\"'\",J82,\"'!\",(ADDRESS((COUNTIF($J$3:J82,IF(B82<>0,CONCATENATE(\"Auswertung \",B82,\"\"))))+2,7)))))=FALSE,+INDIRECT(CONCATENATE(\"'\",J82,\"'!\",(ADDRESS((COUNTIF($J$3:J82,IF(B82<>0,CONCATENATE(\"Auswertung \",B82,\"\"))))+4,7)))),\"\")","v":""},{"$f":"+IF(ISERROR(+INDIRECT(CONCATENATE(\"'\",J82,\"'!\",(ADDRESS((COUNTIF($J$3:J82,IF(B82<>0,CONCATENATE(\"Auswertung \",B82,\"\"))))+2,10)))))=FALSE,+INDIRECT(CONCATENATE(\"'\",J82,\"'!\",(ADDRESS((COUNTIF($J$3:J82,IF(B82<>0,CONCATENATE(\"Auswertung \",B82,\"\"))))+4,8)))),\"\")","v":""},{"$f":"+IF(ISERROR(+INDIRECT(CONCATENATE(\"'\",J82,\"'!\",(ADDRESS((COUNTIF($J$3:J82,IF(B82<>0,CONCATENATE(\"Auswertung \",B82,\"\"))))+2,11)))))=FALSE,+INDIRECT(CONCATENATE(\"'\",J82,\"'!\",(ADDRESS((COUNTIF($J$3:J82,IF(B82<>0,CONCATENATE(\"Auswertung \",B82,\"\"))))+4,9)))),\"\")","v":""},{"$f":"+IF(ISERROR(+INDIRECT(CONCATENATE(\"'\",J82,\"'!\",(ADDRESS((COUNTIF($J$3:J82,IF(B82<>0,CONCATENATE(\"Auswertung \",B82,\"\"))))+2,10)))))=FALSE,+INDIRECT(CONCATENATE(\"'\",J82,\"'!\",(ADDRESS((COUNTIF($J$3:J82,IF(B82<>0,CONCATENATE(\"Auswertung \",B82,\"\"))))+4,10)))),\"\")","v":""},{"$f":"+IF(ISERROR(+INDIRECT(CONCATENATE(\"'\",J82,\"'!\",(ADDRESS((COUNTIF($J$3:J82,IF(B82<>0,CONCATENATE(\"Auswertung \",B82,\"\"))))+2,11)))))=FALSE,+INDIRECT(CONCATENATE(\"'\",J82,\"'!\",(ADDRESS((COUNTIF($J$3:J82,IF(B82<>0,CONCATENATE(\"Auswertung \",B82,\"\"))))+4,11)))),\"\")","v":""},{"$f":"+IF(ISERROR(+INDIRECT(CONCATENATE(\"'\",J82,\"'!\",(ADDRESS((COUNTIF($J$3:J82,IF(D82<>0,CONCATENATE(\"Auswertung \",D82,\"\"))))+2,12)))))=FALSE,+INDIRECT(CONCATENATE(\"'\",J82,\"'!\",(ADDRESS((COUNTIF($J$3:J82,IF(D82<>0,CONCATENATE(\"Auswertung \",B82,\"\"))))+4,12)))),\"\")","v":""},{"$f":"+IF(ISERROR(+INDIRECT(CONCATENATE(\"'\",J82,\"'!\",(ADDRESS((COUNTIF($J$3:J82,IF(D82<>0,CONCATENATE(\"Auswertung \",D82,\"\"))))+2,13)))))=FALSE,+INDIRECT(CONCATENATE(\"'\",J82,\"'!\",(ADDRESS((COUNTIF($J$3:J82,IF(D82<>0,CONCATENATE(\"Auswertung \",B82,\"\"))))+4,13)))),\"\")","v":""},null,{"$f":"+IFERROR(INDIRECT(CONCATENATE(\"'\",J82,\"'!\",(ADDRESS((COUNTIF($J$3:J82,IF(B82<>0,J82)))+4,16)))),\"\")","v":""},21.942,{"$f":"+SUM($M$4:M82)/COUNT($M$4:M82)/1000*2","v":0.28281081081081083},{"$f":"+IFERROR(INDIRECT(CONCATENATE(\"'\",J82,\"'!\",(ADDRESS((COUNTIF($J$3:J82,IF(B82<>0,J82)))+4,18)))),\"\")","v":""},50.264000000000003,{"$f":"+IFERROR(INDIRECT(CONCATENATE(\"'\",J82,\"'!\",(ADDRESS((COUNTIF($J$3:J82,IF(B82<>0,J82)))+4,20)))),\"\")","v":""},44.247,{"$f":"+IFERROR(INDIRECT(CONCATENATE(\"'\",J82,\"'!\",(ADDRESS((COUNTIF($J$3:J82,IF(B82<>0,J82)))+4,22)))),\"\")","v":""},16.149999999999999,{"$f":"+IFERROR(INDIRECT(CONCATENATE(\"'\",J82,\"'!\",(ADDRESS((COUNTIF($J$3:J82,IF(B82<>0,J82)))+4,24)))),\"\")","v":""},-17.100999999999999,{"$f":"+IFERROR(INDIRECT(CONCATENATE(\"'\",J82,\"'!\",(ADDRESS((COUNTIF($J$3:J82,IF(B82<>0,J82)))+4,26)))),\"\")","v":""},-15.523999999999999,79,{"$f":"+SUM(COUNTIF($Z$3:Z82,1),COUNTIF($Z$3:Z82,-1))","v":37},{"$f":"+SUM($M$4:M82)","v":5232},141.40540540540542,{"$f":"+SUM(COUNTIF($Z$3:Z82,1))","v":19},{"$f":"+SUM(COUNTIF($Z$3:Z82,-1))","v":18},1,{"$f":"AN82*(HARMEAN((IF(SUM(COUNTIF($Z$3:Z82,1),COUNTIF($Z$3:Z82,-1))=0,1,SUM(COUNTIF($Z$3:Z82,1),COUNTIF($Z$3:Z82,-1)))),(IF(SUM(COUNTIF($AC$3:AC82,1),COUNTIF($AC$3:AC82,-1))=0,1,SUM(COUNTIF($AC$3:AC82,1),COUNTIF($AC$3:AC82,-1)))),(IF(SUM(COUNTIF($AE$3:AE82,1),COUNTIF($AE$3:AE82,-1))=0,1,SUM(COUNTIF($AE$3:AE82,1),COUNTIF($AE$3:AE82,-1)))),(IF(SUM(COUNTIF($AG$3:AG82,1),COUNTIF($AG$3:AG82,-1))=0,1,SUM(COUNTIF($AG$3:AG82,1),COUNTIF($AG$3:AG82,-1)))),(IF(SUM(COUNTIF($AI$3:AI82,1),COUNTIF($AI$3:AI82,-1))=0,1,SUM(COUNTIF($AI$3:AI82,1),COUNTIF($AI$3:AI82,-1)))),(IF(SUM(COUNTIF($AK$3:AK82,1),COUNTIF($AK$3:AK82,-1))=0,1,SUM(COUNTIF($AK$3:AK82,1),COUNTIF($AK$3:AK82,-1)))))/1000)","v":1.3027260075093867},21.942,null,{"$f":"+SUM(COUNTIF($AC$3:AC82,1),COUNTIF($AC$3:AC82,-1))","v":37},{"$f":"+SUM($O$4:O82)","v":5276},142.59459459459458,{"$f":"+SUM(COUNTIF($AC$3:AC82,1))","v":23},{"$f":"+SUM(COUNTIF($AC$3:AC82,-1))","v":14},9,{"$f":"AW82*(HARMEAN((IF(SUM(COUNTIF($Z$3:Z82,1),COUNTIF($Z$3:Z82,-1))=0,1,SUM(COUNTIF($Z$3:Z82,1),COUNTIF($Z$3:Z82,-1)))),(IF(SUM(COUNTIF($AC$3:AC82,1),COUNTIF($AC$3:AC82,-1))=0,1,SUM(COUNTIF($AC$3:AC82,1),COUNTIF($AC$3:AC82,-1)))),(IF(SUM(COUNTIF($AE$3:AE82,1),COUNTIF($AE$3:AE82,-1))=0,1,SUM(COUNTIF($AE$3:AE82,1),COUNTIF($AE$3:AE82,-1)))),(IF(SUM(COUNTIF($AG$3:AG82,1),COUNTIF($AG$3:AG82,-1))=0,1,SUM(COUNTIF($AG$3:AG82,1),COUNTIF($AG$3:AG82,-1)))),(IF(SUM(COUNTIF($AI$3:AI82,1),COUNTIF($AI$3:AI82,-1))=0,1,SUM(COUNTIF($AI$3:AI82,1),COUNTIF($AI$3:AI82,-1)))),(IF(SUM(COUNTIF($AK$3:AK82,1),COUNTIF($AK$3:AK82,-1))=0,1,SUM(COUNTIF($AK$3:AK82,1),COUNTIF($AK$3:AK82,-1)))))/1000)","v":1.3027260075093867},50.264000000000003,null,{"$f":"+SUM(COUNTIF($AE$3:AE82,1),COUNTIF(AE$3:$AE82,-1))","v":36},{"$f":"+SUM($Q$4:Q82)","v":4567},126.86111111111111,{"$f":"+SUM(COUNTIF($AE$3:AE82,1))","v":22},{"$f":"+SUM(COUNTIF($AE$3:AE82,-1))","v":14},8,{"$f":"BF82*(HARMEAN((IF(SUM(COUNTIF($Z$3:Z82,1),COUNTIF($Z$3:Z82,-1))=0,1,SUM(COUNTIF($Z$3:Z82,1),COUNTIF($Z$3:Z82,-1)))),(IF(SUM(COUNTIF($AC$3:AC82,1),COUNTIF($AC$3:AC82,-1))=0,1,SUM(COUNTIF($AC$3:AC82,1),COUNTIF($AC$3:AC82,-1)))),(IF(SUM(COUNTIF($AE$3:AE82,1),COUNTIF($AE$3:AE82,-1))=0,1,SUM(COUNTIF($AE$3:AE82,1),COUNTIF($AE$3:AE82,-1)))),(IF(SUM(COUNTIF($AG$3:AG82,1),COUNTIF($AG$3:AG82,-1))=0,1,SUM(COUNTIF($AG$3:AG82,1),COUNTIF($AG$3:AG82,-1)))),(IF(SUM(COUNTIF($AI$3:AI82,1),COUNTIF($AI$3:AI82,-1))=0,1,SUM(COUNTIF($AI$3:AI82,1),COUNTIF($AI$3:AI82,-1)))),(IF(SUM(COUNTIF($AK$3:AK82,1),COUNTIF($AK$3:AK82,-1))=0,1,SUM(COUNTIF($AK$3:AK82,1),COUNTIF($AK$3:AK82,-1)))))/1000)","v":1.2675171964956196},44.247,null,{"$f":"+SUM(COUNTIF($AG$3:AG82,1),COUNTIF($AG$3:AG82,-1))","v":37},{"$f":"+SUM($S$4:S82)","v":5587},151,{"$f":"+SUM(COUNTIF($AG$3:AG82,1))","v":18},{"$f":"+SUM(COUNTIF($AG$3:AG82,-1))","v":19},-1,{"$f":"BO82*(HARMEAN((IF(SUM(COUNTIF($Z$3:Z82,1),COUNTIF($Z$3:Z82,-1))=0,1,SUM(COUNTIF($Z$3:Z82,1),COUNTIF($Z$3:Z82,-1)))),(IF(SUM(COUNTIF($AC$3:AC82,1),COUNTIF($AC$3:AC82,-1))=0,1,SUM(COUNTIF($AC$3:AC82,1),COUNTIF($AC$3:AC82,-1)))),(IF(SUM(COUNTIF($AE$3:AE82,1),COUNTIF($AE$3:AE82,-1))=0,1,SUM(COUNTIF($AE$3:AE82,1),COUNTIF($AE$3:AE82,-1)))),(IF(SUM(COUNTIF($AG$3:AG82,1),COUNTIF($AG$3:AG82,-1))=0,1,SUM(COUNTIF($AG$3:AG82,1),COUNTIF($AG$3:AG82,-1)))),(IF(SUM(COUNTIF($AI$3:AI82,1),COUNTIF($AI$3:AI82,-1))=0,1,SUM(COUNTIF($AI$3:AI82,1),COUNTIF($AI$3:AI82,-1)))),(IF(SUM(COUNTIF($AK$3:AK82,1),COUNTIF($AK$3:AK82,-1))=0,1,SUM(COUNTIF($AK$3:AK82,1),COUNTIF($AK$3:AK82,-1)))))/1000)","v":1.3027260075093867},16.149999999999999,null,{"$f":"+SUM(COUNTIF($AI$3:AI82,1),COUNTIF($AI$3:AI82,-1))","v":33},{"$f":"+SUM($U$4:U82)","v":4143},125.54545454545455,{"$f":"+SUM(COUNTIF($AI$3:AI82,1))","v":12},{"$f":"+SUM(COUNTIF($AI$3:AI82,-1))","v":21},-9,{"$f":"+BX82*(HARMEAN((IF(SUM(COUNTIF($Z$3:Z82,1),COUNTIF($Z$3:Z82,-1))=0,1,SUM(COUNTIF($Z$3:Z82,1),COUNTIF($Z$3:Z82,-1)))),(IF(SUM(COUNTIF($AC$3:AC82,1),COUNTIF($AC$3:AC82,-1))=0,1,SUM(COUNTIF($AC$3:AC82,1),COUNTIF($AC$3:AC82,-1)))),(IF(SUM(COUNTIF($AE$3:AE82,1),COUNTIF($AE$3:AE82,-1))=0,1,SUM(COUNTIF($AE$3:AE82,1),COUNTIF($AE$3:AE82,-1)))),(IF(SUM(COUNTIF($AG$3:AG82,1),COUNTIF($AG$3:AG82,-1))=0,1,SUM(COUNTIF($AG$3:AG82,1),COUNTIF($AG$3:AG82,-1)))),(IF(SUM(COUNTIF($AI$3:AI82,1),COUNTIF($AI$3:AI82,-1))=0,1,SUM(COUNTIF($AI$3:AI82,1),COUNTIF($AI$3:AI82,-1)))),(IF(SUM(COUNTIF($AK$3:AK82,1),COUNTIF($AK$3:AK82,-1))=0,1,SUM(COUNTIF($AK$3:AK82,1),COUNTIF($AK$3:AK82,-1)))))/1000)","v":1.1618907634543179},-17.100999999999999,null,{"$f":"+SUM(COUNTIF($AK$3:AK82,1),COUNTIF($AK$3:AK82,-1))","v":32},{"$f":"+SUM($W$4:W82)","v":3591},112.21875,{"$f":"+SUM(COUNTIF($AK$3:AK82,1))","v":12},{"$f":"+SUM(COUNTIF($AK$3:AK82,-1))","v":20},-8,{"$f":"+CG82*(HARMEAN((IF(SUM(COUNTIF($Z$3:Z82,1),COUNTIF($Z$3:Z82,-1))=0,1,SUM(COUNTIF($Z$3:Z82,1),COUNTIF($Z$3:Z82,-1)))),(IF(SUM(COUNTIF($AC$3:AC82,1),COUNTIF($AC$3:AC82,-1))=0,1,SUM(COUNTIF($AC$3:AC82,1),COUNTIF($AC$3:AC82,-1)))),(IF(SUM(COUNTIF($AE$3:AE82,1),COUNTIF($AE$3:AE82,-1))=0,1,SUM(COUNTIF($AE$3:AE82,1),COUNTIF($AE$3:AE82,-1)))),(IF(SUM(COUNTIF($AG$3:AG82,1),COUNTIF($AG$3:AG82,-1))=0,1,SUM(COUNTIF($AG$3:AG82,1),COUNTIF($AG$3:AG82,-1)))),(IF(SUM(COUNTIF($AI$3:AI82,1),COUNTIF($AI$3:AI82,-1))=0,1,SUM(COUNTIF($AI$3:AI82,1),COUNTIF($AI$3:AI82,-1)))),(IF(SUM(COUNTIF($AK$3:AK82,1),COUNTIF($AK$3:AK82,-1))=0,1,SUM(COUNTIF($AK$3:AK82,1),COUNTIF($AK$3:AK82,-1)))))/1000)","v":1.1266819524405507},-15.523999999999999]
[80,"",null,{"$f":"+IFERROR(INDEX('Auswertung AoE II'!$AE:$AE,MATCH(A83,'Auswertung AoE II'!$AD:$AD,0)),\"\")","v":""},{"$f":"+IFERROR(INDEX('Auswertung AoE III'!$AE:$AE,MATCH(A83,'Auswertung AoE III'!$AD:$AD,0)),\"\")","v":""},{"$f":"+IFERROR(INDEX('Auswertung AoM'!$AE:$AE,MATCH(A83,'Auswertung AoM'!$AD:$AD,0)),\"\")","v":""},{"$f":"+IFERROR(INDEX('Auswertung RA'!$AE:$AE,MATCH(A83,'Auswertung RA'!$AD:$AD,0)),\"\")","v":""},{"$f":"+IFERROR(INDEX('Auswertung Yuri'!$AE:$AE,MATCH(A83,'Auswertung Yuri'!$AD:$AD,0)),\"\")","v":""},{"$f":"+IFERROR(INDEX('Auswertung Generals'!$AE:$AE,MATCH(A83,'Auswertung Generals'!$AD:$AD,0)),\"\")","v":""},"Auswertung ",null,null,{"$f":"+IF(ISERROR(+INDIRECT(CONCATENATE(\"'\",J83,\"'!\",(ADDRESS((COUNTIF($J$3:J83,IF(B83<>0,CONCATENATE(\"Auswertung \",B83,\"\"))))+2,2)))))=FALSE,+INDIRECT(CONCATENATE(\"'\",J83,\"'!\",(ADDRESS((COUNTIF($J$3:J83,IF(B83<>0,CONCATENATE(\"Auswertung \",B83,\"\"))))+4,2)))),\"\")","v":""},{"$f":"IF(ISERROR(+INDIRECT(CONCATENATE(\"'\",J83,\"'!\",(ADDRESS((COUNTIF($J$3:J83,IF(B83<>0,CONCATENATE(\"Auswertung \",B83,\"\"))))+2,2+1)))))=FALSE,+INDIRECT(CONCATENATE(\"'\",J83,\"'!\",(ADDRESS((COUNTIF($J$3:J83,IF(B83<>0,CONCATENATE(\"Auswertung \",B83,\"\"))))+4,2+1)))),\"\")","v":""},{"$f":"+IF(ISERROR(+INDIRECT(CONCATENATE(\"'\",J83,\"'!\",(ADDRESS((COUNTIF($J$3:J83,IF(B83<>0,CONCATENATE(\"Auswertung \",B83,\"\"))))+2,4)))))=FALSE,+INDIRECT(CONCATENATE(\"'\",J83,\"'!\",(ADDRESS((COUNTIF($J$3:J83,IF(B83<>0,CONCATENATE(\"Auswertung \",B83,\"\"))))+4,4)))),\"\")","v":""},{"$f":"+IF(ISERROR(+INDIRECT(CONCATENATE(\"'\",J83,\"'!\",(ADDRESS((COUNTIF($J$3:J83,IF(B83<>0,CONCATENATE(\"Auswertung \",B83,\"\"))))+2,5)))))=FALSE,+INDIRECT(CONCATENATE(\"'\",J83,\"'!\",(ADDRESS((COUNTIF($J$3:J83,IF(B83<>0,CONCATENATE(\"Auswertung \",B83,\"\"))))+4,5)))),\"\")","v":""},{"$f":"+IF(ISERROR(+INDIRECT(CONCATENATE(\"'\",J83,\"'!\",(ADDRESS((COUNTIF($J$3:J83,IF(B83<>0,CONCATENATE(\"Auswertung \",B83,\"\"))))+2,6)))))=FALSE,+INDIRECT(CONCATENATE(\"'\",J83,\"'!\",(ADDRESS((COUNTIF($J$3:J83,IF(B83<>0,CONCATENATE(\"Auswertung \",B83,\"\"))))+4,6)))),\"\")","v":""},{"$f":"+IF(ISERROR(+INDIRECT(CONCATENATE(\"'\",J83,\"'!\",(ADDRESS((COUNTIF($J$3:J83,IF(B83<>0,CONCATENATE(\"Auswertung \",B83,\"\"))))+2,7)))))=FALSE,+INDIRECT(CONCATENATE(\"'\",J83,\"'!\",(ADDRESS((COUNTIF($J$3:J83,IF(B83<>0,CONCATENATE(\"Auswertung \",B83,\"\"))))+4,7)))),\"\")","v":""},{"$f":"+IF(ISERROR(+INDIRECT(CONCATENATE(\"'\",J83,\"'!\",(ADDRESS((COUNTIF($J$3:J83,IF(B83<>0,CONCATENATE(\"Auswertung \",B83,\"\"))))+2,10)))))=FALSE,+INDIRECT(CONCATENATE(\"'\",J83,\"'!\",(ADDRESS((COUNTIF($J$3:J83,IF(B83<>0,CONCATENATE(\"Auswertung \",B83,\"\"))))+4,8)))),\"\")","v":""},{"$f":"+IF(ISERROR(+INDIRECT(CONCATENATE(\"'\",J83,\"'!\",(ADDRESS((COUNTIF($J$3:J83,IF(B83<>0,CONCATENATE(\"Auswertung \",B83,\"\"))))+2,11)))))=FALSE,+INDIRECT(CONCATENATE(\"'\",J83,\"'!\",(ADDRESS((COUNTIF($J$3:J83,IF(B83<>0,CONCATENATE(\"Auswertung \",B83,\"\"))))+4,9)))),\"\")","v":""},{"$f":"+IF(ISERROR(+INDIRECT(CONCATENATE(\"'\",J83,\"'!\",(ADDRESS((COUNTIF($J$3:J83,IF(B83<>0,CONCATENATE(\"Auswertung \",B83,\"\"))))+2,10)))))=FALSE,+INDIRECT(CONCATENATE(\"'\",J83,\"'!\",(ADDRESS((COUNTIF($J$3:J83,IF(B83<>0,CONCATENATE(\"Auswertung \",B83,\"\"))))+4,10)))),\"\")","v":""},{"$f":"+IF(ISERROR(+INDIRECT(CONCATENATE(\"'\",J83,\"'!\",(ADDRESS((COUNTIF($J$3:J83,IF(B83<>0,CONCATENATE(\"Auswertung \",B83,\"\"))))+2,11)))))=FALSE,+INDIRECT(CONCATENATE(\"'\",J83,\"'!\",(ADDRESS((COUNTIF($J$3:J83,IF(B83<>0,CONCATENATE(\"Auswertung \",B83,\"\"))))+4,11)))),\"\")","v":""},{"$f":"+IF(ISERROR(+INDIRECT(CONCATENATE(\"'\",J83,\"'!\",(ADDRESS((COUNTIF($J$3:J83,IF(D83<>0,CONCATENATE(\"Auswertung \",D83,\"\"))))+2,12)))))=FALSE,+INDIRECT(CONCATENATE(\"'\",J83,\"'!\",(ADDRESS((COUNTIF($J$3:J83,IF(D83<>0,CONCATENATE(\"Auswertung \",B83,\"\"))))+4,12)))),\"\")","v":""},{"$f":"+IF(ISERROR(+INDIRECT(CONCATENATE(\"'\",J83,\"'!\",(ADDRESS((COUNTIF($J$3:J83,IF(D83<>0,CONCATENATE(\"Auswertung \",D83,\"\"))))+2,13)))))=FALSE,+INDIRECT(CONCATENATE(\"'\",J83,\"'!\",(ADDRESS((COUNTIF($J$3:J83,IF(D83<>0,CONCATENATE(\"Auswertung \",B83,\"\"))))+4,13)))),\"\")","v":""},null,{"$f":"+IFERROR(INDIRECT(CONCATENATE(\"'\",J83,\"'!\",(ADDRESS((COUNTIF($J$3:J83,IF(B83<>0,J83)))+4,16)))),\"\")","v":""},21.942,{"$f":"+SUM($M$4:M83)/COUNT($M$4:M83)/1000*2","v":0.28281081081081083},{"$f":"+IFERROR(INDIRECT(CONCATENATE(\"'\",J83,\"'!\",(ADDRESS((COUNTIF($J$3:J83,IF(B83<>0,J83)))+4,18)))),\"\")","v":""},50.264000000000003,{"$f":"+IFERROR(INDIRECT(CONCATENATE(\"'\",J83,\"'!\",(ADDRESS((COUNTIF($J$3:J83,IF(B83<>0,J83)))+4,20)))),\"\")","v":""},44.247,{"$f":"+IFERROR(INDIRECT(CONCATENATE(\"'\",J83,\"'!\",(ADDRESS((COUNTIF($J$3:J83,IF(B83<>0,J83)))+4,22)))),\"\")","v":""},16.149999999999999,{"$f":"+IFERROR(INDIRECT(CONCATENATE(\"'\",J83,\"'!\",(ADDRESS((COUNTIF($J$3:J83,IF(B83<>0,J83)))+4,24)))),\"\")","v":""},-17.100999999999999,{"$f":"+IFERROR(INDIRECT(CONCATENATE(\"'\",J83,\"'!\",(ADDRESS((COUNTIF($J$3:J83,IF(B83<>0,J83)))+4,26)))),\"\")","v":""},-15.523999999999999,80,{"$f":"+SUM(COUNTIF($Z$3:Z83,1),COUNTIF($Z$3:Z83,-1))","v":37},{"$f":"+SUM($M$4:M83)","v":5232},141.40540540540542,{"$f":"+SUM(COUNTIF($Z$3:Z83,1))","v":19},{"$f":"+SUM(COUNTIF($Z$3:Z83,-1))","v":18},1,{"$f":"AN83*(HARMEAN((IF(SUM(COUNTIF($Z$3:Z83,1),COUNTIF($Z$3:Z83,-1))=0,1,SUM(COUNTIF($Z$3:Z83,1),COUNTIF($Z$3:Z83,-1)))),(IF(SUM(COUNTIF($AC$3:AC83,1),COUNTIF($AC$3:AC83,-1))=0,1,SUM(COUNTIF($AC$3:AC83,1),COUNTIF($AC$3:AC83,-1)))),(IF(SUM(COUNTIF($AE$3:AE83,1),COUNTIF($AE$3:AE83,-1))=0,1,SUM(COUNTIF($AE$3:AE83,1),COUNTIF($AE$3:AE83,-1)))),(IF(SUM(COUNTIF($AG$3:AG83,1),COUNTIF($AG$3:AG83,-1))=0,1,SUM(COUNTIF($AG$3:AG83,1),COUNTIF($AG$3:AG83,-1)))),(IF(SUM(COUNTIF($AI$3:AI83,1),COUNTIF($AI$3:AI83,-1))=0,1,SUM(COUNTIF($AI$3:AI83,1),COUNTIF($AI$3:AI83,-1)))),(IF(SUM(COUNTIF($AK$3:AK83,1),COUNTIF($AK$3:AK83,-1))=0,1,SUM(COUNTIF($AK$3:AK83,1),COUNTIF($AK$3:AK83,-1)))))/1000)","v":1.3027260075093867},21.942,null,{"$f":"+SUM(COUNTIF($AC$3:AC83,1),COUNTIF($AC$3:AC83,-1))","v":37},{"$f":"+SUM($O$4:O83)","v":5276},142.59459459459458,{"$f":"+SUM(COUNTIF($AC$3:AC83,1))","v":23},{"$f":"+SUM(COUNTIF($AC$3:AC83,-1))","v":14},9,{"$f":"AW83*(HARMEAN((IF(SUM(COUNTIF($Z$3:Z83,1),COUNTIF($Z$3:Z83,-1))=0,1,SUM(COUNTIF($Z$3:Z83,1),COUNTIF($Z$3:Z83,-1)))),(IF(SUM(COUNTIF($AC$3:AC83,1),COUNTIF($AC$3:AC83,-1))=0,1,SUM(COUNTIF($AC$3:AC83,1),COUNTIF($AC$3:AC83,-1)))),(IF(SUM(COUNTIF($AE$3:AE83,1),COUNTIF($AE$3:AE83,-1))=0,1,SUM(COUNTIF($AE$3:AE83,1),COUNTIF($AE$3:AE83,-1)))),(IF(SUM(COUNTIF($AG$3:AG83,1),COUNTIF($AG$3:AG83,-1))=0,1,SUM(COUNTIF($AG$3:AG83,1),COUNTIF($AG$3:AG83,-1)))),(IF(SUM(COUNTIF($AI$3:AI83,1),COUNTIF($AI$3:AI83,-1))=0,1,SUM(COUNTIF($AI$3:AI83,1),COUNTIF($AI$3:AI83,-1)))),(IF(SUM(COUNTIF($AK$3:AK83,1),COUNTIF($AK$3:AK83,-1))=0,1,SUM(COUNTIF($AK$3:AK83,1),COUNTIF($AK$3:AK83,-1)))))/1000)","v":1.3027260075093867},50.264000000000003,null,{"$f":"+SUM(COUNTIF($AE$3:AE83,1),COUNTIF(AE$3:$AE83,-1))","v":36},{"$f":"+SUM($Q$4:Q83)","v":4567},126.86111111111111,{"$f":"+SUM(COUNTIF($AE$3:AE83,1))","v":22},{"$f":"+SUM(COUNTIF($AE$3:AE83,-1))","v":14},8,{"$f":"BF83*(HARMEAN((IF(SUM(COUNTIF($Z$3:Z83,1),COUNTIF($Z$3:Z83,-1))=0,1,SUM(COUNTIF($Z$3:Z83,1),COUNTIF($Z$3:Z83,-1)))),(IF(SUM(COUNTIF($AC$3:AC83,1),COUNTIF($AC$3:AC83,-1))=0,1,SUM(COUNTIF($AC$3:AC83,1),COUNTIF($AC$3:AC83,-1)))),(IF(SUM(COUNTIF($AE$3:AE83,1),COUNTIF($AE$3:AE83,-1))=0,1,SUM(COUNTIF($AE$3:AE83,1),COUNTIF($AE$3:AE83,-1)))),(IF(SUM(COUNTIF($AG$3:AG83,1),COUNTIF($AG$3:AG83,-1))=0,1,SUM(COUNTIF($AG$3:AG83,1),COUNTIF($AG$3:AG83,-1)))),(IF(SUM(COUNTIF($AI$3:AI83,1),COUNTIF($AI$3:AI83,-1))=0,1,SUM(COUNTIF($AI$3:AI83,1),COUNTIF($AI$3:AI83,-1)))),(IF(SUM(COUNTIF($AK$3:AK83,1),COUNTIF($AK$3:AK83,-1))=0,1,SUM(COUNTIF($AK$3:AK83,1),COUNTIF($AK$3:AK83,-1)))))/1000)","v":1.2675171964956196},44.247,null,{"$f":"+SUM(COUNTIF($AG$3:AG83,1),COUNTIF($AG$3:AG83,-1))","v":37},{"$f":"+SUM($S$4:S83)","v":5587},151,{"$f":"+SUM(COUNTIF($AG$3:AG83,1))","v":18},{"$f":"+SUM(COUNTIF($AG$3:AG83,-1))","v":19},-1,{"$f":"BO83*(HARMEAN((IF(SUM(COUNTIF($Z$3:Z83,1),COUNTIF($Z$3:Z83,-1))=0,1,SUM(COUNTIF($Z$3:Z83,1),COUNTIF($Z$3:Z83,-1)))),(IF(SUM(COUNTIF($AC$3:AC83,1),COUNTIF($AC$3:AC83,-1))=0,1,SUM(COUNTIF($AC$3:AC83,1),COUNTIF($AC$3:AC83,-1)))),(IF(SUM(COUNTIF($AE$3:AE83,1),COUNTIF($AE$3:AE83,-1))=0,1,SUM(COUNTIF($AE$3:AE83,1),COUNTIF($AE$3:AE83,-1)))),(IF(SUM(COUNTIF($AG$3:AG83,1),COUNTIF($AG$3:AG83,-1))=0,1,SUM(COUNTIF($AG$3:AG83,1),COUNTIF($AG$3:AG83,-1)))),(IF(SUM(COUNTIF($AI$3:AI83,1),COUNTIF($AI$3:AI83,-1))=0,1,SUM(COUNTIF($AI$3:AI83,1),COUNTIF($AI$3:AI83,-1)))),(IF(SUM(COUNTIF($AK$3:AK83,1),COUNTIF($AK$3:AK83,-1))=0,1,SUM(COUNTIF($AK$3:AK83,1),COUNTIF($AK$3:AK83,-1)))))/1000)","v":1.3027260075093867},16.149999999999999,null,{"$f":"+SUM(COUNTIF($AI$3:AI83,1),COUNTIF($AI$3:AI83,-1))","v":33},{"$f":"+SUM($U$4:U83)","v":4143},125.54545454545455,{"$f":"+SUM(COUNTIF($AI$3:AI83,1))","v":12},{"$f":"+SUM(COUNTIF($AI$3:AI83,-1))","v":21},-9,{"$f":"+BX83*(HARMEAN((IF(SUM(COUNTIF($Z$3:Z83,1),COUNTIF($Z$3:Z83,-1))=0,1,SUM(COUNTIF($Z$3:Z83,1),COUNTIF($Z$3:Z83,-1)))),(IF(SUM(COUNTIF($AC$3:AC83,1),COUNTIF($AC$3:AC83,-1))=0,1,SUM(COUNTIF($AC$3:AC83,1),COUNTIF($AC$3:AC83,-1)))),(IF(SUM(COUNTIF($AE$3:AE83,1),COUNTIF($AE$3:AE83,-1))=0,1,SUM(COUNTIF($AE$3:AE83,1),COUNTIF($AE$3:AE83,-1)))),(IF(SUM(COUNTIF($AG$3:AG83,1),COUNTIF($AG$3:AG83,-1))=0,1,SUM(COUNTIF($AG$3:AG83,1),COUNTIF($AG$3:AG83,-1)))),(IF(SUM(COUNTIF($AI$3:AI83,1),COUNTIF($AI$3:AI83,-1))=0,1,SUM(COUNTIF($AI$3:AI83,1),COUNTIF($AI$3:AI83,-1)))),(IF(SUM(COUNTIF($AK$3:AK83,1),COUNTIF($AK$3:AK83,-1))=0,1,SUM(COUNTIF($AK$3:AK83,1),COUNTIF($AK$3:AK83,-1)))))/1000)","v":1.1618907634543179},-17.100999999999999,null,{"$f":"+SUM(COUNTIF($AK$3:AK83,1),COUNTIF($AK$3:AK83,-1))","v":32},{"$f":"+SUM($W$4:W83)","v":3591},112.21875,{"$f":"+SUM(COUNTIF($AK$3:AK83,1))","v":12},{"$f":"+SUM(COUNTIF($AK$3:AK83,-1))","v":20},-8,{"$f":"+CG83*(HARMEAN((IF(SUM(COUNTIF($Z$3:Z83,1),COUNTIF($Z$3:Z83,-1))=0,1,SUM(COUNTIF($Z$3:Z83,1),COUNTIF($Z$3:Z83,-1)))),(IF(SUM(COUNTIF($AC$3:AC83,1),COUNTIF($AC$3:AC83,-1))=0,1,SUM(COUNTIF($AC$3:AC83,1),COUNTIF($AC$3:AC83,-1)))),(IF(SUM(COUNTIF($AE$3:AE83,1),COUNTIF($AE$3:AE83,-1))=0,1,SUM(COUNTIF($AE$3:AE83,1),COUNTIF($AE$3:AE83,-1)))),(IF(SUM(COUNTIF($AG$3:AG83,1),COUNTIF($AG$3:AG83,-1))=0,1,SUM(COUNTIF($AG$3:AG83,1),COUNTIF($AG$3:AG83,-1)))),(IF(SUM(COUNTIF($AI$3:AI83,1),COUNTIF($AI$3:AI83,-1))=0,1,SUM(COUNTIF($AI$3:AI83,1),COUNTIF($AI$3:AI83,-1)))),(IF(SUM(COUNTIF($AK$3:AK83,1),COUNTIF($AK$3:AK83,-1))=0,1,SUM(COUNTIF($AK$3:AK83,1),COUNTIF($AK$3:AK83,-1)))))/1000)","v":1.1266819524405507},-15.523999999999999]
[81,"",null,{"$f":"+IFERROR(INDEX('Auswertung AoE II'!$AE:$AE,MATCH(A84,'Auswertung AoE II'!$AD:$AD,0)),\"\")","v":""},{"$f":"+IFERROR(INDEX('Auswertung AoE III'!$AE:$AE,MATCH(A84,'Auswertung AoE III'!$AD:$AD,0)),\"\")","v":""},{"$f":"+IFERROR(INDEX('Auswertung AoM'!$AE:$AE,MATCH(A84,'Auswertung AoM'!$AD:$AD,0)),\"\")","v":""},{"$f":"+IFERROR(INDEX('Auswertung RA'!$AE:$AE,MATCH(A84,'Auswertung RA'!$AD:$AD,0)),\"\")","v":""},{"$f":"+IFERROR(INDEX('Auswertung Yuri'!$AE:$AE,MATCH(A84,'Auswertung Yuri'!$AD:$AD,0)),\"\")","v":""},{"$f":"+IFERROR(INDEX('Auswertung Generals'!$AE:$AE,MATCH(A84,'Auswertung Generals'!$AD:$AD,0)),\"\")","v":""},"Auswertung ",null,null,{"$f":"+IF(ISERROR(+INDIRECT(CONCATENATE(\"'\",J84,\"'!\",(ADDRESS((COUNTIF($J$3:J84,IF(B84<>0,CONCATENATE(\"Auswertung \",B84,\"\"))))+2,2)))))=FALSE,+INDIRECT(CONCATENATE(\"'\",J84,\"'!\",(ADDRESS((COUNTIF($J$3:J84,IF(B84<>0,CONCATENATE(\"Auswertung \",B84,\"\"))))+4,2)))),\"\")","v":""},{"$f":"IF(ISERROR(+INDIRECT(CONCATENATE(\"'\",J84,\"'!\",(ADDRESS((COUNTIF($J$3:J84,IF(B84<>0,CONCATENATE(\"Auswertung \",B84,\"\"))))+2,2+1)))))=FALSE,+INDIRECT(CONCATENATE(\"'\",J84,\"'!\",(ADDRESS((COUNTIF($J$3:J84,IF(B84<>0,CONCATENATE(\"Auswertung \",B84,\"\"))))+4,2+1)))),\"\")","v":""},{"$f":"+IF(ISERROR(+INDIRECT(CONCATENATE(\"'\",J84,\"'!\",(ADDRESS((COUNTIF($J$3:J84,IF(B84<>0,CONCATENATE(\"Auswertung \",B84,\"\"))))+2,4)))))=FALSE,+INDIRECT(CONCATENATE(\"'\",J84,\"'!\",(ADDRESS((COUNTIF($J$3:J84,IF(B84<>0,CONCATENATE(\"Auswertung \",B84,\"\"))))+4,4)))),\"\")","v":""},{"$f":"+IF(ISERROR(+INDIRECT(CONCATENATE(\"'\",J84,\"'!\",(ADDRESS((COUNTIF($J$3:J84,IF(B84<>0,CONCATENATE(\"Auswertung \",B84,\"\"))))+2,5)))))=FALSE,+INDIRECT(CONCATENATE(\"'\",J84,\"'!\",(ADDRESS((COUNTIF($J$3:J84,IF(B84<>0,CONCATENATE(\"Auswertung \",B84,\"\"))))+4,5)))),\"\")","v":""},{"$f":"+IF(ISERROR(+INDIRECT(CONCATENATE(\"'\",J84,\"'!\",(ADDRESS((COUNTIF($J$3:J84,IF(B84<>0,CONCATENATE(\"Auswertung \",B84,\"\"))))+2,6)))))=FALSE,+INDIRECT(CONCATENATE(\"'\",J84,\"'!\",(ADDRESS((COUNTIF($J$3:J84,IF(B84<>0,CONCATENATE(\"Auswertung \",B84,\"\"))))+4,6)))),\"\")","v":""},{"$f":"+IF(ISERROR(+INDIRECT(CONCATENATE(\"'\",J84,\"'!\",(ADDRESS((COUNTIF($J$3:J84,IF(B84<>0,CONCATENATE(\"Auswertung \",B84,\"\"))))+2,7)))))=FALSE,+INDIRECT(CONCATENATE(\"'\",J84,\"'!\",(ADDRESS((COUNTIF($J$3:J84,IF(B84<>0,CONCATENATE(\"Auswertung \",B84,\"\"))))+4,7)))),\"\")","v":""},{"$f":"+IF(ISERROR(+INDIRECT(CONCATENATE(\"'\",J84,\"'!\",(ADDRESS((COUNTIF($J$3:J84,IF(B84<>0,CONCATENATE(\"Auswertung \",B84,\"\"))))+2,10)))))=FALSE,+INDIRECT(CONCATENATE(\"'\",J84,\"'!\",(ADDRESS((COUNTIF($J$3:J84,IF(B84<>0,CONCATENATE(\"Auswertung \",B84,\"\"))))+4,8)))),\"\")","v":""},{"$f":"+IF(ISERROR(+INDIRECT(CONCATENATE(\"'\",J84,\"'!\",(ADDRESS((COUNTIF($J$3:J84,IF(B84<>0,CONCATENATE(\"Auswertung \",B84,\"\"))))+2,11)))))=FALSE,+INDIRECT(CONCATENATE(\"'\",J84,\"'!\",(ADDRESS((COUNTIF($J$3:J84,IF(B84<>0,CONCATENATE(\"Auswertung \",B84,\"\"))))+4,9)))),\"\")","v":""},{"$f":"+IF(ISERROR(+INDIRECT(CONCATENATE(\"'\",J84,\"'!\",(ADDRESS((COUNTIF($J$3:J84,IF(B84<>0,CONCATENATE(\"Auswertung \",B84,\"\"))))+2,10)))))=FALSE,+INDIRECT(CONCATENATE(\"'\",J84,\"'!\",(ADDRESS((COUNTIF($J$3:J84,IF(B84<>0,CONCATENATE(\"Auswertung \",B84,\"\"))))+4,10)))),\"\")","v":""},{"$f":"+IF(ISERROR(+INDIRECT(CONCATENATE(\"'\",J84,\"'!\",(ADDRESS((COUNTIF($J$3:J84,IF(B84<>0,CONCATENATE(\"Auswertung \",B84,\"\"))))+2,11)))))=FALSE,+INDIRECT(CONCATENATE(\"'\",J84,\"'!\",(ADDRESS((COUNTIF($J$3:J84,IF(B84<>0,CONCATENATE(\"Auswertung \",B84,\"\"))))+4,11)))),\"\")","v":""},{"$f":"+IF(ISERROR(+INDIRECT(CONCATENATE(\"'\",J84,\"'!\",(ADDRESS((COUNTIF($J$3:J84,IF(D84<>0,CONCATENATE(\"Auswertung \",D84,\"\"))))+2,12)))))=FALSE,+INDIRECT(CONCATENATE(\"'\",J84,\"'!\",(ADDRESS((COUNTIF($J$3:J84,IF(D84<>0,CONCATENATE(\"Auswertung \",B84,\"\"))))+4,12)))),\"\")","v":""},{"$f":"+IF(ISERROR(+INDIRECT(CONCATENATE(\"'\",J84,\"'!\",(ADDRESS((COUNTIF($J$3:J84,IF(D84<>0,CONCATENATE(\"Auswertung \",D84,\"\"))))+2,13)))))=FALSE,+INDIRECT(CONCATENATE(\"'\",J84,\"'!\",(ADDRESS((COUNTIF($J$3:J84,IF(D84<>0,CONCATENATE(\"Auswertung \",B84,\"\"))))+4,13)))),\"\")","v":""},null,{"$f":"+IFERROR(INDIRECT(CONCATENATE(\"'\",J84,\"'!\",(ADDRESS((COUNTIF($J$3:J84,IF(B84<>0,J84)))+4,16)))),\"\")","v":""},21.942,{"$f":"+SUM($M$4:M84)/COUNT($M$4:M84)/1000*2","v":0.28281081081081083},{"$f":"+IFERROR(INDIRECT(CONCATENATE(\"'\",J84,\"'!\",(ADDRESS((COUNTIF($J$3:J84,IF(B84<>0,J84)))+4,18)))),\"\")","v":""},50.264000000000003,{"$f":"+IFERROR(INDIRECT(CONCATENATE(\"'\",J84,\"'!\",(ADDRESS((COUNTIF($J$3:J84,IF(B84<>0,J84)))+4,20)))),\"\")","v":""},44.247,{"$f":"+IFERROR(INDIRECT(CONCATENATE(\"'\",J84,\"'!\",(ADDRESS((COUNTIF($J$3:J84,IF(B84<>0,J84)))+4,22)))),\"\")","v":""},16.149999999999999,{"$f":"+IFERROR(INDIRECT(CONCATENATE(\"'\",J84,\"'!\",(ADDRESS((COUNTIF($J$3:J84,IF(B84<>0,J84)))+4,24)))),\"\")","v":""},-17.100999999999999,{"$f":"+IFERROR(INDIRECT(CONCATENATE(\"'\",J84,\"'!\",(ADDRESS((COUNTIF($J$3:J84,IF(B84<>0,J84)))+4,26)))),\"\")","v":""},-15.523999999999999,81,{"$f":"+SUM(COUNTIF($Z$3:Z84,1),COUNTIF($Z$3:Z84,-1))","v":37},{"$f":"+SUM($M$4:M84)","v":5232},141.40540540540542,{"$f":"+SUM(COUNTIF($Z$3:Z84,1))","v":19},{"$f":"+SUM(COUNTIF($Z$3:Z84,-1))","v":18},1,{"$f":"AN84*(HARMEAN((IF(SUM(COUNTIF($Z$3:Z84,1),COUNTIF($Z$3:Z84,-1))=0,1,SUM(COUNTIF($Z$3:Z84,1),COUNTIF($Z$3:Z84,-1)))),(IF(SUM(COUNTIF($AC$3:AC84,1),COUNTIF($AC$3:AC84,-1))=0,1,SUM(COUNTIF($AC$3:AC84,1),COUNTIF($AC$3:AC84,-1)))),(IF(SUM(COUNTIF($AE$3:AE84,1),COUNTIF($AE$3:AE84,-1))=0,1,SUM(COUNTIF($AE$3:AE84,1),COUNTIF($AE$3:AE84,-1)))),(IF(SUM(COUNTIF($AG$3:AG84,1),COUNTIF($AG$3:AG84,-1))=0,1,SUM(COUNTIF($AG$3:AG84,1),COUNTIF($AG$3:AG84,-1)))),(IF(SUM(COUNTIF($AI$3:AI84,1),COUNTIF($AI$3:AI84,-1))=0,1,SUM(COUNTIF($AI$3:AI84,1),COUNTIF($AI$3:AI84,-1)))),(IF(SUM(COUNTIF($AK$3:AK84,1),COUNTIF($AK$3:AK84,-1))=0,1,SUM(COUNTIF($AK$3:AK84,1),COUNTIF($AK$3:AK84,-1)))))/1000)","v":1.3027260075093867},21.942,null,{"$f":"+SUM(COUNTIF($AC$3:AC84,1),COUNTIF($AC$3:AC84,-1))","v":37},{"$f":"+SUM($O$4:O84)","v":5276},142.59459459459458,{"$f":"+SUM(COUNTIF($AC$3:AC84,1))","v":23},{"$f":"+SUM(COUNTIF($AC$3:AC84,-1))","v":14},9,{"$f":"AW84*(HARMEAN((IF(SUM(COUNTIF($Z$3:Z84,1),COUNTIF($Z$3:Z84,-1))=0,1,SUM(COUNTIF($Z$3:Z84,1),COUNTIF($Z$3:Z84,-1)))),(IF(SUM(COUNTIF($AC$3:AC84,1),COUNTIF($AC$3:AC84,-1))=0,1,SUM(COUNTIF($AC$3:AC84,1),COUNTIF($AC$3:AC84,-1)))),(IF(SUM(COUNTIF($AE$3:AE84,1),COUNTIF($AE$3:AE84,-1))=0,1,SUM(COUNTIF($AE$3:AE84,1),COUNTIF($AE$3:AE84,-1)))),(IF(SUM(COUNTIF($AG$3:AG84,1),COUNTIF($AG$3:AG84,-1))=0,1,SUM(COUNTIF($AG$3:AG84,1),COUNTIF($AG$3:AG84,-1)))),(IF(SUM(COUNTIF($AI$3:AI84,1),COUNTIF($AI$3:AI84,-1))=0,1,SUM(COUNTIF($AI$3:AI84,1),COUNTIF($AI$3:AI84,-1)))),(IF(SUM(COUNTIF($AK$3:AK84,1),COUNTIF($AK$3:AK84,-1))=0,1,SUM(COUNTIF($AK$3:AK84,1),COUNTIF($AK$3:AK84,-1)))))/1000)","v":1.3027260075093867},50.264000000000003,null,{"$f":"+SUM(COUNTIF($AE$3:AE84,1),COUNTIF(AE$3:$AE84,-1))","v":36},{"$f":"+SUM($Q$4:Q84)","v":4567},126.86111111111111,{"$f":"+SUM(COUNTIF($AE$3:AE84,1))","v":22},{"$f":"+SUM(COUNTIF($AE$3:AE84,-1))","v":14},8,{"$f":"BF84*(HARMEAN((IF(SUM(COUNTIF($Z$3:Z84,1),COUNTIF($Z$3:Z84,-1))=0,1,SUM(COUNTIF($Z$3:Z84,1),COUNTIF($Z$3:Z84,-1)))),(IF(SUM(COUNTIF($AC$3:AC84,1),COUNTIF($AC$3:AC84,-1))=0,1,SUM(COUNTIF($AC$3:AC84,1),COUNTIF($AC$3:AC84,-1)))),(IF(SUM(COUNTIF($AE$3:AE84,1),COUNTIF($AE$3:AE84,-1))=0,1,SUM(COUNTIF($AE$3:AE84,1),COUNTIF($AE$3:AE84,-1)))),(IF(SUM(COUNTIF($AG$3:AG84,1),COUNTIF($AG$3:AG84,-1))=0,1,SUM(COUNTIF($AG$3:AG84,1),COUNTIF($AG$3:AG84,-1)))),(IF(SUM(COUNTIF($AI$3:AI84,1),COUNTIF($AI$3:AI84,-1))=0,1,SUM(COUNTIF($AI$3:AI84,1),COUNTIF($AI$3:AI84,-1)))),(IF(SUM(COUNTIF($AK$3:AK84,1),COUNTIF($AK$3:AK84,-1))=0,1,SUM(COUNTIF($AK$3:AK84,1),COUNTIF($AK$3:AK84,-1)))))/1000)","v":1.2675171964956196},44.247,null,{"$f":"+SUM(COUNTIF($AG$3:AG84,1),COUNTIF($AG$3:AG84,-1))","v":37},{"$f":"+SUM($S$4:S84)","v":5587},151,{"$f":"+SUM(COUNTIF($AG$3:AG84,1))","v":18},{"$f":"+SUM(COUNTIF($AG$3:AG84,-1))","v":19},-1,{"$f":"BO84*(HARMEAN((IF(SUM(COUNTIF($Z$3:Z84,1),COUNTIF($Z$3:Z84,-1))=0,1,SUM(COUNTIF($Z$3:Z84,1),COUNTIF($Z$3:Z84,-1)))),(IF(SUM(COUNTIF($AC$3:AC84,1),COUNTIF($AC$3:AC84,-1))=0,1,SUM(COUNTIF($AC$3:AC84,1),COUNTIF($AC$3:AC84,-1)))),(IF(SUM(COUNTIF($AE$3:AE84,1),COUNTIF($AE$3:AE84,-1))=0,1,SUM(COUNTIF($AE$3:AE84,1),COUNTIF($AE$3:AE84,-1)))),(IF(SUM(COUNTIF($AG$3:AG84,1),COUNTIF($AG$3:AG84,-1))=0,1,SUM(COUNTIF($AG$3:AG84,1),COUNTIF($AG$3:AG84,-1)))),(IF(SUM(COUNTIF($AI$3:AI84,1),COUNTIF($AI$3:AI84,-1))=0,1,SUM(COUNTIF($AI$3:AI84,1),COUNTIF($AI$3:AI84,-1)))),(IF(SUM(COUNTIF($AK$3:AK84,1),COUNTIF($AK$3:AK84,-1))=0,1,SUM(COUNTIF($AK$3:AK84,1),COUNTIF($AK$3:AK84,-1)))))/1000)","v":1.3027260075093867},16.149999999999999,null,{"$f":"+SUM(COUNTIF($AI$3:AI84,1),COUNTIF($AI$3:AI84,-1))","v":33},{"$f":"+SUM($U$4:U84)","v":4143},125.54545454545455,{"$f":"+SUM(COUNTIF($AI$3:AI84,1))","v":12},{"$f":"+SUM(COUNTIF($AI$3:AI84,-1))","v":21},-9,{"$f":"+BX84*(HARMEAN((IF(SUM(COUNTIF($Z$3:Z84,1),COUNTIF($Z$3:Z84,-1))=0,1,SUM(COUNTIF($Z$3:Z84,1),COUNTIF($Z$3:Z84,-1)))),(IF(SUM(COUNTIF($AC$3:AC84,1),COUNTIF($AC$3:AC84,-1))=0,1,SUM(COUNTIF($AC$3:AC84,1),COUNTIF($AC$3:AC84,-1)))),(IF(SUM(COUNTIF($AE$3:AE84,1),COUNTIF($AE$3:AE84,-1))=0,1,SUM(COUNTIF($AE$3:AE84,1),COUNTIF($AE$3:AE84,-1)))),(IF(SUM(COUNTIF($AG$3:AG84,1),COUNTIF($AG$3:AG84,-1))=0,1,SUM(COUNTIF($AG$3:AG84,1),COUNTIF($AG$3:AG84,-1)))),(IF(SUM(COUNTIF($AI$3:AI84,1),COUNTIF($AI$3:AI84,-1))=0,1,SUM(COUNTIF($AI$3:AI84,1),COUNTIF($AI$3:AI84,-1)))),(IF(SUM(COUNTIF($AK$3:AK84,1),COUNTIF($AK$3:AK84,-1))=0,1,SUM(COUNTIF($AK$3:AK84,1),COUNTIF($AK$3:AK84,-1)))))/1000)","v":1.1618907634543179},-17.100999999999999,null,{"$f":"+SUM(COUNTIF($AK$3:AK84,1),COUNTIF($AK$3:AK84,-1))","v":32},{"$f":"+SUM($W$4:W84)","v":3591},112.21875,{"$f":"+SUM(COUNTIF($AK$3:AK84,1))","v":12},{"$f":"+SUM(COUNTIF($AK$3:AK84,-1))","v":20},-8,{"$f":"+CG84*(HARMEAN((IF(SUM(COUNTIF($Z$3:Z84,1),COUNTIF($Z$3:Z84,-1))=0,1,SUM(COUNTIF($Z$3:Z84,1),COUNTIF($Z$3:Z84,-1)))),(IF(SUM(COUNTIF($AC$3:AC84,1),COUNTIF($AC$3:AC84,-1))=0,1,SUM(COUNTIF($AC$3:AC84,1),COUNTIF($AC$3:AC84,-1)))),(IF(SUM(COUNTIF($AE$3:AE84,1),COUNTIF($AE$3:AE84,-1))=0,1,SUM(COUNTIF($AE$3:AE84,1),COUNTIF($AE$3:AE84,-1)))),(IF(SUM(COUNTIF($AG$3:AG84,1),COUNTIF($AG$3:AG84,-1))=0,1,SUM(COUNTIF($AG$3:AG84,1),COUNTIF($AG$3:AG84,-1)))),(IF(SUM(COUNTIF($AI$3:AI84,1),COUNTIF($AI$3:AI84,-1))=0,1,SUM(COUNTIF($AI$3:AI84,1),COUNTIF($AI$3:AI84,-1)))),(IF(SUM(COUNTIF($AK$3:AK84,1),COUNTIF($AK$3:AK84,-1))=0,1,SUM(COUNTIF($AK$3:AK84,1),COUNTIF($AK$3:AK84,-1)))))/1000)","v":1.1266819524405507},-15.523999999999999]
[82,"",null,{"$f":"+IFERROR(INDEX('Auswertung AoE II'!$AE:$AE,MATCH(A85,'Auswertung AoE II'!$AD:$AD,0)),\"\")","v":""},{"$f":"+IFERROR(INDEX('Auswertung AoE III'!$AE:$AE,MATCH(A85,'Auswertung AoE III'!$AD:$AD,0)),\"\")","v":""},{"$f":"+IFERROR(INDEX('Auswertung AoM'!$AE:$AE,MATCH(A85,'Auswertung AoM'!$AD:$AD,0)),\"\")","v":""},{"$f":"+IFERROR(INDEX('Auswertung RA'!$AE:$AE,MATCH(A85,'Auswertung RA'!$AD:$AD,0)),\"\")","v":""},{"$f":"+IFERROR(INDEX('Auswertung Yuri'!$AE:$AE,MATCH(A85,'Auswertung Yuri'!$AD:$AD,0)),\"\")","v":""},{"$f":"+IFERROR(INDEX('Auswertung Generals'!$AE:$AE,MATCH(A85,'Auswertung Generals'!$AD:$AD,0)),\"\")","v":""},"Auswertung ",null,null,{"$f":"+IF(ISERROR(+INDIRECT(CONCATENATE(\"'\",J85,\"'!\",(ADDRESS((COUNTIF($J$3:J85,IF(B85<>0,CONCATENATE(\"Auswertung \",B85,\"\"))))+2,2)))))=FALSE,+INDIRECT(CONCATENATE(\"'\",J85,\"'!\",(ADDRESS((COUNTIF($J$3:J85,IF(B85<>0,CONCATENATE(\"Auswertung \",B85,\"\"))))+4,2)))),\"\")","v":""},{"$f":"IF(ISERROR(+INDIRECT(CONCATENATE(\"'\",J85,\"'!\",(ADDRESS((COUNTIF($J$3:J85,IF(B85<>0,CONCATENATE(\"Auswertung \",B85,\"\"))))+2,2+1)))))=FALSE,+INDIRECT(CONCATENATE(\"'\",J85,\"'!\",(ADDRESS((COUNTIF($J$3:J85,IF(B85<>0,CONCATENATE(\"Auswertung \",B85,\"\"))))+4,2+1)))),\"\")","v":""},{"$f":"+IF(ISERROR(+INDIRECT(CONCATENATE(\"'\",J85,\"'!\",(ADDRESS((COUNTIF($J$3:J85,IF(B85<>0,CONCATENATE(\"Auswertung \",B85,\"\"))))+2,4)))))=FALSE,+INDIRECT(CONCATENATE(\"'\",J85,\"'!\",(ADDRESS((COUNTIF($J$3:J85,IF(B85<>0,CONCATENATE(\"Auswertung \",B85,\"\"))))+4,4)))),\"\")","v":""},{"$f":"+IF(ISERROR(+INDIRECT(CONCATENATE(\"'\",J85,\"'!\",(ADDRESS((COUNTIF($J$3:J85,IF(B85<>0,CONCATENATE(\"Auswertung \",B85,\"\"))))+2,5)))))=FALSE,+INDIRECT(CONCATENATE(\"'\",J85,\"'!\",(ADDRESS((COUNTIF($J$3:J85,IF(B85<>0,CONCATENATE(\"Auswertung \",B85,\"\"))))+4,5)))),\"\")","v":""},{"$f":"+IF(ISERROR(+INDIRECT(CONCATENATE(\"'\",J85,\"'!\",(ADDRESS((COUNTIF($J$3:J85,IF(B85<>0,CONCATENATE(\"Auswertung \",B85,\"\"))))+2,6)))))=FALSE,+INDIRECT(CONCATENATE(\"'\",J85,\"'!\",(ADDRESS((COUNTIF($J$3:J85,IF(B85<>0,CONCATENATE(\"Auswertung \",B85,\"\"))))+4,6)))),\"\")","v":""},{"$f":"+IF(ISERROR(+INDIRECT(CONCATENATE(\"'\",J85,\"'!\",(ADDRESS((COUNTIF($J$3:J85,IF(B85<>0,CONCATENATE(\"Auswertung \",B85,\"\"))))+2,7)))))=FALSE,+INDIRECT(CONCATENATE(\"'\",J85,\"'!\",(ADDRESS((COUNTIF($J$3:J85,IF(B85<>0,CONCATENATE(\"Auswertung \",B85,\"\"))))+4,7)))),\"\")","v":""},{"$f":"+IF(ISERROR(+INDIRECT(CONCATENATE(\"'\",J85,\"'!\",(ADDRESS((COUNTIF($J$3:J85,IF(B85<>0,CONCATENATE(\"Auswertung \",B85,\"\"))))+2,10)))))=FALSE,+INDIRECT(CONCATENATE(\"'\",J85,\"'!\",(ADDRESS((COUNTIF($J$3:J85,IF(B85<>0,CONCATENATE(\"Auswertung \",B85,\"\"))))+4,8)))),\"\")","v":""},{"$f":"+IF(ISERROR(+INDIRECT(CONCATENATE(\"'\",J85,\"'!\",(ADDRESS((COUNTIF($J$3:J85,IF(B85<>0,CONCATENATE(\"Auswertung \",B85,\"\"))))+2,11)))))=FALSE,+INDIRECT(CONCATENATE(\"'\",J85,\"'!\",(ADDRESS((COUNTIF($J$3:J85,IF(B85<>0,CONCATENATE(\"Auswertung \",B85,\"\"))))+4,9)))),\"\")","v":""},{"$f":"+IF(ISERROR(+INDIRECT(CONCATENATE(\"'\",J85,\"'!\",(ADDRESS((COUNTIF($J$3:J85,IF(B85<>0,CONCATENATE(\"Auswertung \",B85,\"\"))))+2,10)))))=FALSE,+INDIRECT(CONCATENATE(\"'\",J85,\"'!\",(ADDRESS((COUNTIF($J$3:J85,IF(B85<>0,CONCATENATE(\"Auswertung \",B85,\"\"))))+4,10)))),\"\")","v":""},{"$f":"+IF(ISERROR(+INDIRECT(CONCATENATE(\"'\",J85,\"'!\",(ADDRESS((COUNTIF($J$3:J85,IF(B85<>0,CONCATENATE(\"Auswertung \",B85,\"\"))))+2,11)))))=FALSE,+INDIRECT(CONCATENATE(\"'\",J85,\"'!\",(ADDRESS((COUNTIF($J$3:J85,IF(B85<>0,CONCATENATE(\"Auswertung \",B85,\"\"))))+4,11)))),\"\")","v":""},{"$f":"+IF(ISERROR(+INDIRECT(CONCATENATE(\"'\",J85,\"'!\",(ADDRESS((COUNTIF($J$3:J85,IF(D85<>0,CONCATENATE(\"Auswertung \",D85,\"\"))))+2,12)))))=FALSE,+INDIRECT(CONCATENATE(\"'\",J85,\"'!\",(ADDRESS((COUNTIF($J$3:J85,IF(D85<>0,CONCATENATE(\"Auswertung \",B85,\"\"))))+4,12)))),\"\")","v":""},{"$f":"+IF(ISERROR(+INDIRECT(CONCATENATE(\"'\",J85,\"'!\",(ADDRESS((COUNTIF($J$3:J85,IF(D85<>0,CONCATENATE(\"Auswertung \",D85,\"\"))))+2,13)))))=FALSE,+INDIRECT(CONCATENATE(\"'\",J85,\"'!\",(ADDRESS((COUNTIF($J$3:J85,IF(D85<>0,CONCATENATE(\"Auswertung \",B85,\"\"))))+4,13)))),\"\")","v":""},null,{"$f":"+IFERROR(INDIRECT(CONCATENATE(\"'\",J85,\"'!\",(ADDRESS((COUNTIF($J$3:J85,IF(B85<>0,J85)))+4,16)))),\"\")","v":""},21.942,{"$f":"+SUM($M$4:M85)/COUNT($M$4:M85)/1000*2","v":0.28281081081081083},{"$f":"+IFERROR(INDIRECT(CONCATENATE(\"'\",J85,\"'!\",(ADDRESS((COUNTIF($J$3:J85,IF(B85<>0,J85)))+4,18)))),\"\")","v":""},50.264000000000003,{"$f":"+IFERROR(INDIRECT(CONCATENATE(\"'\",J85,\"'!\",(ADDRESS((COUNTIF($J$3:J85,IF(B85<>0,J85)))+4,20)))),\"\")","v":""},44.247,{"$f":"+IFERROR(INDIRECT(CONCATENATE(\"'\",J85,\"'!\",(ADDRESS((COUNTIF($J$3:J85,IF(B85<>0,J85)))+4,22)))),\"\")","v":""},16.149999999999999,{"$f":"+IFERROR(INDIRECT(CONCATENATE(\"'\",J85,\"'!\",(ADDRESS((COUNTIF($J$3:J85,IF(B85<>0,J85)))+4,24)))),\"\")","v":""},-17.100999999999999,{"$f":"+IFERROR(INDIRECT(CONCATENATE(\"'\",J85,\"'!\",(ADDRESS((COUNTIF($J$3:J85,IF(B85<>0,J85)))+4,26)))),\"\")","v":""},-15.523999999999999,82,{"$f":"+SUM(COUNTIF($Z$3:Z85,1),COUNTIF($Z$3:Z85,-1))","v":37},{"$f":"+SUM($M$4:M85)","v":5232},141.40540540540542,{"$f":"+SUM(COUNTIF($Z$3:Z85,1))","v":19},{"$f":"+SUM(COUNTIF($Z$3:Z85,-1))","v":18},1,{"$f":"AN85*(HARMEAN((IF(SUM(COUNTIF($Z$3:Z85,1),COUNTIF($Z$3:Z85,-1))=0,1,SUM(COUNTIF($Z$3:Z85,1),COUNTIF($Z$3:Z85,-1)))),(IF(SUM(COUNTIF($AC$3:AC85,1),COUNTIF($AC$3:AC85,-1))=0,1,SUM(COUNTIF($AC$3:AC85,1),COUNTIF($AC$3:AC85,-1)))),(IF(SUM(COUNTIF($AE$3:AE85,1),COUNTIF($AE$3:AE85,-1))=0,1,SUM(COUNTIF($AE$3:AE85,1),COUNTIF($AE$3:AE85,-1)))),(IF(SUM(COUNTIF($AG$3:AG85,1),COUNTIF($AG$3:AG85,-1))=0,1,SUM(COUNTIF($AG$3:AG85,1),COUNTIF($AG$3:AG85,-1)))),(IF(SUM(COUNTIF($AI$3:AI85,1),COUNTIF($AI$3:AI85,-1))=0,1,SUM(COUNTIF($AI$3:AI85,1),COUNTIF($AI$3:AI85,-1)))),(IF(SUM(COUNTIF($AK$3:AK85,1),COUNTIF($AK$3:AK85,-1))=0,1,SUM(COUNTIF($AK$3:AK85,1),COUNTIF($AK$3:AK85,-1)))))/1000)","v":1.3027260075093867},21.942,null,{"$f":"+SUM(COUNTIF($AC$3:AC85,1),COUNTIF($AC$3:AC85,-1))","v":37},{"$f":"+SUM($O$4:O85)","v":5276},142.59459459459458,{"$f":"+SUM(COUNTIF($AC$3:AC85,1))","v":23},{"$f":"+SUM(COUNTIF($AC$3:AC85,-1))","v":14},9,{"$f":"AW85*(HARMEAN((IF(SUM(COUNTIF($Z$3:Z85,1),COUNTIF($Z$3:Z85,-1))=0,1,SUM(COUNTIF($Z$3:Z85,1),COUNTIF($Z$3:Z85,-1)))),(IF(SUM(COUNTIF($AC$3:AC85,1),COUNTIF($AC$3:AC85,-1))=0,1,SUM(COUNTIF($AC$3:AC85,1),COUNTIF($AC$3:AC85,-1)))),(IF(SUM(COUNTIF($AE$3:AE85,1),COUNTIF($AE$3:AE85,-1))=0,1,SUM(COUNTIF($AE$3:AE85,1),COUNTIF($AE$3:AE85,-1)))),(IF(SUM(COUNTIF($AG$3:AG85,1),COUNTIF($AG$3:AG85,-1))=0,1,SUM(COUNTIF($AG$3:AG85,1),COUNTIF($AG$3:AG85,-1)))),(IF(SUM(COUNTIF($AI$3:AI85,1),COUNTIF($AI$3:AI85,-1))=0,1,SUM(COUNTIF($AI$3:AI85,1),COUNTIF($AI$3:AI85,-1)))),(IF(SUM(COUNTIF($AK$3:AK85,1),COUNTIF($AK$3:AK85,-1))=0,1,SUM(COUNTIF($AK$3:AK85,1),COUNTIF($AK$3:AK85,-1)))))/1000)","v":1.3027260075093867},50.264000000000003,null,{"$f":"+SUM(COUNTIF($AE$3:AE85,1),COUNTIF(AE$3:$AE85,-1))","v":36},{"$f":"+SUM($Q$4:Q85)","v":4567},126.86111111111111,{"$f":"+SUM(COUNTIF($AE$3:AE85,1))","v":22},{"$f":"+SUM(COUNTIF($AE$3:AE85,-1))","v":14},8,{"$f":"BF85*(HARMEAN((IF(SUM(COUNTIF($Z$3:Z85,1),COUNTIF($Z$3:Z85,-1))=0,1,SUM(COUNTIF($Z$3:Z85,1),COUNTIF($Z$3:Z85,-1)))),(IF(SUM(COUNTIF($AC$3:AC85,1),COUNTIF($AC$3:AC85,-1))=0,1,SUM(COUNTIF($AC$3:AC85,1),COUNTIF($AC$3:AC85,-1)))),(IF(SUM(COUNTIF($AE$3:AE85,1),COUNTIF($AE$3:AE85,-1))=0,1,SUM(COUNTIF($AE$3:AE85,1),COUNTIF($AE$3:AE85,-1)))),(IF(SUM(COUNTIF($AG$3:AG85,1),COUNTIF($AG$3:AG85,-1))=0,1,SUM(COUNTIF($AG$3:AG85,1),COUNTIF($AG$3:AG85,-1)))),(IF(SUM(COUNTIF($AI$3:AI85,1),COUNTIF($AI$3:AI85,-1))=0,1,SUM(COUNTIF($AI$3:AI85,1),COUNTIF($AI$3:AI85,-1)))),(IF(SUM(COUNTIF($AK$3:AK85,1),COUNTIF($AK$3:AK85,-1))=0,1,SUM(COUNTIF($AK$3:AK85,1),COUNTIF($AK$3:AK85,-1)))))/1000)","v":1.2675171964956196},44.247,null,{"$f":"+SUM(COUNTIF($AG$3:AG85,1),COUNTIF($AG$3:AG85,-1))","v":37},{"$f":"+SUM($S$4:S85)","v":5587},151,{"$f":"+SUM(COUNTIF($AG$3:AG85,1))","v":18},{"$f":"+SUM(COUNTIF($AG$3:AG85,-1))","v":19},-1,{"$f":"BO85*(HARMEAN((IF(SUM(COUNTIF($Z$3:Z85,1),COUNTIF($Z$3:Z85,-1))=0,1,SUM(COUNTIF($Z$3:Z85,1),COUNTIF($Z$3:Z85,-1)))),(IF(SUM(COUNTIF($AC$3:AC85,1),COUNTIF($AC$3:AC85,-1))=0,1,SUM(COUNTIF($AC$3:AC85,1),COUNTIF($AC$3:AC85,-1)))),(IF(SUM(COUNTIF($AE$3:AE85,1),COUNTIF($AE$3:AE85,-1))=0,1,SUM(COUNTIF($AE$3:AE85,1),COUNTIF($AE$3:AE85,-1)))),(IF(SUM(COUNTIF($AG$3:AG85,1),COUNTIF($AG$3:AG85,-1))=0,1,SUM(COUNTIF($AG$3:AG85,1),COUNTIF($AG$3:AG85,-1)))),(IF(SUM(COUNTIF($AI$3:AI85,1),COUNTIF($AI$3:AI85,-1))=0,1,SUM(COUNTIF($AI$3:AI85,1),COUNTIF($AI$3:AI85,-1)))),(IF(SUM(COUNTIF($AK$3:AK85,1),COUNTIF($AK$3:AK85,-1))=0,1,SUM(COUNTIF($AK$3:AK85,1),COUNTIF($AK$3:AK85,-1)))))/1000)","v":1.3027260075093867},16.149999999999999,null,{"$f":"+SUM(COUNTIF($AI$3:AI85,1),COUNTIF($AI$3:AI85,-1))","v":33},{"$f":"+SUM($U$4:U85)","v":4143},125.54545454545455,{"$f":"+SUM(COUNTIF($AI$3:AI85,1))","v":12},{"$f":"+SUM(COUNTIF($AI$3:AI85,-1))","v":21},-9,{"$f":"+BX85*(HARMEAN((IF(SUM(COUNTIF($Z$3:Z85,1),COUNTIF($Z$3:Z85,-1))=0,1,SUM(COUNTIF($Z$3:Z85,1),COUNTIF($Z$3:Z85,-1)))),(IF(SUM(COUNTIF($AC$3:AC85,1),COUNTIF($AC$3:AC85,-1))=0,1,SUM(COUNTIF($AC$3:AC85,1),COUNTIF($AC$3:AC85,-1)))),(IF(SUM(COUNTIF($AE$3:AE85,1),COUNTIF($AE$3:AE85,-1))=0,1,SUM(COUNTIF($AE$3:AE85,1),COUNTIF($AE$3:AE85,-1)))),(IF(SUM(COUNTIF($AG$3:AG85,1),COUNTIF($AG$3:AG85,-1))=0,1,SUM(COUNTIF($AG$3:AG85,1),COUNTIF($AG$3:AG85,-1)))),(IF(SUM(COUNTIF($AI$3:AI85,1),COUNTIF($AI$3:AI85,-1))=0,1,SUM(COUNTIF($AI$3:AI85,1),COUNTIF($AI$3:AI85,-1)))),(IF(SUM(COUNTIF($AK$3:AK85,1),COUNTIF($AK$3:AK85,-1))=0,1,SUM(COUNTIF($AK$3:AK85,1),COUNTIF($AK$3:AK85,-1)))))/1000)","v":1.1618907634543179},-17.100999999999999,null,{"$f":"+SUM(COUNTIF($AK$3:AK85,1),COUNTIF($AK$3:AK85,-1))","v":32},{"$f":"+SUM($W$4:W85)","v":3591},112.21875,{"$f":"+SUM(COUNTIF($AK$3:AK85,1))","v":12},{"$f":"+SUM(COUNTIF($AK$3:AK85,-1))","v":20},-8,{"$f":"+CG85*(HARMEAN((IF(SUM(COUNTIF($Z$3:Z85,1),COUNTIF($Z$3:Z85,-1))=0,1,SUM(COUNTIF($Z$3:Z85,1),COUNTIF($Z$3:Z85,-1)))),(IF(SUM(COUNTIF($AC$3:AC85,1),COUNTIF($AC$3:AC85,-1))=0,1,SUM(COUNTIF($AC$3:AC85,1),COUNTIF($AC$3:AC85,-1)))),(IF(SUM(COUNTIF($AE$3:AE85,1),COUNTIF($AE$3:AE85,-1))=0,1,SUM(COUNTIF($AE$3:AE85,1),COUNTIF($AE$3:AE85,-1)))),(IF(SUM(COUNTIF($AG$3:AG85,1),COUNTIF($AG$3:AG85,-1))=0,1,SUM(COUNTIF($AG$3:AG85,1),COUNTIF($AG$3:AG85,-1)))),(IF(SUM(COUNTIF($AI$3:AI85,1),COUNTIF($AI$3:AI85,-1))=0,1,SUM(COUNTIF($AI$3:AI85,1),COUNTIF($AI$3:AI85,-1)))),(IF(SUM(COUNTIF($AK$3:AK85,1),COUNTIF($AK$3:AK85,-1))=0,1,SUM(COUNTIF($AK$3:AK85,1),COUNTIF($AK$3:AK85,-1)))))/1000)","v":1.1266819524405507},-15.523999999999999]
[83,"",null,{"$f":"+IFERROR(INDEX('Auswertung AoE II'!$AE:$AE,MATCH(A86,'Auswertung AoE II'!$AD:$AD,0)),\"\")","v":""},{"$f":"+IFERROR(INDEX('Auswertung AoE III'!$AE:$AE,MATCH(A86,'Auswertung AoE III'!$AD:$AD,0)),\"\")","v":""},{"$f":"+IFERROR(INDEX('Auswertung AoM'!$AE:$AE,MATCH(A86,'Auswertung AoM'!$AD:$AD,0)),\"\")","v":""},{"$f":"+IFERROR(INDEX('Auswertung RA'!$AE:$AE,MATCH(A86,'Auswertung RA'!$AD:$AD,0)),\"\")","v":""},{"$f":"+IFERROR(INDEX('Auswertung Yuri'!$AE:$AE,MATCH(A86,'Auswertung Yuri'!$AD:$AD,0)),\"\")","v":""},{"$f":"+IFERROR(INDEX('Auswertung Generals'!$AE:$AE,MATCH(A86,'Auswertung Generals'!$AD:$AD,0)),\"\")","v":""},"Auswertung ",null,null,{"$f":"+IF(ISERROR(+INDIRECT(CONCATENATE(\"'\",J86,\"'!\",(ADDRESS((COUNTIF($J$3:J86,IF(B86<>0,CONCATENATE(\"Auswertung \",B86,\"\"))))+2,2)))))=FALSE,+INDIRECT(CONCATENATE(\"'\",J86,\"'!\",(ADDRESS((COUNTIF($J$3:J86,IF(B86<>0,CONCATENATE(\"Auswertung \",B86,\"\"))))+4,2)))),\"\")","v":""},{"$f":"IF(ISERROR(+INDIRECT(CONCATENATE(\"'\",J86,\"'!\",(ADDRESS((COUNTIF($J$3:J86,IF(B86<>0,CONCATENATE(\"Auswertung \",B86,\"\"))))+2,2+1)))))=FALSE,+INDIRECT(CONCATENATE(\"'\",J86,\"'!\",(ADDRESS((COUNTIF($J$3:J86,IF(B86<>0,CONCATENATE(\"Auswertung \",B86,\"\"))))+4,2+1)))),\"\")","v":""},{"$f":"+IF(ISERROR(+INDIRECT(CONCATENATE(\"'\",J86,\"'!\",(ADDRESS((COUNTIF($J$3:J86,IF(B86<>0,CONCATENATE(\"Auswertung \",B86,\"\"))))+2,4)))))=FALSE,+INDIRECT(CONCATENATE(\"'\",J86,\"'!\",(ADDRESS((COUNTIF($J$3:J86,IF(B86<>0,CONCATENATE(\"Auswertung \",B86,\"\"))))+4,4)))),\"\")","v":""},{"$f":"+IF(ISERROR(+INDIRECT(CONCATENATE(\"'\",J86,\"'!\",(ADDRESS((COUNTIF($J$3:J86,IF(B86<>0,CONCATENATE(\"Auswertung \",B86,\"\"))))+2,5)))))=FALSE,+INDIRECT(CONCATENATE(\"'\",J86,\"'!\",(ADDRESS((COUNTIF($J$3:J86,IF(B86<>0,CONCATENATE(\"Auswertung \",B86,\"\"))))+4,5)))),\"\")","v":""},{"$f":"+IF(ISERROR(+INDIRECT(CONCATENATE(\"'\",J86,\"'!\",(ADDRESS((COUNTIF($J$3:J86,IF(B86<>0,CONCATENATE(\"Auswertung \",B86,\"\"))))+2,6)))))=FALSE,+INDIRECT(CONCATENATE(\"'\",J86,\"'!\",(ADDRESS((COUNTIF($J$3:J86,IF(B86<>0,CONCATENATE(\"Auswertung \",B86,\"\"))))+4,6)))),\"\")","v":""},{"$f":"+IF(ISERROR(+INDIRECT(CONCATENATE(\"'\",J86,\"'!\",(ADDRESS((COUNTIF($J$3:J86,IF(B86<>0,CONCATENATE(\"Auswertung \",B86,\"\"))))+2,7)))))=FALSE,+INDIRECT(CONCATENATE(\"'\",J86,\"'!\",(ADDRESS((COUNTIF($J$3:J86,IF(B86<>0,CONCATENATE(\"Auswertung \",B86,\"\"))))+4,7)))),\"\")","v":""},{"$f":"+IF(ISERROR(+INDIRECT(CONCATENATE(\"'\",J86,\"'!\",(ADDRESS((COUNTIF($J$3:J86,IF(B86<>0,CONCATENATE(\"Auswertung \",B86,\"\"))))+2,10)))))=FALSE,+INDIRECT(CONCATENATE(\"'\",J86,\"'!\",(ADDRESS((COUNTIF($J$3:J86,IF(B86<>0,CONCATENATE(\"Auswertung \",B86,\"\"))))+4,8)))),\"\")","v":""},{"$f":"+IF(ISERROR(+INDIRECT(CONCATENATE(\"'\",J86,\"'!\",(ADDRESS((COUNTIF($J$3:J86,IF(B86<>0,CONCATENATE(\"Auswertung \",B86,\"\"))))+2,11)))))=FALSE,+INDIRECT(CONCATENATE(\"'\",J86,\"'!\",(ADDRESS((COUNTIF($J$3:J86,IF(B86<>0,CONCATENATE(\"Auswertung \",B86,\"\"))))+4,9)))),\"\")","v":""},{"$f":"+IF(ISERROR(+INDIRECT(CONCATENATE(\"'\",J86,\"'!\",(ADDRESS((COUNTIF($J$3:J86,IF(B86<>0,CONCATENATE(\"Auswertung \",B86,\"\"))))+2,10)))))=FALSE,+INDIRECT(CONCATENATE(\"'\",J86,\"'!\",(ADDRESS((COUNTIF($J$3:J86,IF(B86<>0,CONCATENATE(\"Auswertung \",B86,\"\"))))+4,10)))),\"\")","v":""},{"$f":"+IF(ISERROR(+INDIRECT(CONCATENATE(\"'\",J86,\"'!\",(ADDRESS((COUNTIF($J$3:J86,IF(B86<>0,CONCATENATE(\"Auswertung \",B86,\"\"))))+2,11)))))=FALSE,+INDIRECT(CONCATENATE(\"'\",J86,\"'!\",(ADDRESS((COUNTIF($J$3:J86,IF(B86<>0,CONCATENATE(\"Auswertung \",B86,\"\"))))+4,11)))),\"\")","v":""},{"$f":"+IF(ISERROR(+INDIRECT(CONCATENATE(\"'\",J86,\"'!\",(ADDRESS((COUNTIF($J$3:J86,IF(D86<>0,CONCATENATE(\"Auswertung \",D86,\"\"))))+2,12)))))=FALSE,+INDIRECT(CONCATENATE(\"'\",J86,\"'!\",(ADDRESS((COUNTIF($J$3:J86,IF(D86<>0,CONCATENATE(\"Auswertung \",B86,\"\"))))+4,12)))),\"\")","v":""},{"$f":"+IF(ISERROR(+INDIRECT(CONCATENATE(\"'\",J86,\"'!\",(ADDRESS((COUNTIF($J$3:J86,IF(D86<>0,CONCATENATE(\"Auswertung \",D86,\"\"))))+2,13)))))=FALSE,+INDIRECT(CONCATENATE(\"'\",J86,\"'!\",(ADDRESS((COUNTIF($J$3:J86,IF(D86<>0,CONCATENATE(\"Auswertung \",B86,\"\"))))+4,13)))),\"\")","v":""},null,{"$f":"+IFERROR(INDIRECT(CONCATENATE(\"'\",J86,\"'!\",(ADDRESS((COUNTIF($J$3:J86,IF(B86<>0,J86)))+4,16)))),\"\")","v":""},21.942,{"$f":"+SUM($M$4:M86)/COUNT($M$4:M86)/1000*2","v":0.28281081081081083},{"$f":"+IFERROR(INDIRECT(CONCATENATE(\"'\",J86,\"'!\",(ADDRESS((COUNTIF($J$3:J86,IF(B86<>0,J86)))+4,18)))),\"\")","v":""},50.264000000000003,{"$f":"+IFERROR(INDIRECT(CONCATENATE(\"'\",J86,\"'!\",(ADDRESS((COUNTIF($J$3:J86,IF(B86<>0,J86)))+4,20)))),\"\")","v":""},44.247,{"$f":"+IFERROR(INDIRECT(CONCATENATE(\"'\",J86,\"'!\",(ADDRESS((COUNTIF($J$3:J86,IF(B86<>0,J86)))+4,22)))),\"\")","v":""},16.149999999999999,{"$f":"+IFERROR(INDIRECT(CONCATENATE(\"'\",J86,\"'!\",(ADDRESS((COUNTIF($J$3:J86,IF(B86<>0,J86)))+4,24)))),\"\")","v":""},-17.100999999999999,{"$f":"+IFERROR(INDIRECT(CONCATENATE(\"'\",J86,\"'!\",(ADDRESS((COUNTIF($J$3:J86,IF(B86<>0,J86)))+4,26)))),\"\")","v":""},-15.523999999999999,83,{"$f":"+SUM(COUNTIF($Z$3:Z86,1),COUNTIF($Z$3:Z86,-1))","v":37},{"$f":"+SUM($M$4:M86)","v":5232},141.40540540540542,{"$f":"+SUM(COUNTIF($Z$3:Z86,1))","v":19},{"$f":"+SUM(COUNTIF($Z$3:Z86,-1))","v":18},1,{"$f":"AN86*(HARMEAN((IF(SUM(COUNTIF($Z$3:Z86,1),COUNTIF($Z$3:Z86,-1))=0,1,SUM(COUNTIF($Z$3:Z86,1),COUNTIF($Z$3:Z86,-1)))),(IF(SUM(COUNTIF($AC$3:AC86,1),COUNTIF($AC$3:AC86,-1))=0,1,SUM(COUNTIF($AC$3:AC86,1),COUNTIF($AC$3:AC86,-1)))),(IF(SUM(COUNTIF($AE$3:AE86,1),COUNTIF($AE$3:AE86,-1))=0,1,SUM(COUNTIF($AE$3:AE86,1),COUNTIF($AE$3:AE86,-1)))),(IF(SUM(COUNTIF($AG$3:AG86,1),COUNTIF($AG$3:AG86,-1))=0,1,SUM(COUNTIF($AG$3:AG86,1),COUNTIF($AG$3:AG86,-1)))),(IF(SUM(COUNTIF($AI$3:AI86,1),COUNTIF($AI$3:AI86,-1))=0,1,SUM(COUNTIF($AI$3:AI86,1),COUNTIF($AI$3:AI86,-1)))),(IF(SUM(COUNTIF($AK$3:AK86,1),COUNTIF($AK$3:AK86,-1))=0,1,SUM(COUNTIF($AK$3:AK86,1),COUNTIF($AK$3:AK86,-1)))))/1000)","v":1.3027260075093867},21.942,null,{"$f":"+SUM(COUNTIF($AC$3:AC86,1),COUNTIF($AC$3:AC86,-1))","v":37},{"$f":"+SUM($O$4:O86)","v":5276},142.59459459459458,{"$f":"+SUM(COUNTIF($AC$3:AC86,1))","v":23},{"$f":"+SUM(COUNTIF($AC$3:AC86,-1))","v":14},9,{"$f":"AW86*(HARMEAN((IF(SUM(COUNTIF($Z$3:Z86,1),COUNTIF($Z$3:Z86,-1))=0,1,SUM(COUNTIF($Z$3:Z86,1),COUNTIF($Z$3:Z86,-1)))),(IF(SUM(COUNTIF($AC$3:AC86,1),COUNTIF($AC$3:AC86,-1))=0,1,SUM(COUNTIF($AC$3:AC86,1),COUNTIF($AC$3:AC86,-1)))),(IF(SUM(COUNTIF($AE$3:AE86,1),COUNTIF($AE$3:AE86,-1))=0,1,SUM(COUNTIF($AE$3:AE86,1),COUNTIF($AE$3:AE86,-1)))),(IF(SUM(COUNTIF($AG$3:AG86,1),COUNTIF($AG$3:AG86,-1))=0,1,SUM(COUNTIF($AG$3:AG86,1),COUNTIF($AG$3:AG86,-1)))),(IF(SUM(COUNTIF($AI$3:AI86,1),COUNTIF($AI$3:AI86,-1))=0,1,SUM(COUNTIF($AI$3:AI86,1),COUNTIF($AI$3:AI86,-1)))),(IF(SUM(COUNTIF($AK$3:AK86,1),COUNTIF($AK$3:AK86,-1))=0,1,SUM(COUNTIF($AK$3:AK86,1),COUNTIF($AK$3:AK86,-1)))))/1000)","v":1.3027260075093867},50.264000000000003,null,{"$f":"+SUM(COUNTIF($AE$3:AE86,1),COUNTIF(AE$3:$AE86,-1))","v":36},{"$f":"+SUM($Q$4:Q86)","v":4567},126.86111111111111,{"$f":"+SUM(COUNTIF($AE$3:AE86,1))","v":22},{"$f":"+SUM(COUNTIF($AE$3:AE86,-1))","v":14},8,{"$f":"BF86*(HARMEAN((IF(SUM(COUNTIF($Z$3:Z86,1),COUNTIF($Z$3:Z86,-1))=0,1,SUM(COUNTIF($Z$3:Z86,1),COUNTIF($Z$3:Z86,-1)))),(IF(SUM(COUNTIF($AC$3:AC86,1),COUNTIF($AC$3:AC86,-1))=0,1,SUM(COUNTIF($AC$3:AC86,1),COUNTIF($AC$3:AC86,-1)))),(IF(SUM(COUNTIF($AE$3:AE86,1),COUNTIF($AE$3:AE86,-1))=0,1,SUM(COUNTIF($AE$3:AE86,1),COUNTIF($AE$3:AE86,-1)))),(IF(SUM(COUNTIF($AG$3:AG86,1),COUNTIF($AG$3:AG86,-1))=0,1,SUM(COUNTIF($AG$3:AG86,1),COUNTIF($AG$3:AG86,-1)))),(IF(SUM(COUNTIF($AI$3:AI86,1),COUNTIF($AI$3:AI86,-1))=0,1,SUM(COUNTIF($AI$3:AI86,1),COUNTIF($AI$3:AI86,-1)))),(IF(SUM(COUNTIF($AK$3:AK86,1),COUNTIF($AK$3:AK86,-1))=0,1,SUM(COUNTIF($AK$3:AK86,1),COUNTIF($AK$3:AK86,-1)))))/1000)","v":1.2675171964956196},44.247,null,{"$f":"+SUM(COUNTIF($AG$3:AG86,1),COUNTIF($AG$3:AG86,-1))","v":37},{"$f":"+SUM($S$4:S86)","v":5587},151,{"$f":"+SUM(COUNTIF($AG$3:AG86,1))","v":18},{"$f":"+SUM(COUNTIF($AG$3:AG86,-1))","v":19},-1,{"$f":"BO86*(HARMEAN((IF(SUM(COUNTIF($Z$3:Z86,1),COUNTIF($Z$3:Z86,-1))=0,1,SUM(COUNTIF($Z$3:Z86,1),COUNTIF($Z$3:Z86,-1)))),(IF(SUM(COUNTIF($AC$3:AC86,1),COUNTIF($AC$3:AC86,-1))=0,1,SUM(COUNTIF($AC$3:AC86,1),COUNTIF($AC$3:AC86,-1)))),(IF(SUM(COUNTIF($AE$3:AE86,1),COUNTIF($AE$3:AE86,-1))=0,1,SUM(COUNTIF($AE$3:AE86,1),COUNTIF($AE$3:AE86,-1)))),(IF(SUM(COUNTIF($AG$3:AG86,1),COUNTIF($AG$3:AG86,-1))=0,1,SUM(COUNTIF($AG$3:AG86,1),COUNTIF($AG$3:AG86,-1)))),(IF(SUM(COUNTIF($AI$3:AI86,1),COUNTIF($AI$3:AI86,-1))=0,1,SUM(COUNTIF($AI$3:AI86,1),COUNTIF($AI$3:AI86,-1)))),(IF(SUM(COUNTIF($AK$3:AK86,1),COUNTIF($AK$3:AK86,-1))=0,1,SUM(COUNTIF($AK$3:AK86,1),COUNTIF($AK$3:AK86,-1)))))/1000)","v":1.3027260075093867},16.149999999999999,null,{"$f":"+SUM(COUNTIF($AI$3:AI86,1),COUNTIF($AI$3:AI86,-1))","v":33},{"$f":"+SUM($U$4:U86)","v":4143},125.54545454545455,{"$f":"+SUM(COUNTIF($AI$3:AI86,1))","v":12},{"$f":"+SUM(COUNTIF($AI$3:AI86,-1))","v":21},-9,{"$f":"+BX86*(HARMEAN((IF(SUM(COUNTIF($Z$3:Z86,1),COUNTIF($Z$3:Z86,-1))=0,1,SUM(COUNTIF($Z$3:Z86,1),COUNTIF($Z$3:Z86,-1)))),(IF(SUM(COUNTIF($AC$3:AC86,1),COUNTIF($AC$3:AC86,-1))=0,1,SUM(COUNTIF($AC$3:AC86,1),COUNTIF($AC$3:AC86,-1)))),(IF(SUM(COUNTIF($AE$3:AE86,1),COUNTIF($AE$3:AE86,-1))=0,1,SUM(COUNTIF($AE$3:AE86,1),COUNTIF($AE$3:AE86,-1)))),(IF(SUM(COUNTIF($AG$3:AG86,1),COUNTIF($AG$3:AG86,-1))=0,1,SUM(COUNTIF($AG$3:AG86,1),COUNTIF($AG$3:AG86,-1)))),(IF(SUM(COUNTIF($AI$3:AI86,1),COUNTIF($AI$3:AI86,-1))=0,1,SUM(COUNTIF($AI$3:AI86,1),COUNTIF($AI$3:AI86,-1)))),(IF(SUM(COUNTIF($AK$3:AK86,1),COUNTIF($AK$3:AK86,-1))=0,1,SUM(COUNTIF($AK$3:AK86,1),COUNTIF($AK$3:AK86,-1)))))/1000)","v":1.1618907634543179},-17.100999999999999,null,{"$f":"+SUM(COUNTIF($AK$3:AK86,1),COUNTIF($AK$3:AK86,-1))","v":32},{"$f":"+SUM($W$4:W86)","v":3591},112.21875,{"$f":"+SUM(COUNTIF($AK$3:AK86,1))","v":12},{"$f":"+SUM(COUNTIF($AK$3:AK86,-1))","v":20},-8,{"$f":"+CG86*(HARMEAN((IF(SUM(COUNTIF($Z$3:Z86,1),COUNTIF($Z$3:Z86,-1))=0,1,SUM(COUNTIF($Z$3:Z86,1),COUNTIF($Z$3:Z86,-1)))),(IF(SUM(COUNTIF($AC$3:AC86,1),COUNTIF($AC$3:AC86,-1))=0,1,SUM(COUNTIF($AC$3:AC86,1),COUNTIF($AC$3:AC86,-1)))),(IF(SUM(COUNTIF($AE$3:AE86,1),COUNTIF($AE$3:AE86,-1))=0,1,SUM(COUNTIF($AE$3:AE86,1),COUNTIF($AE$3:AE86,-1)))),(IF(SUM(COUNTIF($AG$3:AG86,1),COUNTIF($AG$3:AG86,-1))=0,1,SUM(COUNTIF($AG$3:AG86,1),COUNTIF($AG$3:AG86,-1)))),(IF(SUM(COUNTIF($AI$3:AI86,1),COUNTIF($AI$3:AI86,-1))=0,1,SUM(COUNTIF($AI$3:AI86,1),COUNTIF($AI$3:AI86,-1)))),(IF(SUM(COUNTIF($AK$3:AK86,1),COUNTIF($AK$3:AK86,-1))=0,1,SUM(COUNTIF($AK$3:AK86,1),COUNTIF($AK$3:AK86,-1)))))/1000)","v":1.1266819524405507},-15.523999999999999]
[84,"",null,{"$f":"+IFERROR(INDEX('Auswertung AoE II'!$AE:$AE,MATCH(A87,'Auswertung AoE II'!$AD:$AD,0)),\"\")","v":""},{"$f":"+IFERROR(INDEX('Auswertung AoE III'!$AE:$AE,MATCH(A87,'Auswertung AoE III'!$AD:$AD,0)),\"\")","v":""},{"$f":"+IFERROR(INDEX('Auswertung AoM'!$AE:$AE,MATCH(A87,'Auswertung AoM'!$AD:$AD,0)),\"\")","v":""},{"$f":"+IFERROR(INDEX('Auswertung RA'!$AE:$AE,MATCH(A87,'Auswertung RA'!$AD:$AD,0)),\"\")","v":""},{"$f":"+IFERROR(INDEX('Auswertung Yuri'!$AE:$AE,MATCH(A87,'Auswertung Yuri'!$AD:$AD,0)),\"\")","v":""},{"$f":"+IFERROR(INDEX('Auswertung Generals'!$AE:$AE,MATCH(A87,'Auswertung Generals'!$AD:$AD,0)),\"\")","v":""},"Auswertung ",null,null,{"$f":"+IF(ISERROR(+INDIRECT(CONCATENATE(\"'\",J87,\"'!\",(ADDRESS((COUNTIF($J$3:J87,IF(B87<>0,CONCATENATE(\"Auswertung \",B87,\"\"))))+2,2)))))=FALSE,+INDIRECT(CONCATENATE(\"'\",J87,\"'!\",(ADDRESS((COUNTIF($J$3:J87,IF(B87<>0,CONCATENATE(\"Auswertung \",B87,\"\"))))+4,2)))),\"\")","v":""},{"$f":"IF(ISERROR(+INDIRECT(CONCATENATE(\"'\",J87,\"'!\",(ADDRESS((COUNTIF($J$3:J87,IF(B87<>0,CONCATENATE(\"Auswertung \",B87,\"\"))))+2,2+1)))))=FALSE,+INDIRECT(CONCATENATE(\"'\",J87,\"'!\",(ADDRESS((COUNTIF($J$3:J87,IF(B87<>0,CONCATENATE(\"Auswertung \",B87,\"\"))))+4,2+1)))),\"\")","v":""},{"$f":"+IF(ISERROR(+INDIRECT(CONCATENATE(\"'\",J87,\"'!\",(ADDRESS((COUNTIF($J$3:J87,IF(B87<>0,CONCATENATE(\"Auswertung \",B87,\"\"))))+2,4)))))=FALSE,+INDIRECT(CONCATENATE(\"'\",J87,\"'!\",(ADDRESS((COUNTIF($J$3:J87,IF(B87<>0,CONCATENATE(\"Auswertung \",B87,\"\"))))+4,4)))),\"\")","v":""},{"$f":"+IF(ISERROR(+INDIRECT(CONCATENATE(\"'\",J87,\"'!\",(ADDRESS((COUNTIF($J$3:J87,IF(B87<>0,CONCATENATE(\"Auswertung \",B87,\"\"))))+2,5)))))=FALSE,+INDIRECT(CONCATENATE(\"'\",J87,\"'!\",(ADDRESS((COUNTIF($J$3:J87,IF(B87<>0,CONCATENATE(\"Auswertung \",B87,\"\"))))+4,5)))),\"\")","v":""},{"$f":"+IF(ISERROR(+INDIRECT(CONCATENATE(\"'\",J87,\"'!\",(ADDRESS((COUNTIF($J$3:J87,IF(B87<>0,CONCATENATE(\"Auswertung \",B87,\"\"))))+2,6)))))=FALSE,+INDIRECT(CONCATENATE(\"'\",J87,\"'!\",(ADDRESS((COUNTIF($J$3:J87,IF(B87<>0,CONCATENATE(\"Auswertung \",B87,\"\"))))+4,6)))),\"\")","v":""},{"$f":"+IF(ISERROR(+INDIRECT(CONCATENATE(\"'\",J87,\"'!\",(ADDRESS((COUNTIF($J$3:J87,IF(B87<>0,CONCATENATE(\"Auswertung \",B87,\"\"))))+2,7)))))=FALSE,+INDIRECT(CONCATENATE(\"'\",J87,\"'!\",(ADDRESS((COUNTIF($J$3:J87,IF(B87<>0,CONCATENATE(\"Auswertung \",B87,\"\"))))+4,7)))),\"\")","v":""},{"$f":"+IF(ISERROR(+INDIRECT(CONCATENATE(\"'\",J87,\"'!\",(ADDRESS((COUNTIF($J$3:J87,IF(B87<>0,CONCATENATE(\"Auswertung \",B87,\"\"))))+2,10)))))=FALSE,+INDIRECT(CONCATENATE(\"'\",J87,\"'!\",(ADDRESS((COUNTIF($J$3:J87,IF(B87<>0,CONCATENATE(\"Auswertung \",B87,\"\"))))+4,8)))),\"\")","v":""},{"$f":"+IF(ISERROR(+INDIRECT(CONCATENATE(\"'\",J87,\"'!\",(ADDRESS((COUNTIF($J$3:J87,IF(B87<>0,CONCATENATE(\"Auswertung \",B87,\"\"))))+2,11)))))=FALSE,+INDIRECT(CONCATENATE(\"'\",J87,\"'!\",(ADDRESS((COUNTIF($J$3:J87,IF(B87<>0,CONCATENATE(\"Auswertung \",B87,\"\"))))+4,9)))),\"\")","v":""},{"$f":"+IF(ISERROR(+INDIRECT(CONCATENATE(\"'\",J87,\"'!\",(ADDRESS((COUNTIF($J$3:J87,IF(B87<>0,CONCATENATE(\"Auswertung \",B87,\"\"))))+2,10)))))=FALSE,+INDIRECT(CONCATENATE(\"'\",J87,\"'!\",(ADDRESS((COUNTIF($J$3:J87,IF(B87<>0,CONCATENATE(\"Auswertung \",B87,\"\"))))+4,10)))),\"\")","v":""},{"$f":"+IF(ISERROR(+INDIRECT(CONCATENATE(\"'\",J87,\"'!\",(ADDRESS((COUNTIF($J$3:J87,IF(B87<>0,CONCATENATE(\"Auswertung \",B87,\"\"))))+2,11)))))=FALSE,+INDIRECT(CONCATENATE(\"'\",J87,\"'!\",(ADDRESS((COUNTIF($J$3:J87,IF(B87<>0,CONCATENATE(\"Auswertung \",B87,\"\"))))+4,11)))),\"\")","v":""},{"$f":"+IF(ISERROR(+INDIRECT(CONCATENATE(\"'\",J87,\"'!\",(ADDRESS((COUNTIF($J$3:J87,IF(D87<>0,CONCATENATE(\"Auswertung \",D87,\"\"))))+2,12)))))=FALSE,+INDIRECT(CONCATENATE(\"'\",J87,\"'!\",(ADDRESS((COUNTIF($J$3:J87,IF(D87<>0,CONCATENATE(\"Auswertung \",B87,\"\"))))+4,12)))),\"\")","v":""},{"$f":"+IF(ISERROR(+INDIRECT(CONCATENATE(\"'\",J87,\"'!\",(ADDRESS((COUNTIF($J$3:J87,IF(D87<>0,CONCATENATE(\"Auswertung \",D87,\"\"))))+2,13)))))=FALSE,+INDIRECT(CONCATENATE(\"'\",J87,\"'!\",(ADDRESS((COUNTIF($J$3:J87,IF(D87<>0,CONCATENATE(\"Auswertung \",B87,\"\"))))+4,13)))),\"\")","v":""},null,{"$f":"+IFERROR(INDIRECT(CONCATENATE(\"'\",J87,\"'!\",(ADDRESS((COUNTIF($J$3:J87,IF(B87<>0,J87)))+4,16)))),\"\")","v":""},21.942,{"$f":"+SUM($M$4:M87)/COUNT($M$4:M87)/1000*2","v":0.28281081081081083},{"$f":"+IFERROR(INDIRECT(CONCATENATE(\"'\",J87,\"'!\",(ADDRESS((COUNTIF($J$3:J87,IF(B87<>0,J87)))+4,18)))),\"\")","v":""},50.264000000000003,{"$f":"+IFERROR(INDIRECT(CONCATENATE(\"'\",J87,\"'!\",(ADDRESS((COUNTIF($J$3:J87,IF(B87<>0,J87)))+4,20)))),\"\")","v":""},44.247,{"$f":"+IFERROR(INDIRECT(CONCATENATE(\"'\",J87,\"'!\",(ADDRESS((COUNTIF($J$3:J87,IF(B87<>0,J87)))+4,22)))),\"\")","v":""},16.149999999999999,{"$f":"+IFERROR(INDIRECT(CONCATENATE(\"'\",J87,\"'!\",(ADDRESS((COUNTIF($J$3:J87,IF(B87<>0,J87)))+4,24)))),\"\")","v":""},-17.100999999999999,{"$f":"+IFERROR(INDIRECT(CONCATENATE(\"'\",J87,\"'!\",(ADDRESS((COUNTIF($J$3:J87,IF(B87<>0,J87)))+4,26)))),\"\")","v":""},-15.523999999999999,84,{"$f":"+SUM(COUNTIF($Z$3:Z87,1),COUNTIF($Z$3:Z87,-1))","v":37},{"$f":"+SUM($M$4:M87)","v":5232},141.40540540540542,{"$f":"+SUM(COUNTIF($Z$3:Z87,1))","v":19},{"$f":"+SUM(COUNTIF($Z$3:Z87,-1))","v":18},1,{"$f":"AN87*(HARMEAN((IF(SUM(COUNTIF($Z$3:Z87,1),COUNTIF($Z$3:Z87,-1))=0,1,SUM(COUNTIF($Z$3:Z87,1),COUNTIF($Z$3:Z87,-1)))),(IF(SUM(COUNTIF($AC$3:AC87,1),COUNTIF($AC$3:AC87,-1))=0,1,SUM(COUNTIF($AC$3:AC87,1),COUNTIF($AC$3:AC87,-1)))),(IF(SUM(COUNTIF($AE$3:AE87,1),COUNTIF($AE$3:AE87,-1))=0,1,SUM(COUNTIF($AE$3:AE87,1),COUNTIF($AE$3:AE87,-1)))),(IF(SUM(COUNTIF($AG$3:AG87,1),COUNTIF($AG$3:AG87,-1))=0,1,SUM(COUNTIF($AG$3:AG87,1),COUNTIF($AG$3:AG87,-1)))),(IF(SUM(COUNTIF($AI$3:AI87,1),COUNTIF($AI$3:AI87,-1))=0,1,SUM(COUNTIF($AI$3:AI87,1),COUNTIF($AI$3:AI87,-1)))),(IF(SUM(COUNTIF($AK$3:AK87,1),COUNTIF($AK$3:AK87,-1))=0,1,SUM(COUNTIF($AK$3:AK87,1),COUNTIF($AK$3:AK87,-1)))))/1000)","v":1.3027260075093867},21.942,null,{"$f":"+SUM(COUNTIF($AC$3:AC87,1),COUNTIF($AC$3:AC87,-1))","v":37},{"$f":"+SUM($O$4:O87)","v":5276},142.59459459459458,{"$f":"+SUM(COUNTIF($AC$3:AC87,1))","v":23},{"$f":"+SUM(COUNTIF($AC$3:AC87,-1))","v":14},9,{"$f":"AW87*(HARMEAN((IF(SUM(COUNTIF($Z$3:Z87,1),COUNTIF($Z$3:Z87,-1))=0,1,SUM(COUNTIF($Z$3:Z87,1),COUNTIF($Z$3:Z87,-1)))),(IF(SUM(COUNTIF($AC$3:AC87,1),COUNTIF($AC$3:AC87,-1))=0,1,SUM(COUNTIF($AC$3:AC87,1),COUNTIF($AC$3:AC87,-1)))),(IF(SUM(COUNTIF($AE$3:AE87,1),COUNTIF($AE$3:AE87,-1))=0,1,SUM(COUNTIF($AE$3:AE87,1),COUNTIF($AE$3:AE87,-1)))),(IF(SUM(COUNTIF($AG$3:AG87,1),COUNTIF($AG$3:AG87,-1))=0,1,SUM(COUNTIF($AG$3:AG87,1),COUNTIF($AG$3:AG87,-1)))),(IF(SUM(COUNTIF($AI$3:AI87,1),COUNTIF($AI$3:AI87,-1))=0,1,SUM(COUNTIF($AI$3:AI87,1),COUNTIF($AI$3:AI87,-1)))),(IF(SUM(COUNTIF($AK$3:AK87,1),COUNTIF($AK$3:AK87,-1))=0,1,SUM(COUNTIF($AK$3:AK87,1),COUNTIF($AK$3:AK87,-1)))))/1000)","v":1.3027260075093867},50.264000000000003,null,{"$f":"+SUM(COUNTIF($AE$3:AE87,1),COUNTIF(AE$3:$AE87,-1))","v":36},{"$f":"+SUM($Q$4:Q87)","v":4567},126.86111111111111,{"$f":"+SUM(COUNTIF($AE$3:AE87,1))","v":22},{"$f":"+SUM(COUNTIF($AE$3:AE87,-1))","v":14},8,{"$f":"BF87*(HARMEAN((IF(SUM(COUNTIF($Z$3:Z87,1),COUNTIF($Z$3:Z87,-1))=0,1,SUM(COUNTIF($Z$3:Z87,1),COUNTIF($Z$3:Z87,-1)))),(IF(SUM(COUNTIF($AC$3:AC87,1),COUNTIF($AC$3:AC87,-1))=0,1,SUM(COUNTIF($AC$3:AC87,1),COUNTIF($AC$3:AC87,-1)))),(IF(SUM(COUNTIF($AE$3:AE87,1),COUNTIF($AE$3:AE87,-1))=0,1,SUM(COUNTIF($AE$3:AE87,1),COUNTIF($AE$3:AE87,-1)))),(IF(SUM(COUNTIF($AG$3:AG87,1),COUNTIF($AG$3:AG87,-1))=0,1,SUM(COUNTIF($AG$3:AG87,1),COUNTIF($AG$3:AG87,-1)))),(IF(SUM(COUNTIF($AI$3:AI87,1),COUNTIF($AI$3:AI87,-1))=0,1,SUM(COUNTIF($AI$3:AI87,1),COUNTIF($AI$3:AI87,-1)))),(IF(SUM(COUNTIF($AK$3:AK87,1),COUNTIF($AK$3:AK87,-1))=0,1,SUM(COUNTIF($AK$3:AK87,1),COUNTIF($AK$3:AK87,-1)))))/1000)","v":1.2675171964956196},44.247,null,{"$f":"+SUM(COUNTIF($AG$3:AG87,1),COUNTIF($AG$3:AG87,-1))","v":37},{"$f":"+SUM($S$4:S87)","v":5587},151,{"$f":"+SUM(COUNTIF($AG$3:AG87,1))","v":18},{"$f":"+SUM(COUNTIF($AG$3:AG87,-1))","v":19},-1,{"$f":"BO87*(HARMEAN((IF(SUM(COUNTIF($Z$3:Z87,1),COUNTIF($Z$3:Z87,-1))=0,1,SUM(COUNTIF($Z$3:Z87,1),COUNTIF($Z$3:Z87,-1)))),(IF(SUM(COUNTIF($AC$3:AC87,1),COUNTIF($AC$3:AC87,-1))=0,1,SUM(COUNTIF($AC$3:AC87,1),COUNTIF($AC$3:AC87,-1)))),(IF(SUM(COUNTIF($AE$3:AE87,1),COUNTIF($AE$3:AE87,-1))=0,1,SUM(COUNTIF($AE$3:AE87,1),COUNTIF($AE$3:AE87,-1)))),(IF(SUM(COUNTIF($AG$3:AG87,1),COUNTIF($AG$3:AG87,-1))=0,1,SUM(COUNTIF($AG$3:AG87,1),COUNTIF($AG$3:AG87,-1)))),(IF(SUM(COUNTIF($AI$3:AI87,1),COUNTIF($AI$3:AI87,-1))=0,1,SUM(COUNTIF($AI$3:AI87,1),COUNTIF($AI$3:AI87,-1)))),(IF(SUM(COUNTIF($AK$3:AK87,1),COUNTIF($AK$3:AK87,-1))=0,1,SUM(COUNTIF($AK$3:AK87,1),COUNTIF($AK$3:AK87,-1)))))/1000)","v":1.3027260075093867},16.149999999999999,null,{"$f":"+SUM(COUNTIF($AI$3:AI87,1),COUNTIF($AI$3:AI87,-1))","v":33},{"$f":"+SUM($U$4:U87)","v":4143},125.54545454545455,{"$f":"+SUM(COUNTIF($AI$3:AI87,1))","v":12},{"$f":"+SUM(COUNTIF($AI$3:AI87,-1))","v":21},-9,{"$f":"+BX87*(HARMEAN((IF(SUM(COUNTIF($Z$3:Z87,1),COUNTIF($Z$3:Z87,-1))=0,1,SUM(COUNTIF($Z$3:Z87,1),COUNTIF($Z$3:Z87,-1)))),(IF(SUM(COUNTIF($AC$3:AC87,1),COUNTIF($AC$3:AC87,-1))=0,1,SUM(COUNTIF($AC$3:AC87,1),COUNTIF($AC$3:AC87,-1)))),(IF(SUM(COUNTIF($AE$3:AE87,1),COUNTIF($AE$3:AE87,-1))=0,1,SUM(COUNTIF($AE$3:AE87,1),COUNTIF($AE$3:AE87,-1)))),(IF(SUM(COUNTIF($AG$3:AG87,1),COUNTIF($AG$3:AG87,-1))=0,1,SUM(COUNTIF($AG$3:AG87,1),COUNTIF($AG$3:AG87,-1)))),(IF(SUM(COUNTIF($AI$3:AI87,1),COUNTIF($AI$3:AI87,-1))=0,1,SUM(COUNTIF($AI$3:AI87,1),COUNTIF($AI$3:AI87,-1)))),(IF(SUM(COUNTIF($AK$3:AK87,1),COUNTIF($AK$3:AK87,-1))=0,1,SUM(COUNTIF($AK$3:AK87,1),COUNTIF($AK$3:AK87,-1)))))/1000)","v":1.1618907634543179},-17.100999999999999,null,{"$f":"+SUM(COUNTIF($AK$3:AK87,1),COUNTIF($AK$3:AK87,-1))","v":32},{"$f":"+SUM($W$4:W87)","v":3591},112.21875,{"$f":"+SUM(COUNTIF($AK$3:AK87,1))","v":12},{"$f":"+SUM(COUNTIF($AK$3:AK87,-1))","v":20},-8,{"$f":"+CG87*(HARMEAN((IF(SUM(COUNTIF($Z$3:Z87,1),COUNTIF($Z$3:Z87,-1))=0,1,SUM(COUNTIF($Z$3:Z87,1),COUNTIF($Z$3:Z87,-1)))),(IF(SUM(COUNTIF($AC$3:AC87,1),COUNTIF($AC$3:AC87,-1))=0,1,SUM(COUNTIF($AC$3:AC87,1),COUNTIF($AC$3:AC87,-1)))),(IF(SUM(COUNTIF($AE$3:AE87,1),COUNTIF($AE$3:AE87,-1))=0,1,SUM(COUNTIF($AE$3:AE87,1),COUNTIF($AE$3:AE87,-1)))),(IF(SUM(COUNTIF($AG$3:AG87,1),COUNTIF($AG$3:AG87,-1))=0,1,SUM(COUNTIF($AG$3:AG87,1),COUNTIF($AG$3:AG87,-1)))),(IF(SUM(COUNTIF($AI$3:AI87,1),COUNTIF($AI$3:AI87,-1))=0,1,SUM(COUNTIF($AI$3:AI87,1),COUNTIF($AI$3:AI87,-1)))),(IF(SUM(COUNTIF($AK$3:AK87,1),COUNTIF($AK$3:AK87,-1))=0,1,SUM(COUNTIF($AK$3:AK87,1),COUNTIF($AK$3:AK87,-1)))))/1000)","v":1.1266819524405507},-15.523999999999999]
[85,"",null,{"$f":"+IFERROR(INDEX('Auswertung AoE II'!$AE:$AE,MATCH(A88,'Auswertung AoE II'!$AD:$AD,0)),\"\")","v":""},{"$f":"+IFERROR(INDEX('Auswertung AoE III'!$AE:$AE,MATCH(A88,'Auswertung AoE III'!$AD:$AD,0)),\"\")","v":""},{"$f":"+IFERROR(INDEX('Auswertung AoM'!$AE:$AE,MATCH(A88,'Auswertung AoM'!$AD:$AD,0)),\"\")","v":""},{"$f":"+IFERROR(INDEX('Auswertung RA'!$AE:$AE,MATCH(A88,'Auswertung RA'!$AD:$AD,0)),\"\")","v":""},{"$f":"+IFERROR(INDEX('Auswertung Yuri'!$AE:$AE,MATCH(A88,'Auswertung Yuri'!$AD:$AD,0)),\"\")","v":""},{"$f":"+IFERROR(INDEX('Auswertung Generals'!$AE:$AE,MATCH(A88,'Auswertung Generals'!$AD:$AD,0)),\"\")","v":""},"Auswertung ",null,null,{"$f":"+IF(ISERROR(+INDIRECT(CONCATENATE(\"'\",J88,\"'!\",(ADDRESS((COUNTIF($J$3:J88,IF(B88<>0,CONCATENATE(\"Auswertung \",B88,\"\"))))+2,2)))))=FALSE,+INDIRECT(CONCATENATE(\"'\",J88,\"'!\",(ADDRESS((COUNTIF($J$3:J88,IF(B88<>0,CONCATENATE(\"Auswertung \",B88,\"\"))))+4,2)))),\"\")","v":""},{"$f":"IF(ISERROR(+INDIRECT(CONCATENATE(\"'\",J88,\"'!\",(ADDRESS((COUNTIF($J$3:J88,IF(B88<>0,CONCATENATE(\"Auswertung \",B88,\"\"))))+2,2+1)))))=FALSE,+INDIRECT(CONCATENATE(\"'\",J88,\"'!\",(ADDRESS((COUNTIF($J$3:J88,IF(B88<>0,CONCATENATE(\"Auswertung \",B88,\"\"))))+4,2+1)))),\"\")","v":""},{"$f":"+IF(ISERROR(+INDIRECT(CONCATENATE(\"'\",J88,\"'!\",(ADDRESS((COUNTIF($J$3:J88,IF(B88<>0,CONCATENATE(\"Auswertung \",B88,\"\"))))+2,4)))))=FALSE,+INDIRECT(CONCATENATE(\"'\",J88,\"'!\",(ADDRESS((COUNTIF($J$3:J88,IF(B88<>0,CONCATENATE(\"Auswertung \",B88,\"\"))))+4,4)))),\"\")","v":""},{"$f":"+IF(ISERROR(+INDIRECT(CONCATENATE(\"'\",J88,\"'!\",(ADDRESS((COUNTIF($J$3:J88,IF(B88<>0,CONCATENATE(\"Auswertung \",B88,\"\"))))+2,5)))))=FALSE,+INDIRECT(CONCATENATE(\"'\",J88,\"'!\",(ADDRESS((COUNTIF($J$3:J88,IF(B88<>0,CONCATENATE(\"Auswertung \",B88,\"\"))))+4,5)))),\"\")","v":""},{"$f":"+IF(ISERROR(+INDIRECT(CONCATENATE(\"'\",J88,\"'!\",(ADDRESS((COUNTIF($J$3:J88,IF(B88<>0,CONCATENATE(\"Auswertung \",B88,\"\"))))+2,6)))))=FALSE,+INDIRECT(CONCATENATE(\"'\",J88,\"'!\",(ADDRESS((COUNTIF($J$3:J88,IF(B88<>0,CONCATENATE(\"Auswertung \",B88,\"\"))))+4,6)))),\"\")","v":""},{"$f":"+IF(ISERROR(+INDIRECT(CONCATENATE(\"'\",J88,\"'!\",(ADDRESS((COUNTIF($J$3:J88,IF(B88<>0,CONCATENATE(\"Auswertung \",B88,\"\"))))+2,7)))))=FALSE,+INDIRECT(CONCATENATE(\"'\",J88,\"'!\",(ADDRESS((COUNTIF($J$3:J88,IF(B88<>0,CONCATENATE(\"Auswertung \",B88,\"\"))))+4,7)))),\"\")","v":""},{"$f":"+IF(ISERROR(+INDIRECT(CONCATENATE(\"'\",J88,\"'!\",(ADDRESS((COUNTIF($J$3:J88,IF(B88<>0,CONCATENATE(\"Auswertung \",B88,\"\"))))+2,10)))))=FALSE,+INDIRECT(CONCATENATE(\"'\",J88,\"'!\",(ADDRESS((COUNTIF($J$3:J88,IF(B88<>0,CONCATENATE(\"Auswertung \",B88,\"\"))))+4,8)))),\"\")","v":""},{"$f":"+IF(ISERROR(+INDIRECT(CONCATENATE(\"'\",J88,\"'!\",(ADDRESS((COUNTIF($J$3:J88,IF(B88<>0,CONCATENATE(\"Auswertung \",B88,\"\"))))+2,11)))))=FALSE,+INDIRECT(CONCATENATE(\"'\",J88,\"'!\",(ADDRESS((COUNTIF($J$3:J88,IF(B88<>0,CONCATENATE(\"Auswertung \",B88,\"\"))))+4,9)))),\"\")","v":""},{"$f":"+IF(ISERROR(+INDIRECT(CONCATENATE(\"'\",J88,\"'!\",(ADDRESS((COUNTIF($J$3:J88,IF(B88<>0,CONCATENATE(\"Auswertung \",B88,\"\"))))+2,10)))))=FALSE,+INDIRECT(CONCATENATE(\"'\",J88,\"'!\",(ADDRESS((COUNTIF($J$3:J88,IF(B88<>0,CONCATENATE(\"Auswertung \",B88,\"\"))))+4,10)))),\"\")","v":""},{"$f":"+IF(ISERROR(+INDIRECT(CONCATENATE(\"'\",J88,\"'!\",(ADDRESS((COUNTIF($J$3:J88,IF(B88<>0,CONCATENATE(\"Auswertung \",B88,\"\"))))+2,11)))))=FALSE,+INDIRECT(CONCATENATE(\"'\",J88,\"'!\",(ADDRESS((COUNTIF($J$3:J88,IF(B88<>0,CONCATENATE(\"Auswertung \",B88,\"\"))))+4,11)))),\"\")","v":""},{"$f":"+IF(ISERROR(+INDIRECT(CONCATENATE(\"'\",J88,\"'!\",(ADDRESS((COUNTIF($J$3:J88,IF(D88<>0,CONCATENATE(\"Auswertung \",D88,\"\"))))+2,12)))))=FALSE,+INDIRECT(CONCATENATE(\"'\",J88,\"'!\",(ADDRESS((COUNTIF($J$3:J88,IF(D88<>0,CONCATENATE(\"Auswertung \",B88,\"\"))))+4,12)))),\"\")","v":""},{"$f":"+IF(ISERROR(+INDIRECT(CONCATENATE(\"'\",J88,\"'!\",(ADDRESS((COUNTIF($J$3:J88,IF(D88<>0,CONCATENATE(\"Auswertung \",D88,\"\"))))+2,13)))))=FALSE,+INDIRECT(CONCATENATE(\"'\",J88,\"'!\",(ADDRESS((COUNTIF($J$3:J88,IF(D88<>0,CONCATENATE(\"Auswertung \",B88,\"\"))))+4,13)))),\"\")","v":""},null,{"$f":"+IFERROR(INDIRECT(CONCATENATE(\"'\",J88,\"'!\",(ADDRESS((COUNTIF($J$3:J88,IF(B88<>0,J88)))+4,16)))),\"\")","v":""},21.942,{"$f":"+SUM($M$4:M88)/COUNT($M$4:M88)/1000*2","v":0.28281081081081083},{"$f":"+IFERROR(INDIRECT(CONCATENATE(\"'\",J88,\"'!\",(ADDRESS((COUNTIF($J$3:J88,IF(B88<>0,J88)))+4,18)))),\"\")","v":""},50.264000000000003,{"$f":"+IFERROR(INDIRECT(CONCATENATE(\"'\",J88,\"'!\",(ADDRESS((COUNTIF($J$3:J88,IF(B88<>0,J88)))+4,20)))),\"\")","v":""},44.247,{"$f":"+IFERROR(INDIRECT(CONCATENATE(\"'\",J88,\"'!\",(ADDRESS((COUNTIF($J$3:J88,IF(B88<>0,J88)))+4,22)))),\"\")","v":""},16.149999999999999,{"$f":"+IFERROR(INDIRECT(CONCATENATE(\"'\",J88,\"'!\",(ADDRESS((COUNTIF($J$3:J88,IF(B88<>0,J88)))+4,24)))),\"\")","v":""},-17.100999999999999,{"$f":"+IFERROR(INDIRECT(CONCATENATE(\"'\",J88,\"'!\",(ADDRESS((COUNTIF($J$3:J88,IF(B88<>0,J88)))+4,26)))),\"\")","v":""},-15.523999999999999,85,{"$f":"+SUM(COUNTIF($Z$3:Z88,1),COUNTIF($Z$3:Z88,-1))","v":37},{"$f":"+SUM($M$4:M88)","v":5232},141.40540540540542,{"$f":"+SUM(COUNTIF($Z$3:Z88,1))","v":19},{"$f":"+SUM(COUNTIF($Z$3:Z88,-1))","v":18},1,{"$f":"AN88*(HARMEAN((IF(SUM(COUNTIF($Z$3:Z88,1),COUNTIF($Z$3:Z88,-1))=0,1,SUM(COUNTIF($Z$3:Z88,1),COUNTIF($Z$3:Z88,-1)))),(IF(SUM(COUNTIF($AC$3:AC88,1),COUNTIF($AC$3:AC88,-1))=0,1,SUM(COUNTIF($AC$3:AC88,1),COUNTIF($AC$3:AC88,-1)))),(IF(SUM(COUNTIF($AE$3:AE88,1),COUNTIF($AE$3:AE88,-1))=0,1,SUM(COUNTIF($AE$3:AE88,1),COUNTIF($AE$3:AE88,-1)))),(IF(SUM(COUNTIF($AG$3:AG88,1),COUNTIF($AG$3:AG88,-1))=0,1,SUM(COUNTIF($AG$3:AG88,1),COUNTIF($AG$3:AG88,-1)))),(IF(SUM(COUNTIF($AI$3:AI88,1),COUNTIF($AI$3:AI88,-1))=0,1,SUM(COUNTIF($AI$3:AI88,1),COUNTIF($AI$3:AI88,-1)))),(IF(SUM(COUNTIF($AK$3:AK88,1),COUNTIF($AK$3:AK88,-1))=0,1,SUM(COUNTIF($AK$3:AK88,1),COUNTIF($AK$3:AK88,-1)))))/1000)","v":1.3027260075093867},21.942,null,{"$f":"+SUM(COUNTIF($AC$3:AC88,1),COUNTIF($AC$3:AC88,-1))","v":37},{"$f":"+SUM($O$4:O88)","v":5276},142.59459459459458,{"$f":"+SUM(COUNTIF($AC$3:AC88,1))","v":23},{"$f":"+SUM(COUNTIF($AC$3:AC88,-1))","v":14},9,{"$f":"AW88*(HARMEAN((IF(SUM(COUNTIF($Z$3:Z88,1),COUNTIF($Z$3:Z88,-1))=0,1,SUM(COUNTIF($Z$3:Z88,1),COUNTIF($Z$3:Z88,-1)))),(IF(SUM(COUNTIF($AC$3:AC88,1),COUNTIF($AC$3:AC88,-1))=0,1,SUM(COUNTIF($AC$3:AC88,1),COUNTIF($AC$3:AC88,-1)))),(IF(SUM(COUNTIF($AE$3:AE88,1),COUNTIF($AE$3:AE88,-1))=0,1,SUM(COUNTIF($AE$3:AE88,1),COUNTIF($AE$3:AE88,-1)))),(IF(SUM(COUNTIF($AG$3:AG88,1),COUNTIF($AG$3:AG88,-1))=0,1,SUM(COUNTIF($AG$3:AG88,1),COUNTIF($AG$3:AG88,-1)))),(IF(SUM(COUNTIF($AI$3:AI88,1),COUNTIF($AI$3:AI88,-1))=0,1,SUM(COUNTIF($AI$3:AI88,1),COUNTIF($AI$3:AI88,-1)))),(IF(SUM(COUNTIF($AK$3:AK88,1),COUNTIF($AK$3:AK88,-1))=0,1,SUM(COUNTIF($AK$3:AK88,1),COUNTIF($AK$3:AK88,-1)))))/1000)","v":1.3027260075093867},50.264000000000003,null,{"$f":"+SUM(COUNTIF($AE$3:AE88,1),COUNTIF(AE$3:$AE88,-1))","v":36},{"$f":"+SUM($Q$4:Q88)","v":4567},126.86111111111111,{"$f":"+SUM(COUNTIF($AE$3:AE88,1))","v":22},{"$f":"+SUM(COUNTIF($AE$3:AE88,-1))","v":14},8,{"$f":"BF88*(HARMEAN((IF(SUM(COUNTIF($Z$3:Z88,1),COUNTIF($Z$3:Z88,-1))=0,1,SUM(COUNTIF($Z$3:Z88,1),COUNTIF($Z$3:Z88,-1)))),(IF(SUM(COUNTIF($AC$3:AC88,1),COUNTIF($AC$3:AC88,-1))=0,1,SUM(COUNTIF($AC$3:AC88,1),COUNTIF($AC$3:AC88,-1)))),(IF(SUM(COUNTIF($AE$3:AE88,1),COUNTIF($AE$3:AE88,-1))=0,1,SUM(COUNTIF($AE$3:AE88,1),COUNTIF($AE$3:AE88,-1)))),(IF(SUM(COUNTIF($AG$3:AG88,1),COUNTIF($AG$3:AG88,-1))=0,1,SUM(COUNTIF($AG$3:AG88,1),COUNTIF($AG$3:AG88,-1)))),(IF(SUM(COUNTIF($AI$3:AI88,1),COUNTIF($AI$3:AI88,-1))=0,1,SUM(COUNTIF($AI$3:AI88,1),COUNTIF($AI$3:AI88,-1)))),(IF(SUM(COUNTIF($AK$3:AK88,1),COUNTIF($AK$3:AK88,-1))=0,1,SUM(COUNTIF($AK$3:AK88,1),COUNTIF($AK$3:AK88,-1)))))/1000)","v":1.2675171964956196},44.247,null,{"$f":"+SUM(COUNTIF($AG$3:AG88,1),COUNTIF($AG$3:AG88,-1))","v":37},{"$f":"+SUM($S$4:S88)","v":5587},151,{"$f":"+SUM(COUNTIF($AG$3:AG88,1))","v":18},{"$f":"+SUM(COUNTIF($AG$3:AG88,-1))","v":19},-1,{"$f":"BO88*(HARMEAN((IF(SUM(COUNTIF($Z$3:Z88,1),COUNTIF($Z$3:Z88,-1))=0,1,SUM(COUNTIF($Z$3:Z88,1),COUNTIF($Z$3:Z88,-1)))),(IF(SUM(COUNTIF($AC$3:AC88,1),COUNTIF($AC$3:AC88,-1))=0,1,SUM(COUNTIF($AC$3:AC88,1),COUNTIF($AC$3:AC88,-1)))),(IF(SUM(COUNTIF($AE$3:AE88,1),COUNTIF($AE$3:AE88,-1))=0,1,SUM(COUNTIF($AE$3:AE88,1),COUNTIF($AE$3:AE88,-1)))),(IF(SUM(COUNTIF($AG$3:AG88,1),COUNTIF($AG$3:AG88,-1))=0,1,SUM(COUNTIF($AG$3:AG88,1),COUNTIF($AG$3:AG88,-1)))),(IF(SUM(COUNTIF($AI$3:AI88,1),COUNTIF($AI$3:AI88,-1))=0,1,SUM(COUNTIF($AI$3:AI88,1),COUNTIF($AI$3:AI88,-1)))),(IF(SUM(COUNTIF($AK$3:AK88,1),COUNTIF($AK$3:AK88,-1))=0,1,SUM(COUNTIF($AK$3:AK88,1),COUNTIF($AK$3:AK88,-1)))))/1000)","v":1.3027260075093867},16.149999999999999,null,{"$f":"+SUM(COUNTIF($AI$3:AI88,1),COUNTIF($AI$3:AI88,-1))","v":33},{"$f":"+SUM($U$4:U88)","v":4143},125.54545454545455,{"$f":"+SUM(COUNTIF($AI$3:AI88,1))","v":12},{"$f":"+SUM(COUNTIF($AI$3:AI88,-1))","v":21},-9,{"$f":"+BX88*(HARMEAN((IF(SUM(COUNTIF($Z$3:Z88,1),COUNTIF($Z$3:Z88,-1))=0,1,SUM(COUNTIF($Z$3:Z88,1),COUNTIF($Z$3:Z88,-1)))),(IF(SUM(COUNTIF($AC$3:AC88,1),COUNTIF($AC$3:AC88,-1))=0,1,SUM(COUNTIF($AC$3:AC88,1),COUNTIF($AC$3:AC88,-1)))),(IF(SUM(COUNTIF($AE$3:AE88,1),COUNTIF($AE$3:AE88,-1))=0,1,SUM(COUNTIF($AE$3:AE88,1),COUNTIF($AE$3:AE88,-1)))),(IF(SUM(COUNTIF($AG$3:AG88,1),COUNTIF($AG$3:AG88,-1))=0,1,SUM(COUNTIF($AG$3:AG88,1),COUNTIF($AG$3:AG88,-1)))),(IF(SUM(COUNTIF($AI$3:AI88,1),COUNTIF($AI$3:AI88,-1))=0,1,SUM(COUNTIF($AI$3:AI88,1),COUNTIF($AI$3:AI88,-1)))),(IF(SUM(COUNTIF($AK$3:AK88,1),COUNTIF($AK$3:AK88,-1))=0,1,SUM(COUNTIF($AK$3:AK88,1),COUNTIF($AK$3:AK88,-1)))))/1000)","v":1.1618907634543179},-17.100999999999999,null,{"$f":"+SUM(COUNTIF($AK$3:AK88,1),COUNTIF($AK$3:AK88,-1))","v":32},{"$f":"+SUM($W$4:W88)","v":3591},112.21875,{"$f":"+SUM(COUNTIF($AK$3:AK88,1))","v":12},{"$f":"+SUM(COUNTIF($AK$3:AK88,-1))","v":20},-8,{"$f":"+CG88*(HARMEAN((IF(SUM(COUNTIF($Z$3:Z88,1),COUNTIF($Z$3:Z88,-1))=0,1,SUM(COUNTIF($Z$3:Z88,1),COUNTIF($Z$3:Z88,-1)))),(IF(SUM(COUNTIF($AC$3:AC88,1),COUNTIF($AC$3:AC88,-1))=0,1,SUM(COUNTIF($AC$3:AC88,1),COUNTIF($AC$3:AC88,-1)))),(IF(SUM(COUNTIF($AE$3:AE88,1),COUNTIF($AE$3:AE88,-1))=0,1,SUM(COUNTIF($AE$3:AE88,1),COUNTIF($AE$3:AE88,-1)))),(IF(SUM(COUNTIF($AG$3:AG88,1),COUNTIF($AG$3:AG88,-1))=0,1,SUM(COUNTIF($AG$3:AG88,1),COUNTIF($AG$3:AG88,-1)))),(IF(SUM(COUNTIF($AI$3:AI88,1),COUNTIF($AI$3:AI88,-1))=0,1,SUM(COUNTIF($AI$3:AI88,1),COUNTIF($AI$3:AI88,-1)))),(IF(SUM(COUNTIF($AK$3:AK88,1),COUNTIF($AK$3:AK88,-1))=0,1,SUM(COUNTIF($AK$3:AK88,1),COUNTIF($AK$3:AK88,-1)))))/1000)","v":1.1266819524405507},-15.523999999999999]
[86,"",null,{"$f":"+IFERROR(INDEX('Auswertung AoE II'!$AE:$AE,MATCH(A89,'Auswertung AoE II'!$AD:$AD,0)),\"\")","v":""},{"$f":"+IFERROR(INDEX('Auswertung AoE III'!$AE:$AE,MATCH(A89,'Auswertung AoE III'!$AD:$AD,0)),\"\")","v":""},{"$f":"+IFERROR(INDEX('Auswertung AoM'!$AE:$AE,MATCH(A89,'Auswertung AoM'!$AD:$AD,0)),\"\")","v":""},{"$f":"+IFERROR(INDEX('Auswertung RA'!$AE:$AE,MATCH(A89,'Auswertung RA'!$AD:$AD,0)),\"\")","v":""},{"$f":"+IFERROR(INDEX('Auswertung Yuri'!$AE:$AE,MATCH(A89,'Auswertung Yuri'!$AD:$AD,0)),\"\")","v":""},{"$f":"+IFERROR(INDEX('Auswertung Generals'!$AE:$AE,MATCH(A89,'Auswertung Generals'!$AD:$AD,0)),\"\")","v":""},"Auswertung ",null,null,{"$f":"+IF(ISERROR(+INDIRECT(CONCATENATE(\"'\",J89,\"'!\",(ADDRESS((COUNTIF($J$3:J89,IF(B89<>0,CONCATENATE(\"Auswertung \",B89,\"\"))))+2,2)))))=FALSE,+INDIRECT(CONCATENATE(\"'\",J89,\"'!\",(ADDRESS((COUNTIF($J$3:J89,IF(B89<>0,CONCATENATE(\"Auswertung \",B89,\"\"))))+4,2)))),\"\")","v":""},{"$f":"IF(ISERROR(+INDIRECT(CONCATENATE(\"'\",J89,\"'!\",(ADDRESS((COUNTIF($J$3:J89,IF(B89<>0,CONCATENATE(\"Auswertung \",B89,\"\"))))+2,2+1)))))=FALSE,+INDIRECT(CONCATENATE(\"'\",J89,\"'!\",(ADDRESS((COUNTIF($J$3:J89,IF(B89<>0,CONCATENATE(\"Auswertung \",B89,\"\"))))+4,2+1)))),\"\")","v":""},{"$f":"+IF(ISERROR(+INDIRECT(CONCATENATE(\"'\",J89,\"'!\",(ADDRESS((COUNTIF($J$3:J89,IF(B89<>0,CONCATENATE(\"Auswertung \",B89,\"\"))))+2,4)))))=FALSE,+INDIRECT(CONCATENATE(\"'\",J89,\"'!\",(ADDRESS((COUNTIF($J$3:J89,IF(B89<>0,CONCATENATE(\"Auswertung \",B89,\"\"))))+4,4)))),\"\")","v":""},{"$f":"+IF(ISERROR(+INDIRECT(CONCATENATE(\"'\",J89,\"'!\",(ADDRESS((COUNTIF($J$3:J89,IF(B89<>0,CONCATENATE(\"Auswertung \",B89,\"\"))))+2,5)))))=FALSE,+INDIRECT(CONCATENATE(\"'\",J89,\"'!\",(ADDRESS((COUNTIF($J$3:J89,IF(B89<>0,CONCATENATE(\"Auswertung \",B89,\"\"))))+4,5)))),\"\")","v":""},{"$f":"+IF(ISERROR(+INDIRECT(CONCATENATE(\"'\",J89,\"'!\",(ADDRESS((COUNTIF($J$3:J89,IF(B89<>0,CONCATENATE(\"Auswertung \",B89,\"\"))))+2,6)))))=FALSE,+INDIRECT(CONCATENATE(\"'\",J89,\"'!\",(ADDRESS((COUNTIF($J$3:J89,IF(B89<>0,CONCATENATE(\"Auswertung \",B89,\"\"))))+4,6)))),\"\")","v":""},{"$f":"+IF(ISERROR(+INDIRECT(CONCATENATE(\"'\",J89,\"'!\",(ADDRESS((COUNTIF($J$3:J89,IF(B89<>0,CONCATENATE(\"Auswertung \",B89,\"\"))))+2,7)))))=FALSE,+INDIRECT(CONCATENATE(\"'\",J89,\"'!\",(ADDRESS((COUNTIF($J$3:J89,IF(B89<>0,CONCATENATE(\"Auswertung \",B89,\"\"))))+4,7)))),\"\")","v":""},{"$f":"+IF(ISERROR(+INDIRECT(CONCATENATE(\"'\",J89,\"'!\",(ADDRESS((COUNTIF($J$3:J89,IF(B89<>0,CONCATENATE(\"Auswertung \",B89,\"\"))))+2,10)))))=FALSE,+INDIRECT(CONCATENATE(\"'\",J89,\"'!\",(ADDRESS((COUNTIF($J$3:J89,IF(B89<>0,CONCATENATE(\"Auswertung \",B89,\"\"))))+4,8)))),\"\")","v":""},{"$f":"+IF(ISERROR(+INDIRECT(CONCATENATE(\"'\",J89,\"'!\",(ADDRESS((COUNTIF($J$3:J89,IF(B89<>0,CONCATENATE(\"Auswertung \",B89,\"\"))))+2,11)))))=FALSE,+INDIRECT(CONCATENATE(\"'\",J89,\"'!\",(ADDRESS((COUNTIF($J$3:J89,IF(B89<>0,CONCATENATE(\"Auswertung \",B89,\"\"))))+4,9)))),\"\")","v":""},{"$f":"+IF(ISERROR(+INDIRECT(CONCATENATE(\"'\",J89,\"'!\",(ADDRESS((COUNTIF($J$3:J89,IF(B89<>0,CONCATENATE(\"Auswertung \",B89,\"\"))))+2,10)))))=FALSE,+INDIRECT(CONCATENATE(\"'\",J89,\"'!\",(ADDRESS((COUNTIF($J$3:J89,IF(B89<>0,CONCATENATE(\"Auswertung \",B89,\"\"))))+4,10)))),\"\")","v":""},{"$f":"+IF(ISERROR(+INDIRECT(CONCATENATE(\"'\",J89,\"'!\",(ADDRESS((COUNTIF($J$3:J89,IF(B89<>0,CONCATENATE(\"Auswertung \",B89,\"\"))))+2,11)))))=FALSE,+INDIRECT(CONCATENATE(\"'\",J89,\"'!\",(ADDRESS((COUNTIF($J$3:J89,IF(B89<>0,CONCATENATE(\"Auswertung \",B89,\"\"))))+4,11)))),\"\")","v":""},{"$f":"+IF(ISERROR(+INDIRECT(CONCATENATE(\"'\",J89,\"'!\",(ADDRESS((COUNTIF($J$3:J89,IF(D89<>0,CONCATENATE(\"Auswertung \",D89,\"\"))))+2,12)))))=FALSE,+INDIRECT(CONCATENATE(\"'\",J89,\"'!\",(ADDRESS((COUNTIF($J$3:J89,IF(D89<>0,CONCATENATE(\"Auswertung \",B89,\"\"))))+4,12)))),\"\")","v":""},{"$f":"+IF(ISERROR(+INDIRECT(CONCATENATE(\"'\",J89,\"'!\",(ADDRESS((COUNTIF($J$3:J89,IF(D89<>0,CONCATENATE(\"Auswertung \",D89,\"\"))))+2,13)))))=FALSE,+INDIRECT(CONCATENATE(\"'\",J89,\"'!\",(ADDRESS((COUNTIF($J$3:J89,IF(D89<>0,CONCATENATE(\"Auswertung \",B89,\"\"))))+4,13)))),\"\")","v":""},null,{"$f":"+IFERROR(INDIRECT(CONCATENATE(\"'\",J89,\"'!\",(ADDRESS((COUNTIF($J$3:J89,IF(B89<>0,J89)))+4,16)))),\"\")","v":""},21.942,{"$f":"+SUM($M$4:M89)/COUNT($M$4:M89)/1000*2","v":0.28281081081081083},{"$f":"+IFERROR(INDIRECT(CONCATENATE(\"'\",J89,\"'!\",(ADDRESS((COUNTIF($J$3:J89,IF(B89<>0,J89)))+4,18)))),\"\")","v":""},50.264000000000003,{"$f":"+IFERROR(INDIRECT(CONCATENATE(\"'\",J89,\"'!\",(ADDRESS((COUNTIF($J$3:J89,IF(B89<>0,J89)))+4,20)))),\"\")","v":""},44.247,{"$f":"+IFERROR(INDIRECT(CONCATENATE(\"'\",J89,\"'!\",(ADDRESS((COUNTIF($J$3:J89,IF(B89<>0,J89)))+4,22)))),\"\")","v":""},16.149999999999999,{"$f":"+IFERROR(INDIRECT(CONCATENATE(\"'\",J89,\"'!\",(ADDRESS((COUNTIF($J$3:J89,IF(B89<>0,J89)))+4,24)))),\"\")","v":""},-17.100999999999999,{"$f":"+IFERROR(INDIRECT(CONCATENATE(\"'\",J89,\"'!\",(ADDRESS((COUNTIF($J$3:J89,IF(B89<>0,J89)))+4,26)))),\"\")","v":""},-15.523999999999999,86,{"$f":"+SUM(COUNTIF($Z$3:Z89,1),COUNTIF($Z$3:Z89,-1))","v":37},{"$f":"+SUM($M$4:M89)","v":5232},141.40540540540542,{"$f":"+SUM(COUNTIF($Z$3:Z89,1))","v":19},{"$f":"+SUM(COUNTIF($Z$3:Z89,-1))","v":18},1,{"$f":"AN89*(HARMEAN((IF(SUM(COUNTIF($Z$3:Z89,1),COUNTIF($Z$3:Z89,-1))=0,1,SUM(COUNTIF($Z$3:Z89,1),COUNTIF($Z$3:Z89,-1)))),(IF(SUM(COUNTIF($AC$3:AC89,1),COUNTIF($AC$3:AC89,-1))=0,1,SUM(COUNTIF($AC$3:AC89,1),COUNTIF($AC$3:AC89,-1)))),(IF(SUM(COUNTIF($AE$3:AE89,1),COUNTIF($AE$3:AE89,-1))=0,1,SUM(COUNTIF($AE$3:AE89,1),COUNTIF($AE$3:AE89,-1)))),(IF(SUM(COUNTIF($AG$3:AG89,1),COUNTIF($AG$3:AG89,-1))=0,1,SUM(COUNTIF($AG$3:AG89,1),COUNTIF($AG$3:AG89,-1)))),(IF(SUM(COUNTIF($AI$3:AI89,1),COUNTIF($AI$3:AI89,-1))=0,1,SUM(COUNTIF($AI$3:AI89,1),COUNTIF($AI$3:AI89,-1)))),(IF(SUM(COUNTIF($AK$3:AK89,1),COUNTIF($AK$3:AK89,-1))=0,1,SUM(COUNTIF($AK$3:AK89,1),COUNTIF($AK$3:AK89,-1)))))/1000)","v":1.3027260075093867},21.942,null,{"$f":"+SUM(COUNTIF($AC$3:AC89,1),COUNTIF($AC$3:AC89,-1))","v":37},{"$f":"+SUM($O$4:O89)","v":5276},142.59459459459458,{"$f":"+SUM(COUNTIF($AC$3:AC89,1))","v":23},{"$f":"+SUM(COUNTIF($AC$3:AC89,-1))","v":14},9,{"$f":"AW89*(HARMEAN((IF(SUM(COUNTIF($Z$3:Z89,1),COUNTIF($Z$3:Z89,-1))=0,1,SUM(COUNTIF($Z$3:Z89,1),COUNTIF($Z$3:Z89,-1)))),(IF(SUM(COUNTIF($AC$3:AC89,1),COUNTIF($AC$3:AC89,-1))=0,1,SUM(COUNTIF($AC$3:AC89,1),COUNTIF($AC$3:AC89,-1)))),(IF(SUM(COUNTIF($AE$3:AE89,1),COUNTIF($AE$3:AE89,-1))=0,1,SUM(COUNTIF($AE$3:AE89,1),COUNTIF($AE$3:AE89,-1)))),(IF(SUM(COUNTIF($AG$3:AG89,1),COUNTIF($AG$3:AG89,-1))=0,1,SUM(COUNTIF($AG$3:AG89,1),COUNTIF($AG$3:AG89,-1)))),(IF(SUM(COUNTIF($AI$3:AI89,1),COUNTIF($AI$3:AI89,-1))=0,1,SUM(COUNTIF($AI$3:AI89,1),COUNTIF($AI$3:AI89,-1)))),(IF(SUM(COUNTIF($AK$3:AK89,1),COUNTIF($AK$3:AK89,-1))=0,1,SUM(COUNTIF($AK$3:AK89,1),COUNTIF($AK$3:AK89,-1)))))/1000)","v":1.3027260075093867},50.264000000000003,null,{"$f":"+SUM(COUNTIF($AE$3:AE89,1),COUNTIF(AE$3:$AE89,-1))","v":36},{"$f":"+SUM($Q$4:Q89)","v":4567},126.86111111111111,{"$f":"+SUM(COUNTIF($AE$3:AE89,1))","v":22},{"$f":"+SUM(COUNTIF($AE$3:AE89,-1))","v":14},8,{"$f":"BF89*(HARMEAN((IF(SUM(COUNTIF($Z$3:Z89,1),COUNTIF($Z$3:Z89,-1))=0,1,SUM(COUNTIF($Z$3:Z89,1),COUNTIF($Z$3:Z89,-1)))),(IF(SUM(COUNTIF($AC$3:AC89,1),COUNTIF($AC$3:AC89,-1))=0,1,SUM(COUNTIF($AC$3:AC89,1),COUNTIF($AC$3:AC89,-1)))),(IF(SUM(COUNTIF($AE$3:AE89,1),COUNTIF($AE$3:AE89,-1))=0,1,SUM(COUNTIF($AE$3:AE89,1),COUNTIF($AE$3:AE89,-1)))),(IF(SUM(COUNTIF($AG$3:AG89,1),COUNTIF($AG$3:AG89,-1))=0,1,SUM(COUNTIF($AG$3:AG89,1),COUNTIF($AG$3:AG89,-1)))),(IF(SUM(COUNTIF($AI$3:AI89,1),COUNTIF($AI$3:AI89,-1))=0,1,SUM(COUNTIF($AI$3:AI89,1),COUNTIF($AI$3:AI89,-1)))),(IF(SUM(COUNTIF($AK$3:AK89,1),COUNTIF($AK$3:AK89,-1))=0,1,SUM(COUNTIF($AK$3:AK89,1),COUNTIF($AK$3:AK89,-1)))))/1000)","v":1.2675171964956196},44.247,null,{"$f":"+SUM(COUNTIF($AG$3:AG89,1),COUNTIF($AG$3:AG89,-1))","v":37},{"$f":"+SUM($S$4:S89)","v":5587},151,{"$f":"+SUM(COUNTIF($AG$3:AG89,1))","v":18},{"$f":"+SUM(COUNTIF($AG$3:AG89,-1))","v":19},-1,{"$f":"BO89*(HARMEAN((IF(SUM(COUNTIF($Z$3:Z89,1),COUNTIF($Z$3:Z89,-1))=0,1,SUM(COUNTIF($Z$3:Z89,1),COUNTIF($Z$3:Z89,-1)))),(IF(SUM(COUNTIF($AC$3:AC89,1),COUNTIF($AC$3:AC89,-1))=0,1,SUM(COUNTIF($AC$3:AC89,1),COUNTIF($AC$3:AC89,-1)))),(IF(SUM(COUNTIF($AE$3:AE89,1),COUNTIF($AE$3:AE89,-1))=0,1,SUM(COUNTIF($AE$3:AE89,1),COUNTIF($AE$3:AE89,-1)))),(IF(SUM(COUNTIF($AG$3:AG89,1),COUNTIF($AG$3:AG89,-1))=0,1,SUM(COUNTIF($AG$3:AG89,1),COUNTIF($AG$3:AG89,-1)))),(IF(SUM(COUNTIF($AI$3:AI89,1),COUNTIF($AI$3:AI89,-1))=0,1,SUM(COUNTIF($AI$3:AI89,1),COUNTIF($AI$3:AI89,-1)))),(IF(SUM(COUNTIF($AK$3:AK89,1),COUNTIF($AK$3:AK89,-1))=0,1,SUM(COUNTIF($AK$3:AK89,1),COUNTIF($AK$3:AK89,-1)))))/1000)","v":1.3027260075093867},16.149999999999999,null,{"$f":"+SUM(COUNTIF($AI$3:AI89,1),COUNTIF($AI$3:AI89,-1))","v":33},{"$f":"+SUM($U$4:U89)","v":4143},125.54545454545455,{"$f":"+SUM(COUNTIF($AI$3:AI89,1))","v":12},{"$f":"+SUM(COUNTIF($AI$3:AI89,-1))","v":21},-9,{"$f":"+BX89*(HARMEAN((IF(SUM(COUNTIF($Z$3:Z89,1),COUNTIF($Z$3:Z89,-1))=0,1,SUM(COUNTIF($Z$3:Z89,1),COUNTIF($Z$3:Z89,-1)))),(IF(SUM(COUNTIF($AC$3:AC89,1),COUNTIF($AC$3:AC89,-1))=0,1,SUM(COUNTIF($AC$3:AC89,1),COUNTIF($AC$3:AC89,-1)))),(IF(SUM(COUNTIF($AE$3:AE89,1),COUNTIF($AE$3:AE89,-1))=0,1,SUM(COUNTIF($AE$3:AE89,1),COUNTIF($AE$3:AE89,-1)))),(IF(SUM(COUNTIF($AG$3:AG89,1),COUNTIF($AG$3:AG89,-1))=0,1,SUM(COUNTIF($AG$3:AG89,1),COUNTIF($AG$3:AG89,-1)))),(IF(SUM(COUNTIF($AI$3:AI89,1),COUNTIF($AI$3:AI89,-1))=0,1,SUM(COUNTIF($AI$3:AI89,1),COUNTIF($AI$3:AI89,-1)))),(IF(SUM(COUNTIF($AK$3:AK89,1),COUNTIF($AK$3:AK89,-1))=0,1,SUM(COUNTIF($AK$3:AK89,1),COUNTIF($AK$3:AK89,-1)))))/1000)","v":1.1618907634543179},-17.100999999999999,null,{"$f":"+SUM(COUNTIF($AK$3:AK89,1),COUNTIF($AK$3:AK89,-1))","v":32},{"$f":"+SUM($W$4:W89)","v":3591},112.21875,{"$f":"+SUM(COUNTIF($AK$3:AK89,1))","v":12},{"$f":"+SUM(COUNTIF($AK$3:AK89,-1))","v":20},-8,{"$f":"+CG89*(HARMEAN((IF(SUM(COUNTIF($Z$3:Z89,1),COUNTIF($Z$3:Z89,-1))=0,1,SUM(COUNTIF($Z$3:Z89,1),COUNTIF($Z$3:Z89,-1)))),(IF(SUM(COUNTIF($AC$3:AC89,1),COUNTIF($AC$3:AC89,-1))=0,1,SUM(COUNTIF($AC$3:AC89,1),COUNTIF($AC$3:AC89,-1)))),(IF(SUM(COUNTIF($AE$3:AE89,1),COUNTIF($AE$3:AE89,-1))=0,1,SUM(COUNTIF($AE$3:AE89,1),COUNTIF($AE$3:AE89,-1)))),(IF(SUM(COUNTIF($AG$3:AG89,1),COUNTIF($AG$3:AG89,-1))=0,1,SUM(COUNTIF($AG$3:AG89,1),COUNTIF($AG$3:AG89,-1)))),(IF(SUM(COUNTIF($AI$3:AI89,1),COUNTIF($AI$3:AI89,-1))=0,1,SUM(COUNTIF($AI$3:AI89,1),COUNTIF($AI$3:AI89,-1)))),(IF(SUM(COUNTIF($AK$3:AK89,1),COUNTIF($AK$3:AK89,-1))=0,1,SUM(COUNTIF($AK$3:AK89,1),COUNTIF($AK$3:AK89,-1)))))/1000)","v":1.1266819524405507},-15.523999999999999]
[87,"",null,{"$f":"+IFERROR(INDEX('Auswertung AoE II'!$AE:$AE,MATCH(A90,'Auswertung AoE II'!$AD:$AD,0)),\"\")","v":""},{"$f":"+IFERROR(INDEX('Auswertung AoE III'!$AE:$AE,MATCH(A90,'Auswertung AoE III'!$AD:$AD,0)),\"\")","v":""},{"$f":"+IFERROR(INDEX('Auswertung AoM'!$AE:$AE,MATCH(A90,'Auswertung AoM'!$AD:$AD,0)),\"\")","v":""},{"$f":"+IFERROR(INDEX('Auswertung RA'!$AE:$AE,MATCH(A90,'Auswertung RA'!$AD:$AD,0)),\"\")","v":""},{"$f":"+IFERROR(INDEX('Auswertung Yuri'!$AE:$AE,MATCH(A90,'Auswertung Yuri'!$AD:$AD,0)),\"\")","v":""},{"$f":"+IFERROR(INDEX('Auswertung Generals'!$AE:$AE,MATCH(A90,'Auswertung Generals'!$AD:$AD,0)),\"\")","v":""},"Auswertung ",null,null,{"$f":"+IF(ISERROR(+INDIRECT(CONCATENATE(\"'\",J90,\"'!\",(ADDRESS((COUNTIF($J$3:J90,IF(B90<>0,CONCATENATE(\"Auswertung \",B90,\"\"))))+2,2)))))=FALSE,+INDIRECT(CONCATENATE(\"'\",J90,\"'!\",(ADDRESS((COUNTIF($J$3:J90,IF(B90<>0,CONCATENATE(\"Auswertung \",B90,\"\"))))+4,2)))),\"\")","v":""},{"$f":"IF(ISERROR(+INDIRECT(CONCATENATE(\"'\",J90,\"'!\",(ADDRESS((COUNTIF($J$3:J90,IF(B90<>0,CONCATENATE(\"Auswertung \",B90,\"\"))))+2,2+1)))))=FALSE,+INDIRECT(CONCATENATE(\"'\",J90,\"'!\",(ADDRESS((COUNTIF($J$3:J90,IF(B90<>0,CONCATENATE(\"Auswertung \",B90,\"\"))))+4,2+1)))),\"\")","v":""},{"$f":"+IF(ISERROR(+INDIRECT(CONCATENATE(\"'\",J90,\"'!\",(ADDRESS((COUNTIF($J$3:J90,IF(B90<>0,CONCATENATE(\"Auswertung \",B90,\"\"))))+2,4)))))=FALSE,+INDIRECT(CONCATENATE(\"'\",J90,\"'!\",(ADDRESS((COUNTIF($J$3:J90,IF(B90<>0,CONCATENATE(\"Auswertung \",B90,\"\"))))+4,4)))),\"\")","v":""},{"$f":"+IF(ISERROR(+INDIRECT(CONCATENATE(\"'\",J90,\"'!\",(ADDRESS((COUNTIF($J$3:J90,IF(B90<>0,CONCATENATE(\"Auswertung \",B90,\"\"))))+2,5)))))=FALSE,+INDIRECT(CONCATENATE(\"'\",J90,\"'!\",(ADDRESS((COUNTIF($J$3:J90,IF(B90<>0,CONCATENATE(\"Auswertung \",B90,\"\"))))+4,5)))),\"\")","v":""},{"$f":"+IF(ISERROR(+INDIRECT(CONCATENATE(\"'\",J90,\"'!\",(ADDRESS((COUNTIF($J$3:J90,IF(B90<>0,CONCATENATE(\"Auswertung \",B90,\"\"))))+2,6)))))=FALSE,+INDIRECT(CONCATENATE(\"'\",J90,\"'!\",(ADDRESS((COUNTIF($J$3:J90,IF(B90<>0,CONCATENATE(\"Auswertung \",B90,\"\"))))+4,6)))),\"\")","v":""},{"$f":"+IF(ISERROR(+INDIRECT(CONCATENATE(\"'\",J90,\"'!\",(ADDRESS((COUNTIF($J$3:J90,IF(B90<>0,CONCATENATE(\"Auswertung \",B90,\"\"))))+2,7)))))=FALSE,+INDIRECT(CONCATENATE(\"'\",J90,\"'!\",(ADDRESS((COUNTIF($J$3:J90,IF(B90<>0,CONCATENATE(\"Auswertung \",B90,\"\"))))+4,7)))),\"\")","v":""},{"$f":"+IF(ISERROR(+INDIRECT(CONCATENATE(\"'\",J90,\"'!\",(ADDRESS((COUNTIF($J$3:J90,IF(B90<>0,CONCATENATE(\"Auswertung \",B90,\"\"))))+2,10)))))=FALSE,+INDIRECT(CONCATENATE(\"'\",J90,\"'!\",(ADDRESS((COUNTIF($J$3:J90,IF(B90<>0,CONCATENATE(\"Auswertung \",B90,\"\"))))+4,8)))),\"\")","v":""},{"$f":"+IF(ISERROR(+INDIRECT(CONCATENATE(\"'\",J90,\"'!\",(ADDRESS((COUNTIF($J$3:J90,IF(B90<>0,CONCATENATE(\"Auswertung \",B90,\"\"))))+2,11)))))=FALSE,+INDIRECT(CONCATENATE(\"'\",J90,\"'!\",(ADDRESS((COUNTIF($J$3:J90,IF(B90<>0,CONCATENATE(\"Auswertung \",B90,\"\"))))+4,9)))),\"\")","v":""},{"$f":"+IF(ISERROR(+INDIRECT(CONCATENATE(\"'\",J90,\"'!\",(ADDRESS((COUNTIF($J$3:J90,IF(B90<>0,CONCATENATE(\"Auswertung \",B90,\"\"))))+2,10)))))=FALSE,+INDIRECT(CONCATENATE(\"'\",J90,\"'!\",(ADDRESS((COUNTIF($J$3:J90,IF(B90<>0,CONCATENATE(\"Auswertung \",B90,\"\"))))+4,10)))),\"\")","v":""},{"$f":"+IF(ISERROR(+INDIRECT(CONCATENATE(\"'\",J90,\"'!\",(ADDRESS((COUNTIF($J$3:J90,IF(B90<>0,CONCATENATE(\"Auswertung \",B90,\"\"))))+2,11)))))=FALSE,+INDIRECT(CONCATENATE(\"'\",J90,\"'!\",(ADDRESS((COUNTIF($J$3:J90,IF(B90<>0,CONCATENATE(\"Auswertung \",B90,\"\"))))+4,11)))),\"\")","v":""},{"$f":"+IF(ISERROR(+INDIRECT(CONCATENATE(\"'\",J90,\"'!\",(ADDRESS((COUNTIF($J$3:J90,IF(D90<>0,CONCATENATE(\"Auswertung \",D90,\"\"))))+2,12)))))=FALSE,+INDIRECT(CONCATENATE(\"'\",J90,\"'!\",(ADDRESS((COUNTIF($J$3:J90,IF(D90<>0,CONCATENATE(\"Auswertung \",B90,\"\"))))+4,12)))),\"\")","v":""},{"$f":"+IF(ISERROR(+INDIRECT(CONCATENATE(\"'\",J90,\"'!\",(ADDRESS((COUNTIF($J$3:J90,IF(D90<>0,CONCATENATE(\"Auswertung \",D90,\"\"))))+2,13)))))=FALSE,+INDIRECT(CONCATENATE(\"'\",J90,\"'!\",(ADDRESS((COUNTIF($J$3:J90,IF(D90<>0,CONCATENATE(\"Auswertung \",B90,\"\"))))+4,13)))),\"\")","v":""},null,{"$f":"+IFERROR(INDIRECT(CONCATENATE(\"'\",J90,\"'!\",(ADDRESS((COUNTIF($J$3:J90,IF(B90<>0,J90)))+4,16)))),\"\")","v":""},21.942,{"$f":"+SUM($M$4:M90)/COUNT($M$4:M90)/1000*2","v":0.28281081081081083},{"$f":"+IFERROR(INDIRECT(CONCATENATE(\"'\",J90,\"'!\",(ADDRESS((COUNTIF($J$3:J90,IF(B90<>0,J90)))+4,18)))),\"\")","v":""},50.264000000000003,{"$f":"+IFERROR(INDIRECT(CONCATENATE(\"'\",J90,\"'!\",(ADDRESS((COUNTIF($J$3:J90,IF(B90<>0,J90)))+4,20)))),\"\")","v":""},44.247,{"$f":"+IFERROR(INDIRECT(CONCATENATE(\"'\",J90,\"'!\",(ADDRESS((COUNTIF($J$3:J90,IF(B90<>0,J90)))+4,22)))),\"\")","v":""},16.149999999999999,{"$f":"+IFERROR(INDIRECT(CONCATENATE(\"'\",J90,\"'!\",(ADDRESS((COUNTIF($J$3:J90,IF(B90<>0,J90)))+4,24)))),\"\")","v":""},-17.100999999999999,{"$f":"+IFERROR(INDIRECT(CONCATENATE(\"'\",J90,\"'!\",(ADDRESS((COUNTIF($J$3:J90,IF(B90<>0,J90)))+4,26)))),\"\")","v":""},-15.523999999999999,87,{"$f":"+SUM(COUNTIF($Z$3:Z90,1),COUNTIF($Z$3:Z90,-1))","v":37},{"$f":"+SUM($M$4:M90)","v":5232},141.40540540540542,{"$f":"+SUM(COUNTIF($Z$3:Z90,1))","v":19},{"$f":"+SUM(COUNTIF($Z$3:Z90,-1))","v":18},1,{"$f":"AN90*(HARMEAN((IF(SUM(COUNTIF($Z$3:Z90,1),COUNTIF($Z$3:Z90,-1))=0,1,SUM(COUNTIF($Z$3:Z90,1),COUNTIF($Z$3:Z90,-1)))),(IF(SUM(COUNTIF($AC$3:AC90,1),COUNTIF($AC$3:AC90,-1))=0,1,SUM(COUNTIF($AC$3:AC90,1),COUNTIF($AC$3:AC90,-1)))),(IF(SUM(COUNTIF($AE$3:AE90,1),COUNTIF($AE$3:AE90,-1))=0,1,SUM(COUNTIF($AE$3:AE90,1),COUNTIF($AE$3:AE90,-1)))),(IF(SUM(COUNTIF($AG$3:AG90,1),COUNTIF($AG$3:AG90,-1))=0,1,SUM(COUNTIF($AG$3:AG90,1),COUNTIF($AG$3:AG90,-1)))),(IF(SUM(COUNTIF($AI$3:AI90,1),COUNTIF($AI$3:AI90,-1))=0,1,SUM(COUNTIF($AI$3:AI90,1),COUNTIF($AI$3:AI90,-1)))),(IF(SUM(COUNTIF($AK$3:AK90,1),COUNTIF($AK$3:AK90,-1))=0,1,SUM(COUNTIF($AK$3:AK90,1),COUNTIF($AK$3:AK90,-1)))))/1000)","v":1.3027260075093867},21.942,null,{"$f":"+SUM(COUNTIF($AC$3:AC90,1),COUNTIF($AC$3:AC90,-1))","v":37},{"$f":"+SUM($O$4:O90)","v":5276},142.59459459459458,{"$f":"+SUM(COUNTIF($AC$3:AC90,1))","v":23},{"$f":"+SUM(COUNTIF($AC$3:AC90,-1))","v":14},9,{"$f":"AW90*(HARMEAN((IF(SUM(COUNTIF($Z$3:Z90,1),COUNTIF($Z$3:Z90,-1))=0,1,SUM(COUNTIF($Z$3:Z90,1),COUNTIF($Z$3:Z90,-1)))),(IF(SUM(COUNTIF($AC$3:AC90,1),COUNTIF($AC$3:AC90,-1))=0,1,SUM(COUNTIF($AC$3:AC90,1),COUNTIF($AC$3:AC90,-1)))),(IF(SUM(COUNTIF($AE$3:AE90,1),COUNTIF($AE$3:AE90,-1))=0,1,SUM(COUNTIF($AE$3:AE90,1),COUNTIF($AE$3:AE90,-1)))),(IF(SUM(COUNTIF($AG$3:AG90,1),COUNTIF($AG$3:AG90,-1))=0,1,SUM(COUNTIF($AG$3:AG90,1),COUNTIF($AG$3:AG90,-1)))),(IF(SUM(COUNTIF($AI$3:AI90,1),COUNTIF($AI$3:AI90,-1))=0,1,SUM(COUNTIF($AI$3:AI90,1),COUNTIF($AI$3:AI90,-1)))),(IF(SUM(COUNTIF($AK$3:AK90,1),COUNTIF($AK$3:AK90,-1))=0,1,SUM(COUNTIF($AK$3:AK90,1),COUNTIF($AK$3:AK90,-1)))))/1000)","v":1.3027260075093867},50.264000000000003,null,{"$f":"+SUM(COUNTIF($AE$3:AE90,1),COUNTIF(AE$3:$AE90,-1))","v":36},{"$f":"+SUM($Q$4:Q90)","v":4567},126.86111111111111,{"$f":"+SUM(COUNTIF($AE$3:AE90,1))","v":22},{"$f":"+SUM(COUNTIF($AE$3:AE90,-1))","v":14},8,{"$f":"BF90*(HARMEAN((IF(SUM(COUNTIF($Z$3:Z90,1),COUNTIF($Z$3:Z90,-1))=0,1,SUM(COUNTIF($Z$3:Z90,1),COUNTIF($Z$3:Z90,-1)))),(IF(SUM(COUNTIF($AC$3:AC90,1),COUNTIF($AC$3:AC90,-1))=0,1,SUM(COUNTIF($AC$3:AC90,1),COUNTIF($AC$3:AC90,-1)))),(IF(SUM(COUNTIF($AE$3:AE90,1),COUNTIF($AE$3:AE90,-1))=0,1,SUM(COUNTIF($AE$3:AE90,1),COUNTIF($AE$3:AE90,-1)))),(IF(SUM(COUNTIF($AG$3:AG90,1),COUNTIF($AG$3:AG90,-1))=0,1,SUM(COUNTIF($AG$3:AG90,1),COUNTIF($AG$3:AG90,-1)))),(IF(SUM(COUNTIF($AI$3:AI90,1),COUNTIF($AI$3:AI90,-1))=0,1,SUM(COUNTIF($AI$3:AI90,1),COUNTIF($AI$3:AI90,-1)))),(IF(SUM(COUNTIF($AK$3:AK90,1),COUNTIF($AK$3:AK90,-1))=0,1,SUM(COUNTIF($AK$3:AK90,1),COUNTIF($AK$3:AK90,-1)))))/1000)","v":1.2675171964956196},44.247,null,{"$f":"+SUM(COUNTIF($AG$3:AG90,1),COUNTIF($AG$3:AG90,-1))","v":37},{"$f":"+SUM($S$4:S90)","v":5587},151,{"$f":"+SUM(COUNTIF($AG$3:AG90,1))","v":18},{"$f":"+SUM(COUNTIF($AG$3:AG90,-1))","v":19},-1,{"$f":"BO90*(HARMEAN((IF(SUM(COUNTIF($Z$3:Z90,1),COUNTIF($Z$3:Z90,-1))=0,1,SUM(COUNTIF($Z$3:Z90,1),COUNTIF($Z$3:Z90,-1)))),(IF(SUM(COUNTIF($AC$3:AC90,1),COUNTIF($AC$3:AC90,-1))=0,1,SUM(COUNTIF($AC$3:AC90,1),COUNTIF($AC$3:AC90,-1)))),(IF(SUM(COUNTIF($AE$3:AE90,1),COUNTIF($AE$3:AE90,-1))=0,1,SUM(COUNTIF($AE$3:AE90,1),COUNTIF($AE$3:AE90,-1)))),(IF(SUM(COUNTIF($AG$3:AG90,1),COUNTIF($AG$3:AG90,-1))=0,1,SUM(COUNTIF($AG$3:AG90,1),COUNTIF($AG$3:AG90,-1)))),(IF(SUM(COUNTIF($AI$3:AI90,1),COUNTIF($AI$3:AI90,-1))=0,1,SUM(COUNTIF($AI$3:AI90,1),COUNTIF($AI$3:AI90,-1)))),(IF(SUM(COUNTIF($AK$3:AK90,1),COUNTIF($AK$3:AK90,-1))=0,1,SUM(COUNTIF($AK$3:AK90,1),COUNTIF($AK$3:AK90,-1)))))/1000)","v":1.3027260075093867},16.149999999999999,null,{"$f":"+SUM(COUNTIF($AI$3:AI90,1),COUNTIF($AI$3:AI90,-1))","v":33},{"$f":"+SUM($U$4:U90)","v":4143},125.54545454545455,{"$f":"+SUM(COUNTIF($AI$3:AI90,1))","v":12},{"$f":"+SUM(COUNTIF($AI$3:AI90,-1))","v":21},-9,{"$f":"+BX90*(HARMEAN((IF(SUM(COUNTIF($Z$3:Z90,1),COUNTIF($Z$3:Z90,-1))=0,1,SUM(COUNTIF($Z$3:Z90,1),COUNTIF($Z$3:Z90,-1)))),(IF(SUM(COUNTIF($AC$3:AC90,1),COUNTIF($AC$3:AC90,-1))=0,1,SUM(COUNTIF($AC$3:AC90,1),COUNTIF($AC$3:AC90,-1)))),(IF(SUM(COUNTIF($AE$3:AE90,1),COUNTIF($AE$3:AE90,-1))=0,1,SUM(COUNTIF($AE$3:AE90,1),COUNTIF($AE$3:AE90,-1)))),(IF(SUM(COUNTIF($AG$3:AG90,1),COUNTIF($AG$3:AG90,-1))=0,1,SUM(COUNTIF($AG$3:AG90,1),COUNTIF($AG$3:AG90,-1)))),(IF(SUM(COUNTIF($AI$3:AI90,1),COUNTIF($AI$3:AI90,-1))=0,1,SUM(COUNTIF($AI$3:AI90,1),COUNTIF($AI$3:AI90,-1)))),(IF(SUM(COUNTIF($AK$3:AK90,1),COUNTIF($AK$3:AK90,-1))=0,1,SUM(COUNTIF($AK$3:AK90,1),COUNTIF($AK$3:AK90,-1)))))/1000)","v":1.1618907634543179},-17.100999999999999,null,{"$f":"+SUM(COUNTIF($AK$3:AK90,1),COUNTIF($AK$3:AK90,-1))","v":32},{"$f":"+SUM($W$4:W90)","v":3591},112.21875,{"$f":"+SUM(COUNTIF($AK$3:AK90,1))","v":12},{"$f":"+SUM(COUNTIF($AK$3:AK90,-1))","v":20},-8,{"$f":"+CG90*(HARMEAN((IF(SUM(COUNTIF($Z$3:Z90,1),COUNTIF($Z$3:Z90,-1))=0,1,SUM(COUNTIF($Z$3:Z90,1),COUNTIF($Z$3:Z90,-1)))),(IF(SUM(COUNTIF($AC$3:AC90,1),COUNTIF($AC$3:AC90,-1))=0,1,SUM(COUNTIF($AC$3:AC90,1),COUNTIF($AC$3:AC90,-1)))),(IF(SUM(COUNTIF($AE$3:AE90,1),COUNTIF($AE$3:AE90,-1))=0,1,SUM(COUNTIF($AE$3:AE90,1),COUNTIF($AE$3:AE90,-1)))),(IF(SUM(COUNTIF($AG$3:AG90,1),COUNTIF($AG$3:AG90,-1))=0,1,SUM(COUNTIF($AG$3:AG90,1),COUNTIF($AG$3:AG90,-1)))),(IF(SUM(COUNTIF($AI$3:AI90,1),COUNTIF($AI$3:AI90,-1))=0,1,SUM(COUNTIF($AI$3:AI90,1),COUNTIF($AI$3:AI90,-1)))),(IF(SUM(COUNTIF($AK$3:AK90,1),COUNTIF($AK$3:AK90,-1))=0,1,SUM(COUNTIF($AK$3:AK90,1),COUNTIF($AK$3:AK90,-1)))))/1000)","v":1.1266819524405507},-15.523999999999999]
[88,"",null,{"$f":"+IFERROR(INDEX('Auswertung AoE II'!$AE:$AE,MATCH(A91,'Auswertung AoE II'!$AD:$AD,0)),\"\")","v":""},{"$f":"+IFERROR(INDEX('Auswertung AoE III'!$AE:$AE,MATCH(A91,'Auswertung AoE III'!$AD:$AD,0)),\"\")","v":""},{"$f":"+IFERROR(INDEX('Auswertung AoM'!$AE:$AE,MATCH(A91,'Auswertung AoM'!$AD:$AD,0)),\"\")","v":""},{"$f":"+IFERROR(INDEX('Auswertung RA'!$AE:$AE,MATCH(A91,'Auswertung RA'!$AD:$AD,0)),\"\")","v":""},{"$f":"+IFERROR(INDEX('Auswertung Yuri'!$AE:$AE,MATCH(A91,'Auswertung Yuri'!$AD:$AD,0)),\"\")","v":""},{"$f":"+IFERROR(INDEX('Auswertung Generals'!$AE:$AE,MATCH(A91,'Auswertung Generals'!$AD:$AD,0)),\"\")","v":""},"Auswertung ",null,null,{"$f":"+IF(ISERROR(+INDIRECT(CONCATENATE(\"'\",J91,\"'!\",(ADDRESS((COUNTIF($J$3:J91,IF(B91<>0,CONCATENATE(\"Auswertung \",B91,\"\"))))+2,2)))))=FALSE,+INDIRECT(CONCATENATE(\"'\",J91,\"'!\",(ADDRESS((COUNTIF($J$3:J91,IF(B91<>0,CONCATENATE(\"Auswertung \",B91,\"\"))))+4,2)))),\"\")","v":""},{"$f":"IF(ISERROR(+INDIRECT(CONCATENATE(\"'\",J91,\"'!\",(ADDRESS((COUNTIF($J$3:J91,IF(B91<>0,CONCATENATE(\"Auswertung \",B91,\"\"))))+2,2+1)))))=FALSE,+INDIRECT(CONCATENATE(\"'\",J91,\"'!\",(ADDRESS((COUNTIF($J$3:J91,IF(B91<>0,CONCATENATE(\"Auswertung \",B91,\"\"))))+4,2+1)))),\"\")","v":""},{"$f":"+IF(ISERROR(+INDIRECT(CONCATENATE(\"'\",J91,\"'!\",(ADDRESS((COUNTIF($J$3:J91,IF(B91<>0,CONCATENATE(\"Auswertung \",B91,\"\"))))+2,4)))))=FALSE,+INDIRECT(CONCATENATE(\"'\",J91,\"'!\",(ADDRESS((COUNTIF($J$3:J91,IF(B91<>0,CONCATENATE(\"Auswertung \",B91,\"\"))))+4,4)))),\"\")","v":""},{"$f":"+IF(ISERROR(+INDIRECT(CONCATENATE(\"'\",J91,\"'!\",(ADDRESS((COUNTIF($J$3:J91,IF(B91<>0,CONCATENATE(\"Auswertung \",B91,\"\"))))+2,5)))))=FALSE,+INDIRECT(CONCATENATE(\"'\",J91,\"'!\",(ADDRESS((COUNTIF($J$3:J91,IF(B91<>0,CONCATENATE(\"Auswertung \",B91,\"\"))))+4,5)))),\"\")","v":""},{"$f":"+IF(ISERROR(+INDIRECT(CONCATENATE(\"'\",J91,\"'!\",(ADDRESS((COUNTIF($J$3:J91,IF(B91<>0,CONCATENATE(\"Auswertung \",B91,\"\"))))+2,6)))))=FALSE,+INDIRECT(CONCATENATE(\"'\",J91,\"'!\",(ADDRESS((COUNTIF($J$3:J91,IF(B91<>0,CONCATENATE(\"Auswertung \",B91,\"\"))))+4,6)))),\"\")","v":""},{"$f":"+IF(ISERROR(+INDIRECT(CONCATENATE(\"'\",J91,\"'!\",(ADDRESS((COUNTIF($J$3:J91,IF(B91<>0,CONCATENATE(\"Auswertung \",B91,\"\"))))+2,7)))))=FALSE,+INDIRECT(CONCATENATE(\"'\",J91,\"'!\",(ADDRESS((COUNTIF($J$3:J91,IF(B91<>0,CONCATENATE(\"Auswertung \",B91,\"\"))))+4,7)))),\"\")","v":""},{"$f":"+IF(ISERROR(+INDIRECT(CONCATENATE(\"'\",J91,\"'!\",(ADDRESS((COUNTIF($J$3:J91,IF(B91<>0,CONCATENATE(\"Auswertung \",B91,\"\"))))+2,10)))))=FALSE,+INDIRECT(CONCATENATE(\"'\",J91,\"'!\",(ADDRESS((COUNTIF($J$3:J91,IF(B91<>0,CONCATENATE(\"Auswertung \",B91,\"\"))))+4,8)))),\"\")","v":""},{"$f":"+IF(ISERROR(+INDIRECT(CONCATENATE(\"'\",J91,\"'!\",(ADDRESS((COUNTIF($J$3:J91,IF(B91<>0,CONCATENATE(\"Auswertung \",B91,\"\"))))+2,11)))))=FALSE,+INDIRECT(CONCATENATE(\"'\",J91,\"'!\",(ADDRESS((COUNTIF($J$3:J91,IF(B91<>0,CONCATENATE(\"Auswertung \",B91,\"\"))))+4,9)))),\"\")","v":""},{"$f":"+IF(ISERROR(+INDIRECT(CONCATENATE(\"'\",J91,\"'!\",(ADDRESS((COUNTIF($J$3:J91,IF(B91<>0,CONCATENATE(\"Auswertung \",B91,\"\"))))+2,10)))))=FALSE,+INDIRECT(CONCATENATE(\"'\",J91,\"'!\",(ADDRESS((COUNTIF($J$3:J91,IF(B91<>0,CONCATENATE(\"Auswertung \",B91,\"\"))))+4,10)))),\"\")","v":""},{"$f":"+IF(ISERROR(+INDIRECT(CONCATENATE(\"'\",J91,\"'!\",(ADDRESS((COUNTIF($J$3:J91,IF(B91<>0,CONCATENATE(\"Auswertung \",B91,\"\"))))+2,11)))))=FALSE,+INDIRECT(CONCATENATE(\"'\",J91,\"'!\",(ADDRESS((COUNTIF($J$3:J91,IF(B91<>0,CONCATENATE(\"Auswertung \",B91,\"\"))))+4,11)))),\"\")","v":""},{"$f":"+IF(ISERROR(+INDIRECT(CONCATENATE(\"'\",J91,\"'!\",(ADDRESS((COUNTIF($J$3:J91,IF(D91<>0,CONCATENATE(\"Auswertung \",D91,\"\"))))+2,12)))))=FALSE,+INDIRECT(CONCATENATE(\"'\",J91,\"'!\",(ADDRESS((COUNTIF($J$3:J91,IF(D91<>0,CONCATENATE(\"Auswertung \",B91,\"\"))))+4,12)))),\"\")","v":""},{"$f":"+IF(ISERROR(+INDIRECT(CONCATENATE(\"'\",J91,\"'!\",(ADDRESS((COUNTIF($J$3:J91,IF(D91<>0,CONCATENATE(\"Auswertung \",D91,\"\"))))+2,13)))))=FALSE,+INDIRECT(CONCATENATE(\"'\",J91,\"'!\",(ADDRESS((COUNTIF($J$3:J91,IF(D91<>0,CONCATENATE(\"Auswertung \",B91,\"\"))))+4,13)))),\"\")","v":""},null,{"$f":"+IFERROR(INDIRECT(CONCATENATE(\"'\",J91,\"'!\",(ADDRESS((COUNTIF($J$3:J91,IF(B91<>0,J91)))+4,16)))),\"\")","v":""},21.942,{"$f":"+SUM($M$4:M91)/COUNT($M$4:M91)/1000*2","v":0.28281081081081083},{"$f":"+IFERROR(INDIRECT(CONCATENATE(\"'\",J91,\"'!\",(ADDRESS((COUNTIF($J$3:J91,IF(B91<>0,J91)))+4,18)))),\"\")","v":""},50.264000000000003,{"$f":"+IFERROR(INDIRECT(CONCATENATE(\"'\",J91,\"'!\",(ADDRESS((COUNTIF($J$3:J91,IF(B91<>0,J91)))+4,20)))),\"\")","v":""},44.247,{"$f":"+IFERROR(INDIRECT(CONCATENATE(\"'\",J91,\"'!\",(ADDRESS((COUNTIF($J$3:J91,IF(B91<>0,J91)))+4,22)))),\"\")","v":""},16.149999999999999,{"$f":"+IFERROR(INDIRECT(CONCATENATE(\"'\",J91,\"'!\",(ADDRESS((COUNTIF($J$3:J91,IF(B91<>0,J91)))+4,24)))),\"\")","v":""},-17.100999999999999,{"$f":"+IFERROR(INDIRECT(CONCATENATE(\"'\",J91,\"'!\",(ADDRESS((COUNTIF($J$3:J91,IF(B91<>0,J91)))+4,26)))),\"\")","v":""},-15.523999999999999,88,{"$f":"+SUM(COUNTIF($Z$3:Z91,1),COUNTIF($Z$3:Z91,-1))","v":37},{"$f":"+SUM($M$4:M91)","v":5232},141.40540540540542,{"$f":"+SUM(COUNTIF($Z$3:Z91,1))","v":19},{"$f":"+SUM(COUNTIF($Z$3:Z91,-1))","v":18},1,{"$f":"AN91*(HARMEAN((IF(SUM(COUNTIF($Z$3:Z91,1),COUNTIF($Z$3:Z91,-1))=0,1,SUM(COUNTIF($Z$3:Z91,1),COUNTIF($Z$3:Z91,-1)))),(IF(SUM(COUNTIF($AC$3:AC91,1),COUNTIF($AC$3:AC91,-1))=0,1,SUM(COUNTIF($AC$3:AC91,1),COUNTIF($AC$3:AC91,-1)))),(IF(SUM(COUNTIF($AE$3:AE91,1),COUNTIF($AE$3:AE91,-1))=0,1,SUM(COUNTIF($AE$3:AE91,1),COUNTIF($AE$3:AE91,-1)))),(IF(SUM(COUNTIF($AG$3:AG91,1),COUNTIF($AG$3:AG91,-1))=0,1,SUM(COUNTIF($AG$3:AG91,1),COUNTIF($AG$3:AG91,-1)))),(IF(SUM(COUNTIF($AI$3:AI91,1),COUNTIF($AI$3:AI91,-1))=0,1,SUM(COUNTIF($AI$3:AI91,1),COUNTIF($AI$3:AI91,-1)))),(IF(SUM(COUNTIF($AK$3:AK91,1),COUNTIF($AK$3:AK91,-1))=0,1,SUM(COUNTIF($AK$3:AK91,1),COUNTIF($AK$3:AK91,-1)))))/1000)","v":1.3027260075093867},21.942,null,{"$f":"+SUM(COUNTIF($AC$3:AC91,1),COUNTIF($AC$3:AC91,-1))","v":37},{"$f":"+SUM($O$4:O91)","v":5276},142.59459459459458,{"$f":"+SUM(COUNTIF($AC$3:AC91,1))","v":23},{"$f":"+SUM(COUNTIF($AC$3:AC91,-1))","v":14},9,{"$f":"AW91*(HARMEAN((IF(SUM(COUNTIF($Z$3:Z91,1),COUNTIF($Z$3:Z91,-1))=0,1,SUM(COUNTIF($Z$3:Z91,1),COUNTIF($Z$3:Z91,-1)))),(IF(SUM(COUNTIF($AC$3:AC91,1),COUNTIF($AC$3:AC91,-1))=0,1,SUM(COUNTIF($AC$3:AC91,1),COUNTIF($AC$3:AC91,-1)))),(IF(SUM(COUNTIF($AE$3:AE91,1),COUNTIF($AE$3:AE91,-1))=0,1,SUM(COUNTIF($AE$3:AE91,1),COUNTIF($AE$3:AE91,-1)))),(IF(SUM(COUNTIF($AG$3:AG91,1),COUNTIF($AG$3:AG91,-1))=0,1,SUM(COUNTIF($AG$3:AG91,1),COUNTIF($AG$3:AG91,-1)))),(IF(SUM(COUNTIF($AI$3:AI91,1),COUNTIF($AI$3:AI91,-1))=0,1,SUM(COUNTIF($AI$3:AI91,1),COUNTIF($AI$3:AI91,-1)))),(IF(SUM(COUNTIF($AK$3:AK91,1),COUNTIF($AK$3:AK91,-1))=0,1,SUM(COUNTIF($AK$3:AK91,1),COUNTIF($AK$3:AK91,-1)))))/1000)","v":1.3027260075093867},50.264000000000003,null,{"$f":"+SUM(COUNTIF($AE$3:AE91,1),COUNTIF(AE$3:$AE91,-1))","v":36},{"$f":"+SUM($Q$4:Q91)","v":4567},126.86111111111111,{"$f":"+SUM(COUNTIF($AE$3:AE91,1))","v":22},{"$f":"+SUM(COUNTIF($AE$3:AE91,-1))","v":14},8,{"$f":"BF91*(HARMEAN((IF(SUM(COUNTIF($Z$3:Z91,1),COUNTIF($Z$3:Z91,-1))=0,1,SUM(COUNTIF($Z$3:Z91,1),COUNTIF($Z$3:Z91,-1)))),(IF(SUM(COUNTIF($AC$3:AC91,1),COUNTIF($AC$3:AC91,-1))=0,1,SUM(COUNTIF($AC$3:AC91,1),COUNTIF($AC$3:AC91,-1)))),(IF(SUM(COUNTIF($AE$3:AE91,1),COUNTIF($AE$3:AE91,-1))=0,1,SUM(COUNTIF($AE$3:AE91,1),COUNTIF($AE$3:AE91,-1)))),(IF(SUM(COUNTIF($AG$3:AG91,1),COUNTIF($AG$3:AG91,-1))=0,1,SUM(COUNTIF($AG$3:AG91,1),COUNTIF($AG$3:AG91,-1)))),(IF(SUM(COUNTIF($AI$3:AI91,1),COUNTIF($AI$3:AI91,-1))=0,1,SUM(COUNTIF($AI$3:AI91,1),COUNTIF($AI$3:AI91,-1)))),(IF(SUM(COUNTIF($AK$3:AK91,1),COUNTIF($AK$3:AK91,-1))=0,1,SUM(COUNTIF($AK$3:AK91,1),COUNTIF($AK$3:AK91,-1)))))/1000)","v":1.2675171964956196},44.247,null,{"$f":"+SUM(COUNTIF($AG$3:AG91,1),COUNTIF($AG$3:AG91,-1))","v":37},{"$f":"+SUM($S$4:S91)","v":5587},151,{"$f":"+SUM(COUNTIF($AG$3:AG91,1))","v":18},{"$f":"+SUM(COUNTIF($AG$3:AG91,-1))","v":19},-1,{"$f":"BO91*(HARMEAN((IF(SUM(COUNTIF($Z$3:Z91,1),COUNTIF($Z$3:Z91,-1))=0,1,SUM(COUNTIF($Z$3:Z91,1),COUNTIF($Z$3:Z91,-1)))),(IF(SUM(COUNTIF($AC$3:AC91,1),COUNTIF($AC$3:AC91,-1))=0,1,SUM(COUNTIF($AC$3:AC91,1),COUNTIF($AC$3:AC91,-1)))),(IF(SUM(COUNTIF($AE$3:AE91,1),COUNTIF($AE$3:AE91,-1))=0,1,SUM(COUNTIF($AE$3:AE91,1),COUNTIF($AE$3:AE91,-1)))),(IF(SUM(COUNTIF($AG$3:AG91,1),COUNTIF($AG$3:AG91,-1))=0,1,SUM(COUNTIF($AG$3:AG91,1),COUNTIF($AG$3:AG91,-1)))),(IF(SUM(COUNTIF($AI$3:AI91,1),COUNTIF($AI$3:AI91,-1))=0,1,SUM(COUNTIF($AI$3:AI91,1),COUNTIF($AI$3:AI91,-1)))),(IF(SUM(COUNTIF($AK$3:AK91,1),COUNTIF($AK$3:AK91,-1))=0,1,SUM(COUNTIF($AK$3:AK91,1),COUNTIF($AK$3:AK91,-1)))))/1000)","v":1.3027260075093867},16.149999999999999,null,{"$f":"+SUM(COUNTIF($AI$3:AI91,1),COUNTIF($AI$3:AI91,-1))","v":33},{"$f":"+SUM($U$4:U91)","v":4143},125.54545454545455,{"$f":"+SUM(COUNTIF($AI$3:AI91,1))","v":12},{"$f":"+SUM(COUNTIF($AI$3:AI91,-1))","v":21},-9,{"$f":"+BX91*(HARMEAN((IF(SUM(COUNTIF($Z$3:Z91,1),COUNTIF($Z$3:Z91,-1))=0,1,SUM(COUNTIF($Z$3:Z91,1),COUNTIF($Z$3:Z91,-1)))),(IF(SUM(COUNTIF($AC$3:AC91,1),COUNTIF($AC$3:AC91,-1))=0,1,SUM(COUNTIF($AC$3:AC91,1),COUNTIF($AC$3:AC91,-1)))),(IF(SUM(COUNTIF($AE$3:AE91,1),COUNTIF($AE$3:AE91,-1))=0,1,SUM(COUNTIF($AE$3:AE91,1),COUNTIF($AE$3:AE91,-1)))),(IF(SUM(COUNTIF($AG$3:AG91,1),COUNTIF($AG$3:AG91,-1))=0,1,SUM(COUNTIF($AG$3:AG91,1),COUNTIF($AG$3:AG91,-1)))),(IF(SUM(COUNTIF($AI$3:AI91,1),COUNTIF($AI$3:AI91,-1))=0,1,SUM(COUNTIF($AI$3:AI91,1),COUNTIF($AI$3:AI91,-1)))),(IF(SUM(COUNTIF($AK$3:AK91,1),COUNTIF($AK$3:AK91,-1))=0,1,SUM(COUNTIF($AK$3:AK91,1),COUNTIF($AK$3:AK91,-1)))))/1000)","v":1.1618907634543179},-17.100999999999999,null,{"$f":"+SUM(COUNTIF($AK$3:AK91,1),COUNTIF($AK$3:AK91,-1))","v":32},{"$f":"+SUM($W$4:W91)","v":3591},112.21875,{"$f":"+SUM(COUNTIF($AK$3:AK91,1))","v":12},{"$f":"+SUM(COUNTIF($AK$3:AK91,-1))","v":20},-8,{"$f":"+CG91*(HARMEAN((IF(SUM(COUNTIF($Z$3:Z91,1),COUNTIF($Z$3:Z91,-1))=0,1,SUM(COUNTIF($Z$3:Z91,1),COUNTIF($Z$3:Z91,-1)))),(IF(SUM(COUNTIF($AC$3:AC91,1),COUNTIF($AC$3:AC91,-1))=0,1,SUM(COUNTIF($AC$3:AC91,1),COUNTIF($AC$3:AC91,-1)))),(IF(SUM(COUNTIF($AE$3:AE91,1),COUNTIF($AE$3:AE91,-1))=0,1,SUM(COUNTIF($AE$3:AE91,1),COUNTIF($AE$3:AE91,-1)))),(IF(SUM(COUNTIF($AG$3:AG91,1),COUNTIF($AG$3:AG91,-1))=0,1,SUM(COUNTIF($AG$3:AG91,1),COUNTIF($AG$3:AG91,-1)))),(IF(SUM(COUNTIF($AI$3:AI91,1),COUNTIF($AI$3:AI91,-1))=0,1,SUM(COUNTIF($AI$3:AI91,1),COUNTIF($AI$3:AI91,-1)))),(IF(SUM(COUNTIF($AK$3:AK91,1),COUNTIF($AK$3:AK91,-1))=0,1,SUM(COUNTIF($AK$3:AK91,1),COUNTIF($AK$3:AK91,-1)))))/1000)","v":1.1266819524405507},-15.523999999999999]
[89,"",null,{"$f":"+IFERROR(INDEX('Auswertung AoE II'!$AE:$AE,MATCH(A92,'Auswertung AoE II'!$AD:$AD,0)),\"\")","v":""},{"$f":"+IFERROR(INDEX('Auswertung AoE III'!$AE:$AE,MATCH(A92,'Auswertung AoE III'!$AD:$AD,0)),\"\")","v":""},{"$f":"+IFERROR(INDEX('Auswertung AoM'!$AE:$AE,MATCH(A92,'Auswertung AoM'!$AD:$AD,0)),\"\")","v":""},{"$f":"+IFERROR(INDEX('Auswertung RA'!$AE:$AE,MATCH(A92,'Auswertung RA'!$AD:$AD,0)),\"\")","v":""},{"$f":"+IFERROR(INDEX('Auswertung Yuri'!$AE:$AE,MATCH(A92,'Auswertung Yuri'!$AD:$AD,0)),\"\")","v":""},{"$f":"+IFERROR(INDEX('Auswertung Generals'!$AE:$AE,MATCH(A92,'Auswertung Generals'!$AD:$AD,0)),\"\")","v":""},"Auswertung ",null,null,{"$f":"+IF(ISERROR(+INDIRECT(CONCATENATE(\"'\",J92,\"'!\",(ADDRESS((COUNTIF($J$3:J92,IF(B92<>0,CONCATENATE(\"Auswertung \",B92,\"\"))))+2,2)))))=FALSE,+INDIRECT(CONCATENATE(\"'\",J92,\"'!\",(ADDRESS((COUNTIF($J$3:J92,IF(B92<>0,CONCATENATE(\"Auswertung \",B92,\"\"))))+4,2)))),\"\")","v":""},{"$f":"IF(ISERROR(+INDIRECT(CONCATENATE(\"'\",J92,\"'!\",(ADDRESS((COUNTIF($J$3:J92,IF(B92<>0,CONCATENATE(\"Auswertung \",B92,\"\"))))+2,2+1)))))=FALSE,+INDIRECT(CONCATENATE(\"'\",J92,\"'!\",(ADDRESS((COUNTIF($J$3:J92,IF(B92<>0,CONCATENATE(\"Auswertung \",B92,\"\"))))+4,2+1)))),\"\")","v":""},{"$f":"+IF(ISERROR(+INDIRECT(CONCATENATE(\"'\",J92,\"'!\",(ADDRESS((COUNTIF($J$3:J92,IF(B92<>0,CONCATENATE(\"Auswertung \",B92,\"\"))))+2,4)))))=FALSE,+INDIRECT(CONCATENATE(\"'\",J92,\"'!\",(ADDRESS((COUNTIF($J$3:J92,IF(B92<>0,CONCATENATE(\"Auswertung \",B92,\"\"))))+4,4)))),\"\")","v":""},{"$f":"+IF(ISERROR(+INDIRECT(CONCATENATE(\"'\",J92,\"'!\",(ADDRESS((COUNTIF($J$3:J92,IF(B92<>0,CONCATENATE(\"Auswertung \",B92,\"\"))))+2,5)))))=FALSE,+INDIRECT(CONCATENATE(\"'\",J92,\"'!\",(ADDRESS((COUNTIF($J$3:J92,IF(B92<>0,CONCATENATE(\"Auswertung \",B92,\"\"))))+4,5)))),\"\")","v":""},{"$f":"+IF(ISERROR(+INDIRECT(CONCATENATE(\"'\",J92,\"'!\",(ADDRESS((COUNTIF($J$3:J92,IF(B92<>0,CONCATENATE(\"Auswertung \",B92,\"\"))))+2,6)))))=FALSE,+INDIRECT(CONCATENATE(\"'\",J92,\"'!\",(ADDRESS((COUNTIF($J$3:J92,IF(B92<>0,CONCATENATE(\"Auswertung \",B92,\"\"))))+4,6)))),\"\")","v":""},{"$f":"+IF(ISERROR(+INDIRECT(CONCATENATE(\"'\",J92,\"'!\",(ADDRESS((COUNTIF($J$3:J92,IF(B92<>0,CONCATENATE(\"Auswertung \",B92,\"\"))))+2,7)))))=FALSE,+INDIRECT(CONCATENATE(\"'\",J92,\"'!\",(ADDRESS((COUNTIF($J$3:J92,IF(B92<>0,CONCATENATE(\"Auswertung \",B92,\"\"))))+4,7)))),\"\")","v":""},{"$f":"+IF(ISERROR(+INDIRECT(CONCATENATE(\"'\",J92,\"'!\",(ADDRESS((COUNTIF($J$3:J92,IF(B92<>0,CONCATENATE(\"Auswertung \",B92,\"\"))))+2,10)))))=FALSE,+INDIRECT(CONCATENATE(\"'\",J92,\"'!\",(ADDRESS((COUNTIF($J$3:J92,IF(B92<>0,CONCATENATE(\"Auswertung \",B92,\"\"))))+4,8)))),\"\")","v":""},{"$f":"+IF(ISERROR(+INDIRECT(CONCATENATE(\"'\",J92,\"'!\",(ADDRESS((COUNTIF($J$3:J92,IF(B92<>0,CONCATENATE(\"Auswertung \",B92,\"\"))))+2,11)))))=FALSE,+INDIRECT(CONCATENATE(\"'\",J92,\"'!\",(ADDRESS((COUNTIF($J$3:J92,IF(B92<>0,CONCATENATE(\"Auswertung \",B92,\"\"))))+4,9)))),\"\")","v":""},{"$f":"+IF(ISERROR(+INDIRECT(CONCATENATE(\"'\",J92,\"'!\",(ADDRESS((COUNTIF($J$3:J92,IF(B92<>0,CONCATENATE(\"Auswertung \",B92,\"\"))))+2,10)))))=FALSE,+INDIRECT(CONCATENATE(\"'\",J92,\"'!\",(ADDRESS((COUNTIF($J$3:J92,IF(B92<>0,CONCATENATE(\"Auswertung \",B92,\"\"))))+4,10)))),\"\")","v":""},{"$f":"+IF(ISERROR(+INDIRECT(CONCATENATE(\"'\",J92,\"'!\",(ADDRESS((COUNTIF($J$3:J92,IF(B92<>0,CONCATENATE(\"Auswertung \",B92,\"\"))))+2,11)))))=FALSE,+INDIRECT(CONCATENATE(\"'\",J92,\"'!\",(ADDRESS((COUNTIF($J$3:J92,IF(B92<>0,CONCATENATE(\"Auswertung \",B92,\"\"))))+4,11)))),\"\")","v":""},{"$f":"+IF(ISERROR(+INDIRECT(CONCATENATE(\"'\",J92,\"'!\",(ADDRESS((COUNTIF($J$3:J92,IF(D92<>0,CONCATENATE(\"Auswertung \",D92,\"\"))))+2,12)))))=FALSE,+INDIRECT(CONCATENATE(\"'\",J92,\"'!\",(ADDRESS((COUNTIF($J$3:J92,IF(D92<>0,CONCATENATE(\"Auswertung \",B92,\"\"))))+4,12)))),\"\")","v":""},{"$f":"+IF(ISERROR(+INDIRECT(CONCATENATE(\"'\",J92,\"'!\",(ADDRESS((COUNTIF($J$3:J92,IF(D92<>0,CONCATENATE(\"Auswertung \",D92,\"\"))))+2,13)))))=FALSE,+INDIRECT(CONCATENATE(\"'\",J92,\"'!\",(ADDRESS((COUNTIF($J$3:J92,IF(D92<>0,CONCATENATE(\"Auswertung \",B92,\"\"))))+4,13)))),\"\")","v":""},null,{"$f":"+IFERROR(INDIRECT(CONCATENATE(\"'\",J92,\"'!\",(ADDRESS((COUNTIF($J$3:J92,IF(B92<>0,J92)))+4,16)))),\"\")","v":""},21.942,{"$f":"+SUM($M$4:M92)/COUNT($M$4:M92)/1000*2","v":0.28281081081081083},{"$f":"+IFERROR(INDIRECT(CONCATENATE(\"'\",J92,\"'!\",(ADDRESS((COUNTIF($J$3:J92,IF(B92<>0,J92)))+4,18)))),\"\")","v":""},50.264000000000003,{"$f":"+IFERROR(INDIRECT(CONCATENATE(\"'\",J92,\"'!\",(ADDRESS((COUNTIF($J$3:J92,IF(B92<>0,J92)))+4,20)))),\"\")","v":""},44.247,{"$f":"+IFERROR(INDIRECT(CONCATENATE(\"'\",J92,\"'!\",(ADDRESS((COUNTIF($J$3:J92,IF(B92<>0,J92)))+4,22)))),\"\")","v":""},16.149999999999999,{"$f":"+IFERROR(INDIRECT(CONCATENATE(\"'\",J92,\"'!\",(ADDRESS((COUNTIF($J$3:J92,IF(B92<>0,J92)))+4,24)))),\"\")","v":""},-17.100999999999999,{"$f":"+IFERROR(INDIRECT(CONCATENATE(\"'\",J92,\"'!\",(ADDRESS((COUNTIF($J$3:J92,IF(B92<>0,J92)))+4,26)))),\"\")","v":""},-15.523999999999999,89,{"$f":"+SUM(COUNTIF($Z$3:Z92,1),COUNTIF($Z$3:Z92,-1))","v":37},{"$f":"+SUM($M$4:M92)","v":5232},141.40540540540542,{"$f":"+SUM(COUNTIF($Z$3:Z92,1))","v":19},{"$f":"+SUM(COUNTIF($Z$3:Z92,-1))","v":18},1,{"$f":"AN92*(HARMEAN((IF(SUM(COUNTIF($Z$3:Z92,1),COUNTIF($Z$3:Z92,-1))=0,1,SUM(COUNTIF($Z$3:Z92,1),COUNTIF($Z$3:Z92,-1)))),(IF(SUM(COUNTIF($AC$3:AC92,1),COUNTIF($AC$3:AC92,-1))=0,1,SUM(COUNTIF($AC$3:AC92,1),COUNTIF($AC$3:AC92,-1)))),(IF(SUM(COUNTIF($AE$3:AE92,1),COUNTIF($AE$3:AE92,-1))=0,1,SUM(COUNTIF($AE$3:AE92,1),COUNTIF($AE$3:AE92,-1)))),(IF(SUM(COUNTIF($AG$3:AG92,1),COUNTIF($AG$3:AG92,-1))=0,1,SUM(COUNTIF($AG$3:AG92,1),COUNTIF($AG$3:AG92,-1)))),(IF(SUM(COUNTIF($AI$3:AI92,1),COUNTIF($AI$3:AI92,-1))=0,1,SUM(COUNTIF($AI$3:AI92,1),COUNTIF($AI$3:AI92,-1)))),(IF(SUM(COUNTIF($AK$3:AK92,1),COUNTIF($AK$3:AK92,-1))=0,1,SUM(COUNTIF($AK$3:AK92,1),COUNTIF($AK$3:AK92,-1)))))/1000)","v":1.3027260075093867},21.942,null,{"$f":"+SUM(COUNTIF($AC$3:AC92,1),COUNTIF($AC$3:AC92,-1))","v":37},{"$f":"+SUM($O$4:O92)","v":5276},142.59459459459458,{"$f":"+SUM(COUNTIF($AC$3:AC92,1))","v":23},{"$f":"+SUM(COUNTIF($AC$3:AC92,-1))","v":14},9,{"$f":"AW92*(HARMEAN((IF(SUM(COUNTIF($Z$3:Z92,1),COUNTIF($Z$3:Z92,-1))=0,1,SUM(COUNTIF($Z$3:Z92,1),COUNTIF($Z$3:Z92,-1)))),(IF(SUM(COUNTIF($AC$3:AC92,1),COUNTIF($AC$3:AC92,-1))=0,1,SUM(COUNTIF($AC$3:AC92,1),COUNTIF($AC$3:AC92,-1)))),(IF(SUM(COUNTIF($AE$3:AE92,1),COUNTIF($AE$3:AE92,-1))=0,1,SUM(COUNTIF($AE$3:AE92,1),COUNTIF($AE$3:AE92,-1)))),(IF(SUM(COUNTIF($AG$3:AG92,1),COUNTIF($AG$3:AG92,-1))=0,1,SUM(COUNTIF($AG$3:AG92,1),COUNTIF($AG$3:AG92,-1)))),(IF(SUM(COUNTIF($AI$3:AI92,1),COUNTIF($AI$3:AI92,-1))=0,1,SUM(COUNTIF($AI$3:AI92,1),COUNTIF($AI$3:AI92,-1)))),(IF(SUM(COUNTIF($AK$3:AK92,1),COUNTIF($AK$3:AK92,-1))=0,1,SUM(COUNTIF($AK$3:AK92,1),COUNTIF($AK$3:AK92,-1)))))/1000)","v":1.3027260075093867},50.264000000000003,null,{"$f":"+SUM(COUNTIF($AE$3:AE92,1),COUNTIF(AE$3:$AE92,-1))","v":36},{"$f":"+SUM($Q$4:Q92)","v":4567},126.86111111111111,{"$f":"+SUM(COUNTIF($AE$3:AE92,1))","v":22},{"$f":"+SUM(COUNTIF($AE$3:AE92,-1))","v":14},8,{"$f":"BF92*(HARMEAN((IF(SUM(COUNTIF($Z$3:Z92,1),COUNTIF($Z$3:Z92,-1))=0,1,SUM(COUNTIF($Z$3:Z92,1),COUNTIF($Z$3:Z92,-1)))),(IF(SUM(COUNTIF($AC$3:AC92,1),COUNTIF($AC$3:AC92,-1))=0,1,SUM(COUNTIF($AC$3:AC92,1),COUNTIF($AC$3:AC92,-1)))),(IF(SUM(COUNTIF($AE$3:AE92,1),COUNTIF($AE$3:AE92,-1))=0,1,SUM(COUNTIF($AE$3:AE92,1),COUNTIF($AE$3:AE92,-1)))),(IF(SUM(COUNTIF($AG$3:AG92,1),COUNTIF($AG$3:AG92,-1))=0,1,SUM(COUNTIF($AG$3:AG92,1),COUNTIF($AG$3:AG92,-1)))),(IF(SUM(COUNTIF($AI$3:AI92,1),COUNTIF($AI$3:AI92,-1))=0,1,SUM(COUNTIF($AI$3:AI92,1),COUNTIF($AI$3:AI92,-1)))),(IF(SUM(COUNTIF($AK$3:AK92,1),COUNTIF($AK$3:AK92,-1))=0,1,SUM(COUNTIF($AK$3:AK92,1),COUNTIF($AK$3:AK92,-1)))))/1000)","v":1.2675171964956196},44.247,null,{"$f":"+SUM(COUNTIF($AG$3:AG92,1),COUNTIF($AG$3:AG92,-1))","v":37},{"$f":"+SUM($S$4:S92)","v":5587},151,{"$f":"+SUM(COUNTIF($AG$3:AG92,1))","v":18},{"$f":"+SUM(COUNTIF($AG$3:AG92,-1))","v":19},-1,{"$f":"BO92*(HARMEAN((IF(SUM(COUNTIF($Z$3:Z92,1),COUNTIF($Z$3:Z92,-1))=0,1,SUM(COUNTIF($Z$3:Z92,1),COUNTIF($Z$3:Z92,-1)))),(IF(SUM(COUNTIF($AC$3:AC92,1),COUNTIF($AC$3:AC92,-1))=0,1,SUM(COUNTIF($AC$3:AC92,1),COUNTIF($AC$3:AC92,-1)))),(IF(SUM(COUNTIF($AE$3:AE92,1),COUNTIF($AE$3:AE92,-1))=0,1,SUM(COUNTIF($AE$3:AE92,1),COUNTIF($AE$3:AE92,-1)))),(IF(SUM(COUNTIF($AG$3:AG92,1),COUNTIF($AG$3:AG92,-1))=0,1,SUM(COUNTIF($AG$3:AG92,1),COUNTIF($AG$3:AG92,-1)))),(IF(SUM(COUNTIF($AI$3:AI92,1),COUNTIF($AI$3:AI92,-1))=0,1,SUM(COUNTIF($AI$3:AI92,1),COUNTIF($AI$3:AI92,-1)))),(IF(SUM(COUNTIF($AK$3:AK92,1),COUNTIF($AK$3:AK92,-1))=0,1,SUM(COUNTIF($AK$3:AK92,1),COUNTIF($AK$3:AK92,-1)))))/1000)","v":1.3027260075093867},16.149999999999999,null,{"$f":"+SUM(COUNTIF($AI$3:AI92,1),COUNTIF($AI$3:AI92,-1))","v":33},{"$f":"+SUM($U$4:U92)","v":4143},125.54545454545455,{"$f":"+SUM(COUNTIF($AI$3:AI92,1))","v":12},{"$f":"+SUM(COUNTIF($AI$3:AI92,-1))","v":21},-9,{"$f":"+BX92*(HARMEAN((IF(SUM(COUNTIF($Z$3:Z92,1),COUNTIF($Z$3:Z92,-1))=0,1,SUM(COUNTIF($Z$3:Z92,1),COUNTIF($Z$3:Z92,-1)))),(IF(SUM(COUNTIF($AC$3:AC92,1),COUNTIF($AC$3:AC92,-1))=0,1,SUM(COUNTIF($AC$3:AC92,1),COUNTIF($AC$3:AC92,-1)))),(IF(SUM(COUNTIF($AE$3:AE92,1),COUNTIF($AE$3:AE92,-1))=0,1,SUM(COUNTIF($AE$3:AE92,1),COUNTIF($AE$3:AE92,-1)))),(IF(SUM(COUNTIF($AG$3:AG92,1),COUNTIF($AG$3:AG92,-1))=0,1,SUM(COUNTIF($AG$3:AG92,1),COUNTIF($AG$3:AG92,-1)))),(IF(SUM(COUNTIF($AI$3:AI92,1),COUNTIF($AI$3:AI92,-1))=0,1,SUM(COUNTIF($AI$3:AI92,1),COUNTIF($AI$3:AI92,-1)))),(IF(SUM(COUNTIF($AK$3:AK92,1),COUNTIF($AK$3:AK92,-1))=0,1,SUM(COUNTIF($AK$3:AK92,1),COUNTIF($AK$3:AK92,-1)))))/1000)","v":1.1618907634543179},-17.100999999999999,null,{"$f":"+SUM(COUNTIF($AK$3:AK92,1),COUNTIF($AK$3:AK92,-1))","v":32},{"$f":"+SUM($W$4:W92)","v":3591},112.21875,{"$f":"+SUM(COUNTIF($AK$3:AK92,1))","v":12},{"$f":"+SUM(COUNTIF($AK$3:AK92,-1))","v":20},-8,{"$f":"+CG92*(HARMEAN((IF(SUM(COUNTIF($Z$3:Z92,1),COUNTIF($Z$3:Z92,-1))=0,1,SUM(COUNTIF($Z$3:Z92,1),COUNTIF($Z$3:Z92,-1)))),(IF(SUM(COUNTIF($AC$3:AC92,1),COUNTIF($AC$3:AC92,-1))=0,1,SUM(COUNTIF($AC$3:AC92,1),COUNTIF($AC$3:AC92,-1)))),(IF(SUM(COUNTIF($AE$3:AE92,1),COUNTIF($AE$3:AE92,-1))=0,1,SUM(COUNTIF($AE$3:AE92,1),COUNTIF($AE$3:AE92,-1)))),(IF(SUM(COUNTIF($AG$3:AG92,1),COUNTIF($AG$3:AG92,-1))=0,1,SUM(COUNTIF($AG$3:AG92,1),COUNTIF($AG$3:AG92,-1)))),(IF(SUM(COUNTIF($AI$3:AI92,1),COUNTIF($AI$3:AI92,-1))=0,1,SUM(COUNTIF($AI$3:AI92,1),COUNTIF($AI$3:AI92,-1)))),(IF(SUM(COUNTIF($AK$3:AK92,1),COUNTIF($AK$3:AK92,-1))=0,1,SUM(COUNTIF($AK$3:AK92,1),COUNTIF($AK$3:AK92,-1)))))/1000)","v":1.1266819524405507},-15.523999999999999]
[90,"",null,{"$f":"+IFERROR(INDEX('Auswertung AoE II'!$AE:$AE,MATCH(A93,'Auswertung AoE II'!$AD:$AD,0)),\"\")","v":""},{"$f":"+IFERROR(INDEX('Auswertung AoE III'!$AE:$AE,MATCH(A93,'Auswertung AoE III'!$AD:$AD,0)),\"\")","v":""},{"$f":"+IFERROR(INDEX('Auswertung AoM'!$AE:$AE,MATCH(A93,'Auswertung AoM'!$AD:$AD,0)),\"\")","v":""},{"$f":"+IFERROR(INDEX('Auswertung RA'!$AE:$AE,MATCH(A93,'Auswertung RA'!$AD:$AD,0)),\"\")","v":""},{"$f":"+IFERROR(INDEX('Auswertung Yuri'!$AE:$AE,MATCH(A93,'Auswertung Yuri'!$AD:$AD,0)),\"\")","v":""},{"$f":"+IFERROR(INDEX('Auswertung Generals'!$AE:$AE,MATCH(A93,'Auswertung Generals'!$AD:$AD,0)),\"\")","v":""},"Auswertung ",null,null,{"$f":"+IF(ISERROR(+INDIRECT(CONCATENATE(\"'\",J93,\"'!\",(ADDRESS((COUNTIF($J$3:J93,IF(B93<>0,CONCATENATE(\"Auswertung \",B93,\"\"))))+2,2)))))=FALSE,+INDIRECT(CONCATENATE(\"'\",J93,\"'!\",(ADDRESS((COUNTIF($J$3:J93,IF(B93<>0,CONCATENATE(\"Auswertung \",B93,\"\"))))+4,2)))),\"\")","v":""},{"$f":"IF(ISERROR(+INDIRECT(CONCATENATE(\"'\",J93,\"'!\",(ADDRESS((COUNTIF($J$3:J93,IF(B93<>0,CONCATENATE(\"Auswertung \",B93,\"\"))))+2,2+1)))))=FALSE,+INDIRECT(CONCATENATE(\"'\",J93,\"'!\",(ADDRESS((COUNTIF($J$3:J93,IF(B93<>0,CONCATENATE(\"Auswertung \",B93,\"\"))))+4,2+1)))),\"\")","v":""},{"$f":"+IF(ISERROR(+INDIRECT(CONCATENATE(\"'\",J93,\"'!\",(ADDRESS((COUNTIF($J$3:J93,IF(B93<>0,CONCATENATE(\"Auswertung \",B93,\"\"))))+2,4)))))=FALSE,+INDIRECT(CONCATENATE(\"'\",J93,\"'!\",(ADDRESS((COUNTIF($J$3:J93,IF(B93<>0,CONCATENATE(\"Auswertung \",B93,\"\"))))+4,4)))),\"\")","v":""},{"$f":"+IF(ISERROR(+INDIRECT(CONCATENATE(\"'\",J93,\"'!\",(ADDRESS((COUNTIF($J$3:J93,IF(B93<>0,CONCATENATE(\"Auswertung \",B93,\"\"))))+2,5)))))=FALSE,+INDIRECT(CONCATENATE(\"'\",J93,\"'!\",(ADDRESS((COUNTIF($J$3:J93,IF(B93<>0,CONCATENATE(\"Auswertung \",B93,\"\"))))+4,5)))),\"\")","v":""},{"$f":"+IF(ISERROR(+INDIRECT(CONCATENATE(\"'\",J93,\"'!\",(ADDRESS((COUNTIF($J$3:J93,IF(B93<>0,CONCATENATE(\"Auswertung \",B93,\"\"))))+2,6)))))=FALSE,+INDIRECT(CONCATENATE(\"'\",J93,\"'!\",(ADDRESS((COUNTIF($J$3:J93,IF(B93<>0,CONCATENATE(\"Auswertung \",B93,\"\"))))+4,6)))),\"\")","v":""},{"$f":"+IF(ISERROR(+INDIRECT(CONCATENATE(\"'\",J93,\"'!\",(ADDRESS((COUNTIF($J$3:J93,IF(B93<>0,CONCATENATE(\"Auswertung \",B93,\"\"))))+2,7)))))=FALSE,+INDIRECT(CONCATENATE(\"'\",J93,\"'!\",(ADDRESS((COUNTIF($J$3:J93,IF(B93<>0,CONCATENATE(\"Auswertung \",B93,\"\"))))+4,7)))),\"\")","v":""},{"$f":"+IF(ISERROR(+INDIRECT(CONCATENATE(\"'\",J93,\"'!\",(ADDRESS((COUNTIF($J$3:J93,IF(B93<>0,CONCATENATE(\"Auswertung \",B93,\"\"))))+2,10)))))=FALSE,+INDIRECT(CONCATENATE(\"'\",J93,\"'!\",(ADDRESS((COUNTIF($J$3:J93,IF(B93<>0,CONCATENATE(\"Auswertung \",B93,\"\"))))+4,8)))),\"\")","v":""},{"$f":"+IF(ISERROR(+INDIRECT(CONCATENATE(\"'\",J93,\"'!\",(ADDRESS((COUNTIF($J$3:J93,IF(B93<>0,CONCATENATE(\"Auswertung \",B93,\"\"))))+2,11)))))=FALSE,+INDIRECT(CONCATENATE(\"'\",J93,\"'!\",(ADDRESS((COUNTIF($J$3:J93,IF(B93<>0,CONCATENATE(\"Auswertung \",B93,\"\"))))+4,9)))),\"\")","v":""},{"$f":"+IF(ISERROR(+INDIRECT(CONCATENATE(\"'\",J93,\"'!\",(ADDRESS((COUNTIF($J$3:J93,IF(B93<>0,CONCATENATE(\"Auswertung \",B93,\"\"))))+2,10)))))=FALSE,+INDIRECT(CONCATENATE(\"'\",J93,\"'!\",(ADDRESS((COUNTIF($J$3:J93,IF(B93<>0,CONCATENATE(\"Auswertung \",B93,\"\"))))+4,10)))),\"\")","v":""},{"$f":"+IF(ISERROR(+INDIRECT(CONCATENATE(\"'\",J93,\"'!\",(ADDRESS((COUNTIF($J$3:J93,IF(B93<>0,CONCATENATE(\"Auswertung \",B93,\"\"))))+2,11)))))=FALSE,+INDIRECT(CONCATENATE(\"'\",J93,\"'!\",(ADDRESS((COUNTIF($J$3:J93,IF(B93<>0,CONCATENATE(\"Auswertung \",B93,\"\"))))+4,11)))),\"\")","v":""},{"$f":"+IF(ISERROR(+INDIRECT(CONCATENATE(\"'\",J93,\"'!\",(ADDRESS((COUNTIF($J$3:J93,IF(D93<>0,CONCATENATE(\"Auswertung \",D93,\"\"))))+2,12)))))=FALSE,+INDIRECT(CONCATENATE(\"'\",J93,\"'!\",(ADDRESS((COUNTIF($J$3:J93,IF(D93<>0,CONCATENATE(\"Auswertung \",B93,\"\"))))+4,12)))),\"\")","v":""},{"$f":"+IF(ISERROR(+INDIRECT(CONCATENATE(\"'\",J93,\"'!\",(ADDRESS((COUNTIF($J$3:J93,IF(D93<>0,CONCATENATE(\"Auswertung \",D93,\"\"))))+2,13)))))=FALSE,+INDIRECT(CONCATENATE(\"'\",J93,\"'!\",(ADDRESS((COUNTIF($J$3:J93,IF(D93<>0,CONCATENATE(\"Auswertung \",B93,\"\"))))+4,13)))),\"\")","v":""},null,{"$f":"+IFERROR(INDIRECT(CONCATENATE(\"'\",J93,\"'!\",(ADDRESS((COUNTIF($J$3:J93,IF(B93<>0,J93)))+4,16)))),\"\")","v":""},21.942,{"$f":"+SUM($M$4:M93)/COUNT($M$4:M93)/1000*2","v":0.28281081081081083},{"$f":"+IFERROR(INDIRECT(CONCATENATE(\"'\",J93,\"'!\",(ADDRESS((COUNTIF($J$3:J93,IF(B93<>0,J93)))+4,18)))),\"\")","v":""},50.264000000000003,{"$f":"+IFERROR(INDIRECT(CONCATENATE(\"'\",J93,\"'!\",(ADDRESS((COUNTIF($J$3:J93,IF(B93<>0,J93)))+4,20)))),\"\")","v":""},44.247,{"$f":"+IFERROR(INDIRECT(CONCATENATE(\"'\",J93,\"'!\",(ADDRESS((COUNTIF($J$3:J93,IF(B93<>0,J93)))+4,22)))),\"\")","v":""},16.149999999999999,{"$f":"+IFERROR(INDIRECT(CONCATENATE(\"'\",J93,\"'!\",(ADDRESS((COUNTIF($J$3:J93,IF(B93<>0,J93)))+4,24)))),\"\")","v":""},-17.100999999999999,{"$f":"+IFERROR(INDIRECT(CONCATENATE(\"'\",J93,\"'!\",(ADDRESS((COUNTIF($J$3:J93,IF(B93<>0,J93)))+4,26)))),\"\")","v":""},-15.523999999999999,90,{"$f":"+SUM(COUNTIF($Z$3:Z93,1),COUNTIF($Z$3:Z93,-1))","v":37},{"$f":"+SUM($M$4:M93)","v":5232},141.40540540540542,{"$f":"+SUM(COUNTIF($Z$3:Z93,1))","v":19},{"$f":"+SUM(COUNTIF($Z$3:Z93,-1))","v":18},1,{"$f":"AN93*(HARMEAN((IF(SUM(COUNTIF($Z$3:Z93,1),COUNTIF($Z$3:Z93,-1))=0,1,SUM(COUNTIF($Z$3:Z93,1),COUNTIF($Z$3:Z93,-1)))),(IF(SUM(COUNTIF($AC$3:AC93,1),COUNTIF($AC$3:AC93,-1))=0,1,SUM(COUNTIF($AC$3:AC93,1),COUNTIF($AC$3:AC93,-1)))),(IF(SUM(COUNTIF($AE$3:AE93,1),COUNTIF($AE$3:AE93,-1))=0,1,SUM(COUNTIF($AE$3:AE93,1),COUNTIF($AE$3:AE93,-1)))),(IF(SUM(COUNTIF($AG$3:AG93,1),COUNTIF($AG$3:AG93,-1))=0,1,SUM(COUNTIF($AG$3:AG93,1),COUNTIF($AG$3:AG93,-1)))),(IF(SUM(COUNTIF($AI$3:AI93,1),COUNTIF($AI$3:AI93,-1))=0,1,SUM(COUNTIF($AI$3:AI93,1),COUNTIF($AI$3:AI93,-1)))),(IF(SUM(COUNTIF($AK$3:AK93,1),COUNTIF($AK$3:AK93,-1))=0,1,SUM(COUNTIF($AK$3:AK93,1),COUNTIF($AK$3:AK93,-1)))))/1000)","v":1.3027260075093867},21.942,null,{"$f":"+SUM(COUNTIF($AC$3:AC93,1),COUNTIF($AC$3:AC93,-1))","v":37},{"$f":"+SUM($O$4:O93)","v":5276},142.59459459459458,{"$f":"+SUM(COUNTIF($AC$3:AC93,1))","v":23},{"$f":"+SUM(COUNTIF($AC$3:AC93,-1))","v":14},9,{"$f":"AW93*(HARMEAN((IF(SUM(COUNTIF($Z$3:Z93,1),COUNTIF($Z$3:Z93,-1))=0,1,SUM(COUNTIF($Z$3:Z93,1),COUNTIF($Z$3:Z93,-1)))),(IF(SUM(COUNTIF($AC$3:AC93,1),COUNTIF($AC$3:AC93,-1))=0,1,SUM(COUNTIF($AC$3:AC93,1),COUNTIF($AC$3:AC93,-1)))),(IF(SUM(COUNTIF($AE$3:AE93,1),COUNTIF($AE$3:AE93,-1))=0,1,SUM(COUNTIF($AE$3:AE93,1),COUNTIF($AE$3:AE93,-1)))),(IF(SUM(COUNTIF($AG$3:AG93,1),COUNTIF($AG$3:AG93,-1))=0,1,SUM(COUNTIF($AG$3:AG93,1),COUNTIF($AG$3:AG93,-1)))),(IF(SUM(COUNTIF($AI$3:AI93,1),COUNTIF($AI$3:AI93,-1))=0,1,SUM(COUNTIF($AI$3:AI93,1),COUNTIF($AI$3:AI93,-1)))),(IF(SUM(COUNTIF($AK$3:AK93,1),COUNTIF($AK$3:AK93,-1))=0,1,SUM(COUNTIF($AK$3:AK93,1),COUNTIF($AK$3:AK93,-1)))))/1000)","v":1.3027260075093867},50.264000000000003,null,{"$f":"+SUM(COUNTIF($AE$3:AE93,1),COUNTIF(AE$3:$AE93,-1))","v":36},{"$f":"+SUM($Q$4:Q93)","v":4567},126.86111111111111,{"$f":"+SUM(COUNTIF($AE$3:AE93,1))","v":22},{"$f":"+SUM(COUNTIF($AE$3:AE93,-1))","v":14},8,{"$f":"BF93*(HARMEAN((IF(SUM(COUNTIF($Z$3:Z93,1),COUNTIF($Z$3:Z93,-1))=0,1,SUM(COUNTIF($Z$3:Z93,1),COUNTIF($Z$3:Z93,-1)))),(IF(SUM(COUNTIF($AC$3:AC93,1),COUNTIF($AC$3:AC93,-1))=0,1,SUM(COUNTIF($AC$3:AC93,1),COUNTIF($AC$3:AC93,-1)))),(IF(SUM(COUNTIF($AE$3:AE93,1),COUNTIF($AE$3:AE93,-1))=0,1,SUM(COUNTIF($AE$3:AE93,1),COUNTIF($AE$3:AE93,-1)))),(IF(SUM(COUNTIF($AG$3:AG93,1),COUNTIF($AG$3:AG93,-1))=0,1,SUM(COUNTIF($AG$3:AG93,1),COUNTIF($AG$3:AG93,-1)))),(IF(SUM(COUNTIF($AI$3:AI93,1),COUNTIF($AI$3:AI93,-1))=0,1,SUM(COUNTIF($AI$3:AI93,1),COUNTIF($AI$3:AI93,-1)))),(IF(SUM(COUNTIF($AK$3:AK93,1),COUNTIF($AK$3:AK93,-1))=0,1,SUM(COUNTIF($AK$3:AK93,1),COUNTIF($AK$3:AK93,-1)))))/1000)","v":1.2675171964956196},44.247,null,{"$f":"+SUM(COUNTIF($AG$3:AG93,1),COUNTIF($AG$3:AG93,-1))","v":37},{"$f":"+SUM($S$4:S93)","v":5587},151,{"$f":"+SUM(COUNTIF($AG$3:AG93,1))","v":18},{"$f":"+SUM(COUNTIF($AG$3:AG93,-1))","v":19},-1,{"$f":"BO93*(HARMEAN((IF(SUM(COUNTIF($Z$3:Z93,1),COUNTIF($Z$3:Z93,-1))=0,1,SUM(COUNTIF($Z$3:Z93,1),COUNTIF($Z$3:Z93,-1)))),(IF(SUM(COUNTIF($AC$3:AC93,1),COUNTIF($AC$3:AC93,-1))=0,1,SUM(COUNTIF($AC$3:AC93,1),COUNTIF($AC$3:AC93,-1)))),(IF(SUM(COUNTIF($AE$3:AE93,1),COUNTIF($AE$3:AE93,-1))=0,1,SUM(COUNTIF($AE$3:AE93,1),COUNTIF($AE$3:AE93,-1)))),(IF(SUM(COUNTIF($AG$3:AG93,1),COUNTIF($AG$3:AG93,-1))=0,1,SUM(COUNTIF($AG$3:AG93,1),COUNTIF($AG$3:AG93,-1)))),(IF(SUM(COUNTIF($AI$3:AI93,1),COUNTIF($AI$3:AI93,-1))=0,1,SUM(COUNTIF($AI$3:AI93,1),COUNTIF($AI$3:AI93,-1)))),(IF(SUM(COUNTIF($AK$3:AK93,1),COUNTIF($AK$3:AK93,-1))=0,1,SUM(COUNTIF($AK$3:AK93,1),COUNTIF($AK$3:AK93,-1)))))/1000)","v":1.3027260075093867},16.149999999999999,null,{"$f":"+SUM(COUNTIF($AI$3:AI93,1),COUNTIF($AI$3:AI93,-1))","v":33},{"$f":"+SUM($U$4:U93)","v":4143},125.54545454545455,{"$f":"+SUM(COUNTIF($AI$3:AI93,1))","v":12},{"$f":"+SUM(COUNTIF($AI$3:AI93,-1))","v":21},-9,{"$f":"+BX93*(HARMEAN((IF(SUM(COUNTIF($Z$3:Z93,1),COUNTIF($Z$3:Z93,-1))=0,1,SUM(COUNTIF($Z$3:Z93,1),COUNTIF($Z$3:Z93,-1)))),(IF(SUM(COUNTIF($AC$3:AC93,1),COUNTIF($AC$3:AC93,-1))=0,1,SUM(COUNTIF($AC$3:AC93,1),COUNTIF($AC$3:AC93,-1)))),(IF(SUM(COUNTIF($AE$3:AE93,1),COUNTIF($AE$3:AE93,-1))=0,1,SUM(COUNTIF($AE$3:AE93,1),COUNTIF($AE$3:AE93,-1)))),(IF(SUM(COUNTIF($AG$3:AG93,1),COUNTIF($AG$3:AG93,-1))=0,1,SUM(COUNTIF($AG$3:AG93,1),COUNTIF($AG$3:AG93,-1)))),(IF(SUM(COUNTIF($AI$3:AI93,1),COUNTIF($AI$3:AI93,-1))=0,1,SUM(COUNTIF($AI$3:AI93,1),COUNTIF($AI$3:AI93,-1)))),(IF(SUM(COUNTIF($AK$3:AK93,1),COUNTIF($AK$3:AK93,-1))=0,1,SUM(COUNTIF($AK$3:AK93,1),COUNTIF($AK$3:AK93,-1)))))/1000)","v":1.1618907634543179},-17.100999999999999,null,{"$f":"+SUM(COUNTIF($AK$3:AK93,1),COUNTIF($AK$3:AK93,-1))","v":32},{"$f":"+SUM($W$4:W93)","v":3591},112.21875,{"$f":"+SUM(COUNTIF($AK$3:AK93,1))","v":12},{"$f":"+SUM(COUNTIF($AK$3:AK93,-1))","v":20},-8,{"$f":"+CG93*(HARMEAN((IF(SUM(COUNTIF($Z$3:Z93,1),COUNTIF($Z$3:Z93,-1))=0,1,SUM(COUNTIF($Z$3:Z93,1),COUNTIF($Z$3:Z93,-1)))),(IF(SUM(COUNTIF($AC$3:AC93,1),COUNTIF($AC$3:AC93,-1))=0,1,SUM(COUNTIF($AC$3:AC93,1),COUNTIF($AC$3:AC93,-1)))),(IF(SUM(COUNTIF($AE$3:AE93,1),COUNTIF($AE$3:AE93,-1))=0,1,SUM(COUNTIF($AE$3:AE93,1),COUNTIF($AE$3:AE93,-1)))),(IF(SUM(COUNTIF($AG$3:AG93,1),COUNTIF($AG$3:AG93,-1))=0,1,SUM(COUNTIF($AG$3:AG93,1),COUNTIF($AG$3:AG93,-1)))),(IF(SUM(COUNTIF($AI$3:AI93,1),COUNTIF($AI$3:AI93,-1))=0,1,SUM(COUNTIF($AI$3:AI93,1),COUNTIF($AI$3:AI93,-1)))),(IF(SUM(COUNTIF($AK$3:AK93,1),COUNTIF($AK$3:AK93,-1))=0,1,SUM(COUNTIF($AK$3:AK93,1),COUNTIF($AK$3:AK93,-1)))))/1000)","v":1.1266819524405507},-15.523999999999999]
[91,"",null,{"$f":"+IFERROR(INDEX('Auswertung AoE II'!$AE:$AE,MATCH(A94,'Auswertung AoE II'!$AD:$AD,0)),\"\")","v":""},{"$f":"+IFERROR(INDEX('Auswertung AoE III'!$AE:$AE,MATCH(A94,'Auswertung AoE III'!$AD:$AD,0)),\"\")","v":""},{"$f":"+IFERROR(INDEX('Auswertung AoM'!$AE:$AE,MATCH(A94,'Auswertung AoM'!$AD:$AD,0)),\"\")","v":""},{"$f":"+IFERROR(INDEX('Auswertung RA'!$AE:$AE,MATCH(A94,'Auswertung RA'!$AD:$AD,0)),\"\")","v":""},{"$f":"+IFERROR(INDEX('Auswertung Yuri'!$AE:$AE,MATCH(A94,'Auswertung Yuri'!$AD:$AD,0)),\"\")","v":""},{"$f":"+IFERROR(INDEX('Auswertung Generals'!$AE:$AE,MATCH(A94,'Auswertung Generals'!$AD:$AD,0)),\"\")","v":""},"Auswertung ",null,null,{"$f":"+IF(ISERROR(+INDIRECT(CONCATENATE(\"'\",J94,\"'!\",(ADDRESS((COUNTIF($J$3:J94,IF(B94<>0,CONCATENATE(\"Auswertung \",B94,\"\"))))+2,2)))))=FALSE,+INDIRECT(CONCATENATE(\"'\",J94,\"'!\",(ADDRESS((COUNTIF($J$3:J94,IF(B94<>0,CONCATENATE(\"Auswertung \",B94,\"\"))))+4,2)))),\"\")","v":""},{"$f":"IF(ISERROR(+INDIRECT(CONCATENATE(\"'\",J94,\"'!\",(ADDRESS((COUNTIF($J$3:J94,IF(B94<>0,CONCATENATE(\"Auswertung \",B94,\"\"))))+2,2+1)))))=FALSE,+INDIRECT(CONCATENATE(\"'\",J94,\"'!\",(ADDRESS((COUNTIF($J$3:J94,IF(B94<>0,CONCATENATE(\"Auswertung \",B94,\"\"))))+4,2+1)))),\"\")","v":""},{"$f":"+IF(ISERROR(+INDIRECT(CONCATENATE(\"'\",J94,\"'!\",(ADDRESS((COUNTIF($J$3:J94,IF(B94<>0,CONCATENATE(\"Auswertung \",B94,\"\"))))+2,4)))))=FALSE,+INDIRECT(CONCATENATE(\"'\",J94,\"'!\",(ADDRESS((COUNTIF($J$3:J94,IF(B94<>0,CONCATENATE(\"Auswertung \",B94,\"\"))))+4,4)))),\"\")","v":""},{"$f":"+IF(ISERROR(+INDIRECT(CONCATENATE(\"'\",J94,\"'!\",(ADDRESS((COUNTIF($J$3:J94,IF(B94<>0,CONCATENATE(\"Auswertung \",B94,\"\"))))+2,5)))))=FALSE,+INDIRECT(CONCATENATE(\"'\",J94,\"'!\",(ADDRESS((COUNTIF($J$3:J94,IF(B94<>0,CONCATENATE(\"Auswertung \",B94,\"\"))))+4,5)))),\"\")","v":""},{"$f":"+IF(ISERROR(+INDIRECT(CONCATENATE(\"'\",J94,\"'!\",(ADDRESS((COUNTIF($J$3:J94,IF(B94<>0,CONCATENATE(\"Auswertung \",B94,\"\"))))+2,6)))))=FALSE,+INDIRECT(CONCATENATE(\"'\",J94,\"'!\",(ADDRESS((COUNTIF($J$3:J94,IF(B94<>0,CONCATENATE(\"Auswertung \",B94,\"\"))))+4,6)))),\"\")","v":""},{"$f":"+IF(ISERROR(+INDIRECT(CONCATENATE(\"'\",J94,\"'!\",(ADDRESS((COUNTIF($J$3:J94,IF(B94<>0,CONCATENATE(\"Auswertung \",B94,\"\"))))+2,7)))))=FALSE,+INDIRECT(CONCATENATE(\"'\",J94,\"'!\",(ADDRESS((COUNTIF($J$3:J94,IF(B94<>0,CONCATENATE(\"Auswertung \",B94,\"\"))))+4,7)))),\"\")","v":""},{"$f":"+IF(ISERROR(+INDIRECT(CONCATENATE(\"'\",J94,\"'!\",(ADDRESS((COUNTIF($J$3:J94,IF(B94<>0,CONCATENATE(\"Auswertung \",B94,\"\"))))+2,10)))))=FALSE,+INDIRECT(CONCATENATE(\"'\",J94,\"'!\",(ADDRESS((COUNTIF($J$3:J94,IF(B94<>0,CONCATENATE(\"Auswertung \",B94,\"\"))))+4,8)))),\"\")","v":""},{"$f":"+IF(ISERROR(+INDIRECT(CONCATENATE(\"'\",J94,\"'!\",(ADDRESS((COUNTIF($J$3:J94,IF(B94<>0,CONCATENATE(\"Auswertung \",B94,\"\"))))+2,11)))))=FALSE,+INDIRECT(CONCATENATE(\"'\",J94,\"'!\",(ADDRESS((COUNTIF($J$3:J94,IF(B94<>0,CONCATENATE(\"Auswertung \",B94,\"\"))))+4,9)))),\"\")","v":""},{"$f":"+IF(ISERROR(+INDIRECT(CONCATENATE(\"'\",J94,\"'!\",(ADDRESS((COUNTIF($J$3:J94,IF(B94<>0,CONCATENATE(\"Auswertung \",B94,\"\"))))+2,10)))))=FALSE,+INDIRECT(CONCATENATE(\"'\",J94,\"'!\",(ADDRESS((COUNTIF($J$3:J94,IF(B94<>0,CONCATENATE(\"Auswertung \",B94,\"\"))))+4,10)))),\"\")","v":""},{"$f":"+IF(ISERROR(+INDIRECT(CONCATENATE(\"'\",J94,\"'!\",(ADDRESS((COUNTIF($J$3:J94,IF(B94<>0,CONCATENATE(\"Auswertung \",B94,\"\"))))+2,11)))))=FALSE,+INDIRECT(CONCATENATE(\"'\",J94,\"'!\",(ADDRESS((COUNTIF($J$3:J94,IF(B94<>0,CONCATENATE(\"Auswertung \",B94,\"\"))))+4,11)))),\"\")","v":""},{"$f":"+IF(ISERROR(+INDIRECT(CONCATENATE(\"'\",J94,\"'!\",(ADDRESS((COUNTIF($J$3:J94,IF(D94<>0,CONCATENATE(\"Auswertung \",D94,\"\"))))+2,12)))))=FALSE,+INDIRECT(CONCATENATE(\"'\",J94,\"'!\",(ADDRESS((COUNTIF($J$3:J94,IF(D94<>0,CONCATENATE(\"Auswertung \",B94,\"\"))))+4,12)))),\"\")","v":""},{"$f":"+IF(ISERROR(+INDIRECT(CONCATENATE(\"'\",J94,\"'!\",(ADDRESS((COUNTIF($J$3:J94,IF(D94<>0,CONCATENATE(\"Auswertung \",D94,\"\"))))+2,13)))))=FALSE,+INDIRECT(CONCATENATE(\"'\",J94,\"'!\",(ADDRESS((COUNTIF($J$3:J94,IF(D94<>0,CONCATENATE(\"Auswertung \",B94,\"\"))))+4,13)))),\"\")","v":""},null,{"$f":"+IFERROR(INDIRECT(CONCATENATE(\"'\",J94,\"'!\",(ADDRESS((COUNTIF($J$3:J94,IF(B94<>0,J94)))+4,16)))),\"\")","v":""},21.942,{"$f":"+SUM($M$4:M94)/COUNT($M$4:M94)/1000*2","v":0.28281081081081083},{"$f":"+IFERROR(INDIRECT(CONCATENATE(\"'\",J94,\"'!\",(ADDRESS((COUNTIF($J$3:J94,IF(B94<>0,J94)))+4,18)))),\"\")","v":""},50.264000000000003,{"$f":"+IFERROR(INDIRECT(CONCATENATE(\"'\",J94,\"'!\",(ADDRESS((COUNTIF($J$3:J94,IF(B94<>0,J94)))+4,20)))),\"\")","v":""},44.247,{"$f":"+IFERROR(INDIRECT(CONCATENATE(\"'\",J94,\"'!\",(ADDRESS((COUNTIF($J$3:J94,IF(B94<>0,J94)))+4,22)))),\"\")","v":""},16.149999999999999,{"$f":"+IFERROR(INDIRECT(CONCATENATE(\"'\",J94,\"'!\",(ADDRESS((COUNTIF($J$3:J94,IF(B94<>0,J94)))+4,24)))),\"\")","v":""},-17.100999999999999,{"$f":"+IFERROR(INDIRECT(CONCATENATE(\"'\",J94,\"'!\",(ADDRESS((COUNTIF($J$3:J94,IF(B94<>0,J94)))+4,26)))),\"\")","v":""},-15.523999999999999,91,{"$f":"+SUM(COUNTIF($Z$3:Z94,1),COUNTIF($Z$3:Z94,-1))","v":37},{"$f":"+SUM($M$4:M94)","v":5232},141.40540540540542,{"$f":"+SUM(COUNTIF($Z$3:Z94,1))","v":19},{"$f":"+SUM(COUNTIF($Z$3:Z94,-1))","v":18},1,{"$f":"AN94*(HARMEAN((IF(SUM(COUNTIF($Z$3:Z94,1),COUNTIF($Z$3:Z94,-1))=0,1,SUM(COUNTIF($Z$3:Z94,1),COUNTIF($Z$3:Z94,-1)))),(IF(SUM(COUNTIF($AC$3:AC94,1),COUNTIF($AC$3:AC94,-1))=0,1,SUM(COUNTIF($AC$3:AC94,1),COUNTIF($AC$3:AC94,-1)))),(IF(SUM(COUNTIF($AE$3:AE94,1),COUNTIF($AE$3:AE94,-1))=0,1,SUM(COUNTIF($AE$3:AE94,1),COUNTIF($AE$3:AE94,-1)))),(IF(SUM(COUNTIF($AG$3:AG94,1),COUNTIF($AG$3:AG94,-1))=0,1,SUM(COUNTIF($AG$3:AG94,1),COUNTIF($AG$3:AG94,-1)))),(IF(SUM(COUNTIF($AI$3:AI94,1),COUNTIF($AI$3:AI94,-1))=0,1,SUM(COUNTIF($AI$3:AI94,1),COUNTIF($AI$3:AI94,-1)))),(IF(SUM(COUNTIF($AK$3:AK94,1),COUNTIF($AK$3:AK94,-1))=0,1,SUM(COUNTIF($AK$3:AK94,1),COUNTIF($AK$3:AK94,-1)))))/1000)","v":1.3027260075093867},21.942,null,{"$f":"+SUM(COUNTIF($AC$3:AC94,1),COUNTIF($AC$3:AC94,-1))","v":37},{"$f":"+SUM($O$4:O94)","v":5276},142.59459459459458,{"$f":"+SUM(COUNTIF($AC$3:AC94,1))","v":23},{"$f":"+SUM(COUNTIF($AC$3:AC94,-1))","v":14},9,{"$f":"AW94*(HARMEAN((IF(SUM(COUNTIF($Z$3:Z94,1),COUNTIF($Z$3:Z94,-1))=0,1,SUM(COUNTIF($Z$3:Z94,1),COUNTIF($Z$3:Z94,-1)))),(IF(SUM(COUNTIF($AC$3:AC94,1),COUNTIF($AC$3:AC94,-1))=0,1,SUM(COUNTIF($AC$3:AC94,1),COUNTIF($AC$3:AC94,-1)))),(IF(SUM(COUNTIF($AE$3:AE94,1),COUNTIF($AE$3:AE94,-1))=0,1,SUM(COUNTIF($AE$3:AE94,1),COUNTIF($AE$3:AE94,-1)))),(IF(SUM(COUNTIF($AG$3:AG94,1),COUNTIF($AG$3:AG94,-1))=0,1,SUM(COUNTIF($AG$3:AG94,1),COUNTIF($AG$3:AG94,-1)))),(IF(SUM(COUNTIF($AI$3:AI94,1),COUNTIF($AI$3:AI94,-1))=0,1,SUM(COUNTIF($AI$3:AI94,1),COUNTIF($AI$3:AI94,-1)))),(IF(SUM(COUNTIF($AK$3:AK94,1),COUNTIF($AK$3:AK94,-1))=0,1,SUM(COUNTIF($AK$3:AK94,1),COUNTIF($AK$3:AK94,-1)))))/1000)","v":1.3027260075093867},50.264000000000003,null,{"$f":"+SUM(COUNTIF($AE$3:AE94,1),COUNTIF(AE$3:$AE94,-1))","v":36},{"$f":"+SUM($Q$4:Q94)","v":4567},126.86111111111111,{"$f":"+SUM(COUNTIF($AE$3:AE94,1))","v":22},{"$f":"+SUM(COUNTIF($AE$3:AE94,-1))","v":14},8,{"$f":"BF94*(HARMEAN((IF(SUM(COUNTIF($Z$3:Z94,1),COUNTIF($Z$3:Z94,-1))=0,1,SUM(COUNTIF($Z$3:Z94,1),COUNTIF($Z$3:Z94,-1)))),(IF(SUM(COUNTIF($AC$3:AC94,1),COUNTIF($AC$3:AC94,-1))=0,1,SUM(COUNTIF($AC$3:AC94,1),COUNTIF($AC$3:AC94,-1)))),(IF(SUM(COUNTIF($AE$3:AE94,1),COUNTIF($AE$3:AE94,-1))=0,1,SUM(COUNTIF($AE$3:AE94,1),COUNTIF($AE$3:AE94,-1)))),(IF(SUM(COUNTIF($AG$3:AG94,1),COUNTIF($AG$3:AG94,-1))=0,1,SUM(COUNTIF($AG$3:AG94,1),COUNTIF($AG$3:AG94,-1)))),(IF(SUM(COUNTIF($AI$3:AI94,1),COUNTIF($AI$3:AI94,-1))=0,1,SUM(COUNTIF($AI$3:AI94,1),COUNTIF($AI$3:AI94,-1)))),(IF(SUM(COUNTIF($AK$3:AK94,1),COUNTIF($AK$3:AK94,-1))=0,1,SUM(COUNTIF($AK$3:AK94,1),COUNTIF($AK$3:AK94,-1)))))/1000)","v":1.2675171964956196},44.247,null,{"$f":"+SUM(COUNTIF($AG$3:AG94,1),COUNTIF($AG$3:AG94,-1))","v":37},{"$f":"+SUM($S$4:S94)","v":5587},151,{"$f":"+SUM(COUNTIF($AG$3:AG94,1))","v":18},{"$f":"+SUM(COUNTIF($AG$3:AG94,-1))","v":19},-1,{"$f":"BO94*(HARMEAN((IF(SUM(COUNTIF($Z$3:Z94,1),COUNTIF($Z$3:Z94,-1))=0,1,SUM(COUNTIF($Z$3:Z94,1),COUNTIF($Z$3:Z94,-1)))),(IF(SUM(COUNTIF($AC$3:AC94,1),COUNTIF($AC$3:AC94,-1))=0,1,SUM(COUNTIF($AC$3:AC94,1),COUNTIF($AC$3:AC94,-1)))),(IF(SUM(COUNTIF($AE$3:AE94,1),COUNTIF($AE$3:AE94,-1))=0,1,SUM(COUNTIF($AE$3:AE94,1),COUNTIF($AE$3:AE94,-1)))),(IF(SUM(COUNTIF($AG$3:AG94,1),COUNTIF($AG$3:AG94,-1))=0,1,SUM(COUNTIF($AG$3:AG94,1),COUNTIF($AG$3:AG94,-1)))),(IF(SUM(COUNTIF($AI$3:AI94,1),COUNTIF($AI$3:AI94,-1))=0,1,SUM(COUNTIF($AI$3:AI94,1),COUNTIF($AI$3:AI94,-1)))),(IF(SUM(COUNTIF($AK$3:AK94,1),COUNTIF($AK$3:AK94,-1))=0,1,SUM(COUNTIF($AK$3:AK94,1),COUNTIF($AK$3:AK94,-1)))))/1000)","v":1.3027260075093867},16.149999999999999,null,{"$f":"+SUM(COUNTIF($AI$3:AI94,1),COUNTIF($AI$3:AI94,-1))","v":33},{"$f":"+SUM($U$4:U94)","v":4143},125.54545454545455,{"$f":"+SUM(COUNTIF($AI$3:AI94,1))","v":12},{"$f":"+SUM(COUNTIF($AI$3:AI94,-1))","v":21},-9,{"$f":"+BX94*(HARMEAN((IF(SUM(COUNTIF($Z$3:Z94,1),COUNTIF($Z$3:Z94,-1))=0,1,SUM(COUNTIF($Z$3:Z94,1),COUNTIF($Z$3:Z94,-1)))),(IF(SUM(COUNTIF($AC$3:AC94,1),COUNTIF($AC$3:AC94,-1))=0,1,SUM(COUNTIF($AC$3:AC94,1),COUNTIF($AC$3:AC94,-1)))),(IF(SUM(COUNTIF($AE$3:AE94,1),COUNTIF($AE$3:AE94,-1))=0,1,SUM(COUNTIF($AE$3:AE94,1),COUNTIF($AE$3:AE94,-1)))),(IF(SUM(COUNTIF($AG$3:AG94,1),COUNTIF($AG$3:AG94,-1))=0,1,SUM(COUNTIF($AG$3:AG94,1),COUNTIF($AG$3:AG94,-1)))),(IF(SUM(COUNTIF($AI$3:AI94,1),COUNTIF($AI$3:AI94,-1))=0,1,SUM(COUNTIF($AI$3:AI94,1),COUNTIF($AI$3:AI94,-1)))),(IF(SUM(COUNTIF($AK$3:AK94,1),COUNTIF($AK$3:AK94,-1))=0,1,SUM(COUNTIF($AK$3:AK94,1),COUNTIF($AK$3:AK94,-1)))))/1000)","v":1.1618907634543179},-17.100999999999999,null,{"$f":"+SUM(COUNTIF($AK$3:AK94,1),COUNTIF($AK$3:AK94,-1))","v":32},{"$f":"+SUM($W$4:W94)","v":3591},112.21875,{"$f":"+SUM(COUNTIF($AK$3:AK94,1))","v":12},{"$f":"+SUM(COUNTIF($AK$3:AK94,-1))","v":20},-8,{"$f":"+CG94*(HARMEAN((IF(SUM(COUNTIF($Z$3:Z94,1),COUNTIF($Z$3:Z94,-1))=0,1,SUM(COUNTIF($Z$3:Z94,1),COUNTIF($Z$3:Z94,-1)))),(IF(SUM(COUNTIF($AC$3:AC94,1),COUNTIF($AC$3:AC94,-1))=0,1,SUM(COUNTIF($AC$3:AC94,1),COUNTIF($AC$3:AC94,-1)))),(IF(SUM(COUNTIF($AE$3:AE94,1),COUNTIF($AE$3:AE94,-1))=0,1,SUM(COUNTIF($AE$3:AE94,1),COUNTIF($AE$3:AE94,-1)))),(IF(SUM(COUNTIF($AG$3:AG94,1),COUNTIF($AG$3:AG94,-1))=0,1,SUM(COUNTIF($AG$3:AG94,1),COUNTIF($AG$3:AG94,-1)))),(IF(SUM(COUNTIF($AI$3:AI94,1),COUNTIF($AI$3:AI94,-1))=0,1,SUM(COUNTIF($AI$3:AI94,1),COUNTIF($AI$3:AI94,-1)))),(IF(SUM(COUNTIF($AK$3:AK94,1),COUNTIF($AK$3:AK94,-1))=0,1,SUM(COUNTIF($AK$3:AK94,1),COUNTIF($AK$3:AK94,-1)))))/1000)","v":1.1266819524405507},-15.523999999999999]
[92,"",null,{"$f":"+IFERROR(INDEX('Auswertung AoE II'!$AE:$AE,MATCH(A95,'Auswertung AoE II'!$AD:$AD,0)),\"\")","v":""},{"$f":"+IFERROR(INDEX('Auswertung AoE III'!$AE:$AE,MATCH(A95,'Auswertung AoE III'!$AD:$AD,0)),\"\")","v":""},{"$f":"+IFERROR(INDEX('Auswertung AoM'!$AE:$AE,MATCH(A95,'Auswertung AoM'!$AD:$AD,0)),\"\")","v":""},{"$f":"+IFERROR(INDEX('Auswertung RA'!$AE:$AE,MATCH(A95,'Auswertung RA'!$AD:$AD,0)),\"\")","v":""},{"$f":"+IFERROR(INDEX('Auswertung Yuri'!$AE:$AE,MATCH(A95,'Auswertung Yuri'!$AD:$AD,0)),\"\")","v":""},{"$f":"+IFERROR(INDEX('Auswertung Generals'!$AE:$AE,MATCH(A95,'Auswertung Generals'!$AD:$AD,0)),\"\")","v":""},"Auswertung ",null,null,{"$f":"+IF(ISERROR(+INDIRECT(CONCATENATE(\"'\",J95,\"'!\",(ADDRESS((COUNTIF($J$3:J95,IF(B95<>0,CONCATENATE(\"Auswertung \",B95,\"\"))))+2,2)))))=FALSE,+INDIRECT(CONCATENATE(\"'\",J95,\"'!\",(ADDRESS((COUNTIF($J$3:J95,IF(B95<>0,CONCATENATE(\"Auswertung \",B95,\"\"))))+4,2)))),\"\")","v":""},{"$f":"IF(ISERROR(+INDIRECT(CONCATENATE(\"'\",J95,\"'!\",(ADDRESS((COUNTIF($J$3:J95,IF(B95<>0,CONCATENATE(\"Auswertung \",B95,\"\"))))+2,2+1)))))=FALSE,+INDIRECT(CONCATENATE(\"'\",J95,\"'!\",(ADDRESS((COUNTIF($J$3:J95,IF(B95<>0,CONCATENATE(\"Auswertung \",B95,\"\"))))+4,2+1)))),\"\")","v":""},{"$f":"+IF(ISERROR(+INDIRECT(CONCATENATE(\"'\",J95,\"'!\",(ADDRESS((COUNTIF($J$3:J95,IF(B95<>0,CONCATENATE(\"Auswertung \",B95,\"\"))))+2,4)))))=FALSE,+INDIRECT(CONCATENATE(\"'\",J95,\"'!\",(ADDRESS((COUNTIF($J$3:J95,IF(B95<>0,CONCATENATE(\"Auswertung \",B95,\"\"))))+4,4)))),\"\")","v":""},{"$f":"+IF(ISERROR(+INDIRECT(CONCATENATE(\"'\",J95,\"'!\",(ADDRESS((COUNTIF($J$3:J95,IF(B95<>0,CONCATENATE(\"Auswertung \",B95,\"\"))))+2,5)))))=FALSE,+INDIRECT(CONCATENATE(\"'\",J95,\"'!\",(ADDRESS((COUNTIF($J$3:J95,IF(B95<>0,CONCATENATE(\"Auswertung \",B95,\"\"))))+4,5)))),\"\")","v":""},{"$f":"+IF(ISERROR(+INDIRECT(CONCATENATE(\"'\",J95,\"'!\",(ADDRESS((COUNTIF($J$3:J95,IF(B95<>0,CONCATENATE(\"Auswertung \",B95,\"\"))))+2,6)))))=FALSE,+INDIRECT(CONCATENATE(\"'\",J95,\"'!\",(ADDRESS((COUNTIF($J$3:J95,IF(B95<>0,CONCATENATE(\"Auswertung \",B95,\"\"))))+4,6)))),\"\")","v":""},{"$f":"+IF(ISERROR(+INDIRECT(CONCATENATE(\"'\",J95,\"'!\",(ADDRESS((COUNTIF($J$3:J95,IF(B95<>0,CONCATENATE(\"Auswertung \",B95,\"\"))))+2,7)))))=FALSE,+INDIRECT(CONCATENATE(\"'\",J95,\"'!\",(ADDRESS((COUNTIF($J$3:J95,IF(B95<>0,CONCATENATE(\"Auswertung \",B95,\"\"))))+4,7)))),\"\")","v":""},{"$f":"+IF(ISERROR(+INDIRECT(CONCATENATE(\"'\",J95,\"'!\",(ADDRESS((COUNTIF($J$3:J95,IF(B95<>0,CONCATENATE(\"Auswertung \",B95,\"\"))))+2,10)))))=FALSE,+INDIRECT(CONCATENATE(\"'\",J95,\"'!\",(ADDRESS((COUNTIF($J$3:J95,IF(B95<>0,CONCATENATE(\"Auswertung \",B95,\"\"))))+4,8)))),\"\")","v":""},{"$f":"+IF(ISERROR(+INDIRECT(CONCATENATE(\"'\",J95,\"'!\",(ADDRESS((COUNTIF($J$3:J95,IF(B95<>0,CONCATENATE(\"Auswertung \",B95,\"\"))))+2,11)))))=FALSE,+INDIRECT(CONCATENATE(\"'\",J95,\"'!\",(ADDRESS((COUNTIF($J$3:J95,IF(B95<>0,CONCATENATE(\"Auswertung \",B95,\"\"))))+4,9)))),\"\")","v":""},{"$f":"+IF(ISERROR(+INDIRECT(CONCATENATE(\"'\",J95,\"'!\",(ADDRESS((COUNTIF($J$3:J95,IF(B95<>0,CONCATENATE(\"Auswertung \",B95,\"\"))))+2,10)))))=FALSE,+INDIRECT(CONCATENATE(\"'\",J95,\"'!\",(ADDRESS((COUNTIF($J$3:J95,IF(B95<>0,CONCATENATE(\"Auswertung \",B95,\"\"))))+4,10)))),\"\")","v":""},{"$f":"+IF(ISERROR(+INDIRECT(CONCATENATE(\"'\",J95,\"'!\",(ADDRESS((COUNTIF($J$3:J95,IF(B95<>0,CONCATENATE(\"Auswertung \",B95,\"\"))))+2,11)))))=FALSE,+INDIRECT(CONCATENATE(\"'\",J95,\"'!\",(ADDRESS((COUNTIF($J$3:J95,IF(B95<>0,CONCATENATE(\"Auswertung \",B95,\"\"))))+4,11)))),\"\")","v":""},{"$f":"+IF(ISERROR(+INDIRECT(CONCATENATE(\"'\",J95,\"'!\",(ADDRESS((COUNTIF($J$3:J95,IF(D95<>0,CONCATENATE(\"Auswertung \",D95,\"\"))))+2,12)))))=FALSE,+INDIRECT(CONCATENATE(\"'\",J95,\"'!\",(ADDRESS((COUNTIF($J$3:J95,IF(D95<>0,CONCATENATE(\"Auswertung \",B95,\"\"))))+4,12)))),\"\")","v":""},{"$f":"+IF(ISERROR(+INDIRECT(CONCATENATE(\"'\",J95,\"'!\",(ADDRESS((COUNTIF($J$3:J95,IF(D95<>0,CONCATENATE(\"Auswertung \",D95,\"\"))))+2,13)))))=FALSE,+INDIRECT(CONCATENATE(\"'\",J95,\"'!\",(ADDRESS((COUNTIF($J$3:J95,IF(D95<>0,CONCATENATE(\"Auswertung \",B95,\"\"))))+4,13)))),\"\")","v":""},null,{"$f":"+IFERROR(INDIRECT(CONCATENATE(\"'\",J95,\"'!\",(ADDRESS((COUNTIF($J$3:J95,IF(B95<>0,J95)))+4,16)))),\"\")","v":""},21.942,{"$f":"+SUM($M$4:M95)/COUNT($M$4:M95)/1000*2","v":0.28281081081081083},{"$f":"+IFERROR(INDIRECT(CONCATENATE(\"'\",J95,\"'!\",(ADDRESS((COUNTIF($J$3:J95,IF(B95<>0,J95)))+4,18)))),\"\")","v":""},50.264000000000003,{"$f":"+IFERROR(INDIRECT(CONCATENATE(\"'\",J95,\"'!\",(ADDRESS((COUNTIF($J$3:J95,IF(B95<>0,J95)))+4,20)))),\"\")","v":""},44.247,{"$f":"+IFERROR(INDIRECT(CONCATENATE(\"'\",J95,\"'!\",(ADDRESS((COUNTIF($J$3:J95,IF(B95<>0,J95)))+4,22)))),\"\")","v":""},16.149999999999999,{"$f":"+IFERROR(INDIRECT(CONCATENATE(\"'\",J95,\"'!\",(ADDRESS((COUNTIF($J$3:J95,IF(B95<>0,J95)))+4,24)))),\"\")","v":""},-17.100999999999999,{"$f":"+IFERROR(INDIRECT(CONCATENATE(\"'\",J95,\"'!\",(ADDRESS((COUNTIF($J$3:J95,IF(B95<>0,J95)))+4,26)))),\"\")","v":""},-15.523999999999999,92,{"$f":"+SUM(COUNTIF($Z$3:Z95,1),COUNTIF($Z$3:Z95,-1))","v":37},{"$f":"+SUM($M$4:M95)","v":5232},141.40540540540542,{"$f":"+SUM(COUNTIF($Z$3:Z95,1))","v":19},{"$f":"+SUM(COUNTIF($Z$3:Z95,-1))","v":18},1,{"$f":"AN95*(HARMEAN((IF(SUM(COUNTIF($Z$3:Z95,1),COUNTIF($Z$3:Z95,-1))=0,1,SUM(COUNTIF($Z$3:Z95,1),COUNTIF($Z$3:Z95,-1)))),(IF(SUM(COUNTIF($AC$3:AC95,1),COUNTIF($AC$3:AC95,-1))=0,1,SUM(COUNTIF($AC$3:AC95,1),COUNTIF($AC$3:AC95,-1)))),(IF(SUM(COUNTIF($AE$3:AE95,1),COUNTIF($AE$3:AE95,-1))=0,1,SUM(COUNTIF($AE$3:AE95,1),COUNTIF($AE$3:AE95,-1)))),(IF(SUM(COUNTIF($AG$3:AG95,1),COUNTIF($AG$3:AG95,-1))=0,1,SUM(COUNTIF($AG$3:AG95,1),COUNTIF($AG$3:AG95,-1)))),(IF(SUM(COUNTIF($AI$3:AI95,1),COUNTIF($AI$3:AI95,-1))=0,1,SUM(COUNTIF($AI$3:AI95,1),COUNTIF($AI$3:AI95,-1)))),(IF(SUM(COUNTIF($AK$3:AK95,1),COUNTIF($AK$3:AK95,-1))=0,1,SUM(COUNTIF($AK$3:AK95,1),COUNTIF($AK$3:AK95,-1)))))/1000)","v":1.3027260075093867},21.942,null,{"$f":"+SUM(COUNTIF($AC$3:AC95,1),COUNTIF($AC$3:AC95,-1))","v":37},{"$f":"+SUM($O$4:O95)","v":5276},142.59459459459458,{"$f":"+SUM(COUNTIF($AC$3:AC95,1))","v":23},{"$f":"+SUM(COUNTIF($AC$3:AC95,-1))","v":14},9,{"$f":"AW95*(HARMEAN((IF(SUM(COUNTIF($Z$3:Z95,1),COUNTIF($Z$3:Z95,-1))=0,1,SUM(COUNTIF($Z$3:Z95,1),COUNTIF($Z$3:Z95,-1)))),(IF(SUM(COUNTIF($AC$3:AC95,1),COUNTIF($AC$3:AC95,-1))=0,1,SUM(COUNTIF($AC$3:AC95,1),COUNTIF($AC$3:AC95,-1)))),(IF(SUM(COUNTIF($AE$3:AE95,1),COUNTIF($AE$3:AE95,-1))=0,1,SUM(COUNTIF($AE$3:AE95,1),COUNTIF($AE$3:AE95,-1)))),(IF(SUM(COUNTIF($AG$3:AG95,1),COUNTIF($AG$3:AG95,-1))=0,1,SUM(COUNTIF($AG$3:AG95,1),COUNTIF($AG$3:AG95,-1)))),(IF(SUM(COUNTIF($AI$3:AI95,1),COUNTIF($AI$3:AI95,-1))=0,1,SUM(COUNTIF($AI$3:AI95,1),COUNTIF($AI$3:AI95,-1)))),(IF(SUM(COUNTIF($AK$3:AK95,1),COUNTIF($AK$3:AK95,-1))=0,1,SUM(COUNTIF($AK$3:AK95,1),COUNTIF($AK$3:AK95,-1)))))/1000)","v":1.3027260075093867},50.264000000000003,null,{"$f":"+SUM(COUNTIF($AE$3:AE95,1),COUNTIF(AE$3:$AE95,-1))","v":36},{"$f":"+SUM($Q$4:Q95)","v":4567},126.86111111111111,{"$f":"+SUM(COUNTIF($AE$3:AE95,1))","v":22},{"$f":"+SUM(COUNTIF($AE$3:AE95,-1))","v":14},8,{"$f":"BF95*(HARMEAN((IF(SUM(COUNTIF($Z$3:Z95,1),COUNTIF($Z$3:Z95,-1))=0,1,SUM(COUNTIF($Z$3:Z95,1),COUNTIF($Z$3:Z95,-1)))),(IF(SUM(COUNTIF($AC$3:AC95,1),COUNTIF($AC$3:AC95,-1))=0,1,SUM(COUNTIF($AC$3:AC95,1),COUNTIF($AC$3:AC95,-1)))),(IF(SUM(COUNTIF($AE$3:AE95,1),COUNTIF($AE$3:AE95,-1))=0,1,SUM(COUNTIF($AE$3:AE95,1),COUNTIF($AE$3:AE95,-1)))),(IF(SUM(COUNTIF($AG$3:AG95,1),COUNTIF($AG$3:AG95,-1))=0,1,SUM(COUNTIF($AG$3:AG95,1),COUNTIF($AG$3:AG95,-1)))),(IF(SUM(COUNTIF($AI$3:AI95,1),COUNTIF($AI$3:AI95,-1))=0,1,SUM(COUNTIF($AI$3:AI95,1),COUNTIF($AI$3:AI95,-1)))),(IF(SUM(COUNTIF($AK$3:AK95,1),COUNTIF($AK$3:AK95,-1))=0,1,SUM(COUNTIF($AK$3:AK95,1),COUNTIF($AK$3:AK95,-1)))))/1000)","v":1.2675171964956196},44.247,null,{"$f":"+SUM(COUNTIF($AG$3:AG95,1),COUNTIF($AG$3:AG95,-1))","v":37},{"$f":"+SUM($S$4:S95)","v":5587},151,{"$f":"+SUM(COUNTIF($AG$3:AG95,1))","v":18},{"$f":"+SUM(COUNTIF($AG$3:AG95,-1))","v":19},-1,{"$f":"BO95*(HARMEAN((IF(SUM(COUNTIF($Z$3:Z95,1),COUNTIF($Z$3:Z95,-1))=0,1,SUM(COUNTIF($Z$3:Z95,1),COUNTIF($Z$3:Z95,-1)))),(IF(SUM(COUNTIF($AC$3:AC95,1),COUNTIF($AC$3:AC95,-1))=0,1,SUM(COUNTIF($AC$3:AC95,1),COUNTIF($AC$3:AC95,-1)))),(IF(SUM(COUNTIF($AE$3:AE95,1),COUNTIF($AE$3:AE95,-1))=0,1,SUM(COUNTIF($AE$3:AE95,1),COUNTIF($AE$3:AE95,-1)))),(IF(SUM(COUNTIF($AG$3:AG95,1),COUNTIF($AG$3:AG95,-1))=0,1,SUM(COUNTIF($AG$3:AG95,1),COUNTIF($AG$3:AG95,-1)))),(IF(SUM(COUNTIF($AI$3:AI95,1),COUNTIF($AI$3:AI95,-1))=0,1,SUM(COUNTIF($AI$3:AI95,1),COUNTIF($AI$3:AI95,-1)))),(IF(SUM(COUNTIF($AK$3:AK95,1),COUNTIF($AK$3:AK95,-1))=0,1,SUM(COUNTIF($AK$3:AK95,1),COUNTIF($AK$3:AK95,-1)))))/1000)","v":1.3027260075093867},16.149999999999999,null,{"$f":"+SUM(COUNTIF($AI$3:AI95,1),COUNTIF($AI$3:AI95,-1))","v":33},{"$f":"+SUM($U$4:U95)","v":4143},125.54545454545455,{"$f":"+SUM(COUNTIF($AI$3:AI95,1))","v":12},{"$f":"+SUM(COUNTIF($AI$3:AI95,-1))","v":21},-9,{"$f":"+BX95*(HARMEAN((IF(SUM(COUNTIF($Z$3:Z95,1),COUNTIF($Z$3:Z95,-1))=0,1,SUM(COUNTIF($Z$3:Z95,1),COUNTIF($Z$3:Z95,-1)))),(IF(SUM(COUNTIF($AC$3:AC95,1),COUNTIF($AC$3:AC95,-1))=0,1,SUM(COUNTIF($AC$3:AC95,1),COUNTIF($AC$3:AC95,-1)))),(IF(SUM(COUNTIF($AE$3:AE95,1),COUNTIF($AE$3:AE95,-1))=0,1,SUM(COUNTIF($AE$3:AE95,1),COUNTIF($AE$3:AE95,-1)))),(IF(SUM(COUNTIF($AG$3:AG95,1),COUNTIF($AG$3:AG95,-1))=0,1,SUM(COUNTIF($AG$3:AG95,1),COUNTIF($AG$3:AG95,-1)))),(IF(SUM(COUNTIF($AI$3:AI95,1),COUNTIF($AI$3:AI95,-1))=0,1,SUM(COUNTIF($AI$3:AI95,1),COUNTIF($AI$3:AI95,-1)))),(IF(SUM(COUNTIF($AK$3:AK95,1),COUNTIF($AK$3:AK95,-1))=0,1,SUM(COUNTIF($AK$3:AK95,1),COUNTIF($AK$3:AK95,-1)))))/1000)","v":1.1618907634543179},-17.100999999999999,null,{"$f":"+SUM(COUNTIF($AK$3:AK95,1),COUNTIF($AK$3:AK95,-1))","v":32},{"$f":"+SUM($W$4:W95)","v":3591},112.21875,{"$f":"+SUM(COUNTIF($AK$3:AK95,1))","v":12},{"$f":"+SUM(COUNTIF($AK$3:AK95,-1))","v":20},-8,{"$f":"+CG95*(HARMEAN((IF(SUM(COUNTIF($Z$3:Z95,1),COUNTIF($Z$3:Z95,-1))=0,1,SUM(COUNTIF($Z$3:Z95,1),COUNTIF($Z$3:Z95,-1)))),(IF(SUM(COUNTIF($AC$3:AC95,1),COUNTIF($AC$3:AC95,-1))=0,1,SUM(COUNTIF($AC$3:AC95,1),COUNTIF($AC$3:AC95,-1)))),(IF(SUM(COUNTIF($AE$3:AE95,1),COUNTIF($AE$3:AE95,-1))=0,1,SUM(COUNTIF($AE$3:AE95,1),COUNTIF($AE$3:AE95,-1)))),(IF(SUM(COUNTIF($AG$3:AG95,1),COUNTIF($AG$3:AG95,-1))=0,1,SUM(COUNTIF($AG$3:AG95,1),COUNTIF($AG$3:AG95,-1)))),(IF(SUM(COUNTIF($AI$3:AI95,1),COUNTIF($AI$3:AI95,-1))=0,1,SUM(COUNTIF($AI$3:AI95,1),COUNTIF($AI$3:AI95,-1)))),(IF(SUM(COUNTIF($AK$3:AK95,1),COUNTIF($AK$3:AK95,-1))=0,1,SUM(COUNTIF($AK$3:AK95,1),COUNTIF($AK$3:AK95,-1)))))/1000)","v":1.1266819524405507},-15.523999999999999]
[93,"",null,{"$f":"+IFERROR(INDEX('Auswertung AoE II'!$AE:$AE,MATCH(A96,'Auswertung AoE II'!$AD:$AD,0)),\"\")","v":""},{"$f":"+IFERROR(INDEX('Auswertung AoE III'!$AE:$AE,MATCH(A96,'Auswertung AoE III'!$AD:$AD,0)),\"\")","v":""},{"$f":"+IFERROR(INDEX('Auswertung AoM'!$AE:$AE,MATCH(A96,'Auswertung AoM'!$AD:$AD,0)),\"\")","v":""},{"$f":"+IFERROR(INDEX('Auswertung RA'!$AE:$AE,MATCH(A96,'Auswertung RA'!$AD:$AD,0)),\"\")","v":""},{"$f":"+IFERROR(INDEX('Auswertung Yuri'!$AE:$AE,MATCH(A96,'Auswertung Yuri'!$AD:$AD,0)),\"\")","v":""},{"$f":"+IFERROR(INDEX('Auswertung Generals'!$AE:$AE,MATCH(A96,'Auswertung Generals'!$AD:$AD,0)),\"\")","v":""},"Auswertung ",null,null,{"$f":"+IF(ISERROR(+INDIRECT(CONCATENATE(\"'\",J96,\"'!\",(ADDRESS((COUNTIF($J$3:J96,IF(B96<>0,CONCATENATE(\"Auswertung \",B96,\"\"))))+2,2)))))=FALSE,+INDIRECT(CONCATENATE(\"'\",J96,\"'!\",(ADDRESS((COUNTIF($J$3:J96,IF(B96<>0,CONCATENATE(\"Auswertung \",B96,\"\"))))+4,2)))),\"\")","v":""},{"$f":"IF(ISERROR(+INDIRECT(CONCATENATE(\"'\",J96,\"'!\",(ADDRESS((COUNTIF($J$3:J96,IF(B96<>0,CONCATENATE(\"Auswertung \",B96,\"\"))))+2,2+1)))))=FALSE,+INDIRECT(CONCATENATE(\"'\",J96,\"'!\",(ADDRESS((COUNTIF($J$3:J96,IF(B96<>0,CONCATENATE(\"Auswertung \",B96,\"\"))))+4,2+1)))),\"\")","v":""},{"$f":"+IF(ISERROR(+INDIRECT(CONCATENATE(\"'\",J96,\"'!\",(ADDRESS((COUNTIF($J$3:J96,IF(B96<>0,CONCATENATE(\"Auswertung \",B96,\"\"))))+2,4)))))=FALSE,+INDIRECT(CONCATENATE(\"'\",J96,\"'!\",(ADDRESS((COUNTIF($J$3:J96,IF(B96<>0,CONCATENATE(\"Auswertung \",B96,\"\"))))+4,4)))),\"\")","v":""},{"$f":"+IF(ISERROR(+INDIRECT(CONCATENATE(\"'\",J96,\"'!\",(ADDRESS((COUNTIF($J$3:J96,IF(B96<>0,CONCATENATE(\"Auswertung \",B96,\"\"))))+2,5)))))=FALSE,+INDIRECT(CONCATENATE(\"'\",J96,\"'!\",(ADDRESS((COUNTIF($J$3:J96,IF(B96<>0,CONCATENATE(\"Auswertung \",B96,\"\"))))+4,5)))),\"\")","v":""},{"$f":"+IF(ISERROR(+INDIRECT(CONCATENATE(\"'\",J96,\"'!\",(ADDRESS((COUNTIF($J$3:J96,IF(B96<>0,CONCATENATE(\"Auswertung \",B96,\"\"))))+2,6)))))=FALSE,+INDIRECT(CONCATENATE(\"'\",J96,\"'!\",(ADDRESS((COUNTIF($J$3:J96,IF(B96<>0,CONCATENATE(\"Auswertung \",B96,\"\"))))+4,6)))),\"\")","v":""},{"$f":"+IF(ISERROR(+INDIRECT(CONCATENATE(\"'\",J96,\"'!\",(ADDRESS((COUNTIF($J$3:J96,IF(B96<>0,CONCATENATE(\"Auswertung \",B96,\"\"))))+2,7)))))=FALSE,+INDIRECT(CONCATENATE(\"'\",J96,\"'!\",(ADDRESS((COUNTIF($J$3:J96,IF(B96<>0,CONCATENATE(\"Auswertung \",B96,\"\"))))+4,7)))),\"\")","v":""},{"$f":"+IF(ISERROR(+INDIRECT(CONCATENATE(\"'\",J96,\"'!\",(ADDRESS((COUNTIF($J$3:J96,IF(B96<>0,CONCATENATE(\"Auswertung \",B96,\"\"))))+2,10)))))=FALSE,+INDIRECT(CONCATENATE(\"'\",J96,\"'!\",(ADDRESS((COUNTIF($J$3:J96,IF(B96<>0,CONCATENATE(\"Auswertung \",B96,\"\"))))+4,8)))),\"\")","v":""},{"$f":"+IF(ISERROR(+INDIRECT(CONCATENATE(\"'\",J96,\"'!\",(ADDRESS((COUNTIF($J$3:J96,IF(B96<>0,CONCATENATE(\"Auswertung \",B96,\"\"))))+2,11)))))=FALSE,+INDIRECT(CONCATENATE(\"'\",J96,\"'!\",(ADDRESS((COUNTIF($J$3:J96,IF(B96<>0,CONCATENATE(\"Auswertung \",B96,\"\"))))+4,9)))),\"\")","v":""},{"$f":"+IF(ISERROR(+INDIRECT(CONCATENATE(\"'\",J96,\"'!\",(ADDRESS((COUNTIF($J$3:J96,IF(B96<>0,CONCATENATE(\"Auswertung \",B96,\"\"))))+2,10)))))=FALSE,+INDIRECT(CONCATENATE(\"'\",J96,\"'!\",(ADDRESS((COUNTIF($J$3:J96,IF(B96<>0,CONCATENATE(\"Auswertung \",B96,\"\"))))+4,10)))),\"\")","v":""},{"$f":"+IF(ISERROR(+INDIRECT(CONCATENATE(\"'\",J96,\"'!\",(ADDRESS((COUNTIF($J$3:J96,IF(B96<>0,CONCATENATE(\"Auswertung \",B96,\"\"))))+2,11)))))=FALSE,+INDIRECT(CONCATENATE(\"'\",J96,\"'!\",(ADDRESS((COUNTIF($J$3:J96,IF(B96<>0,CONCATENATE(\"Auswertung \",B96,\"\"))))+4,11)))),\"\")","v":""},{"$f":"+IF(ISERROR(+INDIRECT(CONCATENATE(\"'\",J96,\"'!\",(ADDRESS((COUNTIF($J$3:J96,IF(D96<>0,CONCATENATE(\"Auswertung \",D96,\"\"))))+2,12)))))=FALSE,+INDIRECT(CONCATENATE(\"'\",J96,\"'!\",(ADDRESS((COUNTIF($J$3:J96,IF(D96<>0,CONCATENATE(\"Auswertung \",B96,\"\"))))+4,12)))),\"\")","v":""},{"$f":"+IF(ISERROR(+INDIRECT(CONCATENATE(\"'\",J96,\"'!\",(ADDRESS((COUNTIF($J$3:J96,IF(D96<>0,CONCATENATE(\"Auswertung \",D96,\"\"))))+2,13)))))=FALSE,+INDIRECT(CONCATENATE(\"'\",J96,\"'!\",(ADDRESS((COUNTIF($J$3:J96,IF(D96<>0,CONCATENATE(\"Auswertung \",B96,\"\"))))+4,13)))),\"\")","v":""},null,{"$f":"+IFERROR(INDIRECT(CONCATENATE(\"'\",J96,\"'!\",(ADDRESS((COUNTIF($J$3:J96,IF(B96<>0,J96)))+4,16)))),\"\")","v":""},21.942,{"$f":"+SUM($M$4:M96)/COUNT($M$4:M96)/1000*2","v":0.28281081081081083},{"$f":"+IFERROR(INDIRECT(CONCATENATE(\"'\",J96,\"'!\",(ADDRESS((COUNTIF($J$3:J96,IF(B96<>0,J96)))+4,18)))),\"\")","v":""},50.264000000000003,{"$f":"+IFERROR(INDIRECT(CONCATENATE(\"'\",J96,\"'!\",(ADDRESS((COUNTIF($J$3:J96,IF(B96<>0,J96)))+4,20)))),\"\")","v":""},44.247,{"$f":"+IFERROR(INDIRECT(CONCATENATE(\"'\",J96,\"'!\",(ADDRESS((COUNTIF($J$3:J96,IF(B96<>0,J96)))+4,22)))),\"\")","v":""},16.149999999999999,{"$f":"+IFERROR(INDIRECT(CONCATENATE(\"'\",J96,\"'!\",(ADDRESS((COUNTIF($J$3:J96,IF(B96<>0,J96)))+4,24)))),\"\")","v":""},-17.100999999999999,{"$f":"+IFERROR(INDIRECT(CONCATENATE(\"'\",J96,\"'!\",(ADDRESS((COUNTIF($J$3:J96,IF(B96<>0,J96)))+4,26)))),\"\")","v":""},-15.523999999999999,93,{"$f":"+SUM(COUNTIF($Z$3:Z96,1),COUNTIF($Z$3:Z96,-1))","v":37},{"$f":"+SUM($M$4:M96)","v":5232},141.40540540540542,{"$f":"+SUM(COUNTIF($Z$3:Z96,1))","v":19},{"$f":"+SUM(COUNTIF($Z$3:Z96,-1))","v":18},1,{"$f":"AN96*(HARMEAN((IF(SUM(COUNTIF($Z$3:Z96,1),COUNTIF($Z$3:Z96,-1))=0,1,SUM(COUNTIF($Z$3:Z96,1),COUNTIF($Z$3:Z96,-1)))),(IF(SUM(COUNTIF($AC$3:AC96,1),COUNTIF($AC$3:AC96,-1))=0,1,SUM(COUNTIF($AC$3:AC96,1),COUNTIF($AC$3:AC96,-1)))),(IF(SUM(COUNTIF($AE$3:AE96,1),COUNTIF($AE$3:AE96,-1))=0,1,SUM(COUNTIF($AE$3:AE96,1),COUNTIF($AE$3:AE96,-1)))),(IF(SUM(COUNTIF($AG$3:AG96,1),COUNTIF($AG$3:AG96,-1))=0,1,SUM(COUNTIF($AG$3:AG96,1),COUNTIF($AG$3:AG96,-1)))),(IF(SUM(COUNTIF($AI$3:AI96,1),COUNTIF($AI$3:AI96,-1))=0,1,SUM(COUNTIF($AI$3:AI96,1),COUNTIF($AI$3:AI96,-1)))),(IF(SUM(COUNTIF($AK$3:AK96,1),COUNTIF($AK$3:AK96,-1))=0,1,SUM(COUNTIF($AK$3:AK96,1),COUNTIF($AK$3:AK96,-1)))))/1000)","v":1.3027260075093867},21.942,null,{"$f":"+SUM(COUNTIF($AC$3:AC96,1),COUNTIF($AC$3:AC96,-1))","v":37},{"$f":"+SUM($O$4:O96)","v":5276},142.59459459459458,{"$f":"+SUM(COUNTIF($AC$3:AC96,1))","v":23},{"$f":"+SUM(COUNTIF($AC$3:AC96,-1))","v":14},9,{"$f":"AW96*(HARMEAN((IF(SUM(COUNTIF($Z$3:Z96,1),COUNTIF($Z$3:Z96,-1))=0,1,SUM(COUNTIF($Z$3:Z96,1),COUNTIF($Z$3:Z96,-1)))),(IF(SUM(COUNTIF($AC$3:AC96,1),COUNTIF($AC$3:AC96,-1))=0,1,SUM(COUNTIF($AC$3:AC96,1),COUNTIF($AC$3:AC96,-1)))),(IF(SUM(COUNTIF($AE$3:AE96,1),COUNTIF($AE$3:AE96,-1))=0,1,SUM(COUNTIF($AE$3:AE96,1),COUNTIF($AE$3:AE96,-1)))),(IF(SUM(COUNTIF($AG$3:AG96,1),COUNTIF($AG$3:AG96,-1))=0,1,SUM(COUNTIF($AG$3:AG96,1),COUNTIF($AG$3:AG96,-1)))),(IF(SUM(COUNTIF($AI$3:AI96,1),COUNTIF($AI$3:AI96,-1))=0,1,SUM(COUNTIF($AI$3:AI96,1),COUNTIF($AI$3:AI96,-1)))),(IF(SUM(COUNTIF($AK$3:AK96,1),COUNTIF($AK$3:AK96,-1))=0,1,SUM(COUNTIF($AK$3:AK96,1),COUNTIF($AK$3:AK96,-1)))))/1000)","v":1.3027260075093867},50.264000000000003,null,{"$f":"+SUM(COUNTIF($AE$3:AE96,1),COUNTIF(AE$3:$AE96,-1))","v":36},{"$f":"+SUM($Q$4:Q96)","v":4567},126.86111111111111,{"$f":"+SUM(COUNTIF($AE$3:AE96,1))","v":22},{"$f":"+SUM(COUNTIF($AE$3:AE96,-1))","v":14},8,{"$f":"BF96*(HARMEAN((IF(SUM(COUNTIF($Z$3:Z96,1),COUNTIF($Z$3:Z96,-1))=0,1,SUM(COUNTIF($Z$3:Z96,1),COUNTIF($Z$3:Z96,-1)))),(IF(SUM(COUNTIF($AC$3:AC96,1),COUNTIF($AC$3:AC96,-1))=0,1,SUM(COUNTIF($AC$3:AC96,1),COUNTIF($AC$3:AC96,-1)))),(IF(SUM(COUNTIF($AE$3:AE96,1),COUNTIF($AE$3:AE96,-1))=0,1,SUM(COUNTIF($AE$3:AE96,1),COUNTIF($AE$3:AE96,-1)))),(IF(SUM(COUNTIF($AG$3:AG96,1),COUNTIF($AG$3:AG96,-1))=0,1,SUM(COUNTIF($AG$3:AG96,1),COUNTIF($AG$3:AG96,-1)))),(IF(SUM(COUNTIF($AI$3:AI96,1),COUNTIF($AI$3:AI96,-1))=0,1,SUM(COUNTIF($AI$3:AI96,1),COUNTIF($AI$3:AI96,-1)))),(IF(SUM(COUNTIF($AK$3:AK96,1),COUNTIF($AK$3:AK96,-1))=0,1,SUM(COUNTIF($AK$3:AK96,1),COUNTIF($AK$3:AK96,-1)))))/1000)","v":1.2675171964956196},44.247,null,{"$f":"+SUM(COUNTIF($AG$3:AG96,1),COUNTIF($AG$3:AG96,-1))","v":37},{"$f":"+SUM($S$4:S96)","v":5587},151,{"$f":"+SUM(COUNTIF($AG$3:AG96,1))","v":18},{"$f":"+SUM(COUNTIF($AG$3:AG96,-1))","v":19},-1,{"$f":"BO96*(HARMEAN((IF(SUM(COUNTIF($Z$3:Z96,1),COUNTIF($Z$3:Z96,-1))=0,1,SUM(COUNTIF($Z$3:Z96,1),COUNTIF($Z$3:Z96,-1)))),(IF(SUM(COUNTIF($AC$3:AC96,1),COUNTIF($AC$3:AC96,-1))=0,1,SUM(COUNTIF($AC$3:AC96,1),COUNTIF($AC$3:AC96,-1)))),(IF(SUM(COUNTIF($AE$3:AE96,1),COUNTIF($AE$3:AE96,-1))=0,1,SUM(COUNTIF($AE$3:AE96,1),COUNTIF($AE$3:AE96,-1)))),(IF(SUM(COUNTIF($AG$3:AG96,1),COUNTIF($AG$3:AG96,-1))=0,1,SUM(COUNTIF($AG$3:AG96,1),COUNTIF($AG$3:AG96,-1)))),(IF(SUM(COUNTIF($AI$3:AI96,1),COUNTIF($AI$3:AI96,-1))=0,1,SUM(COUNTIF($AI$3:AI96,1),COUNTIF($AI$3:AI96,-1)))),(IF(SUM(COUNTIF($AK$3:AK96,1),COUNTIF($AK$3:AK96,-1))=0,1,SUM(COUNTIF($AK$3:AK96,1),COUNTIF($AK$3:AK96,-1)))))/1000)","v":1.3027260075093867},16.149999999999999,null,{"$f":"+SUM(COUNTIF($AI$3:AI96,1),COUNTIF($AI$3:AI96,-1))","v":33},{"$f":"+SUM($U$4:U96)","v":4143},125.54545454545455,{"$f":"+SUM(COUNTIF($AI$3:AI96,1))","v":12},{"$f":"+SUM(COUNTIF($AI$3:AI96,-1))","v":21},-9,{"$f":"+BX96*(HARMEAN((IF(SUM(COUNTIF($Z$3:Z96,1),COUNTIF($Z$3:Z96,-1))=0,1,SUM(COUNTIF($Z$3:Z96,1),COUNTIF($Z$3:Z96,-1)))),(IF(SUM(COUNTIF($AC$3:AC96,1),COUNTIF($AC$3:AC96,-1))=0,1,SUM(COUNTIF($AC$3:AC96,1),COUNTIF($AC$3:AC96,-1)))),(IF(SUM(COUNTIF($AE$3:AE96,1),COUNTIF($AE$3:AE96,-1))=0,1,SUM(COUNTIF($AE$3:AE96,1),COUNTIF($AE$3:AE96,-1)))),(IF(SUM(COUNTIF($AG$3:AG96,1),COUNTIF($AG$3:AG96,-1))=0,1,SUM(COUNTIF($AG$3:AG96,1),COUNTIF($AG$3:AG96,-1)))),(IF(SUM(COUNTIF($AI$3:AI96,1),COUNTIF($AI$3:AI96,-1))=0,1,SUM(COUNTIF($AI$3:AI96,1),COUNTIF($AI$3:AI96,-1)))),(IF(SUM(COUNTIF($AK$3:AK96,1),COUNTIF($AK$3:AK96,-1))=0,1,SUM(COUNTIF($AK$3:AK96,1),COUNTIF($AK$3:AK96,-1)))))/1000)","v":1.1618907634543179},-17.100999999999999,null,{"$f":"+SUM(COUNTIF($AK$3:AK96,1),COUNTIF($AK$3:AK96,-1))","v":32},{"$f":"+SUM($W$4:W96)","v":3591},112.21875,{"$f":"+SUM(COUNTIF($AK$3:AK96,1))","v":12},{"$f":"+SUM(COUNTIF($AK$3:AK96,-1))","v":20},-8,{"$f":"+CG96*(HARMEAN((IF(SUM(COUNTIF($Z$3:Z96,1),COUNTIF($Z$3:Z96,-1))=0,1,SUM(COUNTIF($Z$3:Z96,1),COUNTIF($Z$3:Z96,-1)))),(IF(SUM(COUNTIF($AC$3:AC96,1),COUNTIF($AC$3:AC96,-1))=0,1,SUM(COUNTIF($AC$3:AC96,1),COUNTIF($AC$3:AC96,-1)))),(IF(SUM(COUNTIF($AE$3:AE96,1),COUNTIF($AE$3:AE96,-1))=0,1,SUM(COUNTIF($AE$3:AE96,1),COUNTIF($AE$3:AE96,-1)))),(IF(SUM(COUNTIF($AG$3:AG96,1),COUNTIF($AG$3:AG96,-1))=0,1,SUM(COUNTIF($AG$3:AG96,1),COUNTIF($AG$3:AG96,-1)))),(IF(SUM(COUNTIF($AI$3:AI96,1),COUNTIF($AI$3:AI96,-1))=0,1,SUM(COUNTIF($AI$3:AI96,1),COUNTIF($AI$3:AI96,-1)))),(IF(SUM(COUNTIF($AK$3:AK96,1),COUNTIF($AK$3:AK96,-1))=0,1,SUM(COUNTIF($AK$3:AK96,1),COUNTIF($AK$3:AK96,-1)))))/1000)","v":1.1266819524405507},-15.523999999999999]
[94,"",null,{"$f":"+IFERROR(INDEX('Auswertung AoE II'!$AE:$AE,MATCH(A97,'Auswertung AoE II'!$AD:$AD,0)),\"\")","v":""},{"$f":"+IFERROR(INDEX('Auswertung AoE III'!$AE:$AE,MATCH(A97,'Auswertung AoE III'!$AD:$AD,0)),\"\")","v":""},{"$f":"+IFERROR(INDEX('Auswertung AoM'!$AE:$AE,MATCH(A97,'Auswertung AoM'!$AD:$AD,0)),\"\")","v":""},{"$f":"+IFERROR(INDEX('Auswertung RA'!$AE:$AE,MATCH(A97,'Auswertung RA'!$AD:$AD,0)),\"\")","v":""},{"$f":"+IFERROR(INDEX('Auswertung Yuri'!$AE:$AE,MATCH(A97,'Auswertung Yuri'!$AD:$AD,0)),\"\")","v":""},{"$f":"+IFERROR(INDEX('Auswertung Generals'!$AE:$AE,MATCH(A97,'Auswertung Generals'!$AD:$AD,0)),\"\")","v":""},"Auswertung ",null,null,{"$f":"+IF(ISERROR(+INDIRECT(CONCATENATE(\"'\",J97,\"'!\",(ADDRESS((COUNTIF($J$3:J97,IF(B97<>0,CONCATENATE(\"Auswertung \",B97,\"\"))))+2,2)))))=FALSE,+INDIRECT(CONCATENATE(\"'\",J97,\"'!\",(ADDRESS((COUNTIF($J$3:J97,IF(B97<>0,CONCATENATE(\"Auswertung \",B97,\"\"))))+4,2)))),\"\")","v":""},{"$f":"IF(ISERROR(+INDIRECT(CONCATENATE(\"'\",J97,\"'!\",(ADDRESS((COUNTIF($J$3:J97,IF(B97<>0,CONCATENATE(\"Auswertung \",B97,\"\"))))+2,2+1)))))=FALSE,+INDIRECT(CONCATENATE(\"'\",J97,\"'!\",(ADDRESS((COUNTIF($J$3:J97,IF(B97<>0,CONCATENATE(\"Auswertung \",B97,\"\"))))+4,2+1)))),\"\")","v":""},{"$f":"+IF(ISERROR(+INDIRECT(CONCATENATE(\"'\",J97,\"'!\",(ADDRESS((COUNTIF($J$3:J97,IF(B97<>0,CONCATENATE(\"Auswertung \",B97,\"\"))))+2,4)))))=FALSE,+INDIRECT(CONCATENATE(\"'\",J97,\"'!\",(ADDRESS((COUNTIF($J$3:J97,IF(B97<>0,CONCATENATE(\"Auswertung \",B97,\"\"))))+4,4)))),\"\")","v":""},{"$f":"+IF(ISERROR(+INDIRECT(CONCATENATE(\"'\",J97,\"'!\",(ADDRESS((COUNTIF($J$3:J97,IF(B97<>0,CONCATENATE(\"Auswertung \",B97,\"\"))))+2,5)))))=FALSE,+INDIRECT(CONCATENATE(\"'\",J97,\"'!\",(ADDRESS((COUNTIF($J$3:J97,IF(B97<>0,CONCATENATE(\"Auswertung \",B97,\"\"))))+4,5)))),\"\")","v":""},{"$f":"+IF(ISERROR(+INDIRECT(CONCATENATE(\"'\",J97,\"'!\",(ADDRESS((COUNTIF($J$3:J97,IF(B97<>0,CONCATENATE(\"Auswertung \",B97,\"\"))))+2,6)))))=FALSE,+INDIRECT(CONCATENATE(\"'\",J97,\"'!\",(ADDRESS((COUNTIF($J$3:J97,IF(B97<>0,CONCATENATE(\"Auswertung \",B97,\"\"))))+4,6)))),\"\")","v":""},{"$f":"+IF(ISERROR(+INDIRECT(CONCATENATE(\"'\",J97,\"'!\",(ADDRESS((COUNTIF($J$3:J97,IF(B97<>0,CONCATENATE(\"Auswertung \",B97,\"\"))))+2,7)))))=FALSE,+INDIRECT(CONCATENATE(\"'\",J97,\"'!\",(ADDRESS((COUNTIF($J$3:J97,IF(B97<>0,CONCATENATE(\"Auswertung \",B97,\"\"))))+4,7)))),\"\")","v":""},{"$f":"+IF(ISERROR(+INDIRECT(CONCATENATE(\"'\",J97,\"'!\",(ADDRESS((COUNTIF($J$3:J97,IF(B97<>0,CONCATENATE(\"Auswertung \",B97,\"\"))))+2,10)))))=FALSE,+INDIRECT(CONCATENATE(\"'\",J97,\"'!\",(ADDRESS((COUNTIF($J$3:J97,IF(B97<>0,CONCATENATE(\"Auswertung \",B97,\"\"))))+4,8)))),\"\")","v":""},{"$f":"+IF(ISERROR(+INDIRECT(CONCATENATE(\"'\",J97,\"'!\",(ADDRESS((COUNTIF($J$3:J97,IF(B97<>0,CONCATENATE(\"Auswertung \",B97,\"\"))))+2,11)))))=FALSE,+INDIRECT(CONCATENATE(\"'\",J97,\"'!\",(ADDRESS((COUNTIF($J$3:J97,IF(B97<>0,CONCATENATE(\"Auswertung \",B97,\"\"))))+4,9)))),\"\")","v":""},{"$f":"+IF(ISERROR(+INDIRECT(CONCATENATE(\"'\",J97,\"'!\",(ADDRESS((COUNTIF($J$3:J97,IF(B97<>0,CONCATENATE(\"Auswertung \",B97,\"\"))))+2,10)))))=FALSE,+INDIRECT(CONCATENATE(\"'\",J97,\"'!\",(ADDRESS((COUNTIF($J$3:J97,IF(B97<>0,CONCATENATE(\"Auswertung \",B97,\"\"))))+4,10)))),\"\")","v":""},{"$f":"+IF(ISERROR(+INDIRECT(CONCATENATE(\"'\",J97,\"'!\",(ADDRESS((COUNTIF($J$3:J97,IF(B97<>0,CONCATENATE(\"Auswertung \",B97,\"\"))))+2,11)))))=FALSE,+INDIRECT(CONCATENATE(\"'\",J97,\"'!\",(ADDRESS((COUNTIF($J$3:J97,IF(B97<>0,CONCATENATE(\"Auswertung \",B97,\"\"))))+4,11)))),\"\")","v":""},{"$f":"+IF(ISERROR(+INDIRECT(CONCATENATE(\"'\",J97,\"'!\",(ADDRESS((COUNTIF($J$3:J97,IF(D97<>0,CONCATENATE(\"Auswertung \",D97,\"\"))))+2,12)))))=FALSE,+INDIRECT(CONCATENATE(\"'\",J97,\"'!\",(ADDRESS((COUNTIF($J$3:J97,IF(D97<>0,CONCATENATE(\"Auswertung \",B97,\"\"))))+4,12)))),\"\")","v":""},{"$f":"+IF(ISERROR(+INDIRECT(CONCATENATE(\"'\",J97,\"'!\",(ADDRESS((COUNTIF($J$3:J97,IF(D97<>0,CONCATENATE(\"Auswertung \",D97,\"\"))))+2,13)))))=FALSE,+INDIRECT(CONCATENATE(\"'\",J97,\"'!\",(ADDRESS((COUNTIF($J$3:J97,IF(D97<>0,CONCATENATE(\"Auswertung \",B97,\"\"))))+4,13)))),\"\")","v":""},null,{"$f":"+IFERROR(INDIRECT(CONCATENATE(\"'\",J97,\"'!\",(ADDRESS((COUNTIF($J$3:J97,IF(B97<>0,J97)))+4,16)))),\"\")","v":""},21.942,{"$f":"+SUM($M$4:M97)/COUNT($M$4:M97)/1000*2","v":0.28281081081081083},{"$f":"+IFERROR(INDIRECT(CONCATENATE(\"'\",J97,\"'!\",(ADDRESS((COUNTIF($J$3:J97,IF(B97<>0,J97)))+4,18)))),\"\")","v":""},50.264000000000003,{"$f":"+IFERROR(INDIRECT(CONCATENATE(\"'\",J97,\"'!\",(ADDRESS((COUNTIF($J$3:J97,IF(B97<>0,J97)))+4,20)))),\"\")","v":""},44.247,{"$f":"+IFERROR(INDIRECT(CONCATENATE(\"'\",J97,\"'!\",(ADDRESS((COUNTIF($J$3:J97,IF(B97<>0,J97)))+4,22)))),\"\")","v":""},16.149999999999999,{"$f":"+IFERROR(INDIRECT(CONCATENATE(\"'\",J97,\"'!\",(ADDRESS((COUNTIF($J$3:J97,IF(B97<>0,J97)))+4,24)))),\"\")","v":""},-17.100999999999999,{"$f":"+IFERROR(INDIRECT(CONCATENATE(\"'\",J97,\"'!\",(ADDRESS((COUNTIF($J$3:J97,IF(B97<>0,J97)))+4,26)))),\"\")","v":""},-15.523999999999999,94,{"$f":"+SUM(COUNTIF($Z$3:Z97,1),COUNTIF($Z$3:Z97,-1))","v":37},{"$f":"+SUM($M$4:M97)","v":5232},141.40540540540542,{"$f":"+SUM(COUNTIF($Z$3:Z97,1))","v":19},{"$f":"+SUM(COUNTIF($Z$3:Z97,-1))","v":18},1,{"$f":"AN97*(HARMEAN((IF(SUM(COUNTIF($Z$3:Z97,1),COUNTIF($Z$3:Z97,-1))=0,1,SUM(COUNTIF($Z$3:Z97,1),COUNTIF($Z$3:Z97,-1)))),(IF(SUM(COUNTIF($AC$3:AC97,1),COUNTIF($AC$3:AC97,-1))=0,1,SUM(COUNTIF($AC$3:AC97,1),COUNTIF($AC$3:AC97,-1)))),(IF(SUM(COUNTIF($AE$3:AE97,1),COUNTIF($AE$3:AE97,-1))=0,1,SUM(COUNTIF($AE$3:AE97,1),COUNTIF($AE$3:AE97,-1)))),(IF(SUM(COUNTIF($AG$3:AG97,1),COUNTIF($AG$3:AG97,-1))=0,1,SUM(COUNTIF($AG$3:AG97,1),COUNTIF($AG$3:AG97,-1)))),(IF(SUM(COUNTIF($AI$3:AI97,1),COUNTIF($AI$3:AI97,-1))=0,1,SUM(COUNTIF($AI$3:AI97,1),COUNTIF($AI$3:AI97,-1)))),(IF(SUM(COUNTIF($AK$3:AK97,1),COUNTIF($AK$3:AK97,-1))=0,1,SUM(COUNTIF($AK$3:AK97,1),COUNTIF($AK$3:AK97,-1)))))/1000)","v":1.3027260075093867},21.942,null,{"$f":"+SUM(COUNTIF($AC$3:AC97,1),COUNTIF($AC$3:AC97,-1))","v":37},{"$f":"+SUM($O$4:O97)","v":5276},142.59459459459458,{"$f":"+SUM(COUNTIF($AC$3:AC97,1))","v":23},{"$f":"+SUM(COUNTIF($AC$3:AC97,-1))","v":14},9,{"$f":"AW97*(HARMEAN((IF(SUM(COUNTIF($Z$3:Z97,1),COUNTIF($Z$3:Z97,-1))=0,1,SUM(COUNTIF($Z$3:Z97,1),COUNTIF($Z$3:Z97,-1)))),(IF(SUM(COUNTIF($AC$3:AC97,1),COUNTIF($AC$3:AC97,-1))=0,1,SUM(COUNTIF($AC$3:AC97,1),COUNTIF($AC$3:AC97,-1)))),(IF(SUM(COUNTIF($AE$3:AE97,1),COUNTIF($AE$3:AE97,-1))=0,1,SUM(COUNTIF($AE$3:AE97,1),COUNTIF($AE$3:AE97,-1)))),(IF(SUM(COUNTIF($AG$3:AG97,1),COUNTIF($AG$3:AG97,-1))=0,1,SUM(COUNTIF($AG$3:AG97,1),COUNTIF($AG$3:AG97,-1)))),(IF(SUM(COUNTIF($AI$3:AI97,1),COUNTIF($AI$3:AI97,-1))=0,1,SUM(COUNTIF($AI$3:AI97,1),COUNTIF($AI$3:AI97,-1)))),(IF(SUM(COUNTIF($AK$3:AK97,1),COUNTIF($AK$3:AK97,-1))=0,1,SUM(COUNTIF($AK$3:AK97,1),COUNTIF($AK$3:AK97,-1)))))/1000)","v":1.3027260075093867},50.264000000000003,null,{"$f":"+SUM(COUNTIF($AE$3:AE97,1),COUNTIF(AE$3:$AE97,-1))","v":36},{"$f":"+SUM($Q$4:Q97)","v":4567},126.86111111111111,{"$f":"+SUM(COUNTIF($AE$3:AE97,1))","v":22},{"$f":"+SUM(COUNTIF($AE$3:AE97,-1))","v":14},8,{"$f":"BF97*(HARMEAN((IF(SUM(COUNTIF($Z$3:Z97,1),COUNTIF($Z$3:Z97,-1))=0,1,SUM(COUNTIF($Z$3:Z97,1),COUNTIF($Z$3:Z97,-1)))),(IF(SUM(COUNTIF($AC$3:AC97,1),COUNTIF($AC$3:AC97,-1))=0,1,SUM(COUNTIF($AC$3:AC97,1),COUNTIF($AC$3:AC97,-1)))),(IF(SUM(COUNTIF($AE$3:AE97,1),COUNTIF($AE$3:AE97,-1))=0,1,SUM(COUNTIF($AE$3:AE97,1),COUNTIF($AE$3:AE97,-1)))),(IF(SUM(COUNTIF($AG$3:AG97,1),COUNTIF($AG$3:AG97,-1))=0,1,SUM(COUNTIF($AG$3:AG97,1),COUNTIF($AG$3:AG97,-1)))),(IF(SUM(COUNTIF($AI$3:AI97,1),COUNTIF($AI$3:AI97,-1))=0,1,SUM(COUNTIF($AI$3:AI97,1),COUNTIF($AI$3:AI97,-1)))),(IF(SUM(COUNTIF($AK$3:AK97,1),COUNTIF($AK$3:AK97,-1))=0,1,SUM(COUNTIF($AK$3:AK97,1),COUNTIF($AK$3:AK97,-1)))))/1000)","v":1.2675171964956196},44.247,null,{"$f":"+SUM(COUNTIF($AG$3:AG97,1),COUNTIF($AG$3:AG97,-1))","v":37},{"$f":"+SUM($S$4:S97)","v":5587},151,{"$f":"+SUM(COUNTIF($AG$3:AG97,1))","v":18},{"$f":"+SUM(COUNTIF($AG$3:AG97,-1))","v":19},-1,{"$f":"BO97*(HARMEAN((IF(SUM(COUNTIF($Z$3:Z97,1),COUNTIF($Z$3:Z97,-1))=0,1,SUM(COUNTIF($Z$3:Z97,1),COUNTIF($Z$3:Z97,-1)))),(IF(SUM(COUNTIF($AC$3:AC97,1),COUNTIF($AC$3:AC97,-1))=0,1,SUM(COUNTIF($AC$3:AC97,1),COUNTIF($AC$3:AC97,-1)))),(IF(SUM(COUNTIF($AE$3:AE97,1),COUNTIF($AE$3:AE97,-1))=0,1,SUM(COUNTIF($AE$3:AE97,1),COUNTIF($AE$3:AE97,-1)))),(IF(SUM(COUNTIF($AG$3:AG97,1),COUNTIF($AG$3:AG97,-1))=0,1,SUM(COUNTIF($AG$3:AG97,1),COUNTIF($AG$3:AG97,-1)))),(IF(SUM(COUNTIF($AI$3:AI97,1),COUNTIF($AI$3:AI97,-1))=0,1,SUM(COUNTIF($AI$3:AI97,1),COUNTIF($AI$3:AI97,-1)))),(IF(SUM(COUNTIF($AK$3:AK97,1),COUNTIF($AK$3:AK97,-1))=0,1,SUM(COUNTIF($AK$3:AK97,1),COUNTIF($AK$3:AK97,-1)))))/1000)","v":1.3027260075093867},16.149999999999999,null,{"$f":"+SUM(COUNTIF($AI$3:AI97,1),COUNTIF($AI$3:AI97,-1))","v":33},{"$f":"+SUM($U$4:U97)","v":4143},125.54545454545455,{"$f":"+SUM(COUNTIF($AI$3:AI97,1))","v":12},{"$f":"+SUM(COUNTIF($AI$3:AI97,-1))","v":21},-9,{"$f":"+BX97*(HARMEAN((IF(SUM(COUNTIF($Z$3:Z97,1),COUNTIF($Z$3:Z97,-1))=0,1,SUM(COUNTIF($Z$3:Z97,1),COUNTIF($Z$3:Z97,-1)))),(IF(SUM(COUNTIF($AC$3:AC97,1),COUNTIF($AC$3:AC97,-1))=0,1,SUM(COUNTIF($AC$3:AC97,1),COUNTIF($AC$3:AC97,-1)))),(IF(SUM(COUNTIF($AE$3:AE97,1),COUNTIF($AE$3:AE97,-1))=0,1,SUM(COUNTIF($AE$3:AE97,1),COUNTIF($AE$3:AE97,-1)))),(IF(SUM(COUNTIF($AG$3:AG97,1),COUNTIF($AG$3:AG97,-1))=0,1,SUM(COUNTIF($AG$3:AG97,1),COUNTIF($AG$3:AG97,-1)))),(IF(SUM(COUNTIF($AI$3:AI97,1),COUNTIF($AI$3:AI97,-1))=0,1,SUM(COUNTIF($AI$3:AI97,1),COUNTIF($AI$3:AI97,-1)))),(IF(SUM(COUNTIF($AK$3:AK97,1),COUNTIF($AK$3:AK97,-1))=0,1,SUM(COUNTIF($AK$3:AK97,1),COUNTIF($AK$3:AK97,-1)))))/1000)","v":1.1618907634543179},-17.100999999999999,null,{"$f":"+SUM(COUNTIF($AK$3:AK97,1),COUNTIF($AK$3:AK97,-1))","v":32},{"$f":"+SUM($W$4:W97)","v":3591},112.21875,{"$f":"+SUM(COUNTIF($AK$3:AK97,1))","v":12},{"$f":"+SUM(COUNTIF($AK$3:AK97,-1))","v":20},-8,{"$f":"+CG97*(HARMEAN((IF(SUM(COUNTIF($Z$3:Z97,1),COUNTIF($Z$3:Z97,-1))=0,1,SUM(COUNTIF($Z$3:Z97,1),COUNTIF($Z$3:Z97,-1)))),(IF(SUM(COUNTIF($AC$3:AC97,1),COUNTIF($AC$3:AC97,-1))=0,1,SUM(COUNTIF($AC$3:AC97,1),COUNTIF($AC$3:AC97,-1)))),(IF(SUM(COUNTIF($AE$3:AE97,1),COUNTIF($AE$3:AE97,-1))=0,1,SUM(COUNTIF($AE$3:AE97,1),COUNTIF($AE$3:AE97,-1)))),(IF(SUM(COUNTIF($AG$3:AG97,1),COUNTIF($AG$3:AG97,-1))=0,1,SUM(COUNTIF($AG$3:AG97,1),COUNTIF($AG$3:AG97,-1)))),(IF(SUM(COUNTIF($AI$3:AI97,1),COUNTIF($AI$3:AI97,-1))=0,1,SUM(COUNTIF($AI$3:AI97,1),COUNTIF($AI$3:AI97,-1)))),(IF(SUM(COUNTIF($AK$3:AK97,1),COUNTIF($AK$3:AK97,-1))=0,1,SUM(COUNTIF($AK$3:AK97,1),COUNTIF($AK$3:AK97,-1)))))/1000)","v":1.1266819524405507},-15.523999999999999]
[95,"",null,{"$f":"+IFERROR(INDEX('Auswertung AoE II'!$AE:$AE,MATCH(A98,'Auswertung AoE II'!$AD:$AD,0)),\"\")","v":""},{"$f":"+IFERROR(INDEX('Auswertung AoE III'!$AE:$AE,MATCH(A98,'Auswertung AoE III'!$AD:$AD,0)),\"\")","v":""},{"$f":"+IFERROR(INDEX('Auswertung AoM'!$AE:$AE,MATCH(A98,'Auswertung AoM'!$AD:$AD,0)),\"\")","v":""},{"$f":"+IFERROR(INDEX('Auswertung RA'!$AE:$AE,MATCH(A98,'Auswertung RA'!$AD:$AD,0)),\"\")","v":""},{"$f":"+IFERROR(INDEX('Auswertung Yuri'!$AE:$AE,MATCH(A98,'Auswertung Yuri'!$AD:$AD,0)),\"\")","v":""},{"$f":"+IFERROR(INDEX('Auswertung Generals'!$AE:$AE,MATCH(A98,'Auswertung Generals'!$AD:$AD,0)),\"\")","v":""},"Auswertung ",null,null,{"$f":"+IF(ISERROR(+INDIRECT(CONCATENATE(\"'\",J98,\"'!\",(ADDRESS((COUNTIF($J$3:J98,IF(B98<>0,CONCATENATE(\"Auswertung \",B98,\"\"))))+2,2)))))=FALSE,+INDIRECT(CONCATENATE(\"'\",J98,\"'!\",(ADDRESS((COUNTIF($J$3:J98,IF(B98<>0,CONCATENATE(\"Auswertung \",B98,\"\"))))+4,2)))),\"\")","v":""},{"$f":"IF(ISERROR(+INDIRECT(CONCATENATE(\"'\",J98,\"'!\",(ADDRESS((COUNTIF($J$3:J98,IF(B98<>0,CONCATENATE(\"Auswertung \",B98,\"\"))))+2,2+1)))))=FALSE,+INDIRECT(CONCATENATE(\"'\",J98,\"'!\",(ADDRESS((COUNTIF($J$3:J98,IF(B98<>0,CONCATENATE(\"Auswertung \",B98,\"\"))))+4,2+1)))),\"\")","v":""},{"$f":"+IF(ISERROR(+INDIRECT(CONCATENATE(\"'\",J98,\"'!\",(ADDRESS((COUNTIF($J$3:J98,IF(B98<>0,CONCATENATE(\"Auswertung \",B98,\"\"))))+2,4)))))=FALSE,+INDIRECT(CONCATENATE(\"'\",J98,\"'!\",(ADDRESS((COUNTIF($J$3:J98,IF(B98<>0,CONCATENATE(\"Auswertung \",B98,\"\"))))+4,4)))),\"\")","v":""},{"$f":"+IF(ISERROR(+INDIRECT(CONCATENATE(\"'\",J98,\"'!\",(ADDRESS((COUNTIF($J$3:J98,IF(B98<>0,CONCATENATE(\"Auswertung \",B98,\"\"))))+2,5)))))=FALSE,+INDIRECT(CONCATENATE(\"'\",J98,\"'!\",(ADDRESS((COUNTIF($J$3:J98,IF(B98<>0,CONCATENATE(\"Auswertung \",B98,\"\"))))+4,5)))),\"\")","v":""},{"$f":"+IF(ISERROR(+INDIRECT(CONCATENATE(\"'\",J98,\"'!\",(ADDRESS((COUNTIF($J$3:J98,IF(B98<>0,CONCATENATE(\"Auswertung \",B98,\"\"))))+2,6)))))=FALSE,+INDIRECT(CONCATENATE(\"'\",J98,\"'!\",(ADDRESS((COUNTIF($J$3:J98,IF(B98<>0,CONCATENATE(\"Auswertung \",B98,\"\"))))+4,6)))),\"\")","v":""},{"$f":"+IF(ISERROR(+INDIRECT(CONCATENATE(\"'\",J98,\"'!\",(ADDRESS((COUNTIF($J$3:J98,IF(B98<>0,CONCATENATE(\"Auswertung \",B98,\"\"))))+2,7)))))=FALSE,+INDIRECT(CONCATENATE(\"'\",J98,\"'!\",(ADDRESS((COUNTIF($J$3:J98,IF(B98<>0,CONCATENATE(\"Auswertung \",B98,\"\"))))+4,7)))),\"\")","v":""},{"$f":"+IF(ISERROR(+INDIRECT(CONCATENATE(\"'\",J98,\"'!\",(ADDRESS((COUNTIF($J$3:J98,IF(B98<>0,CONCATENATE(\"Auswertung \",B98,\"\"))))+2,10)))))=FALSE,+INDIRECT(CONCATENATE(\"'\",J98,\"'!\",(ADDRESS((COUNTIF($J$3:J98,IF(B98<>0,CONCATENATE(\"Auswertung \",B98,\"\"))))+4,8)))),\"\")","v":""},{"$f":"+IF(ISERROR(+INDIRECT(CONCATENATE(\"'\",J98,\"'!\",(ADDRESS((COUNTIF($J$3:J98,IF(B98<>0,CONCATENATE(\"Auswertung \",B98,\"\"))))+2,11)))))=FALSE,+INDIRECT(CONCATENATE(\"'\",J98,\"'!\",(ADDRESS((COUNTIF($J$3:J98,IF(B98<>0,CONCATENATE(\"Auswertung \",B98,\"\"))))+4,9)))),\"\")","v":""},{"$f":"+IF(ISERROR(+INDIRECT(CONCATENATE(\"'\",J98,\"'!\",(ADDRESS((COUNTIF($J$3:J98,IF(B98<>0,CONCATENATE(\"Auswertung \",B98,\"\"))))+2,10)))))=FALSE,+INDIRECT(CONCATENATE(\"'\",J98,\"'!\",(ADDRESS((COUNTIF($J$3:J98,IF(B98<>0,CONCATENATE(\"Auswertung \",B98,\"\"))))+4,10)))),\"\")","v":""},{"$f":"+IF(ISERROR(+INDIRECT(CONCATENATE(\"'\",J98,\"'!\",(ADDRESS((COUNTIF($J$3:J98,IF(B98<>0,CONCATENATE(\"Auswertung \",B98,\"\"))))+2,11)))))=FALSE,+INDIRECT(CONCATENATE(\"'\",J98,\"'!\",(ADDRESS((COUNTIF($J$3:J98,IF(B98<>0,CONCATENATE(\"Auswertung \",B98,\"\"))))+4,11)))),\"\")","v":""},{"$f":"+IF(ISERROR(+INDIRECT(CONCATENATE(\"'\",J98,\"'!\",(ADDRESS((COUNTIF($J$3:J98,IF(D98<>0,CONCATENATE(\"Auswertung \",D98,\"\"))))+2,12)))))=FALSE,+INDIRECT(CONCATENATE(\"'\",J98,\"'!\",(ADDRESS((COUNTIF($J$3:J98,IF(D98<>0,CONCATENATE(\"Auswertung \",B98,\"\"))))+4,12)))),\"\")","v":""},{"$f":"+IF(ISERROR(+INDIRECT(CONCATENATE(\"'\",J98,\"'!\",(ADDRESS((COUNTIF($J$3:J98,IF(D98<>0,CONCATENATE(\"Auswertung \",D98,\"\"))))+2,13)))))=FALSE,+INDIRECT(CONCATENATE(\"'\",J98,\"'!\",(ADDRESS((COUNTIF($J$3:J98,IF(D98<>0,CONCATENATE(\"Auswertung \",B98,\"\"))))+4,13)))),\"\")","v":""},null,{"$f":"+IFERROR(INDIRECT(CONCATENATE(\"'\",J98,\"'!\",(ADDRESS((COUNTIF($J$3:J98,IF(B98<>0,J98)))+4,16)))),\"\")","v":""},21.942,{"$f":"+SUM($M$4:M98)/COUNT($M$4:M98)/1000*2","v":0.28281081081081083},{"$f":"+IFERROR(INDIRECT(CONCATENATE(\"'\",J98,\"'!\",(ADDRESS((COUNTIF($J$3:J98,IF(B98<>0,J98)))+4,18)))),\"\")","v":""},50.264000000000003,{"$f":"+IFERROR(INDIRECT(CONCATENATE(\"'\",J98,\"'!\",(ADDRESS((COUNTIF($J$3:J98,IF(B98<>0,J98)))+4,20)))),\"\")","v":""},44.247,{"$f":"+IFERROR(INDIRECT(CONCATENATE(\"'\",J98,\"'!\",(ADDRESS((COUNTIF($J$3:J98,IF(B98<>0,J98)))+4,22)))),\"\")","v":""},16.149999999999999,{"$f":"+IFERROR(INDIRECT(CONCATENATE(\"'\",J98,\"'!\",(ADDRESS((COUNTIF($J$3:J98,IF(B98<>0,J98)))+4,24)))),\"\")","v":""},-17.100999999999999,{"$f":"+IFERROR(INDIRECT(CONCATENATE(\"'\",J98,\"'!\",(ADDRESS((COUNTIF($J$3:J98,IF(B98<>0,J98)))+4,26)))),\"\")","v":""},-15.523999999999999,95,{"$f":"+SUM(COUNTIF($Z$3:Z98,1),COUNTIF($Z$3:Z98,-1))","v":37},{"$f":"+SUM($M$4:M98)","v":5232},141.40540540540542,{"$f":"+SUM(COUNTIF($Z$3:Z98,1))","v":19},{"$f":"+SUM(COUNTIF($Z$3:Z98,-1))","v":18},1,{"$f":"AN98*(HARMEAN((IF(SUM(COUNTIF($Z$3:Z98,1),COUNTIF($Z$3:Z98,-1))=0,1,SUM(COUNTIF($Z$3:Z98,1),COUNTIF($Z$3:Z98,-1)))),(IF(SUM(COUNTIF($AC$3:AC98,1),COUNTIF($AC$3:AC98,-1))=0,1,SUM(COUNTIF($AC$3:AC98,1),COUNTIF($AC$3:AC98,-1)))),(IF(SUM(COUNTIF($AE$3:AE98,1),COUNTIF($AE$3:AE98,-1))=0,1,SUM(COUNTIF($AE$3:AE98,1),COUNTIF($AE$3:AE98,-1)))),(IF(SUM(COUNTIF($AG$3:AG98,1),COUNTIF($AG$3:AG98,-1))=0,1,SUM(COUNTIF($AG$3:AG98,1),COUNTIF($AG$3:AG98,-1)))),(IF(SUM(COUNTIF($AI$3:AI98,1),COUNTIF($AI$3:AI98,-1))=0,1,SUM(COUNTIF($AI$3:AI98,1),COUNTIF($AI$3:AI98,-1)))),(IF(SUM(COUNTIF($AK$3:AK98,1),COUNTIF($AK$3:AK98,-1))=0,1,SUM(COUNTIF($AK$3:AK98,1),COUNTIF($AK$3:AK98,-1)))))/1000)","v":1.3027260075093867},21.942,null,{"$f":"+SUM(COUNTIF($AC$3:AC98,1),COUNTIF($AC$3:AC98,-1))","v":37},{"$f":"+SUM($O$4:O98)","v":5276},142.59459459459458,{"$f":"+SUM(COUNTIF($AC$3:AC98,1))","v":23},{"$f":"+SUM(COUNTIF($AC$3:AC98,-1))","v":14},9,{"$f":"AW98*(HARMEAN((IF(SUM(COUNTIF($Z$3:Z98,1),COUNTIF($Z$3:Z98,-1))=0,1,SUM(COUNTIF($Z$3:Z98,1),COUNTIF($Z$3:Z98,-1)))),(IF(SUM(COUNTIF($AC$3:AC98,1),COUNTIF($AC$3:AC98,-1))=0,1,SUM(COUNTIF($AC$3:AC98,1),COUNTIF($AC$3:AC98,-1)))),(IF(SUM(COUNTIF($AE$3:AE98,1),COUNTIF($AE$3:AE98,-1))=0,1,SUM(COUNTIF($AE$3:AE98,1),COUNTIF($AE$3:AE98,-1)))),(IF(SUM(COUNTIF($AG$3:AG98,1),COUNTIF($AG$3:AG98,-1))=0,1,SUM(COUNTIF($AG$3:AG98,1),COUNTIF($AG$3:AG98,-1)))),(IF(SUM(COUNTIF($AI$3:AI98,1),COUNTIF($AI$3:AI98,-1))=0,1,SUM(COUNTIF($AI$3:AI98,1),COUNTIF($AI$3:AI98,-1)))),(IF(SUM(COUNTIF($AK$3:AK98,1),COUNTIF($AK$3:AK98,-1))=0,1,SUM(COUNTIF($AK$3:AK98,1),COUNTIF($AK$3:AK98,-1)))))/1000)","v":1.3027260075093867},50.264000000000003,null,{"$f":"+SUM(COUNTIF($AE$3:AE98,1),COUNTIF(AE$3:$AE98,-1))","v":36},{"$f":"+SUM($Q$4:Q98)","v":4567},126.86111111111111,{"$f":"+SUM(COUNTIF($AE$3:AE98,1))","v":22},{"$f":"+SUM(COUNTIF($AE$3:AE98,-1))","v":14},8,{"$f":"BF98*(HARMEAN((IF(SUM(COUNTIF($Z$3:Z98,1),COUNTIF($Z$3:Z98,-1))=0,1,SUM(COUNTIF($Z$3:Z98,1),COUNTIF($Z$3:Z98,-1)))),(IF(SUM(COUNTIF($AC$3:AC98,1),COUNTIF($AC$3:AC98,-1))=0,1,SUM(COUNTIF($AC$3:AC98,1),COUNTIF($AC$3:AC98,-1)))),(IF(SUM(COUNTIF($AE$3:AE98,1),COUNTIF($AE$3:AE98,-1))=0,1,SUM(COUNTIF($AE$3:AE98,1),COUNTIF($AE$3:AE98,-1)))),(IF(SUM(COUNTIF($AG$3:AG98,1),COUNTIF($AG$3:AG98,-1))=0,1,SUM(COUNTIF($AG$3:AG98,1),COUNTIF($AG$3:AG98,-1)))),(IF(SUM(COUNTIF($AI$3:AI98,1),COUNTIF($AI$3:AI98,-1))=0,1,SUM(COUNTIF($AI$3:AI98,1),COUNTIF($AI$3:AI98,-1)))),(IF(SUM(COUNTIF($AK$3:AK98,1),COUNTIF($AK$3:AK98,-1))=0,1,SUM(COUNTIF($AK$3:AK98,1),COUNTIF($AK$3:AK98,-1)))))/1000)","v":1.2675171964956196},44.247,null,{"$f":"+SUM(COUNTIF($AG$3:AG98,1),COUNTIF($AG$3:AG98,-1))","v":37},{"$f":"+SUM($S$4:S98)","v":5587},151,{"$f":"+SUM(COUNTIF($AG$3:AG98,1))","v":18},{"$f":"+SUM(COUNTIF($AG$3:AG98,-1))","v":19},-1,{"$f":"BO98*(HARMEAN((IF(SUM(COUNTIF($Z$3:Z98,1),COUNTIF($Z$3:Z98,-1))=0,1,SUM(COUNTIF($Z$3:Z98,1),COUNTIF($Z$3:Z98,-1)))),(IF(SUM(COUNTIF($AC$3:AC98,1),COUNTIF($AC$3:AC98,-1))=0,1,SUM(COUNTIF($AC$3:AC98,1),COUNTIF($AC$3:AC98,-1)))),(IF(SUM(COUNTIF($AE$3:AE98,1),COUNTIF($AE$3:AE98,-1))=0,1,SUM(COUNTIF($AE$3:AE98,1),COUNTIF($AE$3:AE98,-1)))),(IF(SUM(COUNTIF($AG$3:AG98,1),COUNTIF($AG$3:AG98,-1))=0,1,SUM(COUNTIF($AG$3:AG98,1),COUNTIF($AG$3:AG98,-1)))),(IF(SUM(COUNTIF($AI$3:AI98,1),COUNTIF($AI$3:AI98,-1))=0,1,SUM(COUNTIF($AI$3:AI98,1),COUNTIF($AI$3:AI98,-1)))),(IF(SUM(COUNTIF($AK$3:AK98,1),COUNTIF($AK$3:AK98,-1))=0,1,SUM(COUNTIF($AK$3:AK98,1),COUNTIF($AK$3:AK98,-1)))))/1000)","v":1.3027260075093867},16.149999999999999,null,{"$f":"+SUM(COUNTIF($AI$3:AI98,1),COUNTIF($AI$3:AI98,-1))","v":33},{"$f":"+SUM($U$4:U98)","v":4143},125.54545454545455,{"$f":"+SUM(COUNTIF($AI$3:AI98,1))","v":12},{"$f":"+SUM(COUNTIF($AI$3:AI98,-1))","v":21},-9,{"$f":"+BX98*(HARMEAN((IF(SUM(COUNTIF($Z$3:Z98,1),COUNTIF($Z$3:Z98,-1))=0,1,SUM(COUNTIF($Z$3:Z98,1),COUNTIF($Z$3:Z98,-1)))),(IF(SUM(COUNTIF($AC$3:AC98,1),COUNTIF($AC$3:AC98,-1))=0,1,SUM(COUNTIF($AC$3:AC98,1),COUNTIF($AC$3:AC98,-1)))),(IF(SUM(COUNTIF($AE$3:AE98,1),COUNTIF($AE$3:AE98,-1))=0,1,SUM(COUNTIF($AE$3:AE98,1),COUNTIF($AE$3:AE98,-1)))),(IF(SUM(COUNTIF($AG$3:AG98,1),COUNTIF($AG$3:AG98,-1))=0,1,SUM(COUNTIF($AG$3:AG98,1),COUNTIF($AG$3:AG98,-1)))),(IF(SUM(COUNTIF($AI$3:AI98,1),COUNTIF($AI$3:AI98,-1))=0,1,SUM(COUNTIF($AI$3:AI98,1),COUNTIF($AI$3:AI98,-1)))),(IF(SUM(COUNTIF($AK$3:AK98,1),COUNTIF($AK$3:AK98,-1))=0,1,SUM(COUNTIF($AK$3:AK98,1),COUNTIF($AK$3:AK98,-1)))))/1000)","v":1.1618907634543179},-17.100999999999999,null,{"$f":"+SUM(COUNTIF($AK$3:AK98,1),COUNTIF($AK$3:AK98,-1))","v":32},{"$f":"+SUM($W$4:W98)","v":3591},112.21875,{"$f":"+SUM(COUNTIF($AK$3:AK98,1))","v":12},{"$f":"+SUM(COUNTIF($AK$3:AK98,-1))","v":20},-8,{"$f":"+CG98*(HARMEAN((IF(SUM(COUNTIF($Z$3:Z98,1),COUNTIF($Z$3:Z98,-1))=0,1,SUM(COUNTIF($Z$3:Z98,1),COUNTIF($Z$3:Z98,-1)))),(IF(SUM(COUNTIF($AC$3:AC98,1),COUNTIF($AC$3:AC98,-1))=0,1,SUM(COUNTIF($AC$3:AC98,1),COUNTIF($AC$3:AC98,-1)))),(IF(SUM(COUNTIF($AE$3:AE98,1),COUNTIF($AE$3:AE98,-1))=0,1,SUM(COUNTIF($AE$3:AE98,1),COUNTIF($AE$3:AE98,-1)))),(IF(SUM(COUNTIF($AG$3:AG98,1),COUNTIF($AG$3:AG98,-1))=0,1,SUM(COUNTIF($AG$3:AG98,1),COUNTIF($AG$3:AG98,-1)))),(IF(SUM(COUNTIF($AI$3:AI98,1),COUNTIF($AI$3:AI98,-1))=0,1,SUM(COUNTIF($AI$3:AI98,1),COUNTIF($AI$3:AI98,-1)))),(IF(SUM(COUNTIF($AK$3:AK98,1),COUNTIF($AK$3:AK98,-1))=0,1,SUM(COUNTIF($AK$3:AK98,1),COUNTIF($AK$3:AK98,-1)))))/1000)","v":1.1266819524405507},-15.523999999999999]
[96,"",null,{"$f":"+IFERROR(INDEX('Auswertung AoE II'!$AE:$AE,MATCH(A99,'Auswertung AoE II'!$AD:$AD,0)),\"\")","v":""},{"$f":"+IFERROR(INDEX('Auswertung AoE III'!$AE:$AE,MATCH(A99,'Auswertung AoE III'!$AD:$AD,0)),\"\")","v":""},{"$f":"+IFERROR(INDEX('Auswertung AoM'!$AE:$AE,MATCH(A99,'Auswertung AoM'!$AD:$AD,0)),\"\")","v":""},{"$f":"+IFERROR(INDEX('Auswertung RA'!$AE:$AE,MATCH(A99,'Auswertung RA'!$AD:$AD,0)),\"\")","v":""},{"$f":"+IFERROR(INDEX('Auswertung Yuri'!$AE:$AE,MATCH(A99,'Auswertung Yuri'!$AD:$AD,0)),\"\")","v":""},{"$f":"+IFERROR(INDEX('Auswertung Generals'!$AE:$AE,MATCH(A99,'Auswertung Generals'!$AD:$AD,0)),\"\")","v":""},"Auswertung ",null,null,{"$f":"+IF(ISERROR(+INDIRECT(CONCATENATE(\"'\",J99,\"'!\",(ADDRESS((COUNTIF($J$3:J99,IF(B99<>0,CONCATENATE(\"Auswertung \",B99,\"\"))))+2,2)))))=FALSE,+INDIRECT(CONCATENATE(\"'\",J99,\"'!\",(ADDRESS((COUNTIF($J$3:J99,IF(B99<>0,CONCATENATE(\"Auswertung \",B99,\"\"))))+4,2)))),\"\")","v":""},{"$f":"IF(ISERROR(+INDIRECT(CONCATENATE(\"'\",J99,\"'!\",(ADDRESS((COUNTIF($J$3:J99,IF(B99<>0,CONCATENATE(\"Auswertung \",B99,\"\"))))+2,2+1)))))=FALSE,+INDIRECT(CONCATENATE(\"'\",J99,\"'!\",(ADDRESS((COUNTIF($J$3:J99,IF(B99<>0,CONCATENATE(\"Auswertung \",B99,\"\"))))+4,2+1)))),\"\")","v":""},{"$f":"+IF(ISERROR(+INDIRECT(CONCATENATE(\"'\",J99,\"'!\",(ADDRESS((COUNTIF($J$3:J99,IF(B99<>0,CONCATENATE(\"Auswertung \",B99,\"\"))))+2,4)))))=FALSE,+INDIRECT(CONCATENATE(\"'\",J99,\"'!\",(ADDRESS((COUNTIF($J$3:J99,IF(B99<>0,CONCATENATE(\"Auswertung \",B99,\"\"))))+4,4)))),\"\")","v":""},{"$f":"+IF(ISERROR(+INDIRECT(CONCATENATE(\"'\",J99,\"'!\",(ADDRESS((COUNTIF($J$3:J99,IF(B99<>0,CONCATENATE(\"Auswertung \",B99,\"\"))))+2,5)))))=FALSE,+INDIRECT(CONCATENATE(\"'\",J99,\"'!\",(ADDRESS((COUNTIF($J$3:J99,IF(B99<>0,CONCATENATE(\"Auswertung \",B99,\"\"))))+4,5)))),\"\")","v":""},{"$f":"+IF(ISERROR(+INDIRECT(CONCATENATE(\"'\",J99,\"'!\",(ADDRESS((COUNTIF($J$3:J99,IF(B99<>0,CONCATENATE(\"Auswertung \",B99,\"\"))))+2,6)))))=FALSE,+INDIRECT(CONCATENATE(\"'\",J99,\"'!\",(ADDRESS((COUNTIF($J$3:J99,IF(B99<>0,CONCATENATE(\"Auswertung \",B99,\"\"))))+4,6)))),\"\")","v":""},{"$f":"+IF(ISERROR(+INDIRECT(CONCATENATE(\"'\",J99,\"'!\",(ADDRESS((COUNTIF($J$3:J99,IF(B99<>0,CONCATENATE(\"Auswertung \",B99,\"\"))))+2,7)))))=FALSE,+INDIRECT(CONCATENATE(\"'\",J99,\"'!\",(ADDRESS((COUNTIF($J$3:J99,IF(B99<>0,CONCATENATE(\"Auswertung \",B99,\"\"))))+4,7)))),\"\")","v":""},{"$f":"+IF(ISERROR(+INDIRECT(CONCATENATE(\"'\",J99,\"'!\",(ADDRESS((COUNTIF($J$3:J99,IF(B99<>0,CONCATENATE(\"Auswertung \",B99,\"\"))))+2,10)))))=FALSE,+INDIRECT(CONCATENATE(\"'\",J99,\"'!\",(ADDRESS((COUNTIF($J$3:J99,IF(B99<>0,CONCATENATE(\"Auswertung \",B99,\"\"))))+4,8)))),\"\")","v":""},{"$f":"+IF(ISERROR(+INDIRECT(CONCATENATE(\"'\",J99,\"'!\",(ADDRESS((COUNTIF($J$3:J99,IF(B99<>0,CONCATENATE(\"Auswertung \",B99,\"\"))))+2,11)))))=FALSE,+INDIRECT(CONCATENATE(\"'\",J99,\"'!\",(ADDRESS((COUNTIF($J$3:J99,IF(B99<>0,CONCATENATE(\"Auswertung \",B99,\"\"))))+4,9)))),\"\")","v":""},{"$f":"+IF(ISERROR(+INDIRECT(CONCATENATE(\"'\",J99,\"'!\",(ADDRESS((COUNTIF($J$3:J99,IF(B99<>0,CONCATENATE(\"Auswertung \",B99,\"\"))))+2,10)))))=FALSE,+INDIRECT(CONCATENATE(\"'\",J99,\"'!\",(ADDRESS((COUNTIF($J$3:J99,IF(B99<>0,CONCATENATE(\"Auswertung \",B99,\"\"))))+4,10)))),\"\")","v":""},{"$f":"+IF(ISERROR(+INDIRECT(CONCATENATE(\"'\",J99,\"'!\",(ADDRESS((COUNTIF($J$3:J99,IF(B99<>0,CONCATENATE(\"Auswertung \",B99,\"\"))))+2,11)))))=FALSE,+INDIRECT(CONCATENATE(\"'\",J99,\"'!\",(ADDRESS((COUNTIF($J$3:J99,IF(B99<>0,CONCATENATE(\"Auswertung \",B99,\"\"))))+4,11)))),\"\")","v":""},{"$f":"+IF(ISERROR(+INDIRECT(CONCATENATE(\"'\",J99,\"'!\",(ADDRESS((COUNTIF($J$3:J99,IF(D99<>0,CONCATENATE(\"Auswertung \",D99,\"\"))))+2,12)))))=FALSE,+INDIRECT(CONCATENATE(\"'\",J99,\"'!\",(ADDRESS((COUNTIF($J$3:J99,IF(D99<>0,CONCATENATE(\"Auswertung \",B99,\"\"))))+4,12)))),\"\")","v":""},{"$f":"+IF(ISERROR(+INDIRECT(CONCATENATE(\"'\",J99,\"'!\",(ADDRESS((COUNTIF($J$3:J99,IF(D99<>0,CONCATENATE(\"Auswertung \",D99,\"\"))))+2,13)))))=FALSE,+INDIRECT(CONCATENATE(\"'\",J99,\"'!\",(ADDRESS((COUNTIF($J$3:J99,IF(D99<>0,CONCATENATE(\"Auswertung \",B99,\"\"))))+4,13)))),\"\")","v":""},null,{"$f":"+IFERROR(INDIRECT(CONCATENATE(\"'\",J99,\"'!\",(ADDRESS((COUNTIF($J$3:J99,IF(B99<>0,J99)))+4,16)))),\"\")","v":""},21.942,{"$f":"+SUM($M$4:M99)/COUNT($M$4:M99)/1000*2","v":0.28281081081081083},{"$f":"+IFERROR(INDIRECT(CONCATENATE(\"'\",J99,\"'!\",(ADDRESS((COUNTIF($J$3:J99,IF(B99<>0,J99)))+4,18)))),\"\")","v":""},50.264000000000003,{"$f":"+IFERROR(INDIRECT(CONCATENATE(\"'\",J99,\"'!\",(ADDRESS((COUNTIF($J$3:J99,IF(B99<>0,J99)))+4,20)))),\"\")","v":""},44.247,{"$f":"+IFERROR(INDIRECT(CONCATENATE(\"'\",J99,\"'!\",(ADDRESS((COUNTIF($J$3:J99,IF(B99<>0,J99)))+4,22)))),\"\")","v":""},16.149999999999999,{"$f":"+IFERROR(INDIRECT(CONCATENATE(\"'\",J99,\"'!\",(ADDRESS((COUNTIF($J$3:J99,IF(B99<>0,J99)))+4,24)))),\"\")","v":""},-17.100999999999999,{"$f":"+IFERROR(INDIRECT(CONCATENATE(\"'\",J99,\"'!\",(ADDRESS((COUNTIF($J$3:J99,IF(B99<>0,J99)))+4,26)))),\"\")","v":""},-15.523999999999999,96,{"$f":"+SUM(COUNTIF($Z$3:Z99,1),COUNTIF($Z$3:Z99,-1))","v":37},{"$f":"+SUM($M$4:M99)","v":5232},141.40540540540542,{"$f":"+SUM(COUNTIF($Z$3:Z99,1))","v":19},{"$f":"+SUM(COUNTIF($Z$3:Z99,-1))","v":18},1,{"$f":"AN99*(HARMEAN((IF(SUM(COUNTIF($Z$3:Z99,1),COUNTIF($Z$3:Z99,-1))=0,1,SUM(COUNTIF($Z$3:Z99,1),COUNTIF($Z$3:Z99,-1)))),(IF(SUM(COUNTIF($AC$3:AC99,1),COUNTIF($AC$3:AC99,-1))=0,1,SUM(COUNTIF($AC$3:AC99,1),COUNTIF($AC$3:AC99,-1)))),(IF(SUM(COUNTIF($AE$3:AE99,1),COUNTIF($AE$3:AE99,-1))=0,1,SUM(COUNTIF($AE$3:AE99,1),COUNTIF($AE$3:AE99,-1)))),(IF(SUM(COUNTIF($AG$3:AG99,1),COUNTIF($AG$3:AG99,-1))=0,1,SUM(COUNTIF($AG$3:AG99,1),COUNTIF($AG$3:AG99,-1)))),(IF(SUM(COUNTIF($AI$3:AI99,1),COUNTIF($AI$3:AI99,-1))=0,1,SUM(COUNTIF($AI$3:AI99,1),COUNTIF($AI$3:AI99,-1)))),(IF(SUM(COUNTIF($AK$3:AK99,1),COUNTIF($AK$3:AK99,-1))=0,1,SUM(COUNTIF($AK$3:AK99,1),COUNTIF($AK$3:AK99,-1)))))/1000)","v":1.3027260075093867},21.942,null,{"$f":"+SUM(COUNTIF($AC$3:AC99,1),COUNTIF($AC$3:AC99,-1))","v":37},{"$f":"+SUM($O$4:O99)","v":5276},142.59459459459458,{"$f":"+SUM(COUNTIF($AC$3:AC99,1))","v":23},{"$f":"+SUM(COUNTIF($AC$3:AC99,-1))","v":14},9,{"$f":"AW99*(HARMEAN((IF(SUM(COUNTIF($Z$3:Z99,1),COUNTIF($Z$3:Z99,-1))=0,1,SUM(COUNTIF($Z$3:Z99,1),COUNTIF($Z$3:Z99,-1)))),(IF(SUM(COUNTIF($AC$3:AC99,1),COUNTIF($AC$3:AC99,-1))=0,1,SUM(COUNTIF($AC$3:AC99,1),COUNTIF($AC$3:AC99,-1)))),(IF(SUM(COUNTIF($AE$3:AE99,1),COUNTIF($AE$3:AE99,-1))=0,1,SUM(COUNTIF($AE$3:AE99,1),COUNTIF($AE$3:AE99,-1)))),(IF(SUM(COUNTIF($AG$3:AG99,1),COUNTIF($AG$3:AG99,-1))=0,1,SUM(COUNTIF($AG$3:AG99,1),COUNTIF($AG$3:AG99,-1)))),(IF(SUM(COUNTIF($AI$3:AI99,1),COUNTIF($AI$3:AI99,-1))=0,1,SUM(COUNTIF($AI$3:AI99,1),COUNTIF($AI$3:AI99,-1)))),(IF(SUM(COUNTIF($AK$3:AK99,1),COUNTIF($AK$3:AK99,-1))=0,1,SUM(COUNTIF($AK$3:AK99,1),COUNTIF($AK$3:AK99,-1)))))/1000)","v":1.3027260075093867},50.264000000000003,null,{"$f":"+SUM(COUNTIF($AE$3:AE99,1),COUNTIF(AE$3:$AE99,-1))","v":36},{"$f":"+SUM($Q$4:Q99)","v":4567},126.86111111111111,{"$f":"+SUM(COUNTIF($AE$3:AE99,1))","v":22},{"$f":"+SUM(COUNTIF($AE$3:AE99,-1))","v":14},8,{"$f":"BF99*(HARMEAN((IF(SUM(COUNTIF($Z$3:Z99,1),COUNTIF($Z$3:Z99,-1))=0,1,SUM(COUNTIF($Z$3:Z99,1),COUNTIF($Z$3:Z99,-1)))),(IF(SUM(COUNTIF($AC$3:AC99,1),COUNTIF($AC$3:AC99,-1))=0,1,SUM(COUNTIF($AC$3:AC99,1),COUNTIF($AC$3:AC99,-1)))),(IF(SUM(COUNTIF($AE$3:AE99,1),COUNTIF($AE$3:AE99,-1))=0,1,SUM(COUNTIF($AE$3:AE99,1),COUNTIF($AE$3:AE99,-1)))),(IF(SUM(COUNTIF($AG$3:AG99,1),COUNTIF($AG$3:AG99,-1))=0,1,SUM(COUNTIF($AG$3:AG99,1),COUNTIF($AG$3:AG99,-1)))),(IF(SUM(COUNTIF($AI$3:AI99,1),COUNTIF($AI$3:AI99,-1))=0,1,SUM(COUNTIF($AI$3:AI99,1),COUNTIF($AI$3:AI99,-1)))),(IF(SUM(COUNTIF($AK$3:AK99,1),COUNTIF($AK$3:AK99,-1))=0,1,SUM(COUNTIF($AK$3:AK99,1),COUNTIF($AK$3:AK99,-1)))))/1000)","v":1.2675171964956196},44.247,null,{"$f":"+SUM(COUNTIF($AG$3:AG99,1),COUNTIF($AG$3:AG99,-1))","v":37},{"$f":"+SUM($S$4:S99)","v":5587},151,{"$f":"+SUM(COUNTIF($AG$3:AG99,1))","v":18},{"$f":"+SUM(COUNTIF($AG$3:AG99,-1))","v":19},-1,{"$f":"BO99*(HARMEAN((IF(SUM(COUNTIF($Z$3:Z99,1),COUNTIF($Z$3:Z99,-1))=0,1,SUM(COUNTIF($Z$3:Z99,1),COUNTIF($Z$3:Z99,-1)))),(IF(SUM(COUNTIF($AC$3:AC99,1),COUNTIF($AC$3:AC99,-1))=0,1,SUM(COUNTIF($AC$3:AC99,1),COUNTIF($AC$3:AC99,-1)))),(IF(SUM(COUNTIF($AE$3:AE99,1),COUNTIF($AE$3:AE99,-1))=0,1,SUM(COUNTIF($AE$3:AE99,1),COUNTIF($AE$3:AE99,-1)))),(IF(SUM(COUNTIF($AG$3:AG99,1),COUNTIF($AG$3:AG99,-1))=0,1,SUM(COUNTIF($AG$3:AG99,1),COUNTIF($AG$3:AG99,-1)))),(IF(SUM(COUNTIF($AI$3:AI99,1),COUNTIF($AI$3:AI99,-1))=0,1,SUM(COUNTIF($AI$3:AI99,1),COUNTIF($AI$3:AI99,-1)))),(IF(SUM(COUNTIF($AK$3:AK99,1),COUNTIF($AK$3:AK99,-1))=0,1,SUM(COUNTIF($AK$3:AK99,1),COUNTIF($AK$3:AK99,-1)))))/1000)","v":1.3027260075093867},16.149999999999999,null,{"$f":"+SUM(COUNTIF($AI$3:AI99,1),COUNTIF($AI$3:AI99,-1))","v":33},{"$f":"+SUM($U$4:U99)","v":4143},125.54545454545455,{"$f":"+SUM(COUNTIF($AI$3:AI99,1))","v":12},{"$f":"+SUM(COUNTIF($AI$3:AI99,-1))","v":21},-9,{"$f":"+BX99*(HARMEAN((IF(SUM(COUNTIF($Z$3:Z99,1),COUNTIF($Z$3:Z99,-1))=0,1,SUM(COUNTIF($Z$3:Z99,1),COUNTIF($Z$3:Z99,-1)))),(IF(SUM(COUNTIF($AC$3:AC99,1),COUNTIF($AC$3:AC99,-1))=0,1,SUM(COUNTIF($AC$3:AC99,1),COUNTIF($AC$3:AC99,-1)))),(IF(SUM(COUNTIF($AE$3:AE99,1),COUNTIF($AE$3:AE99,-1))=0,1,SUM(COUNTIF($AE$3:AE99,1),COUNTIF($AE$3:AE99,-1)))),(IF(SUM(COUNTIF($AG$3:AG99,1),COUNTIF($AG$3:AG99,-1))=0,1,SUM(COUNTIF($AG$3:AG99,1),COUNTIF($AG$3:AG99,-1)))),(IF(SUM(COUNTIF($AI$3:AI99,1),COUNTIF($AI$3:AI99,-1))=0,1,SUM(COUNTIF($AI$3:AI99,1),COUNTIF($AI$3:AI99,-1)))),(IF(SUM(COUNTIF($AK$3:AK99,1),COUNTIF($AK$3:AK99,-1))=0,1,SUM(COUNTIF($AK$3:AK99,1),COUNTIF($AK$3:AK99,-1)))))/1000)","v":1.1618907634543179},-17.100999999999999,null,{"$f":"+SUM(COUNTIF($AK$3:AK99,1),COUNTIF($AK$3:AK99,-1))","v":32},{"$f":"+SUM($W$4:W99)","v":3591},112.21875,{"$f":"+SUM(COUNTIF($AK$3:AK99,1))","v":12},{"$f":"+SUM(COUNTIF($AK$3:AK99,-1))","v":20},-8,{"$f":"+CG99*(HARMEAN((IF(SUM(COUNTIF($Z$3:Z99,1),COUNTIF($Z$3:Z99,-1))=0,1,SUM(COUNTIF($Z$3:Z99,1),COUNTIF($Z$3:Z99,-1)))),(IF(SUM(COUNTIF($AC$3:AC99,1),COUNTIF($AC$3:AC99,-1))=0,1,SUM(COUNTIF($AC$3:AC99,1),COUNTIF($AC$3:AC99,-1)))),(IF(SUM(COUNTIF($AE$3:AE99,1),COUNTIF($AE$3:AE99,-1))=0,1,SUM(COUNTIF($AE$3:AE99,1),COUNTIF($AE$3:AE99,-1)))),(IF(SUM(COUNTIF($AG$3:AG99,1),COUNTIF($AG$3:AG99,-1))=0,1,SUM(COUNTIF($AG$3:AG99,1),COUNTIF($AG$3:AG99,-1)))),(IF(SUM(COUNTIF($AI$3:AI99,1),COUNTIF($AI$3:AI99,-1))=0,1,SUM(COUNTIF($AI$3:AI99,1),COUNTIF($AI$3:AI99,-1)))),(IF(SUM(COUNTIF($AK$3:AK99,1),COUNTIF($AK$3:AK99,-1))=0,1,SUM(COUNTIF($AK$3:AK99,1),COUNTIF($AK$3:AK99,-1)))))/1000)","v":1.1266819524405507},-15.523999999999999]
[97,"",null,{"$f":"+IFERROR(INDEX('Auswertung AoE II'!$AE:$AE,MATCH(A100,'Auswertung AoE II'!$AD:$AD,0)),\"\")","v":""},{"$f":"+IFERROR(INDEX('Auswertung AoE III'!$AE:$AE,MATCH(A100,'Auswertung AoE III'!$AD:$AD,0)),\"\")","v":""},{"$f":"+IFERROR(INDEX('Auswertung AoM'!$AE:$AE,MATCH(A100,'Auswertung AoM'!$AD:$AD,0)),\"\")","v":""},{"$f":"+IFERROR(INDEX('Auswertung RA'!$AE:$AE,MATCH(A100,'Auswertung RA'!$AD:$AD,0)),\"\")","v":""},{"$f":"+IFERROR(INDEX('Auswertung Yuri'!$AE:$AE,MATCH(A100,'Auswertung Yuri'!$AD:$AD,0)),\"\")","v":""},{"$f":"+IFERROR(INDEX('Auswertung Generals'!$AE:$AE,MATCH(A100,'Auswertung Generals'!$AD:$AD,0)),\"\")","v":""},"Auswertung ",null,null,{"$f":"+IF(ISERROR(+INDIRECT(CONCATENATE(\"'\",J100,\"'!\",(ADDRESS((COUNTIF($J$3:J100,IF(B100<>0,CONCATENATE(\"Auswertung \",B100,\"\"))))+2,2)))))=FALSE,+INDIRECT(CONCATENATE(\"'\",J100,\"'!\",(ADDRESS((COUNTIF($J$3:J100,IF(B100<>0,CONCATENATE(\"Auswertung \",B100,\"\"))))+4,2)))),\"\")","v":""},{"$f":"IF(ISERROR(+INDIRECT(CONCATENATE(\"'\",J100,\"'!\",(ADDRESS((COUNTIF($J$3:J100,IF(B100<>0,CONCATENATE(\"Auswertung \",B100,\"\"))))+2,2+1)))))=FALSE,+INDIRECT(CONCATENATE(\"'\",J100,\"'!\",(ADDRESS((COUNTIF($J$3:J100,IF(B100<>0,CONCATENATE(\"Auswertung \",B100,\"\"))))+4,2+1)))),\"\")","v":""},{"$f":"+IF(ISERROR(+INDIRECT(CONCATENATE(\"'\",J100,\"'!\",(ADDRESS((COUNTIF($J$3:J100,IF(B100<>0,CONCATENATE(\"Auswertung \",B100,\"\"))))+2,4)))))=FALSE,+INDIRECT(CONCATENATE(\"'\",J100,\"'!\",(ADDRESS((COUNTIF($J$3:J100,IF(B100<>0,CONCATENATE(\"Auswertung \",B100,\"\"))))+4,4)))),\"\")","v":""},{"$f":"+IF(ISERROR(+INDIRECT(CONCATENATE(\"'\",J100,\"'!\",(ADDRESS((COUNTIF($J$3:J100,IF(B100<>0,CONCATENATE(\"Auswertung \",B100,\"\"))))+2,5)))))=FALSE,+INDIRECT(CONCATENATE(\"'\",J100,\"'!\",(ADDRESS((COUNTIF($J$3:J100,IF(B100<>0,CONCATENATE(\"Auswertung \",B100,\"\"))))+4,5)))),\"\")","v":""},{"$f":"+IF(ISERROR(+INDIRECT(CONCATENATE(\"'\",J100,\"'!\",(ADDRESS((COUNTIF($J$3:J100,IF(B100<>0,CONCATENATE(\"Auswertung \",B100,\"\"))))+2,6)))))=FALSE,+INDIRECT(CONCATENATE(\"'\",J100,\"'!\",(ADDRESS((COUNTIF($J$3:J100,IF(B100<>0,CONCATENATE(\"Auswertung \",B100,\"\"))))+4,6)))),\"\")","v":""},{"$f":"+IF(ISERROR(+INDIRECT(CONCATENATE(\"'\",J100,\"'!\",(ADDRESS((COUNTIF($J$3:J100,IF(B100<>0,CONCATENATE(\"Auswertung \",B100,\"\"))))+2,7)))))=FALSE,+INDIRECT(CONCATENATE(\"'\",J100,\"'!\",(ADDRESS((COUNTIF($J$3:J100,IF(B100<>0,CONCATENATE(\"Auswertung \",B100,\"\"))))+4,7)))),\"\")","v":""},{"$f":"+IF(ISERROR(+INDIRECT(CONCATENATE(\"'\",J100,\"'!\",(ADDRESS((COUNTIF($J$3:J100,IF(B100<>0,CONCATENATE(\"Auswertung \",B100,\"\"))))+2,10)))))=FALSE,+INDIRECT(CONCATENATE(\"'\",J100,\"'!\",(ADDRESS((COUNTIF($J$3:J100,IF(B100<>0,CONCATENATE(\"Auswertung \",B100,\"\"))))+4,8)))),\"\")","v":""},{"$f":"+IF(ISERROR(+INDIRECT(CONCATENATE(\"'\",J100,\"'!\",(ADDRESS((COUNTIF($J$3:J100,IF(B100<>0,CONCATENATE(\"Auswertung \",B100,\"\"))))+2,11)))))=FALSE,+INDIRECT(CONCATENATE(\"'\",J100,\"'!\",(ADDRESS((COUNTIF($J$3:J100,IF(B100<>0,CONCATENATE(\"Auswertung \",B100,\"\"))))+4,9)))),\"\")","v":""},{"$f":"+IF(ISERROR(+INDIRECT(CONCATENATE(\"'\",J100,\"'!\",(ADDRESS((COUNTIF($J$3:J100,IF(B100<>0,CONCATENATE(\"Auswertung \",B100,\"\"))))+2,10)))))=FALSE,+INDIRECT(CONCATENATE(\"'\",J100,\"'!\",(ADDRESS((COUNTIF($J$3:J100,IF(B100<>0,CONCATENATE(\"Auswertung \",B100,\"\"))))+4,10)))),\"\")","v":""},{"$f":"+IF(ISERROR(+INDIRECT(CONCATENATE(\"'\",J100,\"'!\",(ADDRESS((COUNTIF($J$3:J100,IF(B100<>0,CONCATENATE(\"Auswertung \",B100,\"\"))))+2,11)))))=FALSE,+INDIRECT(CONCATENATE(\"'\",J100,\"'!\",(ADDRESS((COUNTIF($J$3:J100,IF(B100<>0,CONCATENATE(\"Auswertung \",B100,\"\"))))+4,11)))),\"\")","v":""},{"$f":"+IF(ISERROR(+INDIRECT(CONCATENATE(\"'\",J100,\"'!\",(ADDRESS((COUNTIF($J$3:J100,IF(D100<>0,CONCATENATE(\"Auswertung \",D100,\"\"))))+2,12)))))=FALSE,+INDIRECT(CONCATENATE(\"'\",J100,\"'!\",(ADDRESS((COUNTIF($J$3:J100,IF(D100<>0,CONCATENATE(\"Auswertung \",B100,\"\"))))+4,12)))),\"\")","v":""},{"$f":"+IF(ISERROR(+INDIRECT(CONCATENATE(\"'\",J100,\"'!\",(ADDRESS((COUNTIF($J$3:J100,IF(D100<>0,CONCATENATE(\"Auswertung \",D100,\"\"))))+2,13)))))=FALSE,+INDIRECT(CONCATENATE(\"'\",J100,\"'!\",(ADDRESS((COUNTIF($J$3:J100,IF(D100<>0,CONCATENATE(\"Auswertung \",B100,\"\"))))+4,13)))),\"\")","v":""},null,{"$f":"+IFERROR(INDIRECT(CONCATENATE(\"'\",J100,\"'!\",(ADDRESS((COUNTIF($J$3:J100,IF(B100<>0,J100)))+4,16)))),\"\")","v":""},21.942,{"$f":"+SUM($M$4:M100)/COUNT($M$4:M100)/1000*2","v":0.28281081081081083},{"$f":"+IFERROR(INDIRECT(CONCATENATE(\"'\",J100,\"'!\",(ADDRESS((COUNTIF($J$3:J100,IF(B100<>0,J100)))+4,18)))),\"\")","v":""},50.264000000000003,{"$f":"+IFERROR(INDIRECT(CONCATENATE(\"'\",J100,\"'!\",(ADDRESS((COUNTIF($J$3:J100,IF(B100<>0,J100)))+4,20)))),\"\")","v":""},44.247,{"$f":"+IFERROR(INDIRECT(CONCATENATE(\"'\",J100,\"'!\",(ADDRESS((COUNTIF($J$3:J100,IF(B100<>0,J100)))+4,22)))),\"\")","v":""},16.149999999999999,{"$f":"+IFERROR(INDIRECT(CONCATENATE(\"'\",J100,\"'!\",(ADDRESS((COUNTIF($J$3:J100,IF(B100<>0,J100)))+4,24)))),\"\")","v":""},-17.100999999999999,{"$f":"+IFERROR(INDIRECT(CONCATENATE(\"'\",J100,\"'!\",(ADDRESS((COUNTIF($J$3:J100,IF(B100<>0,J100)))+4,26)))),\"\")","v":""},-15.523999999999999,97,{"$f":"+SUM(COUNTIF($Z$3:Z100,1),COUNTIF($Z$3:Z100,-1))","v":37},{"$f":"+SUM($M$4:M100)","v":5232},141.40540540540542,{"$f":"+SUM(COUNTIF($Z$3:Z100,1))","v":19},{"$f":"+SUM(COUNTIF($Z$3:Z100,-1))","v":18},1,{"$f":"AN100*(HARMEAN((IF(SUM(COUNTIF($Z$3:Z100,1),COUNTIF($Z$3:Z100,-1))=0,1,SUM(COUNTIF($Z$3:Z100,1),COUNTIF($Z$3:Z100,-1)))),(IF(SUM(COUNTIF($AC$3:AC100,1),COUNTIF($AC$3:AC100,-1))=0,1,SUM(COUNTIF($AC$3:AC100,1),COUNTIF($AC$3:AC100,-1)))),(IF(SUM(COUNTIF($AE$3:AE100,1),COUNTIF($AE$3:AE100,-1))=0,1,SUM(COUNTIF($AE$3:AE100,1),COUNTIF($AE$3:AE100,-1)))),(IF(SUM(COUNTIF($AG$3:AG100,1),COUNTIF($AG$3:AG100,-1))=0,1,SUM(COUNTIF($AG$3:AG100,1),COUNTIF($AG$3:AG100,-1)))),(IF(SUM(COUNTIF($AI$3:AI100,1),COUNTIF($AI$3:AI100,-1))=0,1,SUM(COUNTIF($AI$3:AI100,1),COUNTIF($AI$3:AI100,-1)))),(IF(SUM(COUNTIF($AK$3:AK100,1),COUNTIF($AK$3:AK100,-1))=0,1,SUM(COUNTIF($AK$3:AK100,1),COUNTIF($AK$3:AK100,-1)))))/1000)","v":1.3027260075093867},21.942,null,{"$f":"+SUM(COUNTIF($AC$3:AC100,1),COUNTIF($AC$3:AC100,-1))","v":37},{"$f":"+SUM($O$4:O100)","v":5276},142.59459459459458,{"$f":"+SUM(COUNTIF($AC$3:AC100,1))","v":23},{"$f":"+SUM(COUNTIF($AC$3:AC100,-1))","v":14},9,{"$f":"AW100*(HARMEAN((IF(SUM(COUNTIF($Z$3:Z100,1),COUNTIF($Z$3:Z100,-1))=0,1,SUM(COUNTIF($Z$3:Z100,1),COUNTIF($Z$3:Z100,-1)))),(IF(SUM(COUNTIF($AC$3:AC100,1),COUNTIF($AC$3:AC100,-1))=0,1,SUM(COUNTIF($AC$3:AC100,1),COUNTIF($AC$3:AC100,-1)))),(IF(SUM(COUNTIF($AE$3:AE100,1),COUNTIF($AE$3:AE100,-1))=0,1,SUM(COUNTIF($AE$3:AE100,1),COUNTIF($AE$3:AE100,-1)))),(IF(SUM(COUNTIF($AG$3:AG100,1),COUNTIF($AG$3:AG100,-1))=0,1,SUM(COUNTIF($AG$3:AG100,1),COUNTIF($AG$3:AG100,-1)))),(IF(SUM(COUNTIF($AI$3:AI100,1),COUNTIF($AI$3:AI100,-1))=0,1,SUM(COUNTIF($AI$3:AI100,1),COUNTIF($AI$3:AI100,-1)))),(IF(SUM(COUNTIF($AK$3:AK100,1),COUNTIF($AK$3:AK100,-1))=0,1,SUM(COUNTIF($AK$3:AK100,1),COUNTIF($AK$3:AK100,-1)))))/1000)","v":1.3027260075093867},50.264000000000003,null,{"$f":"+SUM(COUNTIF($AE$3:AE100,1),COUNTIF(AE$3:$AE100,-1))","v":36},{"$f":"+SUM($Q$4:Q100)","v":4567},126.86111111111111,{"$f":"+SUM(COUNTIF($AE$3:AE100,1))","v":22},{"$f":"+SUM(COUNTIF($AE$3:AE100,-1))","v":14},8,{"$f":"BF100*(HARMEAN((IF(SUM(COUNTIF($Z$3:Z100,1),COUNTIF($Z$3:Z100,-1))=0,1,SUM(COUNTIF($Z$3:Z100,1),COUNTIF($Z$3:Z100,-1)))),(IF(SUM(COUNTIF($AC$3:AC100,1),COUNTIF($AC$3:AC100,-1))=0,1,SUM(COUNTIF($AC$3:AC100,1),COUNTIF($AC$3:AC100,-1)))),(IF(SUM(COUNTIF($AE$3:AE100,1),COUNTIF($AE$3:AE100,-1))=0,1,SUM(COUNTIF($AE$3:AE100,1),COUNTIF($AE$3:AE100,-1)))),(IF(SUM(COUNTIF($AG$3:AG100,1),COUNTIF($AG$3:AG100,-1))=0,1,SUM(COUNTIF($AG$3:AG100,1),COUNTIF($AG$3:AG100,-1)))),(IF(SUM(COUNTIF($AI$3:AI100,1),COUNTIF($AI$3:AI100,-1))=0,1,SUM(COUNTIF($AI$3:AI100,1),COUNTIF($AI$3:AI100,-1)))),(IF(SUM(COUNTIF($AK$3:AK100,1),COUNTIF($AK$3:AK100,-1))=0,1,SUM(COUNTIF($AK$3:AK100,1),COUNTIF($AK$3:AK100,-1)))))/1000)","v":1.2675171964956196},44.247,null,{"$f":"+SUM(COUNTIF($AG$3:AG100,1),COUNTIF($AG$3:AG100,-1))","v":37},{"$f":"+SUM($S$4:S100)","v":5587},151,{"$f":"+SUM(COUNTIF($AG$3:AG100,1))","v":18},{"$f":"+SUM(COUNTIF($AG$3:AG100,-1))","v":19},-1,{"$f":"BO100*(HARMEAN((IF(SUM(COUNTIF($Z$3:Z100,1),COUNTIF($Z$3:Z100,-1))=0,1,SUM(COUNTIF($Z$3:Z100,1),COUNTIF($Z$3:Z100,-1)))),(IF(SUM(COUNTIF($AC$3:AC100,1),COUNTIF($AC$3:AC100,-1))=0,1,SUM(COUNTIF($AC$3:AC100,1),COUNTIF($AC$3:AC100,-1)))),(IF(SUM(COUNTIF($AE$3:AE100,1),COUNTIF($AE$3:AE100,-1))=0,1,SUM(COUNTIF($AE$3:AE100,1),COUNTIF($AE$3:AE100,-1)))),(IF(SUM(COUNTIF($AG$3:AG100,1),COUNTIF($AG$3:AG100,-1))=0,1,SUM(COUNTIF($AG$3:AG100,1),COUNTIF($AG$3:AG100,-1)))),(IF(SUM(COUNTIF($AI$3:AI100,1),COUNTIF($AI$3:AI100,-1))=0,1,SUM(COUNTIF($AI$3:AI100,1),COUNTIF($AI$3:AI100,-1)))),(IF(SUM(COUNTIF($AK$3:AK100,1),COUNTIF($AK$3:AK100,-1))=0,1,SUM(COUNTIF($AK$3:AK100,1),COUNTIF($AK$3:AK100,-1)))))/1000)","v":1.3027260075093867},16.149999999999999,null,{"$f":"+SUM(COUNTIF($AI$3:AI100,1),COUNTIF($AI$3:AI100,-1))","v":33},{"$f":"+SUM($U$4:U100)","v":4143},125.54545454545455,{"$f":"+SUM(COUNTIF($AI$3:AI100,1))","v":12},{"$f":"+SUM(COUNTIF($AI$3:AI100,-1))","v":21},-9,{"$f":"+BX100*(HARMEAN((IF(SUM(COUNTIF($Z$3:Z100,1),COUNTIF($Z$3:Z100,-1))=0,1,SUM(COUNTIF($Z$3:Z100,1),COUNTIF($Z$3:Z100,-1)))),(IF(SUM(COUNTIF($AC$3:AC100,1),COUNTIF($AC$3:AC100,-1))=0,1,SUM(COUNTIF($AC$3:AC100,1),COUNTIF($AC$3:AC100,-1)))),(IF(SUM(COUNTIF($AE$3:AE100,1),COUNTIF($AE$3:AE100,-1))=0,1,SUM(COUNTIF($AE$3:AE100,1),COUNTIF($AE$3:AE100,-1)))),(IF(SUM(COUNTIF($AG$3:AG100,1),COUNTIF($AG$3:AG100,-1))=0,1,SUM(COUNTIF($AG$3:AG100,1),COUNTIF($AG$3:AG100,-1)))),(IF(SUM(COUNTIF($AI$3:AI100,1),COUNTIF($AI$3:AI100,-1))=0,1,SUM(COUNTIF($AI$3:AI100,1),COUNTIF($AI$3:AI100,-1)))),(IF(SUM(COUNTIF($AK$3:AK100,1),COUNTIF($AK$3:AK100,-1))=0,1,SUM(COUNTIF($AK$3:AK100,1),COUNTIF($AK$3:AK100,-1)))))/1000)","v":1.1618907634543179},-17.100999999999999,null,{"$f":"+SUM(COUNTIF($AK$3:AK100,1),COUNTIF($AK$3:AK100,-1))","v":32},{"$f":"+SUM($W$4:W100)","v":3591},112.21875,{"$f":"+SUM(COUNTIF($AK$3:AK100,1))","v":12},{"$f":"+SUM(COUNTIF($AK$3:AK100,-1))","v":20},-8,{"$f":"+CG100*(HARMEAN((IF(SUM(COUNTIF($Z$3:Z100,1),COUNTIF($Z$3:Z100,-1))=0,1,SUM(COUNTIF($Z$3:Z100,1),COUNTIF($Z$3:Z100,-1)))),(IF(SUM(COUNTIF($AC$3:AC100,1),COUNTIF($AC$3:AC100,-1))=0,1,SUM(COUNTIF($AC$3:AC100,1),COUNTIF($AC$3:AC100,-1)))),(IF(SUM(COUNTIF($AE$3:AE100,1),COUNTIF($AE$3:AE100,-1))=0,1,SUM(COUNTIF($AE$3:AE100,1),COUNTIF($AE$3:AE100,-1)))),(IF(SUM(COUNTIF($AG$3:AG100,1),COUNTIF($AG$3:AG100,-1))=0,1,SUM(COUNTIF($AG$3:AG100,1),COUNTIF($AG$3:AG100,-1)))),(IF(SUM(COUNTIF($AI$3:AI100,1),COUNTIF($AI$3:AI100,-1))=0,1,SUM(COUNTIF($AI$3:AI100,1),COUNTIF($AI$3:AI100,-1)))),(IF(SUM(COUNTIF($AK$3:AK100,1),COUNTIF($AK$3:AK100,-1))=0,1,SUM(COUNTIF($AK$3:AK100,1),COUNTIF($AK$3:AK100,-1)))))/1000)","v":1.1266819524405507},-15.523999999999999]
[98,"",null,{"$f":"+IFERROR(INDEX('Auswertung AoE II'!$AE:$AE,MATCH(A101,'Auswertung AoE II'!$AD:$AD,0)),\"\")","v":""},{"$f":"+IFERROR(INDEX('Auswertung AoE III'!$AE:$AE,MATCH(A101,'Auswertung AoE III'!$AD:$AD,0)),\"\")","v":""},{"$f":"+IFERROR(INDEX('Auswertung AoM'!$AE:$AE,MATCH(A101,'Auswertung AoM'!$AD:$AD,0)),\"\")","v":""},{"$f":"+IFERROR(INDEX('Auswertung RA'!$AE:$AE,MATCH(A101,'Auswertung RA'!$AD:$AD,0)),\"\")","v":""},{"$f":"+IFERROR(INDEX('Auswertung Yuri'!$AE:$AE,MATCH(A101,'Auswertung Yuri'!$AD:$AD,0)),\"\")","v":""},{"$f":"+IFERROR(INDEX('Auswertung Generals'!$AE:$AE,MATCH(A101,'Auswertung Generals'!$AD:$AD,0)),\"\")","v":""},"Auswertung ",null,null,{"$f":"+IF(ISERROR(+INDIRECT(CONCATENATE(\"'\",J101,\"'!\",(ADDRESS((COUNTIF($J$3:J101,IF(B101<>0,CONCATENATE(\"Auswertung \",B101,\"\"))))+2,2)))))=FALSE,+INDIRECT(CONCATENATE(\"'\",J101,\"'!\",(ADDRESS((COUNTIF($J$3:J101,IF(B101<>0,CONCATENATE(\"Auswertung \",B101,\"\"))))+4,2)))),\"\")","v":""},{"$f":"IF(ISERROR(+INDIRECT(CONCATENATE(\"'\",J101,\"'!\",(ADDRESS((COUNTIF($J$3:J101,IF(B101<>0,CONCATENATE(\"Auswertung \",B101,\"\"))))+2,2+1)))))=FALSE,+INDIRECT(CONCATENATE(\"'\",J101,\"'!\",(ADDRESS((COUNTIF($J$3:J101,IF(B101<>0,CONCATENATE(\"Auswertung \",B101,\"\"))))+4,2+1)))),\"\")","v":""},{"$f":"+IF(ISERROR(+INDIRECT(CONCATENATE(\"'\",J101,\"'!\",(ADDRESS((COUNTIF($J$3:J101,IF(B101<>0,CONCATENATE(\"Auswertung \",B101,\"\"))))+2,4)))))=FALSE,+INDIRECT(CONCATENATE(\"'\",J101,\"'!\",(ADDRESS((COUNTIF($J$3:J101,IF(B101<>0,CONCATENATE(\"Auswertung \",B101,\"\"))))+4,4)))),\"\")","v":""},{"$f":"+IF(ISERROR(+INDIRECT(CONCATENATE(\"'\",J101,\"'!\",(ADDRESS((COUNTIF($J$3:J101,IF(B101<>0,CONCATENATE(\"Auswertung \",B101,\"\"))))+2,5)))))=FALSE,+INDIRECT(CONCATENATE(\"'\",J101,\"'!\",(ADDRESS((COUNTIF($J$3:J101,IF(B101<>0,CONCATENATE(\"Auswertung \",B101,\"\"))))+4,5)))),\"\")","v":""},{"$f":"+IF(ISERROR(+INDIRECT(CONCATENATE(\"'\",J101,\"'!\",(ADDRESS((COUNTIF($J$3:J101,IF(B101<>0,CONCATENATE(\"Auswertung \",B101,\"\"))))+2,6)))))=FALSE,+INDIRECT(CONCATENATE(\"'\",J101,\"'!\",(ADDRESS((COUNTIF($J$3:J101,IF(B101<>0,CONCATENATE(\"Auswertung \",B101,\"\"))))+4,6)))),\"\")","v":""},{"$f":"+IF(ISERROR(+INDIRECT(CONCATENATE(\"'\",J101,\"'!\",(ADDRESS((COUNTIF($J$3:J101,IF(B101<>0,CONCATENATE(\"Auswertung \",B101,\"\"))))+2,7)))))=FALSE,+INDIRECT(CONCATENATE(\"'\",J101,\"'!\",(ADDRESS((COUNTIF($J$3:J101,IF(B101<>0,CONCATENATE(\"Auswertung \",B101,\"\"))))+4,7)))),\"\")","v":""},{"$f":"+IF(ISERROR(+INDIRECT(CONCATENATE(\"'\",J101,\"'!\",(ADDRESS((COUNTIF($J$3:J101,IF(B101<>0,CONCATENATE(\"Auswertung \",B101,\"\"))))+2,10)))))=FALSE,+INDIRECT(CONCATENATE(\"'\",J101,\"'!\",(ADDRESS((COUNTIF($J$3:J101,IF(B101<>0,CONCATENATE(\"Auswertung \",B101,\"\"))))+4,8)))),\"\")","v":""},{"$f":"+IF(ISERROR(+INDIRECT(CONCATENATE(\"'\",J101,\"'!\",(ADDRESS((COUNTIF($J$3:J101,IF(B101<>0,CONCATENATE(\"Auswertung \",B101,\"\"))))+2,11)))))=FALSE,+INDIRECT(CONCATENATE(\"'\",J101,\"'!\",(ADDRESS((COUNTIF($J$3:J101,IF(B101<>0,CONCATENATE(\"Auswertung \",B101,\"\"))))+4,9)))),\"\")","v":""},{"$f":"+IF(ISERROR(+INDIRECT(CONCATENATE(\"'\",J101,\"'!\",(ADDRESS((COUNTIF($J$3:J101,IF(B101<>0,CONCATENATE(\"Auswertung \",B101,\"\"))))+2,10)))))=FALSE,+INDIRECT(CONCATENATE(\"'\",J101,\"'!\",(ADDRESS((COUNTIF($J$3:J101,IF(B101<>0,CONCATENATE(\"Auswertung \",B101,\"\"))))+4,10)))),\"\")","v":""},{"$f":"+IF(ISERROR(+INDIRECT(CONCATENATE(\"'\",J101,\"'!\",(ADDRESS((COUNTIF($J$3:J101,IF(B101<>0,CONCATENATE(\"Auswertung \",B101,\"\"))))+2,11)))))=FALSE,+INDIRECT(CONCATENATE(\"'\",J101,\"'!\",(ADDRESS((COUNTIF($J$3:J101,IF(B101<>0,CONCATENATE(\"Auswertung \",B101,\"\"))))+4,11)))),\"\")","v":""},{"$f":"+IF(ISERROR(+INDIRECT(CONCATENATE(\"'\",J101,\"'!\",(ADDRESS((COUNTIF($J$3:J101,IF(D101<>0,CONCATENATE(\"Auswertung \",D101,\"\"))))+2,12)))))=FALSE,+INDIRECT(CONCATENATE(\"'\",J101,\"'!\",(ADDRESS((COUNTIF($J$3:J101,IF(D101<>0,CONCATENATE(\"Auswertung \",B101,\"\"))))+4,12)))),\"\")","v":""},{"$f":"+IF(ISERROR(+INDIRECT(CONCATENATE(\"'\",J101,\"'!\",(ADDRESS((COUNTIF($J$3:J101,IF(D101<>0,CONCATENATE(\"Auswertung \",D101,\"\"))))+2,13)))))=FALSE,+INDIRECT(CONCATENATE(\"'\",J101,\"'!\",(ADDRESS((COUNTIF($J$3:J101,IF(D101<>0,CONCATENATE(\"Auswertung \",B101,\"\"))))+4,13)))),\"\")","v":""},null,{"$f":"+IFERROR(INDIRECT(CONCATENATE(\"'\",J101,\"'!\",(ADDRESS((COUNTIF($J$3:J101,IF(B101<>0,J101)))+4,16)))),\"\")","v":""},21.942,{"$f":"+SUM($M$4:M101)/COUNT($M$4:M101)/1000*2","v":0.28281081081081083},{"$f":"+IFERROR(INDIRECT(CONCATENATE(\"'\",J101,\"'!\",(ADDRESS((COUNTIF($J$3:J101,IF(B101<>0,J101)))+4,18)))),\"\")","v":""},50.264000000000003,{"$f":"+IFERROR(INDIRECT(CONCATENATE(\"'\",J101,\"'!\",(ADDRESS((COUNTIF($J$3:J101,IF(B101<>0,J101)))+4,20)))),\"\")","v":""},44.247,{"$f":"+IFERROR(INDIRECT(CONCATENATE(\"'\",J101,\"'!\",(ADDRESS((COUNTIF($J$3:J101,IF(B101<>0,J101)))+4,22)))),\"\")","v":""},16.149999999999999,{"$f":"+IFERROR(INDIRECT(CONCATENATE(\"'\",J101,\"'!\",(ADDRESS((COUNTIF($J$3:J101,IF(B101<>0,J101)))+4,24)))),\"\")","v":""},-17.100999999999999,{"$f":"+IFERROR(INDIRECT(CONCATENATE(\"'\",J101,\"'!\",(ADDRESS((COUNTIF($J$3:J101,IF(B101<>0,J101)))+4,26)))),\"\")","v":""},-15.523999999999999,98,{"$f":"+SUM(COUNTIF($Z$3:Z101,1),COUNTIF($Z$3:Z101,-1))","v":37},{"$f":"+SUM($M$4:M101)","v":5232},141.40540540540542,{"$f":"+SUM(COUNTIF($Z$3:Z101,1))","v":19},{"$f":"+SUM(COUNTIF($Z$3:Z101,-1))","v":18},1,{"$f":"AN101*(HARMEAN((IF(SUM(COUNTIF($Z$3:Z101,1),COUNTIF($Z$3:Z101,-1))=0,1,SUM(COUNTIF($Z$3:Z101,1),COUNTIF($Z$3:Z101,-1)))),(IF(SUM(COUNTIF($AC$3:AC101,1),COUNTIF($AC$3:AC101,-1))=0,1,SUM(COUNTIF($AC$3:AC101,1),COUNTIF($AC$3:AC101,-1)))),(IF(SUM(COUNTIF($AE$3:AE101,1),COUNTIF($AE$3:AE101,-1))=0,1,SUM(COUNTIF($AE$3:AE101,1),COUNTIF($AE$3:AE101,-1)))),(IF(SUM(COUNTIF($AG$3:AG101,1),COUNTIF($AG$3:AG101,-1))=0,1,SUM(COUNTIF($AG$3:AG101,1),COUNTIF($AG$3:AG101,-1)))),(IF(SUM(COUNTIF($AI$3:AI101,1),COUNTIF($AI$3:AI101,-1))=0,1,SUM(COUNTIF($AI$3:AI101,1),COUNTIF($AI$3:AI101,-1)))),(IF(SUM(COUNTIF($AK$3:AK101,1),COUNTIF($AK$3:AK101,-1))=0,1,SUM(COUNTIF($AK$3:AK101,1),COUNTIF($AK$3:AK101,-1)))))/1000)","v":1.3027260075093867},21.942,null,{"$f":"+SUM(COUNTIF($AC$3:AC101,1),COUNTIF($AC$3:AC101,-1))","v":37},{"$f":"+SUM($O$4:O101)","v":5276},142.59459459459458,{"$f":"+SUM(COUNTIF($AC$3:AC101,1))","v":23},{"$f":"+SUM(COUNTIF($AC$3:AC101,-1))","v":14},9,{"$f":"AW101*(HARMEAN((IF(SUM(COUNTIF($Z$3:Z101,1),COUNTIF($Z$3:Z101,-1))=0,1,SUM(COUNTIF($Z$3:Z101,1),COUNTIF($Z$3:Z101,-1)))),(IF(SUM(COUNTIF($AC$3:AC101,1),COUNTIF($AC$3:AC101,-1))=0,1,SUM(COUNTIF($AC$3:AC101,1),COUNTIF($AC$3:AC101,-1)))),(IF(SUM(COUNTIF($AE$3:AE101,1),COUNTIF($AE$3:AE101,-1))=0,1,SUM(COUNTIF($AE$3:AE101,1),COUNTIF($AE$3:AE101,-1)))),(IF(SUM(COUNTIF($AG$3:AG101,1),COUNTIF($AG$3:AG101,-1))=0,1,SUM(COUNTIF($AG$3:AG101,1),COUNTIF($AG$3:AG101,-1)))),(IF(SUM(COUNTIF($AI$3:AI101,1),COUNTIF($AI$3:AI101,-1))=0,1,SUM(COUNTIF($AI$3:AI101,1),COUNTIF($AI$3:AI101,-1)))),(IF(SUM(COUNTIF($AK$3:AK101,1),COUNTIF($AK$3:AK101,-1))=0,1,SUM(COUNTIF($AK$3:AK101,1),COUNTIF($AK$3:AK101,-1)))))/1000)","v":1.3027260075093867},50.264000000000003,null,{"$f":"+SUM(COUNTIF($AE$3:AE101,1),COUNTIF(AE$3:$AE101,-1))","v":36},{"$f":"+SUM($Q$4:Q101)","v":4567},126.86111111111111,{"$f":"+SUM(COUNTIF($AE$3:AE101,1))","v":22},{"$f":"+SUM(COUNTIF($AE$3:AE101,-1))","v":14},8,{"$f":"BF101*(HARMEAN((IF(SUM(COUNTIF($Z$3:Z101,1),COUNTIF($Z$3:Z101,-1))=0,1,SUM(COUNTIF($Z$3:Z101,1),COUNTIF($Z$3:Z101,-1)))),(IF(SUM(COUNTIF($AC$3:AC101,1),COUNTIF($AC$3:AC101,-1))=0,1,SUM(COUNTIF($AC$3:AC101,1),COUNTIF($AC$3:AC101,-1)))),(IF(SUM(COUNTIF($AE$3:AE101,1),COUNTIF($AE$3:AE101,-1))=0,1,SUM(COUNTIF($AE$3:AE101,1),COUNTIF($AE$3:AE101,-1)))),(IF(SUM(COUNTIF($AG$3:AG101,1),COUNTIF($AG$3:AG101,-1))=0,1,SUM(COUNTIF($AG$3:AG101,1),COUNTIF($AG$3:AG101,-1)))),(IF(SUM(COUNTIF($AI$3:AI101,1),COUNTIF($AI$3:AI101,-1))=0,1,SUM(COUNTIF($AI$3:AI101,1),COUNTIF($AI$3:AI101,-1)))),(IF(SUM(COUNTIF($AK$3:AK101,1),COUNTIF($AK$3:AK101,-1))=0,1,SUM(COUNTIF($AK$3:AK101,1),COUNTIF($AK$3:AK101,-1)))))/1000)","v":1.2675171964956196},44.247,null,{"$f":"+SUM(COUNTIF($AG$3:AG101,1),COUNTIF($AG$3:AG101,-1))","v":37},{"$f":"+SUM($S$4:S101)","v":5587},151,{"$f":"+SUM(COUNTIF($AG$3:AG101,1))","v":18},{"$f":"+SUM(COUNTIF($AG$3:AG101,-1))","v":19},-1,{"$f":"BO101*(HARMEAN((IF(SUM(COUNTIF($Z$3:Z101,1),COUNTIF($Z$3:Z101,-1))=0,1,SUM(COUNTIF($Z$3:Z101,1),COUNTIF($Z$3:Z101,-1)))),(IF(SUM(COUNTIF($AC$3:AC101,1),COUNTIF($AC$3:AC101,-1))=0,1,SUM(COUNTIF($AC$3:AC101,1),COUNTIF($AC$3:AC101,-1)))),(IF(SUM(COUNTIF($AE$3:AE101,1),COUNTIF($AE$3:AE101,-1))=0,1,SUM(COUNTIF($AE$3:AE101,1),COUNTIF($AE$3:AE101,-1)))),(IF(SUM(COUNTIF($AG$3:AG101,1),COUNTIF($AG$3:AG101,-1))=0,1,SUM(COUNTIF($AG$3:AG101,1),COUNTIF($AG$3:AG101,-1)))),(IF(SUM(COUNTIF($AI$3:AI101,1),COUNTIF($AI$3:AI101,-1))=0,1,SUM(COUNTIF($AI$3:AI101,1),COUNTIF($AI$3:AI101,-1)))),(IF(SUM(COUNTIF($AK$3:AK101,1),COUNTIF($AK$3:AK101,-1))=0,1,SUM(COUNTIF($AK$3:AK101,1),COUNTIF($AK$3:AK101,-1)))))/1000)","v":1.3027260075093867},16.149999999999999,null,{"$f":"+SUM(COUNTIF($AI$3:AI101,1),COUNTIF($AI$3:AI101,-1))","v":33},{"$f":"+SUM($U$4:U101)","v":4143},125.54545454545455,{"$f":"+SUM(COUNTIF($AI$3:AI101,1))","v":12},{"$f":"+SUM(COUNTIF($AI$3:AI101,-1))","v":21},-9,{"$f":"+BX101*(HARMEAN((IF(SUM(COUNTIF($Z$3:Z101,1),COUNTIF($Z$3:Z101,-1))=0,1,SUM(COUNTIF($Z$3:Z101,1),COUNTIF($Z$3:Z101,-1)))),(IF(SUM(COUNTIF($AC$3:AC101,1),COUNTIF($AC$3:AC101,-1))=0,1,SUM(COUNTIF($AC$3:AC101,1),COUNTIF($AC$3:AC101,-1)))),(IF(SUM(COUNTIF($AE$3:AE101,1),COUNTIF($AE$3:AE101,-1))=0,1,SUM(COUNTIF($AE$3:AE101,1),COUNTIF($AE$3:AE101,-1)))),(IF(SUM(COUNTIF($AG$3:AG101,1),COUNTIF($AG$3:AG101,-1))=0,1,SUM(COUNTIF($AG$3:AG101,1),COUNTIF($AG$3:AG101,-1)))),(IF(SUM(COUNTIF($AI$3:AI101,1),COUNTIF($AI$3:AI101,-1))=0,1,SUM(COUNTIF($AI$3:AI101,1),COUNTIF($AI$3:AI101,-1)))),(IF(SUM(COUNTIF($AK$3:AK101,1),COUNTIF($AK$3:AK101,-1))=0,1,SUM(COUNTIF($AK$3:AK101,1),COUNTIF($AK$3:AK101,-1)))))/1000)","v":1.1618907634543179},-17.100999999999999,null,{"$f":"+SUM(COUNTIF($AK$3:AK101,1),COUNTIF($AK$3:AK101,-1))","v":32},{"$f":"+SUM($W$4:W101)","v":3591},112.21875,{"$f":"+SUM(COUNTIF($AK$3:AK101,1))","v":12},{"$f":"+SUM(COUNTIF($AK$3:AK101,-1))","v":20},-8,{"$f":"+CG101*(HARMEAN((IF(SUM(COUNTIF($Z$3:Z101,1),COUNTIF($Z$3:Z101,-1))=0,1,SUM(COUNTIF($Z$3:Z101,1),COUNTIF($Z$3:Z101,-1)))),(IF(SUM(COUNTIF($AC$3:AC101,1),COUNTIF($AC$3:AC101,-1))=0,1,SUM(COUNTIF($AC$3:AC101,1),COUNTIF($AC$3:AC101,-1)))),(IF(SUM(COUNTIF($AE$3:AE101,1),COUNTIF($AE$3:AE101,-1))=0,1,SUM(COUNTIF($AE$3:AE101,1),COUNTIF($AE$3:AE101,-1)))),(IF(SUM(COUNTIF($AG$3:AG101,1),COUNTIF($AG$3:AG101,-1))=0,1,SUM(COUNTIF($AG$3:AG101,1),COUNTIF($AG$3:AG101,-1)))),(IF(SUM(COUNTIF($AI$3:AI101,1),COUNTIF($AI$3:AI101,-1))=0,1,SUM(COUNTIF($AI$3:AI101,1),COUNTIF($AI$3:AI101,-1)))),(IF(SUM(COUNTIF($AK$3:AK101,1),COUNTIF($AK$3:AK101,-1))=0,1,SUM(COUNTIF($AK$3:AK101,1),COUNTIF($AK$3:AK101,-1)))))/1000)","v":1.1266819524405507},-15.523999999999999]
[99,"",null,{"$f":"+IFERROR(INDEX('Auswertung AoE II'!$AE:$AE,MATCH(A102,'Auswertung AoE II'!$AD:$AD,0)),\"\")","v":""},{"$f":"+IFERROR(INDEX('Auswertung AoE III'!$AE:$AE,MATCH(A102,'Auswertung AoE III'!$AD:$AD,0)),\"\")","v":""},{"$f":"+IFERROR(INDEX('Auswertung AoM'!$AE:$AE,MATCH(A102,'Auswertung AoM'!$AD:$AD,0)),\"\")","v":""},{"$f":"+IFERROR(INDEX('Auswertung RA'!$AE:$AE,MATCH(A102,'Auswertung RA'!$AD:$AD,0)),\"\")","v":""},{"$f":"+IFERROR(INDEX('Auswertung Yuri'!$AE:$AE,MATCH(A102,'Auswertung Yuri'!$AD:$AD,0)),\"\")","v":""},{"$f":"+IFERROR(INDEX('Auswertung Generals'!$AE:$AE,MATCH(A102,'Auswertung Generals'!$AD:$AD,0)),\"\")","v":""},"Auswertung ",null,null,{"$f":"+IF(ISERROR(+INDIRECT(CONCATENATE(\"'\",J102,\"'!\",(ADDRESS((COUNTIF($J$3:J102,IF(B102<>0,CONCATENATE(\"Auswertung \",B102,\"\"))))+2,2)))))=FALSE,+INDIRECT(CONCATENATE(\"'\",J102,\"'!\",(ADDRESS((COUNTIF($J$3:J102,IF(B102<>0,CONCATENATE(\"Auswertung \",B102,\"\"))))+4,2)))),\"\")","v":""},{"$f":"IF(ISERROR(+INDIRECT(CONCATENATE(\"'\",J102,\"'!\",(ADDRESS((COUNTIF($J$3:J102,IF(B102<>0,CONCATENATE(\"Auswertung \",B102,\"\"))))+2,2+1)))))=FALSE,+INDIRECT(CONCATENATE(\"'\",J102,\"'!\",(ADDRESS((COUNTIF($J$3:J102,IF(B102<>0,CONCATENATE(\"Auswertung \",B102,\"\"))))+4,2+1)))),\"\")","v":""},{"$f":"+IF(ISERROR(+INDIRECT(CONCATENATE(\"'\",J102,\"'!\",(ADDRESS((COUNTIF($J$3:J102,IF(B102<>0,CONCATENATE(\"Auswertung \",B102,\"\"))))+2,4)))))=FALSE,+INDIRECT(CONCATENATE(\"'\",J102,\"'!\",(ADDRESS((COUNTIF($J$3:J102,IF(B102<>0,CONCATENATE(\"Auswertung \",B102,\"\"))))+4,4)))),\"\")","v":""},{"$f":"+IF(ISERROR(+INDIRECT(CONCATENATE(\"'\",J102,\"'!\",(ADDRESS((COUNTIF($J$3:J102,IF(B102<>0,CONCATENATE(\"Auswertung \",B102,\"\"))))+2,5)))))=FALSE,+INDIRECT(CONCATENATE(\"'\",J102,\"'!\",(ADDRESS((COUNTIF($J$3:J102,IF(B102<>0,CONCATENATE(\"Auswertung \",B102,\"\"))))+4,5)))),\"\")","v":""},{"$f":"+IF(ISERROR(+INDIRECT(CONCATENATE(\"'\",J102,\"'!\",(ADDRESS((COUNTIF($J$3:J102,IF(B102<>0,CONCATENATE(\"Auswertung \",B102,\"\"))))+2,6)))))=FALSE,+INDIRECT(CONCATENATE(\"'\",J102,\"'!\",(ADDRESS((COUNTIF($J$3:J102,IF(B102<>0,CONCATENATE(\"Auswertung \",B102,\"\"))))+4,6)))),\"\")","v":""},{"$f":"+IF(ISERROR(+INDIRECT(CONCATENATE(\"'\",J102,\"'!\",(ADDRESS((COUNTIF($J$3:J102,IF(B102<>0,CONCATENATE(\"Auswertung \",B102,\"\"))))+2,7)))))=FALSE,+INDIRECT(CONCATENATE(\"'\",J102,\"'!\",(ADDRESS((COUNTIF($J$3:J102,IF(B102<>0,CONCATENATE(\"Auswertung \",B102,\"\"))))+4,7)))),\"\")","v":""},{"$f":"+IF(ISERROR(+INDIRECT(CONCATENATE(\"'\",J102,\"'!\",(ADDRESS((COUNTIF($J$3:J102,IF(B102<>0,CONCATENATE(\"Auswertung \",B102,\"\"))))+2,10)))))=FALSE,+INDIRECT(CONCATENATE(\"'\",J102,\"'!\",(ADDRESS((COUNTIF($J$3:J102,IF(B102<>0,CONCATENATE(\"Auswertung \",B102,\"\"))))+4,8)))),\"\")","v":""},{"$f":"+IF(ISERROR(+INDIRECT(CONCATENATE(\"'\",J102,\"'!\",(ADDRESS((COUNTIF($J$3:J102,IF(B102<>0,CONCATENATE(\"Auswertung \",B102,\"\"))))+2,11)))))=FALSE,+INDIRECT(CONCATENATE(\"'\",J102,\"'!\",(ADDRESS((COUNTIF($J$3:J102,IF(B102<>0,CONCATENATE(\"Auswertung \",B102,\"\"))))+4,9)))),\"\")","v":""},{"$f":"+IF(ISERROR(+INDIRECT(CONCATENATE(\"'\",J102,\"'!\",(ADDRESS((COUNTIF($J$3:J102,IF(B102<>0,CONCATENATE(\"Auswertung \",B102,\"\"))))+2,10)))))=FALSE,+INDIRECT(CONCATENATE(\"'\",J102,\"'!\",(ADDRESS((COUNTIF($J$3:J102,IF(B102<>0,CONCATENATE(\"Auswertung \",B102,\"\"))))+4,10)))),\"\")","v":""},{"$f":"+IF(ISERROR(+INDIRECT(CONCATENATE(\"'\",J102,\"'!\",(ADDRESS((COUNTIF($J$3:J102,IF(B102<>0,CONCATENATE(\"Auswertung \",B102,\"\"))))+2,11)))))=FALSE,+INDIRECT(CONCATENATE(\"'\",J102,\"'!\",(ADDRESS((COUNTIF($J$3:J102,IF(B102<>0,CONCATENATE(\"Auswertung \",B102,\"\"))))+4,11)))),\"\")","v":""},{"$f":"+IF(ISERROR(+INDIRECT(CONCATENATE(\"'\",J102,\"'!\",(ADDRESS((COUNTIF($J$3:J102,IF(D102<>0,CONCATENATE(\"Auswertung \",D102,\"\"))))+2,12)))))=FALSE,+INDIRECT(CONCATENATE(\"'\",J102,\"'!\",(ADDRESS((COUNTIF($J$3:J102,IF(D102<>0,CONCATENATE(\"Auswertung \",B102,\"\"))))+4,12)))),\"\")","v":""},{"$f":"+IF(ISERROR(+INDIRECT(CONCATENATE(\"'\",J102,\"'!\",(ADDRESS((COUNTIF($J$3:J102,IF(D102<>0,CONCATENATE(\"Auswertung \",D102,\"\"))))+2,13)))))=FALSE,+INDIRECT(CONCATENATE(\"'\",J102,\"'!\",(ADDRESS((COUNTIF($J$3:J102,IF(D102<>0,CONCATENATE(\"Auswertung \",B102,\"\"))))+4,13)))),\"\")","v":""},null,{"$f":"+IFERROR(INDIRECT(CONCATENATE(\"'\",J102,\"'!\",(ADDRESS((COUNTIF($J$3:J102,IF(B102<>0,J102)))+4,16)))),\"\")","v":""},21.942,{"$f":"+SUM($M$4:M102)/COUNT($M$4:M102)/1000*2","v":0.28281081081081083},{"$f":"+IFERROR(INDIRECT(CONCATENATE(\"'\",J102,\"'!\",(ADDRESS((COUNTIF($J$3:J102,IF(B102<>0,J102)))+4,18)))),\"\")","v":""},50.264000000000003,{"$f":"+IFERROR(INDIRECT(CONCATENATE(\"'\",J102,\"'!\",(ADDRESS((COUNTIF($J$3:J102,IF(B102<>0,J102)))+4,20)))),\"\")","v":""},44.247,{"$f":"+IFERROR(INDIRECT(CONCATENATE(\"'\",J102,\"'!\",(ADDRESS((COUNTIF($J$3:J102,IF(B102<>0,J102)))+4,22)))),\"\")","v":""},16.149999999999999,{"$f":"+IFERROR(INDIRECT(CONCATENATE(\"'\",J102,\"'!\",(ADDRESS((COUNTIF($J$3:J102,IF(B102<>0,J102)))+4,24)))),\"\")","v":""},-17.100999999999999,{"$f":"+IFERROR(INDIRECT(CONCATENATE(\"'\",J102,\"'!\",(ADDRESS((COUNTIF($J$3:J102,IF(B102<>0,J102)))+4,26)))),\"\")","v":""},-15.523999999999999,99,{"$f":"+SUM(COUNTIF($Z$3:Z102,1),COUNTIF($Z$3:Z102,-1))","v":37},{"$f":"+SUM($M$4:M102)","v":5232},141.40540540540542,{"$f":"+SUM(COUNTIF($Z$3:Z102,1))","v":19},{"$f":"+SUM(COUNTIF($Z$3:Z102,-1))","v":18},1,{"$f":"AN102*(HARMEAN((IF(SUM(COUNTIF($Z$3:Z102,1),COUNTIF($Z$3:Z102,-1))=0,1,SUM(COUNTIF($Z$3:Z102,1),COUNTIF($Z$3:Z102,-1)))),(IF(SUM(COUNTIF($AC$3:AC102,1),COUNTIF($AC$3:AC102,-1))=0,1,SUM(COUNTIF($AC$3:AC102,1),COUNTIF($AC$3:AC102,-1)))),(IF(SUM(COUNTIF($AE$3:AE102,1),COUNTIF($AE$3:AE102,-1))=0,1,SUM(COUNTIF($AE$3:AE102,1),COUNTIF($AE$3:AE102,-1)))),(IF(SUM(COUNTIF($AG$3:AG102,1),COUNTIF($AG$3:AG102,-1))=0,1,SUM(COUNTIF($AG$3:AG102,1),COUNTIF($AG$3:AG102,-1)))),(IF(SUM(COUNTIF($AI$3:AI102,1),COUNTIF($AI$3:AI102,-1))=0,1,SUM(COUNTIF($AI$3:AI102,1),COUNTIF($AI$3:AI102,-1)))),(IF(SUM(COUNTIF($AK$3:AK102,1),COUNTIF($AK$3:AK102,-1))=0,1,SUM(COUNTIF($AK$3:AK102,1),COUNTIF($AK$3:AK102,-1)))))/1000)","v":1.3027260075093867},21.942,null,{"$f":"+SUM(COUNTIF($AC$3:AC102,1),COUNTIF($AC$3:AC102,-1))","v":37},{"$f":"+SUM($O$4:O102)","v":5276},142.59459459459458,{"$f":"+SUM(COUNTIF($AC$3:AC102,1))","v":23},{"$f":"+SUM(COUNTIF($AC$3:AC102,-1))","v":14},9,{"$f":"AW102*(HARMEAN((IF(SUM(COUNTIF($Z$3:Z102,1),COUNTIF($Z$3:Z102,-1))=0,1,SUM(COUNTIF($Z$3:Z102,1),COUNTIF($Z$3:Z102,-1)))),(IF(SUM(COUNTIF($AC$3:AC102,1),COUNTIF($AC$3:AC102,-1))=0,1,SUM(COUNTIF($AC$3:AC102,1),COUNTIF($AC$3:AC102,-1)))),(IF(SUM(COUNTIF($AE$3:AE102,1),COUNTIF($AE$3:AE102,-1))=0,1,SUM(COUNTIF($AE$3:AE102,1),COUNTIF($AE$3:AE102,-1)))),(IF(SUM(COUNTIF($AG$3:AG102,1),COUNTIF($AG$3:AG102,-1))=0,1,SUM(COUNTIF($AG$3:AG102,1),COUNTIF($AG$3:AG102,-1)))),(IF(SUM(COUNTIF($AI$3:AI102,1),COUNTIF($AI$3:AI102,-1))=0,1,SUM(COUNTIF($AI$3:AI102,1),COUNTIF($AI$3:AI102,-1)))),(IF(SUM(COUNTIF($AK$3:AK102,1),COUNTIF($AK$3:AK102,-1))=0,1,SUM(COUNTIF($AK$3:AK102,1),COUNTIF($AK$3:AK102,-1)))))/1000)","v":1.3027260075093867},50.264000000000003,null,{"$f":"+SUM(COUNTIF($AE$3:AE102,1),COUNTIF(AE$3:$AE102,-1))","v":36},{"$f":"+SUM($Q$4:Q102)","v":4567},126.86111111111111,{"$f":"+SUM(COUNTIF($AE$3:AE102,1))","v":22},{"$f":"+SUM(COUNTIF($AE$3:AE102,-1))","v":14},8,{"$f":"BF102*(HARMEAN((IF(SUM(COUNTIF($Z$3:Z102,1),COUNTIF($Z$3:Z102,-1))=0,1,SUM(COUNTIF($Z$3:Z102,1),COUNTIF($Z$3:Z102,-1)))),(IF(SUM(COUNTIF($AC$3:AC102,1),COUNTIF($AC$3:AC102,-1))=0,1,SUM(COUNTIF($AC$3:AC102,1),COUNTIF($AC$3:AC102,-1)))),(IF(SUM(COUNTIF($AE$3:AE102,1),COUNTIF($AE$3:AE102,-1))=0,1,SUM(COUNTIF($AE$3:AE102,1),COUNTIF($AE$3:AE102,-1)))),(IF(SUM(COUNTIF($AG$3:AG102,1),COUNTIF($AG$3:AG102,-1))=0,1,SUM(COUNTIF($AG$3:AG102,1),COUNTIF($AG$3:AG102,-1)))),(IF(SUM(COUNTIF($AI$3:AI102,1),COUNTIF($AI$3:AI102,-1))=0,1,SUM(COUNTIF($AI$3:AI102,1),COUNTIF($AI$3:AI102,-1)))),(IF(SUM(COUNTIF($AK$3:AK102,1),COUNTIF($AK$3:AK102,-1))=0,1,SUM(COUNTIF($AK$3:AK102,1),COUNTIF($AK$3:AK102,-1)))))/1000)","v":1.2675171964956196},44.247,null,{"$f":"+SUM(COUNTIF($AG$3:AG102,1),COUNTIF($AG$3:AG102,-1))","v":37},{"$f":"+SUM($S$4:S102)","v":5587},151,{"$f":"+SUM(COUNTIF($AG$3:AG102,1))","v":18},{"$f":"+SUM(COUNTIF($AG$3:AG102,-1))","v":19},-1,{"$f":"BO102*(HARMEAN((IF(SUM(COUNTIF($Z$3:Z102,1),COUNTIF($Z$3:Z102,-1))=0,1,SUM(COUNTIF($Z$3:Z102,1),COUNTIF($Z$3:Z102,-1)))),(IF(SUM(COUNTIF($AC$3:AC102,1),COUNTIF($AC$3:AC102,-1))=0,1,SUM(COUNTIF($AC$3:AC102,1),COUNTIF($AC$3:AC102,-1)))),(IF(SUM(COUNTIF($AE$3:AE102,1),COUNTIF($AE$3:AE102,-1))=0,1,SUM(COUNTIF($AE$3:AE102,1),COUNTIF($AE$3:AE102,-1)))),(IF(SUM(COUNTIF($AG$3:AG102,1),COUNTIF($AG$3:AG102,-1))=0,1,SUM(COUNTIF($AG$3:AG102,1),COUNTIF($AG$3:AG102,-1)))),(IF(SUM(COUNTIF($AI$3:AI102,1),COUNTIF($AI$3:AI102,-1))=0,1,SUM(COUNTIF($AI$3:AI102,1),COUNTIF($AI$3:AI102,-1)))),(IF(SUM(COUNTIF($AK$3:AK102,1),COUNTIF($AK$3:AK102,-1))=0,1,SUM(COUNTIF($AK$3:AK102,1),COUNTIF($AK$3:AK102,-1)))))/1000)","v":1.3027260075093867},16.149999999999999,null,{"$f":"+SUM(COUNTIF($AI$3:AI102,1),COUNTIF($AI$3:AI102,-1))","v":33},{"$f":"+SUM($U$4:U102)","v":4143},125.54545454545455,{"$f":"+SUM(COUNTIF($AI$3:AI102,1))","v":12},{"$f":"+SUM(COUNTIF($AI$3:AI102,-1))","v":21},-9,{"$f":"+BX102*(HARMEAN((IF(SUM(COUNTIF($Z$3:Z102,1),COUNTIF($Z$3:Z102,-1))=0,1,SUM(COUNTIF($Z$3:Z102,1),COUNTIF($Z$3:Z102,-1)))),(IF(SUM(COUNTIF($AC$3:AC102,1),COUNTIF($AC$3:AC102,-1))=0,1,SUM(COUNTIF($AC$3:AC102,1),COUNTIF($AC$3:AC102,-1)))),(IF(SUM(COUNTIF($AE$3:AE102,1),COUNTIF($AE$3:AE102,-1))=0,1,SUM(COUNTIF($AE$3:AE102,1),COUNTIF($AE$3:AE102,-1)))),(IF(SUM(COUNTIF($AG$3:AG102,1),COUNTIF($AG$3:AG102,-1))=0,1,SUM(COUNTIF($AG$3:AG102,1),COUNTIF($AG$3:AG102,-1)))),(IF(SUM(COUNTIF($AI$3:AI102,1),COUNTIF($AI$3:AI102,-1))=0,1,SUM(COUNTIF($AI$3:AI102,1),COUNTIF($AI$3:AI102,-1)))),(IF(SUM(COUNTIF($AK$3:AK102,1),COUNTIF($AK$3:AK102,-1))=0,1,SUM(COUNTIF($AK$3:AK102,1),COUNTIF($AK$3:AK102,-1)))))/1000)","v":1.1618907634543179},-17.100999999999999,null,{"$f":"+SUM(COUNTIF($AK$3:AK102,1),COUNTIF($AK$3:AK102,-1))","v":32},{"$f":"+SUM($W$4:W102)","v":3591},112.21875,{"$f":"+SUM(COUNTIF($AK$3:AK102,1))","v":12},{"$f":"+SUM(COUNTIF($AK$3:AK102,-1))","v":20},-8,{"$f":"+CG102*(HARMEAN((IF(SUM(COUNTIF($Z$3:Z102,1),COUNTIF($Z$3:Z102,-1))=0,1,SUM(COUNTIF($Z$3:Z102,1),COUNTIF($Z$3:Z102,-1)))),(IF(SUM(COUNTIF($AC$3:AC102,1),COUNTIF($AC$3:AC102,-1))=0,1,SUM(COUNTIF($AC$3:AC102,1),COUNTIF($AC$3:AC102,-1)))),(IF(SUM(COUNTIF($AE$3:AE102,1),COUNTIF($AE$3:AE102,-1))=0,1,SUM(COUNTIF($AE$3:AE102,1),COUNTIF($AE$3:AE102,-1)))),(IF(SUM(COUNTIF($AG$3:AG102,1),COUNTIF($AG$3:AG102,-1))=0,1,SUM(COUNTIF($AG$3:AG102,1),COUNTIF($AG$3:AG102,-1)))),(IF(SUM(COUNTIF($AI$3:AI102,1),COUNTIF($AI$3:AI102,-1))=0,1,SUM(COUNTIF($AI$3:AI102,1),COUNTIF($AI$3:AI102,-1)))),(IF(SUM(COUNTIF($AK$3:AK102,1),COUNTIF($AK$3:AK102,-1))=0,1,SUM(COUNTIF($AK$3:AK102,1),COUNTIF($AK$3:AK102,-1)))))/1000)","v":1.1266819524405507},-15.523999999999999]
[100,"",null,{"$f":"+IFERROR(INDEX('Auswertung AoE II'!$AE:$AE,MATCH(A103,'Auswertung AoE II'!$AD:$AD,0)),\"\")","v":""},{"$f":"+IFERROR(INDEX('Auswertung AoE III'!$AE:$AE,MATCH(A103,'Auswertung AoE III'!$AD:$AD,0)),\"\")","v":""},{"$f":"+IFERROR(INDEX('Auswertung AoM'!$AE:$AE,MATCH(A103,'Auswertung AoM'!$AD:$AD,0)),\"\")","v":""},{"$f":"+IFERROR(INDEX('Auswertung RA'!$AE:$AE,MATCH(A103,'Auswertung RA'!$AD:$AD,0)),\"\")","v":""},{"$f":"+IFERROR(INDEX('Auswertung Yuri'!$AE:$AE,MATCH(A103,'Auswertung Yuri'!$AD:$AD,0)),\"\")","v":""},{"$f":"+IFERROR(INDEX('Auswertung Generals'!$AE:$AE,MATCH(A103,'Auswertung Generals'!$AD:$AD,0)),\"\")","v":""},"Auswertung ",null,null,{"$f":"+IF(ISERROR(+INDIRECT(CONCATENATE(\"'\",J103,\"'!\",(ADDRESS((COUNTIF($J$3:J103,IF(B103<>0,CONCATENATE(\"Auswertung \",B103,\"\"))))+2,2)))))=FALSE,+INDIRECT(CONCATENATE(\"'\",J103,\"'!\",(ADDRESS((COUNTIF($J$3:J103,IF(B103<>0,CONCATENATE(\"Auswertung \",B103,\"\"))))+4,2)))),\"\")","v":""},{"$f":"IF(ISERROR(+INDIRECT(CONCATENATE(\"'\",J103,\"'!\",(ADDRESS((COUNTIF($J$3:J103,IF(B103<>0,CONCATENATE(\"Auswertung \",B103,\"\"))))+2,2+1)))))=FALSE,+INDIRECT(CONCATENATE(\"'\",J103,\"'!\",(ADDRESS((COUNTIF($J$3:J103,IF(B103<>0,CONCATENATE(\"Auswertung \",B103,\"\"))))+4,2+1)))),\"\")","v":""},{"$f":"+IF(ISERROR(+INDIRECT(CONCATENATE(\"'\",J103,\"'!\",(ADDRESS((COUNTIF($J$3:J103,IF(B103<>0,CONCATENATE(\"Auswertung \",B103,\"\"))))+2,4)))))=FALSE,+INDIRECT(CONCATENATE(\"'\",J103,\"'!\",(ADDRESS((COUNTIF($J$3:J103,IF(B103<>0,CONCATENATE(\"Auswertung \",B103,\"\"))))+4,4)))),\"\")","v":""},{"$f":"+IF(ISERROR(+INDIRECT(CONCATENATE(\"'\",J103,\"'!\",(ADDRESS((COUNTIF($J$3:J103,IF(B103<>0,CONCATENATE(\"Auswertung \",B103,\"\"))))+2,5)))))=FALSE,+INDIRECT(CONCATENATE(\"'\",J103,\"'!\",(ADDRESS((COUNTIF($J$3:J103,IF(B103<>0,CONCATENATE(\"Auswertung \",B103,\"\"))))+4,5)))),\"\")","v":""},{"$f":"+IF(ISERROR(+INDIRECT(CONCATENATE(\"'\",J103,\"'!\",(ADDRESS((COUNTIF($J$3:J103,IF(B103<>0,CONCATENATE(\"Auswertung \",B103,\"\"))))+2,6)))))=FALSE,+INDIRECT(CONCATENATE(\"'\",J103,\"'!\",(ADDRESS((COUNTIF($J$3:J103,IF(B103<>0,CONCATENATE(\"Auswertung \",B103,\"\"))))+4,6)))),\"\")","v":""},{"$f":"+IF(ISERROR(+INDIRECT(CONCATENATE(\"'\",J103,\"'!\",(ADDRESS((COUNTIF($J$3:J103,IF(B103<>0,CONCATENATE(\"Auswertung \",B103,\"\"))))+2,7)))))=FALSE,+INDIRECT(CONCATENATE(\"'\",J103,\"'!\",(ADDRESS((COUNTIF($J$3:J103,IF(B103<>0,CONCATENATE(\"Auswertung \",B103,\"\"))))+4,7)))),\"\")","v":""},{"$f":"+IF(ISERROR(+INDIRECT(CONCATENATE(\"'\",J103,\"'!\",(ADDRESS((COUNTIF($J$3:J103,IF(B103<>0,CONCATENATE(\"Auswertung \",B103,\"\"))))+2,10)))))=FALSE,+INDIRECT(CONCATENATE(\"'\",J103,\"'!\",(ADDRESS((COUNTIF($J$3:J103,IF(B103<>0,CONCATENATE(\"Auswertung \",B103,\"\"))))+4,8)))),\"\")","v":""},{"$f":"+IF(ISERROR(+INDIRECT(CONCATENATE(\"'\",J103,\"'!\",(ADDRESS((COUNTIF($J$3:J103,IF(B103<>0,CONCATENATE(\"Auswertung \",B103,\"\"))))+2,11)))))=FALSE,+INDIRECT(CONCATENATE(\"'\",J103,\"'!\",(ADDRESS((COUNTIF($J$3:J103,IF(B103<>0,CONCATENATE(\"Auswertung \",B103,\"\"))))+4,9)))),\"\")","v":""},{"$f":"+IF(ISERROR(+INDIRECT(CONCATENATE(\"'\",J103,\"'!\",(ADDRESS((COUNTIF($J$3:J103,IF(B103<>0,CONCATENATE(\"Auswertung \",B103,\"\"))))+2,10)))))=FALSE,+INDIRECT(CONCATENATE(\"'\",J103,\"'!\",(ADDRESS((COUNTIF($J$3:J103,IF(B103<>0,CONCATENATE(\"Auswertung \",B103,\"\"))))+4,10)))),\"\")","v":""},{"$f":"+IF(ISERROR(+INDIRECT(CONCATENATE(\"'\",J103,\"'!\",(ADDRESS((COUNTIF($J$3:J103,IF(B103<>0,CONCATENATE(\"Auswertung \",B103,\"\"))))+2,11)))))=FALSE,+INDIRECT(CONCATENATE(\"'\",J103,\"'!\",(ADDRESS((COUNTIF($J$3:J103,IF(B103<>0,CONCATENATE(\"Auswertung \",B103,\"\"))))+4,11)))),\"\")","v":""},{"$f":"+IF(ISERROR(+INDIRECT(CONCATENATE(\"'\",J103,\"'!\",(ADDRESS((COUNTIF($J$3:J103,IF(D103<>0,CONCATENATE(\"Auswertung \",D103,\"\"))))+2,12)))))=FALSE,+INDIRECT(CONCATENATE(\"'\",J103,\"'!\",(ADDRESS((COUNTIF($J$3:J103,IF(D103<>0,CONCATENATE(\"Auswertung \",B103,\"\"))))+4,12)))),\"\")","v":""},{"$f":"+IF(ISERROR(+INDIRECT(CONCATENATE(\"'\",J103,\"'!\",(ADDRESS((COUNTIF($J$3:J103,IF(D103<>0,CONCATENATE(\"Auswertung \",D103,\"\"))))+2,13)))))=FALSE,+INDIRECT(CONCATENATE(\"'\",J103,\"'!\",(ADDRESS((COUNTIF($J$3:J103,IF(D103<>0,CONCATENATE(\"Auswertung \",B103,\"\"))))+4,13)))),\"\")","v":""},null,{"$f":"+IFERROR(INDIRECT(CONCATENATE(\"'\",J103,\"'!\",(ADDRESS((COUNTIF($J$3:J103,IF(B103<>0,J103)))+4,16)))),\"\")","v":""},21.942,{"$f":"+SUM($M$4:M103)/COUNT($M$4:M103)/1000*2","v":0.28281081081081083},{"$f":"+IFERROR(INDIRECT(CONCATENATE(\"'\",J103,\"'!\",(ADDRESS((COUNTIF($J$3:J103,IF(B103<>0,J103)))+4,18)))),\"\")","v":""},50.264000000000003,{"$f":"+IFERROR(INDIRECT(CONCATENATE(\"'\",J103,\"'!\",(ADDRESS((COUNTIF($J$3:J103,IF(B103<>0,J103)))+4,20)))),\"\")","v":""},44.247,{"$f":"+IFERROR(INDIRECT(CONCATENATE(\"'\",J103,\"'!\",(ADDRESS((COUNTIF($J$3:J103,IF(B103<>0,J103)))+4,22)))),\"\")","v":""},16.149999999999999,{"$f":"+IFERROR(INDIRECT(CONCATENATE(\"'\",J103,\"'!\",(ADDRESS((COUNTIF($J$3:J103,IF(B103<>0,J103)))+4,24)))),\"\")","v":""},-17.100999999999999,{"$f":"+IFERROR(INDIRECT(CONCATENATE(\"'\",J103,\"'!\",(ADDRESS((COUNTIF($J$3:J103,IF(B103<>0,J103)))+4,26)))),\"\")","v":""},-15.523999999999999,100,{"$f":"+SUM(COUNTIF($Z$3:Z103,1),COUNTIF($Z$3:Z103,-1))","v":37},{"$f":"+SUM($M$4:M103)","v":5232},141.40540540540542,{"$f":"+SUM(COUNTIF($Z$3:Z103,1))","v":19},{"$f":"+SUM(COUNTIF($Z$3:Z103,-1))","v":18},1,{"$f":"AN103*(HARMEAN((IF(SUM(COUNTIF($Z$3:Z103,1),COUNTIF($Z$3:Z103,-1))=0,1,SUM(COUNTIF($Z$3:Z103,1),COUNTIF($Z$3:Z103,-1)))),(IF(SUM(COUNTIF($AC$3:AC103,1),COUNTIF($AC$3:AC103,-1))=0,1,SUM(COUNTIF($AC$3:AC103,1),COUNTIF($AC$3:AC103,-1)))),(IF(SUM(COUNTIF($AE$3:AE103,1),COUNTIF($AE$3:AE103,-1))=0,1,SUM(COUNTIF($AE$3:AE103,1),COUNTIF($AE$3:AE103,-1)))),(IF(SUM(COUNTIF($AG$3:AG103,1),COUNTIF($AG$3:AG103,-1))=0,1,SUM(COUNTIF($AG$3:AG103,1),COUNTIF($AG$3:AG103,-1)))),(IF(SUM(COUNTIF($AI$3:AI103,1),COUNTIF($AI$3:AI103,-1))=0,1,SUM(COUNTIF($AI$3:AI103,1),COUNTIF($AI$3:AI103,-1)))),(IF(SUM(COUNTIF($AK$3:AK103,1),COUNTIF($AK$3:AK103,-1))=0,1,SUM(COUNTIF($AK$3:AK103,1),COUNTIF($AK$3:AK103,-1)))))/1000)","v":1.3027260075093867},21.942,null,{"$f":"+SUM(COUNTIF($AC$3:AC103,1),COUNTIF($AC$3:AC103,-1))","v":37},{"$f":"+SUM($O$4:O103)","v":5276},142.59459459459458,{"$f":"+SUM(COUNTIF($AC$3:AC103,1))","v":23},{"$f":"+SUM(COUNTIF($AC$3:AC103,-1))","v":14},9,{"$f":"AW103*(HARMEAN((IF(SUM(COUNTIF($Z$3:Z103,1),COUNTIF($Z$3:Z103,-1))=0,1,SUM(COUNTIF($Z$3:Z103,1),COUNTIF($Z$3:Z103,-1)))),(IF(SUM(COUNTIF($AC$3:AC103,1),COUNTIF($AC$3:AC103,-1))=0,1,SUM(COUNTIF($AC$3:AC103,1),COUNTIF($AC$3:AC103,-1)))),(IF(SUM(COUNTIF($AE$3:AE103,1),COUNTIF($AE$3:AE103,-1))=0,1,SUM(COUNTIF($AE$3:AE103,1),COUNTIF($AE$3:AE103,-1)))),(IF(SUM(COUNTIF($AG$3:AG103,1),COUNTIF($AG$3:AG103,-1))=0,1,SUM(COUNTIF($AG$3:AG103,1),COUNTIF($AG$3:AG103,-1)))),(IF(SUM(COUNTIF($AI$3:AI103,1),COUNTIF($AI$3:AI103,-1))=0,1,SUM(COUNTIF($AI$3:AI103,1),COUNTIF($AI$3:AI103,-1)))),(IF(SUM(COUNTIF($AK$3:AK103,1),COUNTIF($AK$3:AK103,-1))=0,1,SUM(COUNTIF($AK$3:AK103,1),COUNTIF($AK$3:AK103,-1)))))/1000)","v":1.3027260075093867},50.264000000000003,null,{"$f":"+SUM(COUNTIF($AE$3:AE103,1),COUNTIF(AE$3:$AE103,-1))","v":36},{"$f":"+SUM($Q$4:Q103)","v":4567},126.86111111111111,{"$f":"+SUM(COUNTIF($AE$3:AE103,1))","v":22},{"$f":"+SUM(COUNTIF($AE$3:AE103,-1))","v":14},8,{"$f":"BF103*(HARMEAN((IF(SUM(COUNTIF($Z$3:Z103,1),COUNTIF($Z$3:Z103,-1))=0,1,SUM(COUNTIF($Z$3:Z103,1),COUNTIF($Z$3:Z103,-1)))),(IF(SUM(COUNTIF($AC$3:AC103,1),COUNTIF($AC$3:AC103,-1))=0,1,SUM(COUNTIF($AC$3:AC103,1),COUNTIF($AC$3:AC103,-1)))),(IF(SUM(COUNTIF($AE$3:AE103,1),COUNTIF($AE$3:AE103,-1))=0,1,SUM(COUNTIF($AE$3:AE103,1),COUNTIF($AE$3:AE103,-1)))),(IF(SUM(COUNTIF($AG$3:AG103,1),COUNTIF($AG$3:AG103,-1))=0,1,SUM(COUNTIF($AG$3:AG103,1),COUNTIF($AG$3:AG103,-1)))),(IF(SUM(COUNTIF($AI$3:AI103,1),COUNTIF($AI$3:AI103,-1))=0,1,SUM(COUNTIF($AI$3:AI103,1),COUNTIF($AI$3:AI103,-1)))),(IF(SUM(COUNTIF($AK$3:AK103,1),COUNTIF($AK$3:AK103,-1))=0,1,SUM(COUNTIF($AK$3:AK103,1),COUNTIF($AK$3:AK103,-1)))))/1000)","v":1.2675171964956196},44.247,null,{"$f":"+SUM(COUNTIF($AG$3:AG103,1),COUNTIF($AG$3:AG103,-1))","v":37},{"$f":"+SUM($S$4:S103)","v":5587},151,{"$f":"+SUM(COUNTIF($AG$3:AG103,1))","v":18},{"$f":"+SUM(COUNTIF($AG$3:AG103,-1))","v":19},-1,{"$f":"BO103*(HARMEAN((IF(SUM(COUNTIF($Z$3:Z103,1),COUNTIF($Z$3:Z103,-1))=0,1,SUM(COUNTIF($Z$3:Z103,1),COUNTIF($Z$3:Z103,-1)))),(IF(SUM(COUNTIF($AC$3:AC103,1),COUNTIF($AC$3:AC103,-1))=0,1,SUM(COUNTIF($AC$3:AC103,1),COUNTIF($AC$3:AC103,-1)))),(IF(SUM(COUNTIF($AE$3:AE103,1),COUNTIF($AE$3:AE103,-1))=0,1,SUM(COUNTIF($AE$3:AE103,1),COUNTIF($AE$3:AE103,-1)))),(IF(SUM(COUNTIF($AG$3:AG103,1),COUNTIF($AG$3:AG103,-1))=0,1,SUM(COUNTIF($AG$3:AG103,1),COUNTIF($AG$3:AG103,-1)))),(IF(SUM(COUNTIF($AI$3:AI103,1),COUNTIF($AI$3:AI103,-1))=0,1,SUM(COUNTIF($AI$3:AI103,1),COUNTIF($AI$3:AI103,-1)))),(IF(SUM(COUNTIF($AK$3:AK103,1),COUNTIF($AK$3:AK103,-1))=0,1,SUM(COUNTIF($AK$3:AK103,1),COUNTIF($AK$3:AK103,-1)))))/1000)","v":1.3027260075093867},16.149999999999999,null,{"$f":"+SUM(COUNTIF($AI$3:AI103,1),COUNTIF($AI$3:AI103,-1))","v":33},{"$f":"+SUM($U$4:U103)","v":4143},125.54545454545455,{"$f":"+SUM(COUNTIF($AI$3:AI103,1))","v":12},{"$f":"+SUM(COUNTIF($AI$3:AI103,-1))","v":21},-9,{"$f":"+BX103*(HARMEAN((IF(SUM(COUNTIF($Z$3:Z103,1),COUNTIF($Z$3:Z103,-1))=0,1,SUM(COUNTIF($Z$3:Z103,1),COUNTIF($Z$3:Z103,-1)))),(IF(SUM(COUNTIF($AC$3:AC103,1),COUNTIF($AC$3:AC103,-1))=0,1,SUM(COUNTIF($AC$3:AC103,1),COUNTIF($AC$3:AC103,-1)))),(IF(SUM(COUNTIF($AE$3:AE103,1),COUNTIF($AE$3:AE103,-1))=0,1,SUM(COUNTIF($AE$3:AE103,1),COUNTIF($AE$3:AE103,-1)))),(IF(SUM(COUNTIF($AG$3:AG103,1),COUNTIF($AG$3:AG103,-1))=0,1,SUM(COUNTIF($AG$3:AG103,1),COUNTIF($AG$3:AG103,-1)))),(IF(SUM(COUNTIF($AI$3:AI103,1),COUNTIF($AI$3:AI103,-1))=0,1,SUM(COUNTIF($AI$3:AI103,1),COUNTIF($AI$3:AI103,-1)))),(IF(SUM(COUNTIF($AK$3:AK103,1),COUNTIF($AK$3:AK103,-1))=0,1,SUM(COUNTIF($AK$3:AK103,1),COUNTIF($AK$3:AK103,-1)))))/1000)","v":1.1618907634543179},-17.100999999999999,null,{"$f":"+SUM(COUNTIF($AK$3:AK103,1),COUNTIF($AK$3:AK103,-1))","v":32},{"$f":"+SUM($W$4:W103)","v":3591},112.21875,{"$f":"+SUM(COUNTIF($AK$3:AK103,1))","v":12},{"$f":"+SUM(COUNTIF($AK$3:AK103,-1))","v":20},-8,{"$f":"+CG103*(HARMEAN((IF(SUM(COUNTIF($Z$3:Z103,1),COUNTIF($Z$3:Z103,-1))=0,1,SUM(COUNTIF($Z$3:Z103,1),COUNTIF($Z$3:Z103,-1)))),(IF(SUM(COUNTIF($AC$3:AC103,1),COUNTIF($AC$3:AC103,-1))=0,1,SUM(COUNTIF($AC$3:AC103,1),COUNTIF($AC$3:AC103,-1)))),(IF(SUM(COUNTIF($AE$3:AE103,1),COUNTIF($AE$3:AE103,-1))=0,1,SUM(COUNTIF($AE$3:AE103,1),COUNTIF($AE$3:AE103,-1)))),(IF(SUM(COUNTIF($AG$3:AG103,1),COUNTIF($AG$3:AG103,-1))=0,1,SUM(COUNTIF($AG$3:AG103,1),COUNTIF($AG$3:AG103,-1)))),(IF(SUM(COUNTIF($AI$3:AI103,1),COUNTIF($AI$3:AI103,-1))=0,1,SUM(COUNTIF($AI$3:AI103,1),COUNTIF($AI$3:AI103,-1)))),(IF(SUM(COUNTIF($AK$3:AK103,1),COUNTIF($AK$3:AK103,-1))=0,1,SUM(COUNTIF($AK$3:AK103,1),COUNTIF($AK$3:AK103,-1)))))/1000)","v":1.1266819524405507},-15.523999999999999]
[]
[]
[]
[]
[]
[]
[]
[null,null,null,null,null,null,null,null,null,null,null,null,null,null,null,null,null,null,null,null,null,null,null,null,null,null,null,null,null,null,null,null,null,null,null,null,"AN4*((HARMITTEL((SUMME(ZÄHLENWENN($Z$3:Z4;1);ZÄHLENWENN($Z$3:Z4;-1)));(SUMME(ZÄHLENWENN($AC$3:AC4;1);ZÄHLENWENN($AC$3:AC4;-1)));(SUMME(ZÄHLENWENN($AE$3:AE4;1);ZÄHLENWENN($AE$3:AE4;-1)));(SUMME(ZÄHLENWENN($AG$3:AG4;1);ZÄHLENWENN($AG$3:AG4;-1)));(SUMME(ZÄHLENWENN($AI$3:AI4;1);ZÄHLENWENN($AI$3:AI4;-1))))/1000))"]
[]
[null,null,null,null,null,null,null,null,null,null,null,null,null,null,null,null,null,null,null,null,null,null,null,null,null,null,null,null,null,null,null,null,null,null,null,null,{"$f":"+IF(SUM(COUNTIF($Z$3:Z4,1),COUNTIF($Z$3:Z4,-1))=0,1,SUM(COUNTIF($Z$3:Z4,1),COUNTIF($Z$3:Z4,-1)))","v":1}]
[null,null,null,null,null,null,null,null,null,null,null,null,null,null,null,null,null,null,null,null,null,null,null,null,null,null,null,null,null,null,null,null,null,null,null,null,{"$f":"+IF(SUM(COUNTIF($AC$3:AC4,1),COUNTIF($AC$3:AC4,-1))=0,1,SUM(COUNTIF($AC$3:AC4,1),COUNTIF($AC$3:AC4,-1)))","v":1}]
[null,null,null,null,null,null,null,null,null,null,null,null,null,null,null,null,null,null,null,null,null,null,null,null,null,null,null,null,null,null,null,null,null,null,null,null,{"$f":"+IF(SUM(COUNTIF($AE$3:AE4,1),COUNTIF($AE$3:AE4,-1))=0,1,SUM(COUNTIF($AE$3:AE4,1),COUNTIF($AE$3:AE4,-1)))","v":1}]
[null,null,null,null,null,null,null,null,null,null,null,null,null,null,null,null,null,null,null,null,null,null,null,null,null,null,null,null,null,null,null,null,null,null,null,null,{"$f":"+IF(SUM(COUNTIF($AG$3:AG4,1),COUNTIF($AG$3:AG4,-1))=0,1,SUM(COUNTIF($AG$3:AG4,1),COUNTIF($AG$3:AG4,-1)))","v":1}]
[null,null,null,null,null,null,null,null,null,null,null,null,null,null,null,null,null,null,null,null,null,null,null,null,null,null,null,null,null,null,null,null,null,null,null,null,{"$f":"+IF(SUM(COUNTIF($AI$3:AI4,1),COUNTIF($AI$3:AI4,-1))=0,1,SUM(COUNTIF($AI$3:AI4,1),COUNTIF($AI$3:AI4,-1)))","v":1}]
[null,null,null,null,null,null,null,null,null,null,null,null,null,null,null,null,null,null,null,null,null,null,null,null,null,null,null,null,null,null,null,null,null,null,null,null,{"$f":"+IF(SUM(COUNTIF($AK$3:AK4,1),COUNTIF($AK$3:AK4,-1))=0,1,SUM(COUNTIF($AK$3:AK4,1),COUNTIF($AK$3:AK4,-1)))","v":1}]
[]
[]
[null,null,null,null,null,null,null,null,null,null,null,null,null,null,null,null,null,null,null,null,null,null,null,null,null,null,null,null,null,null,null,null,null,null,null,null,{"$f":"+HARMEAN((IF(SUM(COUNTIF($Z$3:Z4,1),COUNTIF($Z$3:Z4,-1))=0,1,SUM(COUNTIF($Z$3:Z4,1),COUNTIF($Z$3:Z4,-1)))),(IF(SUM(COUNTIF($AC$3:AC4,1),COUNTIF($AC$3:AC4,-1))=0,1,SUM(COUNTIF($AC$3:AC4,1),COUNTIF($AC$3:AC4,-1)))),(IF(SUM(COUNTIF($AE$3:AE4,1),COUNTIF($AE$3:AE4,-1))=0,1,SUM(COUNTIF($AE$3:AE4,1),COUNTIF($AE$3:AE4,-1)))),(IF(SUM(COUNTIF($AG$3:AG4,1),COUNTIF($AG$3:AG4,-1))=0,1,SUM(COUNTIF($AG$3:AG4,1),COUNTIF($AG$3:AG4,-1)))),(IF(SUM(COUNTIF($AI$3:AI4,1),COUNTIF($AI$3:AI4,-1))=0,1,SUM(COUNTIF($AI$3:AI4,1),COUNTIF($AI$3:AI4,-1)))),(IF(SUM(COUNTIF($AK$3:AK4,1),COUNTIF($AK$3:AK4,-1))=0,1,SUM(COUNTIF($AK$3:AK4,1),COUNTIF($AK$3:AK4,-1)))))","v":1}]

{"sheet":"Bestenliste AoE II","index":15,"n_rows":17,"n_cols":11,"rows_kept":17,"cut":false,"hidden":false,"merged":[]}
["AoE II"]
["Die besten Kriegsherren"]
[]
[null,"Spiele","Abschüsse"," Ø ","Siege","Nieder-lagen","Diff.","Spiel / Mittelw.","Wertung","Rang"]
["Groo",{"$f":"+COUNT(INDIRECT(\"'Auswertung \"&$A$1&\"'!\"&\"$h$5:$h$104\"))","v":7},{"$f":"+SUM(INDIRECT(\"'Auswertung \"&$A$1&\"'!\"&\"$h$5:$h$104\"))","v":1607},{"$f":"+C5/IF((B5)<>0,B5,1)","v":229.57142857142858},{"$f":"+COUNTIF(INDIRECT(\"'Auswertung \"&$A$1&\"'!\"&\"v5:v104\"),1)","v":6},{"$f":"+COUNTIF(INDIRECT(\"'Auswertung \"&$A$1&\"'!\"&\"v5:v104\"),-1)","v":1},{"$f":"+E5-F5","v":5},{"$f":"+B5*(HARMEAN(IF($B$5=0,1,$B$5),IF($B$6=0,1,$B$6),IF($B$7=0,1,$B$7),IF($B$8=0,1,$B$8),IF($B$9=0,1,$B$9)))/10","v":4.741935483870968},{"$f":"+IF(B5=0,-1000,ROUND(((E5/B5-F5/B5)*100+D5/10)*H5,3))/10","v":44.757100000000001},{"$f":"IF(B5=0,\"ng\",RANK(I5,$I$5:$I$10))","v":1},{"$f":"+SUM(IFERROR(INDEX(_xlfn._xlws.FILTER(Abschusstagesliste!$N$4:$AD$144,((Abschusstagesliste!$T$4:$T$144=A5)*(Abschusstagesliste!$U$4:$U$144<>0)*(Abschusstagesliste!$AD$4:$AD$144=$A$1))),_xlfn.SEQUENCE(5),{8}),\"\"))","v":1}]
["The Wolf",{"$f":"+COUNT(INDIRECT(\"'Auswertung \"&$A$1&\"'!\"&\"$B$5:$B$104\"))","v":7},{"$f":"+SUM(INDIRECT(\"'Auswertung \"&$A$1&\"'!\"&\"$B$5:$B$104\"))","v":1194},{"$f":"+C6/IF((B6)<>0,B6,1)","v":170.57142857142858},{"$f":"+COUNTIF(INDIRECT(\"'Auswertung \"&$A$1&\"'!\"&\"p5:p104\"),1)","v":5},{"$f":"+COUNTIF(INDIRECT(\"'Auswertung \"&$A$1&\"'!\"&\"p5:p104\"),-1)","v":2},{"$f":"+E6-F6","v":3},{"$f":"+B6*(HARMEAN(IF($B$5=0,1,$B$5),IF($B$6=0,1,$B$6),IF($B$7=0,1,$B$7),IF($B$8=0,1,$B$8),IF($B$9=0,1,$B$9)))/10","v":4.741935483870968},{"$f":"+IF(B6=0,-1000,ROUND(((E6/B6-F6/B6)*100+D6/10)*H6,3))/10","v":28.411000000000001},{"$f":"IF(B6=0,\"ng\",RANK(I6,$I$5:$I$10))","v":2},{"$f":"+SUM(IFERROR(INDEX(_xlfn._xlws.FILTER(Abschusstagesliste!$N$4:$AD$144,((Abschusstagesliste!$N$4:$N$144=A6)*(Abschusstagesliste!$O$4:$O$144<>0)*(Abschusstagesliste!$AD$4:$AD$144=$A$1))),_xlfn.SEQUENCE(20),{2}),\"\"))","v":1}]
["Mike",{"$f":"+COUNT(INDIRECT(\"'Auswertung \"&$A$1&\"'!\"&\"$d$5:$d$104\"))","v":7},{"$f":"+SUM(INDIRECT(\"'Auswertung \"&$A$1&\"'!\"&\"$d$5:$d$104\"))","v":1341},{"$f":"+C7/IF((B7)<>0,B7,1)","v":191.57142857142858},{"$f":"+COUNTIF(INDIRECT(\"'Auswertung \"&$A$1&\"'!\"&\"r5:r104\"),1)","v":4},{"$f":"+COUNTIF(INDIRECT(\"'Auswertung \"&$A$1&\"'!\"&\"r5:r104\"),-1)","v":3},{"$f":"+E7-F7","v":1},{"$f":"+B7*(HARMEAN(IF($B$5=0,1,$B$5),IF($B$6=0,1,$B$6),IF($B$7=0,1,$B$7),IF($B$8=0,1,$B$8),IF($B$9=0,1,$B$9)))/10","v":4.741935483870968},{"$f":"+IF(B7=0,-1000,ROUND(((E7/B7-F7/B7)*100+D7/10)*H7,3))/10","v":15.8584},{"$f":"IF(B7=0,\"ng\",RANK(I7,$I$5:$I$10))","v":3},{"$f":"+SUM(IFERROR(INDEX(_xlfn._xlws.FILTER(Abschusstagesliste!$N$4:$AD$144,((Abschusstagesliste!$P$4:$P$144=A7)*(Abschusstagesliste!$Q$4:$Q$144<>0)*(Abschusstagesliste!$AD$4:$AD$144=$A$1))),_xlfn.SEQUENCE(20),{4}),\"\"))","v":1}]
["Marc",{"$f":"+COUNT(INDIRECT(\"'Auswertung \"&$A$1&\"'!\"&\"$l$5:$l$104\"))","v":6},{"$f":"+SUM(INDIRECT(\"'Auswertung \"&$A$1&\"'!\"&\"$l$5:$l$104\"))","v":1052},{"$f":"+C8/IF((B8)<>0,B8,1)","v":175.33333333333334},{"$f":"+COUNTIF(INDIRECT(\"'Auswertung \"&$A$1&\"'!\"&\"z5:z104\"),1)","v":2},{"$f":"+COUNTIF(INDIRECT(\"'Auswertung \"&$A$1&\"'!\"&\"z5:z104\"),-1)","v":4},{"$f":"+E8-F8","v":-2},{"$f":"+B8*(HARMEAN(IF($B$5=0,1,$B$5),IF($B$6=0,1,$B$6),IF($B$7=0,1,$B$7),IF($B$8=0,1,$B$8),IF($B$9=0,1,$B$9)))/10","v":4.064516129032258},{"$f":"+IF(B8=0,-1000,ROUND(((E8/B8-F8/B8)*100+D8/10)*H8,3))/10","v":-6.4218999999999991},{"$f":"IF(B8=0,\"ng\",RANK(I8,$I$5:$I$10))","v":4},{"$f":"+SUM(IFERROR(INDEX(_xlfn._xlws.FILTER(Abschusstagesliste!$N$4:$AD$144,((Abschusstagesliste!$X$4:$X$144=A8)*(Abschusstagesliste!$Y$4:$Y$144<>0)*(Abschusstagesliste!$AD$4:$AD$144=$A$1))),_xlfn.SEQUENCE(20),{12}),\"\"))","v":-1}]
["Big Boss",{"$f":"+COUNT(INDIRECT(\"'Auswertung \"&$A$1&\"'!\"&\"$f$5:$f$104\"))","v":7},{"$f":"+SUM(INDIRECT(\"'Auswertung \"&$A$1&\"'!\"&\"$f$5:$f$104\"))","v":1318},{"$f":"+C9/IF((B9)<>0,B9,1)","v":188.28571428571428},{"$f":"+COUNTIF(INDIRECT(\"'Auswertung \"&$A$1&\"'!\"&\"t5:t104\"),1)","v":2},{"$f":"+COUNTIF(INDIRECT(\"'Auswertung \"&$A$1&\"'!\"&\"t5:t104\"),-1)","v":5},{"$f":"+E9-F9","v":-3},{"$f":"+B9*(HARMEAN(IF($B$5=0,1,$B$5),IF($B$6=0,1,$B$6),IF($B$7=0,1,$B$7),IF($B$8=0,1,$B$8),IF($B$9=0,1,$B$9)))/10","v":4.741935483870968},{"$f":"+IF(B9=0,-1000,ROUND(((E9/B9-F9/B9)*100+D9/10)*H9,3))/10","v":-11.3942},{"$f":"IF(B9=0,\"ng\",RANK(I9,$I$5:$I$10))","v":5},{"$f":"+SUM(IFERROR(INDEX(_xlfn._xlws.FILTER(Abschusstagesliste!$N$4:$AD$144,((Abschusstagesliste!$R$4:$R$144=A9)*(Abschusstagesliste!$S$4:$S$144<>0)*(Abschusstagesliste!$AD$4:$AD$144=$A$1))),_xlfn.SEQUENCE(20),{6}),\"\"))","v":-1}]
["Zorro",{"$f":"+COUNT(INDIRECT(\"'Auswertung \"&$A$1&\"'!\"&\"$j$5:$j$104\"))","v":6},{"$f":"+SUM(INDIRECT(\"'Auswertung \"&$A$1&\"'!\"&\"$j$5:$j$104\"))","v":1172},{"$f":"+C10/IF((B10)<>0,B10,1)","v":195.33333333333334},{"$f":"+COUNTIF(INDIRECT(\"'Auswertung \"&$A$1&\"'!\"&\"x5:x104\"),1)","v":1},{"$f":"+COUNTIF(INDIRECT(\"'Auswertung \"&$A$1&\"'!\"&\"x5:x104\"),-1)","v":5},{"$f":"+E10-F10","v":-4},{"$f":"+B10*(HARMEAN(IF($B$5=0,1,$B$5),IF($B$6=0,1,$B$6),IF($B$7=0,1,$B$7),IF($B$8=0,1,$B$8),IF($B$9=0,1,$B$9)))/10","v":4.064516129032258},{"$f":"+IF(B10=0,-1000,ROUND(((E10/B10-F10/B10)*100+D10/10)*H10,3))/10","v":-19.157400000000003},{"$f":"IF(B10=0,\"ng\",RANK(I10,$I$5:$I$10))","v":6},{"$f":"+SUM(IFERROR(INDEX(_xlfn._xlws.FILTER(Abschusstagesliste!$N$4:$AD$144,((Abschusstagesliste!$V$4:$V$144=A10)*(Abschusstagesliste!$W$4:$W$144<>0)*(Abschusstagesliste!$AD$4:$AD$144=$A$1))),_xlfn.SEQUENCE(20),{10}),\"\"))","v":-1}]
[]
["letztes Spieledatum:",{"$f":"+'Die Besten'!B12","v":"08.08.2026"}]
[]
[]
[null,{"$f":"IF(INDIRECT( \"'Auswertung \"&$A$1&\"'!\"&\"B106\")<100,CONCATENATE(\"bisher \",INDIRECT( \"'Auswertung \"&$A$1&\"'!\"&\"B106\"),\" Spiel(e)\"),CONCATENATE(\"Pokalsieger: \",A5))","v":"bisher 7 Spiel(e)"}]
[null," "]
["Wertungsformel: ",{"$f":"+\"(Siege / Spiele - Niederlagen / Spiele)*100+Abschüsse/10*Harmonischen Mittelwert aller Spiele\"","v":"(Siege / Spiele - Niederlagen / Spiele)*100+Abschüsse/10*Harmonischen Mittelwert aller Spiele"}]

{"sheet":"Bestenliste AoE III","index":16,"n_rows":17,"n_cols":11,"rows_kept":17,"cut":false,"hidden":false,"merged":[]}
["AoE III"]
["Die besten Kriegsherren"]
[]
[null,"Spiele","Abschüsse"," Ø ","Siege","Nieder-lagen","Diff.","Spiel / Mittelw.","Wertung","Rang"]
["Big Boss",{"$f":"+COUNT(INDIRECT(\"'Auswertung \"&$A$1&\"'!\"&\"$f$5:$f$104\"))","v":5},{"$f":"+SUM(INDIRECT(\"'Auswertung \"&$A$1&\"'!\"&\"$f$5:$f$104\"))","v":1582},{"$f":"+C5/IF((B5)<>0,B5,1)","v":316.39999999999998},{"$f":"+COUNTIF(INDIRECT(\"'Auswertung \"&$A$1&\"'!\"&\"t5:t104\"),1)","v":3},{"$f":"+COUNTIF(INDIRECT(\"'Auswertung \"&$A$1&\"'!\"&\"t5:t104\"),-1)","v":2},{"$f":"+E5-F5","v":1},{"$f":"+B5*(HARMEAN(IF($B$5=0,1,$B$5),IF($B$6=0,1,$B$6),IF($B$7=0,1,$B$7),IF($B$8=0,1,$B$8),IF($B$9=0,1,$B$9)))/10","v":2.5},{"$f":"+IF(B5=0,-1000,ROUND(((E5/B5-F5/B5)*100+D5/10)*H5,3))/10","v":12.91},{"$f":"IF(B5=0,\"ng\",RANK(I5,$I$5:$I$10))","v":1},{"$f":"+SUM(IFERROR(INDEX(_xlfn._xlws.FILTER(Abschusstagesliste!$N$4:$AD$144,((Abschusstagesliste!$R$4:$R$144=A5)*(Abschusstagesliste!$S$4:$S$144<>0)*(Abschusstagesliste!$AD$4:$AD$144=$A$1))),_xlfn.SEQUENCE(144),{6}),\"\"))","v":0}]
["Zorro",{"$f":"+COUNT(INDIRECT(\"'Auswertung \"&$A$1&\"'!\"&\"$j$5:$j$104\"))","v":5},{"$f":"+SUM(INDIRECT(\"'Auswertung \"&$A$1&\"'!\"&\"$j$5:$j$104\"))","v":1512},{"$f":"+C6/IF((B6)<>0,B6,1)","v":302.39999999999998},{"$f":"+COUNTIF(INDIRECT(\"'Auswertung \"&$A$1&\"'!\"&\"x5:x104\"),1)","v":3},{"$f":"+COUNTIF(INDIRECT(\"'Auswertung \"&$A$1&\"'!\"&\"x5:x104\"),-1)","v":2},{"$f":"+E6-F6","v":1},{"$f":"+B6*(HARMEAN(IF($B$5=0,1,$B$5),IF($B$6=0,1,$B$6),IF($B$7=0,1,$B$7),IF($B$8=0,1,$B$8),IF($B$9=0,1,$B$9)))/10","v":2.5},{"$f":"+IF(B6=0,-1000,ROUND(((E6/B6-F6/B6)*100+D6/10)*H6,3))/10","v":12.559999999999999},{"$f":"IF(B6=0,\"ng\",RANK(I6,$I$5:$I$10))","v":2},{"$f":"+SUM(IFERROR(INDEX(_xlfn._xlws.FILTER(Abschusstagesliste!$N$4:$AD$144,((Abschusstagesliste!$V$4:$V$144=A6)*(Abschusstagesliste!$W$4:$W$144<>0)*(Abschusstagesliste!$AD$4:$AD$144=$A$1))),_xlfn.SEQUENCE(144),{10}),\"\"))","v":0}]
["The Wolf",{"$f":"+COUNT(INDIRECT(\"'Auswertung \"&$A$1&\"'!\"&\"$B$5:$B$104\"))","v":5},{"$f":"+SUM(INDIRECT(\"'Auswertung \"&$A$1&\"'!\"&\"$B$5:$B$104\"))","v":1428},{"$f":"+C7/IF((B7)<>0,B7,1)","v":285.60000000000002},{"$f":"+COUNTIF(INDIRECT(\"'Auswertung \"&$A$1&\"'!\"&\"p5:p104\"),1)","v":3},{"$f":"+COUNTIF(INDIRECT(\"'Auswertung \"&$A$1&\"'!\"&\"p5:p104\"),-1)","v":2},{"$f":"+E7-F7","v":1},{"$f":"+B7*(HARMEAN(IF($B$5=0,1,$B$5),IF($B$6=0,1,$B$6),IF($B$7=0,1,$B$7),IF($B$8=0,1,$B$8),IF($B$9=0,1,$B$9)))/10","v":2.5},{"$f":"+IF(B7=0,-1000,ROUND(((E7/B7-F7/B7)*100+D7/10)*H7,3))/10","v":12.14},{"$f":"IF(B7=0,\"ng\",RANK(I7,$I$5:$I$10))","v":3},{"$f":"+SUM(IFERROR(INDEX(_xlfn._xlws.FILTER(Abschusstagesliste!$N$4:$AD$144,((Abschusstagesliste!$N$4:$N$144=A7)*(Abschusstagesliste!$O$4:$O$144<>0)*(Abschusstagesliste!$AD$4:$AD$144=$A$1))),_xlfn.SEQUENCE(144),{2}),\"\"))","v":2}]
["Groo",{"$f":"+COUNT(INDIRECT(\"'Auswertung \"&$A$1&\"'!\"&\"$h$5:$h$104\"))","v":5},{"$f":"+SUM(INDIRECT(\"'Auswertung \"&$A$1&\"'!\"&\"$h$5:$h$104\"))","v":1370},{"$f":"+C8/IF((B8)<>0,B8,1)","v":274},{"$f":"+COUNTIF(INDIRECT(\"'Auswertung \"&$A$1&\"'!\"&\"v5:v104\"),1)","v":2},{"$f":"+COUNTIF(INDIRECT(\"'Auswertung \"&$A$1&\"'!\"&\"v5:v104\"),-1)","v":3},{"$f":"+E8-F8","v":-1},{"$f":"+B8*(HARMEAN(IF($B$5=0,1,$B$5),IF($B$6=0,1,$B$6),IF($B$7=0,1,$B$7),IF($B$8=0,1,$B$8),IF($B$9=0,1,$B$9)))/10","v":2.5},{"$f":"+IF(B8=0,-1000,ROUND(((E8/B8-F8/B8)*100+D8/10)*H8,3))/10","v":1.85},{"$f":"IF(B8=0,\"ng\",RANK(I8,$I$5:$I$10))","v":4},{"$f":"+SUM(IFERROR(INDEX(_xlfn._xlws.FILTER(Abschusstagesliste!$N$4:$AD$144,((Abschusstagesliste!$T$4:$T$144=A8)*(Abschusstagesliste!$U$4:$U$144<>0)*(Abschusstagesliste!$AD$4:$AD$144=$A$1))),_xlfn.SEQUENCE(144),{8}),\"\"))","v":0}]
["Marc",{"$f":"+COUNT(INDIRECT(\"'Auswertung \"&$A$1&\"'!\"&\"$l$5:$l$104\"))","v":5},{"$f":"+SUM(INDIRECT(\"'Auswertung \"&$A$1&\"'!\"&\"$l$5:$l$104\"))","v":1313},{"$f":"+C9/IF((B9)<>0,B9,1)","v":262.60000000000002},{"$f":"+COUNTIF(INDIRECT(\"'Auswertung \"&$A$1&\"'!\"&\"z5:z104\"),1)","v":2},{"$f":"+COUNTIF(INDIRECT(\"'Auswertung \"&$A$1&\"'!\"&\"z5:z104\"),-1)","v":3},{"$f":"+E9-F9","v":-1},{"$f":"+B9*(HARMEAN(IF($B$5=0,1,$B$5),IF($B$6=0,1,$B$6),IF($B$7=0,1,$B$7),IF($B$8=0,1,$B$8),IF($B$9=0,1,$B$9)))/10","v":2.5},{"$f":"+IF(B9=0,-1000,ROUND(((E9/B9-F9/B9)*100+D9/10)*H9,3))/10","v":1.5649999999999999},{"$f":"IF(B9=0,\"ng\",RANK(I9,$I$5:$I$10))","v":5},{"$f":"+SUM(IFERROR(INDEX(_xlfn._xlws.FILTER(Abschusstagesliste!$N$4:$AD$144,((Abschusstagesliste!$X$4:$X$144=A9)*(Abschusstagesliste!$Y$4:$Y$144<>0)*(Abschusstagesliste!$AD$4:$AD$144=$A$1))),_xlfn.SEQUENCE(144),{12}),\"\"))","v":-2}]
["Mike",{"$f":"+COUNT(INDIRECT(\"'Auswertung \"&$A$1&\"'!\"&\"$d$5:$d$104\"))","v":5},{"$f":"+SUM(INDIRECT(\"'Auswertung \"&$A$1&\"'!\"&\"$d$5:$d$104\"))","v":1095},{"$f":"+C10/IF((B10)<>0,B10,1)","v":219},{"$f":"+COUNTIF(INDIRECT(\"'Auswertung \"&$A$1&\"'!\"&\"r5:r104\"),1)","v":2},{"$f":"+COUNTIF(INDIRECT(\"'Auswertung \"&$A$1&\"'!\"&\"r5:r104\"),-1)","v":3},{"$f":"+E10-F10","v":-1},{"$f":"+B10*(HARMEAN(IF($B$5=0,1,$B$5),IF($B$6=0,1,$B$6),IF($B$7=0,1,$B$7),IF($B$8=0,1,$B$8),IF($B$9=0,1,$B$9)))/10","v":2.5},{"$f":"+IF(B10=0,-1000,ROUND(((E10/B10-F10/B10)*100+D10/10)*H10,3))/10","v":0.47499999999999998},{"$f":"IF(B10=0,\"ng\",RANK(I10,$I$5:$I$10))","v":6},{"$f":"+SUM(IFERROR(INDEX(_xlfn._xlws.FILTER(Abschusstagesliste!$N$4:$AD$144,((Abschusstagesliste!$P$4:$P$144=A10)*(Abschusstagesliste!$Q$4:$Q$144<>0)*(Abschusstagesliste!$AD$4:$AD$144=$A$1))),_xlfn.SEQUENCE(1404),{4}),\"\"))","v":0}]
[]
["letztes Spieledatum:",{"$f":"+'Die Besten'!B12","v":"08.08.2026"}]
[]
[]
[null,{"$f":"IF(INDIRECT( \"'Auswertung \"&$A$1&\"'!\"&\"B106\")<100,CONCATENATE(\"bisher \",INDIRECT( \"'Auswertung \"&$A$1&\"'!\"&\"B106\"),\" Spiel(e)\"),CONCATENATE(\"Pokalsieger: \",A5))","v":"bisher 5 Spiel(e)"}]
[null," "]
["Wertungsformel: ",{"$f":"+\"(Siege / Spiele - Niederlagen / Spiele)*100+Abschüsse/10*Harmonischen Mittelwert aller Spiele\"","v":"(Siege / Spiele - Niederlagen / Spiele)*100+Abschüsse/10*Harmonischen Mittelwert aller Spiele"}]

{"sheet":"Bestenliste AoM","index":17,"n_rows":17,"n_cols":11,"rows_kept":17,"cut":false,"hidden":false,"merged":[]}
["AoM"]
["Die besten Kriegsherren"]
[]
[null,"Spiele","Abschüsse"," Ø ","Siege","Nieder-lagen","Diff.","Spiel / Mittelw.","Wertung","Rang"]
["Mike",{"$f":"+COUNT(INDIRECT(\"'Auswertung \"&$A$1&\"'!\"&\"$d$5:$d$104\"))","v":6},{"$f":"+SUM(INDIRECT(\"'Auswertung \"&$A$1&\"'!\"&\"$d$5:$d$104\"))","v":1520},{"$f":"+C5/IF((B5)<>0,B5,1)","v":253.33333333333334},{"$f":"+COUNTIF(INDIRECT(\"'Auswertung \"&$A$1&\"'!\"&\"r5:r104\"),1)","v":5},{"$f":"+COUNTIF(INDIRECT(\"'Auswertung \"&$A$1&\"'!\"&\"r5:r104\"),-1)","v":1},{"$f":"+E5-F5","v":4},{"$f":"+B5*(HARMEAN(IF($B$5=0,1,$B$5),IF($B$6=0,1,$B$6),IF($B$7=0,1,$B$7),IF($B$8=0,1,$B$8),IF($B$9=0,1,$B$9)))/10","v":3.1578947368421053},{"$f":"+IF(B5=0,-1000,ROUND(((E5/B5-F5/B5)*100+D5/10)*H5,3))/10","v":29.052600000000002},{"$f":"IF(B5=0,\"ng\",RANK(I5,$I$5:$I$10))","v":1},{"$f":"+SUM(IFERROR(INDEX(_xlfn._xlws.FILTER(Abschusstagesliste!$N$4:$AD$144,((Abschusstagesliste!$P$4:$P$144=A5)*(Abschusstagesliste!$Q$4:$Q$144<>0)*(Abschusstagesliste!$AD$4:$AD$144=$A$1))),_xlfn.SEQUENCE(20),{4}),\"\"))","v":1}]
["Big Boss",{"$f":"+COUNT(INDIRECT(\"'Auswertung \"&$A$1&\"'!\"&\"$f$5:$f$104\"))","v":5},{"$f":"+SUM(INDIRECT(\"'Auswertung \"&$A$1&\"'!\"&\"$f$5:$f$104\"))","v":504},{"$f":"+C6/IF((B6)<>0,B6,1)","v":100.8},{"$f":"+COUNTIF(INDIRECT(\"'Auswertung \"&$A$1&\"'!\"&\"t5:t104\"),1)","v":4},{"$f":"+COUNTIF(INDIRECT(\"'Auswertung \"&$A$1&\"'!\"&\"t5:t104\"),-1)","v":1},{"$f":"+E6-F6","v":3},{"$f":"+B6*(HARMEAN(IF($B$5=0,1,$B$5),IF($B$6=0,1,$B$6),IF($B$7=0,1,$B$7),IF($B$8=0,1,$B$8),IF($B$9=0,1,$B$9)))/10","v":2.6315789473684212},{"$f":"+IF(B6=0,-1000,ROUND(((E6/B6-F6/B6)*100+D6/10)*H6,3))/10","v":18.4421},{"$f":"IF(B6=0,\"ng\",RANK(I6,$I$5:$I$10))","v":2},{"$f":"+SUM(IFERROR(INDEX(_xlfn._xlws.FILTER(Abschusstagesliste!$N$4:$AD$144,((Abschusstagesliste!$R$4:$R$144=A6)*(Abschusstagesliste!$S$4:$S$144<>0)*(Abschusstagesliste!$AD$4:$AD$144=$A$1))),_xlfn.SEQUENCE(20),{6}),\"\"))","v":1}]
["The Wolf",{"$f":"+COUNT(INDIRECT(\"'Auswertung \"&$A$1&\"'!\"&\"$B$5:$B$104\"))","v":6},{"$f":"+SUM(INDIRECT(\"'Auswertung \"&$A$1&\"'!\"&\"$B$5:$B$104\"))","v":1324},{"$f":"+C7/IF((B7)<>0,B7,1)","v":220.66666666666666},{"$f":"+COUNTIF(INDIRECT(\"'Auswertung \"&$A$1&\"'!\"&\"p5:p104\"),1)","v":4},{"$f":"+COUNTIF(INDIRECT(\"'Auswertung \"&$A$1&\"'!\"&\"p5:p104\"),-1)","v":2},{"$f":"+E7-F7","v":2},{"$f":"+B7*(HARMEAN(IF($B$5=0,1,$B$5),IF($B$6=0,1,$B$6),IF($B$7=0,1,$B$7),IF($B$8=0,1,$B$8),IF($B$9=0,1,$B$9)))/10","v":3.1578947368421053},{"$f":"+IF(B7=0,-1000,ROUND(((E7/B7-F7/B7)*100+D7/10)*H7,3))/10","v":17.494700000000002},{"$f":"IF(B7=0,\"ng\",RANK(I7,$I$5:$I$10))","v":3},{"$f":"+SUM(IFERROR(INDEX(_xlfn._xlws.FILTER(Abschusstagesliste!$N$4:$AD$144,((Abschusstagesliste!$N$4:$N$144=A7)*(Abschusstagesliste!$O$4:$O$144<>0)*(Abschusstagesliste!$AD$4:$AD$144=$A$1))),_xlfn.SEQUENCE(20),{2}),\"\"))","v":-1}]
["Groo",{"$f":"+COUNT(INDIRECT(\"'Auswertung \"&$A$1&\"'!\"&\"$h$5:$h$104\"))","v":6},{"$f":"+SUM(INDIRECT(\"'Auswertung \"&$A$1&\"'!\"&\"$h$5:$h$104\"))","v":1451},{"$f":"+C8/IF((B8)<>0,B8,1)","v":241.83333333333334},{"$f":"+COUNTIF(INDIRECT(\"'Auswertung \"&$A$1&\"'!\"&\"v5:v104\"),1)","v":3},{"$f":"+COUNTIF(INDIRECT(\"'Auswertung \"&$A$1&\"'!\"&\"v5:v104\"),-1)","v":3},{"$f":"+E8-F8","v":0},{"$f":"+B8*(HARMEAN(IF($B$5=0,1,$B$5),IF($B$6=0,1,$B$6),IF($B$7=0,1,$B$7),IF($B$8=0,1,$B$8),IF($B$9=0,1,$B$9)))/10","v":3.1578947368421053},{"$f":"+IF(B8=0,-1000,ROUND(((E8/B8-F8/B8)*100+D8/10)*H8,3))/10","v":7.6367999999999991},{"$f":"IF(B8=0,\"ng\",RANK(I8,$I$5:$I$10))","v":4},{"$f":"+SUM(IFERROR(INDEX(_xlfn._xlws.FILTER(Abschusstagesliste!$N$4:$AD$144,((Abschusstagesliste!$T$4:$T$144=A8)*(Abschusstagesliste!$U$4:$U$144<>0)*(Abschusstagesliste!$AD$4:$AD$144=$A$1))),_xlfn.SEQUENCE(5),{8}),\"\"))","v":1}]
["Marc",{"$f":"+COUNT(INDIRECT(\"'Auswertung \"&$A$1&\"'!\"&\"$l$5:$l$104\"))","v":4},{"$f":"+SUM(INDIRECT(\"'Auswertung \"&$A$1&\"'!\"&\"$l$5:$l$104\"))","v":461},{"$f":"+C9/IF((B9)<>0,B9,1)","v":115.25},{"$f":"+COUNTIF(INDIRECT(\"'Auswertung \"&$A$1&\"'!\"&\"z5:z104\"),1)","v":0},{"$f":"+COUNTIF(INDIRECT(\"'Auswertung \"&$A$1&\"'!\"&\"z5:z104\"),-1)","v":4},{"$f":"+E9-F9","v":-4},{"$f":"+B9*(HARMEAN(IF($B$5=0,1,$B$5),IF($B$6=0,1,$B$6),IF($B$7=0,1,$B$7),IF($B$8=0,1,$B$8),IF($B$9=0,1,$B$9)))/10","v":2.1052631578947372},{"$f":"+IF(B9=0,-1000,ROUND(((E9/B9-F9/B9)*100+D9/10)*H9,3))/10","v":-18.626300000000001},{"$f":"IF(B9=0,\"ng\",RANK(I9,$I$5:$I$10))","v":5},{"$f":"+SUM(IFERROR(INDEX(_xlfn._xlws.FILTER(Abschusstagesliste!$N$4:$AD$144,((Abschusstagesliste!$X$4:$X$144=A9)*(Abschusstagesliste!$Y$4:$Y$144<>0)*(Abschusstagesliste!$AD$4:$AD$144=$A$1))),_xlfn.SEQUENCE(20),{12}),\"\"))","v":-1}]
["Zorro",{"$f":"+COUNT(INDIRECT(\"'Auswertung \"&$A$1&\"'!\"&\"$j$5:$j$104\"))","v":5},{"$f":"+SUM(INDIRECT(\"'Auswertung \"&$A$1&\"'!\"&\"$j$5:$j$104\"))","v":498},{"$f":"+C10/IF((B10)<>0,B10,1)","v":99.6},{"$f":"+COUNTIF(INDIRECT(\"'Auswertung \"&$A$1&\"'!\"&\"x5:x104\"),1)","v":0},{"$f":"+COUNTIF(INDIRECT(\"'Auswertung \"&$A$1&\"'!\"&\"x5:x104\"),-1)","v":5},{"$f":"+E10-F10","v":-5},{"$f":"+B10*(HARMEAN(IF($B$5=0,1,$B$5),IF($B$6=0,1,$B$6),IF($B$7=0,1,$B$7),IF($B$8=0,1,$B$8),IF($B$9=0,1,$B$9)))/10","v":2.6315789473684212},{"$f":"+IF(B10=0,-1000,ROUND(((E10/B10-F10/B10)*100+D10/10)*H10,3))/10","v":-23.694700000000001},{"$f":"IF(B10=0,\"ng\",RANK(I10,$I$5:$I$10))","v":6},{"$f":"+SUM(IFERROR(INDEX(_xlfn._xlws.FILTER(Abschusstagesliste!$N$4:$AD$144,((Abschusstagesliste!$V$4:$V$144=A10)*(Abschusstagesliste!$W$4:$W$144<>0)*(Abschusstagesliste!$AD$4:$AD$144=$A$1))),_xlfn.SEQUENCE(20),{10}),\"\"))","v":-1}]
[]
["letztes Spieledatum:",{"$f":"+'Die Besten'!B12","v":"08.08.2026"}]
[]
[]
[null,{"$f":"IF(INDIRECT( \"'Auswertung \"&$A$1&\"'!\"&\"B106\")<100,CONCATENATE(\"bisher \",INDIRECT( \"'Auswertung \"&$A$1&\"'!\"&\"B106\"),\" Spiel(e)\"),CONCATENATE(\"Pokalsieger: \",A5))","v":"bisher 6 Spiel(e)"}]
[null," "]
["Wertungsformel: ",{"$f":"+\"(Siege / Spiele - Niederlagen / Spiele)*100+Abschüsse/10*Harmonischen Mittelwert aller Spiele\"","v":"(Siege / Spiele - Niederlagen / Spiele)*100+Abschüsse/10*Harmonischen Mittelwert aller Spiele"}]

{"sheet":"Bestenliste RA","index":18,"n_rows":17,"n_cols":11,"rows_kept":17,"cut":false,"hidden":false,"merged":[]}
["RA"]
["Die besten Kommandanten"]
[]
[null,"Spiele","Abschüsse"," Ø ","Siege","Nieder-lagen","Diff.","Spiel / Mittelw.","Wertung","Rang"]
["Big Boss",{"$f":"+COUNT(INDIRECT(\"'Auswertung \"&$A$1&\"'!\"&\"$f$5:$f$104\"))","v":7},{"$f":"+SUM(INDIRECT(\"'Auswertung \"&$A$1&\"'!\"&\"$f$5:$f$104\"))","v":483},{"$f":"+C5/IF((B5)<>0,B5,1)","v":69},{"$f":"+COUNTIF(INDIRECT(\"'Auswertung \"&$A$1&\"'!\"&\"t5:t104\"),1)","v":6},{"$f":"+COUNTIF(INDIRECT(\"'Auswertung \"&$A$1&\"'!\"&\"t5:t104\"),-1)","v":1},{"$f":"+E5-F5","v":5},{"$f":"+B5*(HARMEAN(IF($B$5=0,1,$B$5),IF($B$6=0,1,$B$6),IF($B$7=0,1,$B$7),IF($B$8=0,1,$B$8),IF($B$9=0,1,$B$9)))/10","v":4.741935483870968},{"$f":"+IF(B5=0,-1000,ROUND(((E5/B5-F5/B5)*100+D5/10)*H5,3))/10","v":37.142899999999997},{"$f":"IF(B5=0,\"ng\",RANK(I5,$I$5:$I$10))","v":1},{"$f":"+SUM(IFERROR(INDEX(_xlfn._xlws.FILTER(Abschusstagesliste!$N$4:$AD$144,((Abschusstagesliste!$R$4:$R$144=A5)*(Abschusstagesliste!$S$4:$S$144<>0)*(Abschusstagesliste!$AD$4:$AD$144=$A$1))),_xlfn.SEQUENCE(20),{6}),\"\"))","v":1}]
["Marc",{"$f":"+COUNT(INDIRECT(\"'Auswertung \"&$A$1&\"'!\"&\"$l$5:$l$104\"))","v":6},{"$f":"+SUM(INDIRECT(\"'Auswertung \"&$A$1&\"'!\"&\"$l$5:$l$104\"))","v":230},{"$f":"+C6/IF((B6)<>0,B6,1)","v":38.333333333333336},{"$f":"+COUNTIF(INDIRECT(\"'Auswertung \"&$A$1&\"'!\"&\"z5:z104\"),1)","v":5},{"$f":"+COUNTIF(INDIRECT(\"'Auswertung \"&$A$1&\"'!\"&\"z5:z104\"),-1)","v":1},{"$f":"+E6-F6","v":4},{"$f":"+B6*(HARMEAN(IF($B$5=0,1,$B$5),IF($B$6=0,1,$B$6),IF($B$7=0,1,$B$7),IF($B$8=0,1,$B$8),IF($B$9=0,1,$B$9)))/10","v":4.064516129032258},{"$f":"+IF(B6=0,-1000,ROUND(((E6/B6-F6/B6)*100+D6/10)*H6,3))/10","v":28.654800000000002},{"$f":"IF(B6=0,\"ng\",RANK(I6,$I$5:$I$10))","v":2},{"$f":"+SUM(IFERROR(INDEX(_xlfn._xlws.FILTER(Abschusstagesliste!$N$4:$AD$144,((Abschusstagesliste!$X$4:$X$144=A6)*(Abschusstagesliste!$Y$4:$Y$144<>0)*(Abschusstagesliste!$AD$4:$AD$144=$A$1))),_xlfn.SEQUENCE(20),{12}),\"\"))","v":1}]
["Mike",{"$f":"+COUNT(INDIRECT(\"'Auswertung \"&$A$1&\"'!\"&\"$d$5:$d$104\"))","v":7},{"$f":"+SUM(INDIRECT(\"'Auswertung \"&$A$1&\"'!\"&\"$d$5:$d$104\"))","v":492},{"$f":"+C7/IF((B7)<>0,B7,1)","v":70.285714285714292},{"$f":"+COUNTIF(INDIRECT(\"'Auswertung \"&$A$1&\"'!\"&\"r5:r104\"),1)","v":4},{"$f":"+COUNTIF(INDIRECT(\"'Auswertung \"&$A$1&\"'!\"&\"r5:r104\"),-1)","v":3},{"$f":"+E7-F7","v":1},{"$f":"+B7*(HARMEAN(IF($B$5=0,1,$B$5),IF($B$6=0,1,$B$6),IF($B$7=0,1,$B$7),IF($B$8=0,1,$B$8),IF($B$9=0,1,$B$9)))/10","v":4.741935483870968},{"$f":"+IF(B7=0,-1000,ROUND(((E7/B7-F7/B7)*100+D7/10)*H7,3))/10","v":10.107099999999999},{"$f":"IF(B7=0,\"ng\",RANK(I7,$I$5:$I$10))","v":3},{"$f":"+SUM(IFERROR(INDEX(_xlfn._xlws.FILTER(Abschusstagesliste!$N$4:$AD$144,((Abschusstagesliste!$P$4:$P$144=A7)*(Abschusstagesliste!$Q$4:$Q$144<>0)*(Abschusstagesliste!$AD$4:$AD$144=$A$1))),_xlfn.SEQUENCE(20),{4}),\"\"))","v":-1}]
["The Wolf",{"$f":"+COUNT(INDIRECT(\"'Auswertung \"&$A$1&\"'!\"&\"$B$5:$B$104\"))","v":7},{"$f":"+SUM(INDIRECT(\"'Auswertung \"&$A$1&\"'!\"&\"$B$5:$B$104\"))","v":489},{"$f":"+C8/IF((B8)<>0,B8,1)","v":69.857142857142861},{"$f":"+COUNTIF(INDIRECT(\"'Auswertung \"&$A$1&\"'!\"&\"p5:p104\"),1)","v":2},{"$f":"+COUNTIF(INDIRECT(\"'Auswertung \"&$A$1&\"'!\"&\"p5:p104\"),-1)","v":5},{"$f":"+E8-F8","v":-3},{"$f":"+B8*(HARMEAN(IF($B$5=0,1,$B$5),IF($B$6=0,1,$B$6),IF($B$7=0,1,$B$7),IF($B$8=0,1,$B$8),IF($B$9=0,1,$B$9)))/10","v":4.741935483870968},{"$f":"+IF(B8=0,-1000,ROUND(((E8/B8-F8/B8)*100+D8/10)*H8,3))/10","v":-17.009999999999998},{"$f":"IF(B8=0,\"ng\",RANK(I8,$I$5:$I$10))","v":4},{"$f":"+SUM(IFERROR(INDEX(_xlfn._xlws.FILTER(Abschusstagesliste!$N$4:$AD$144,((Abschusstagesliste!$N$4:$N$144=A8)*(Abschusstagesliste!$O$4:$O$144<>0)*(Abschusstagesliste!$AD$4:$AD$144=$A$1))),_xlfn.SEQUENCE(20),{2}),\"\"))","v":-1}]
["Groo",{"$f":"+COUNT(INDIRECT(\"'Auswertung \"&$A$1&\"'!\"&\"$h$5:$h$104\"))","v":7},{"$f":"+SUM(INDIRECT(\"'Auswertung \"&$A$1&\"'!\"&\"$h$5:$h$104\"))","v":277},{"$f":"+C9/IF((B9)<>0,B9,1)","v":39.571428571428569},{"$f":"+COUNTIF(INDIRECT(\"'Auswertung \"&$A$1&\"'!\"&\"v5:v104\"),1)","v":2},{"$f":"+COUNTIF(INDIRECT(\"'Auswertung \"&$A$1&\"'!\"&\"v5:v104\"),-1)","v":5},{"$f":"+E9-F9","v":-3},{"$f":"+B9*(HARMEAN(IF($B$5=0,1,$B$5),IF($B$6=0,1,$B$6),IF($B$7=0,1,$B$7),IF($B$8=0,1,$B$8),IF($B$9=0,1,$B$9)))/10","v":4.741935483870968},{"$f":"+IF(B9=0,-1000,ROUND(((E9/B9-F9/B9)*100+D9/10)*H9,3))/10","v":-18.446100000000001},{"$f":"IF(B9=0,\"ng\",RANK(I9,$I$5:$I$10))","v":5},{"$f":"+SUM(IFERROR(INDEX(_xlfn._xlws.FILTER(Abschusstagesliste!$N$4:$AD$144,((Abschusstagesliste!$T$4:$T$144=A9)*(Abschusstagesliste!$U$4:$U$144<>0)*(Abschusstagesliste!$AD$4:$AD$144=$A$1))),_xlfn.SEQUENCE(5),{8}),\"\"))","v":1}]
["Zorro",{"$f":"+COUNT(INDIRECT(\"'Auswertung \"&$A$1&\"'!\"&\"$j$5:$j$104\"))","v":6},{"$f":"+SUM(INDIRECT(\"'Auswertung \"&$A$1&\"'!\"&\"$j$5:$j$104\"))","v":297},{"$f":"+C10/IF((B10)<>0,B10,1)","v":49.5},{"$f":"+COUNTIF(INDIRECT(\"'Auswertung \"&$A$1&\"'!\"&\"x5:x104\"),1)","v":1},{"$f":"+COUNTIF(INDIRECT(\"'Auswertung \"&$A$1&\"'!\"&\"x5:x104\"),-1)","v":5},{"$f":"+E10-F10","v":-4},{"$f":"+B10*(HARMEAN(IF($B$5=0,1,$B$5),IF($B$6=0,1,$B$6),IF($B$7=0,1,$B$7),IF($B$8=0,1,$B$8),IF($B$9=0,1,$B$9)))/10","v":4.064516129032258},{"$f":"+IF(B10=0,-1000,ROUND(((E10/B10-F10/B10)*100+D10/10)*H10,3))/10","v":-25.084800000000001},{"$f":"IF(B10=0,\"ng\",RANK(I10,$I$5:$I$10))","v":6},{"$f":"+SUM(IFERROR(INDEX(_xlfn._xlws.FILTER(Abschusstagesliste!$N$4:$AD$144,((Abschusstagesliste!$V$4:$V$144=A10)*(Abschusstagesliste!$W$4:$W$144<>0)*(Abschusstagesliste!$AD$4:$AD$144=$A$1))),_xlfn.SEQUENCE(20),{10}),\"\"))","v":-1}]
[]
["letztes Spieledatum:",{"$f":"+'Die Besten'!B12","v":"08.08.2026"}]
[]
[]
[null,{"$f":"IF(INDIRECT( \"'Auswertung \"&$A$1&\"'!\"&\"B106\")<100,CONCATENATE(\"bisher \",INDIRECT( \"'Auswertung \"&$A$1&\"'!\"&\"B106\"),\" Spiel(e)\"),CONCATENATE(\"Pokalsieger: \",A5))","v":"bisher 7 Spiel(e)"}]
[null," "]
["Wertungsformel: ",{"$f":"+\"(Siege / Spiele - Niederlagen / Spiele)*100+Abschüsse/10*Harmonischen Mittelwert aller Spiele\"","v":"(Siege / Spiele - Niederlagen / Spiele)*100+Abschüsse/10*Harmonischen Mittelwert aller Spiele"}]

{"sheet":"Bestenliste Yuri","index":19,"n_rows":17,"n_cols":11,"rows_kept":17,"cut":false,"hidden":false,"merged":[]}
["Yuri"]
["Die besten Kommandanten"]
[]
[null,"Spiele","Abschüsse"," Ø ","Siege","Nieder-lagen","Diff.","Spiel / Mittelw.","Wertung","Rang"]
["Mike",{"$f":"+COUNT(INDIRECT(\"'Auswertung \"&$A$1&\"'!\"&\"$d$5:$d$104\"))","v":6},{"$f":"+SUM(INDIRECT(\"'Auswertung \"&$A$1&\"'!\"&\"$d$5:$d$104\"))","v":434},{"$f":"+C5/IF((B5)<>0,B5,1)","v":72.333333333333329},{"$f":"+COUNTIF(INDIRECT(\"'Auswertung \"&$A$1&\"'!\"&\"r5:r104\"),1)","v":5},{"$f":"+COUNTIF(INDIRECT(\"'Auswertung \"&$A$1&\"'!\"&\"r5:r104\"),-1)","v":1},{"$f":"+E5-F5","v":4},{"$f":"+B5*(HARMEAN(IF($B$5=0,1,$B$5),IF($B$6=0,1,$B$6),IF($B$7=0,1,$B$7),IF($B$8=0,1,$B$8),IF($B$9=0,1,$B$9)))/10","v":3.6},{"$f":"+IF(B5=0,-1000,ROUND(((E5/B5-F5/B5)*100+D5/10)*H5,3))/10","v":26.604000000000003},{"$f":"IF(B5=0,\"ng\",RANK(I5,$I$5:$I$10))","v":1},{"$f":"+SUM(IFERROR(INDEX(_xlfn._xlws.FILTER(Abschusstagesliste!$N$4:$AD$144,((Abschusstagesliste!$P$4:$P$144=A5)*(Abschusstagesliste!$Q$4:$Q$144<>0)*(Abschusstagesliste!$AD$4:$AD$144=$A$1))),_xlfn.SEQUENCE(20),{4}),\"\"))","v":1}]
["Big Boss",{"$f":"+COUNT(INDIRECT(\"'Auswertung \"&$A$1&\"'!\"&\"$f$5:$f$104\"))","v":6},{"$f":"+SUM(INDIRECT(\"'Auswertung \"&$A$1&\"'!\"&\"$f$5:$f$104\"))","v":338},{"$f":"+C6/IF((B6)<>0,B6,1)","v":56.333333333333336},{"$f":"+COUNTIF(INDIRECT(\"'Auswertung \"&$A$1&\"'!\"&\"t5:t104\"),1)","v":4},{"$f":"+COUNTIF(INDIRECT(\"'Auswertung \"&$A$1&\"'!\"&\"t5:t104\"),-1)","v":2},{"$f":"+E6-F6","v":2},{"$f":"+B6*(HARMEAN(IF($B$5=0,1,$B$5),IF($B$6=0,1,$B$6),IF($B$7=0,1,$B$7),IF($B$8=0,1,$B$8),IF($B$9=0,1,$B$9)))/10","v":3.6},{"$f":"+IF(B6=0,-1000,ROUND(((E6/B6-F6/B6)*100+D6/10)*H6,3))/10","v":14.028},{"$f":"IF(B6=0,\"ng\",RANK(I6,$I$5:$I$10))","v":2},{"$f":"+SUM(IFERROR(INDEX(_xlfn._xlws.FILTER(Abschusstagesliste!$N$4:$AD$144,((Abschusstagesliste!$R$4:$R$144=A6)*(Abschusstagesliste!$S$4:$S$144<>0)*(Abschusstagesliste!$AD$4:$AD$144=$A$1))),_xlfn.SEQUENCE(20),{6}),\"\"))","v":-1}]
["Groo",{"$f":"+COUNT(INDIRECT(\"'Auswertung \"&$A$1&\"'!\"&\"$h$5:$h$104\"))","v":6},{"$f":"+SUM(INDIRECT(\"'Auswertung \"&$A$1&\"'!\"&\"$h$5:$h$104\"))","v":281},{"$f":"+C7/IF((B7)<>0,B7,1)","v":46.833333333333336},{"$f":"+COUNTIF(INDIRECT(\"'Auswertung \"&$A$1&\"'!\"&\"v5:v104\"),1)","v":3},{"$f":"+COUNTIF(INDIRECT(\"'Auswertung \"&$A$1&\"'!\"&\"v5:v104\"),-1)","v":3},{"$f":"+E7-F7","v":0},{"$f":"+B7*(HARMEAN(IF($B$5=0,1,$B$5),IF($B$6=0,1,$B$6),IF($B$7=0,1,$B$7),IF($B$8=0,1,$B$8),IF($B$9=0,1,$B$9)))/10","v":3.6},{"$f":"+IF(B7=0,-1000,ROUND(((E7/B7-F7/B7)*100+D7/10)*H7,3))/10","v":1.6859999999999999},{"$f":"IF(B7=0,\"ng\",RANK(I7,$I$5:$I$10))","v":3},{"$f":"+SUM(IFERROR(INDEX(_xlfn._xlws.FILTER(Abschusstagesliste!$N$4:$AD$144,((Abschusstagesliste!$T$4:$T$144=A7)*(Abschusstagesliste!$U$4:$U$144<>0)*(Abschusstagesliste!$AD$4:$AD$144=$A$1))),_xlfn.SEQUENCE(5),{8}),\"\"))","v":-1}]
["The Wolf",{"$f":"+COUNT(INDIRECT(\"'Auswertung \"&$A$1&\"'!\"&\"$B$5:$B$104\"))","v":6},{"$f":"+SUM(INDIRECT(\"'Auswertung \"&$A$1&\"'!\"&\"$B$5:$B$104\"))","v":310},{"$f":"+C8/IF((B8)<>0,B8,1)","v":51.666666666666664},{"$f":"+COUNTIF(INDIRECT(\"'Auswertung \"&$A$1&\"'!\"&\"p5:p104\"),1)","v":2},{"$f":"+COUNTIF(INDIRECT(\"'Auswertung \"&$A$1&\"'!\"&\"p5:p104\"),-1)","v":4},{"$f":"+E8-F8","v":-2},{"$f":"+B8*(HARMEAN(IF($B$5=0,1,$B$5),IF($B$6=0,1,$B$6),IF($B$7=0,1,$B$7),IF($B$8=0,1,$B$8),IF($B$9=0,1,$B$9)))/10","v":3.6},{"$f":"+IF(B8=0,-1000,ROUND(((E8/B8-F8/B8)*100+D8/10)*H8,3))/10","v":-10.14},{"$f":"IF(B8=0,\"ng\",RANK(I8,$I$5:$I$10))","v":4},{"$f":"+SUM(IFERROR(INDEX(_xlfn._xlws.FILTER(Abschusstagesliste!$N$4:$AD$144,((Abschusstagesliste!$N$4:$N$144=A8)*(Abschusstagesliste!$O$4:$O$144<>0)*(Abschusstagesliste!$AD$4:$AD$144=$A$1))),_xlfn.SEQUENCE(20),{2}),\"\"))","v":1}]
["Marc",{"$f":"+COUNT(INDIRECT(\"'Auswertung \"&$A$1&\"'!\"&\"$l$5:$l$104\"))","v":6},{"$f":"+SUM(INDIRECT(\"'Auswertung \"&$A$1&\"'!\"&\"$l$5:$l$104\"))","v":277},{"$f":"+C9/IF((B9)<>0,B9,1)","v":46.166666666666664},{"$f":"+COUNTIF(INDIRECT(\"'Auswertung \"&$A$1&\"'!\"&\"z5:z104\"),1)","v":2},{"$f":"+COUNTIF(INDIRECT(\"'Auswertung \"&$A$1&\"'!\"&\"z5:z104\"),-1)","v":4},{"$f":"+E9-F9","v":-2},{"$f":"+B9*(HARMEAN(IF($B$5=0,1,$B$5),IF($B$6=0,1,$B$6),IF($B$7=0,1,$B$7),IF($B$8=0,1,$B$8),IF($B$9=0,1,$B$9)))/10","v":3.6},{"$f":"+IF(B9=0,-1000,ROUND(((E9/B9-F9/B9)*100+D9/10)*H9,3))/10","v":-10.337999999999999},{"$f":"IF(B9=0,\"ng\",RANK(I9,$I$5:$I$10))","v":5},{"$f":"+SUM(IFERROR(INDEX(_xlfn._xlws.FILTER(Abschusstagesliste!$N$4:$AD$144,((Abschusstagesliste!$X$4:$X$144=A9)*(Abschusstagesliste!$Y$4:$Y$144<>0)*(Abschusstagesliste!$AD$4:$AD$144=$A$1))),_xlfn.SEQUENCE(20),{12}),\"\"))","v":-1}]
["Zorro",{"$f":"+COUNT(INDIRECT(\"'Auswertung \"&$A$1&\"'!\"&\"$j$5:$j$104\"))","v":6},{"$f":"+SUM(INDIRECT(\"'Auswertung \"&$A$1&\"'!\"&\"$j$5:$j$104\"))","v":245},{"$f":"+C10/IF((B10)<>0,B10,1)","v":40.833333333333336},{"$f":"+COUNTIF(INDIRECT(\"'Auswertung \"&$A$1&\"'!\"&\"x5:x104\"),1)","v":2},{"$f":"+COUNTIF(INDIRECT(\"'Auswertung \"&$A$1&\"'!\"&\"x5:x104\"),-1)","v":4},{"$f":"+E10-F10","v":-2},{"$f":"+B10*(HARMEAN(IF($B$5=0,1,$B$5),IF($B$6=0,1,$B$6),IF($B$7=0,1,$B$7),IF($B$8=0,1,$B$8),IF($B$9=0,1,$B$9)))/10","v":3.6},{"$f":"+IF(B10=0,-1000,ROUND(((E10/B10-F10/B10)*100+D10/10)*H10,3))/10","v":-10.53},{"$f":"IF(B10=0,\"ng\",RANK(I10,$I$5:$I$10))","v":6},{"$f":"+SUM(IFERROR(INDEX(_xlfn._xlws.FILTER(Abschusstagesliste!$N$4:$AD$144,((Abschusstagesliste!$V$4:$V$144=A10)*(Abschusstagesliste!$W$4:$W$144<>0)*(Abschusstagesliste!$AD$4:$AD$144=$A$1))),_xlfn.SEQUENCE(20),{10}),\"\"))","v":1}]
[]
["letztes Spieledatum:",{"$f":"+'Die Besten'!B12","v":"08.08.2026"}]
[]
[]
[null,{"$f":"IF(INDIRECT( \"'Auswertung \"&$A$1&\"'!\"&\"B106\")<100,CONCATENATE(\"bisher \",INDIRECT( \"'Auswertung \"&$A$1&\"'!\"&\"B106\"),\" Spiel(e)\"),CONCATENATE(\"Pokalsieger: \",A5))","v":"bisher 6 Spiel(e)"}]
[null," "]
["Wertungsformel: ",{"$f":"+\"(Siege / Spiele - Niederlagen / Spiele)*100+Abschüsse/10*Harmonischen Mittelwert aller Spiele\"","v":"(Siege / Spiele - Niederlagen / Spiele)*100+Abschüsse/10*Harmonischen Mittelwert aller Spiele"}]

{"sheet":"Bestenliste Generals","index":20,"n_rows":17,"n_cols":11,"rows_kept":17,"cut":false,"hidden":false,"merged":[]}
["Generals"]
["Die besten Kommandanten"]
[]
[null,"Spiele","Abschüsse"," Ø ","Siege","Nieder-lagen","Diff.","Spiel / Mittelw.","Wertung","Rang"]
["Zorro",{"$f":"+COUNT(INDIRECT(\"'Auswertung \"&$A$1&\"'!\"&\"$j$5:$j$104\"))","v":5},{"$f":"+SUM(INDIRECT(\"'Auswertung \"&$A$1&\"'!\"&\"$j$5:$j$104\"))","v":419},{"$f":"+C5/IF((B5)<>0,B5,1)","v":83.8},{"$f":"+COUNTIF(INDIRECT(\"'Auswertung \"&$A$1&\"'!\"&\"x5:x104\"),1)","v":5},{"$f":"+COUNTIF(INDIRECT(\"'Auswertung \"&$A$1&\"'!\"&\"x5:x104\"),-1)","v":0},{"$f":"+E5-F5","v":5},{"$f":"+B5*(HARMEAN(IF($B$5=0,1,$B$5),IF($B$6=0,1,$B$6),IF($B$7=0,1,$B$7),IF($B$8=0,1,$B$8),IF($B$9=0,1,$B$9)))/10","v":2.884615384615385},{"$f":"+IF(B5=0,-1000,ROUND(((E5/B5-F5/B5)*100+D5/10)*H5,3))/10","v":31.263500000000001},{"$f":"IF(B5=0,\"ng\",RANK(I5,$I$5:$I$10))","v":1},{"$f":"+SUM(IFERROR(INDEX(_xlfn._xlws.FILTER(Abschusstagesliste!$N$4:$AD$144,((Abschusstagesliste!$V$4:$V$144=A5)*(Abschusstagesliste!$W$4:$W$144<>0)*(Abschusstagesliste!$AD$4:$AD$144=$A$1))),_xlfn.SEQUENCE(20),{10}),\"\"))","v":1}]
["The Wolf",{"$f":"+COUNT(INDIRECT(\"'Auswertung \"&$A$1&\"'!\"&\"$B$5:$B$104\"))","v":6},{"$f":"+SUM(INDIRECT(\"'Auswertung \"&$A$1&\"'!\"&\"$B$5:$B$104\"))","v":487},{"$f":"+C6/IF((B6)<>0,B6,1)","v":81.166666666666671},{"$f":"+COUNTIF(INDIRECT(\"'Auswertung \"&$A$1&\"'!\"&\"p5:p104\"),1)","v":3},{"$f":"+COUNTIF(INDIRECT(\"'Auswertung \"&$A$1&\"'!\"&\"p5:p104\"),-1)","v":3},{"$f":"+E6-F6","v":0},{"$f":"+B6*(HARMEAN(IF($B$5=0,1,$B$5),IF($B$6=0,1,$B$6),IF($B$7=0,1,$B$7),IF($B$8=0,1,$B$8),IF($B$9=0,1,$B$9)))/10","v":3.4615384615384621},{"$f":"+IF(B6=0,-1000,ROUND(((E6/B6-F6/B6)*100+D6/10)*H6,3))/10","v":2.8096000000000001},{"$f":"IF(B6=0,\"ng\",RANK(I6,$I$5:$I$10))","v":2},{"$f":"+SUM(IFERROR(INDEX(_xlfn._xlws.FILTER(Abschusstagesliste!$N$4:$AD$144,((Abschusstagesliste!$N$4:$N$144=A6)*(Abschusstagesliste!$O$4:$O$144<>0)*(Abschusstagesliste!$AD$4:$AD$144=$A$1))),_xlfn.SEQUENCE(20),{2}),\"\"))","v":-1}]
["Mike",{"$f":"+COUNT(INDIRECT(\"'Auswertung \"&$A$1&\"'!\"&\"$d$5:$d$104\"))","v":6},{"$f":"+SUM(INDIRECT(\"'Auswertung \"&$A$1&\"'!\"&\"$d$5:$d$104\"))","v":394},{"$f":"+C7/IF((B7)<>0,B7,1)","v":65.666666666666671},{"$f":"+COUNTIF(INDIRECT(\"'Auswertung \"&$A$1&\"'!\"&\"r5:r104\"),1)","v":3},{"$f":"+COUNTIF(INDIRECT(\"'Auswertung \"&$A$1&\"'!\"&\"r5:r104\"),-1)","v":3},{"$f":"+E7-F7","v":0},{"$f":"+B7*(HARMEAN(IF($B$5=0,1,$B$5),IF($B$6=0,1,$B$6),IF($B$7=0,1,$B$7),IF($B$8=0,1,$B$8),IF($B$9=0,1,$B$9)))/10","v":3.4615384615384621},{"$f":"+IF(B7=0,-1000,ROUND(((E7/B7-F7/B7)*100+D7/10)*H7,3))/10","v":2.2731000000000003},{"$f":"IF(B7=0,\"ng\",RANK(I7,$I$5:$I$10))","v":3},{"$f":"+SUM(IFERROR(INDEX(_xlfn._xlws.FILTER(Abschusstagesliste!$N$4:$AD$144,((Abschusstagesliste!$P$4:$P$144=A7)*(Abschusstagesliste!$Q$4:$Q$144<>0)*(Abschusstagesliste!$AD$4:$AD$144=$A$1))),_xlfn.SEQUENCE(20),{4}),\"\"))","v":-1}]
["Big Boss",{"$f":"+COUNT(INDIRECT(\"'Auswertung \"&$A$1&\"'!\"&\"$f$5:$f$104\"))","v":6},{"$f":"+SUM(INDIRECT(\"'Auswertung \"&$A$1&\"'!\"&\"$f$5:$f$104\"))","v":342},{"$f":"+C8/IF((B8)<>0,B8,1)","v":57},{"$f":"+COUNTIF(INDIRECT(\"'Auswertung \"&$A$1&\"'!\"&\"t5:t104\"),1)","v":3},{"$f":"+COUNTIF(INDIRECT(\"'Auswertung \"&$A$1&\"'!\"&\"t5:t104\"),-1)","v":3},{"$f":"+E8-F8","v":0},{"$f":"+B8*(HARMEAN(IF($B$5=0,1,$B$5),IF($B$6=0,1,$B$6),IF($B$7=0,1,$B$7),IF($B$8=0,1,$B$8),IF($B$9=0,1,$B$9)))/10","v":3.4615384615384621},{"$f":"+IF(B8=0,-1000,ROUND(((E8/B8-F8/B8)*100+D8/10)*H8,3))/10","v":1.9731000000000001},{"$f":"IF(B8=0,\"ng\",RANK(I8,$I$5:$I$10))","v":4},{"$f":"+SUM(IFERROR(INDEX(_xlfn._xlws.FILTER(Abschusstagesliste!$N$4:$AD$144,((Abschusstagesliste!$R$4:$R$144=A8)*(Abschusstagesliste!$S$4:$S$144<>0)*(Abschusstagesliste!$AD$4:$AD$144=$A$1))),_xlfn.SEQUENCE(20),{6}),\"\"))","v":1}]
["Groo",{"$f":"+COUNT(INDIRECT(\"'Auswertung \"&$A$1&\"'!\"&\"$h$5:$h$104\"))","v":6},{"$f":"+SUM(INDIRECT(\"'Auswertung \"&$A$1&\"'!\"&\"$h$5:$h$104\"))","v":601},{"$f":"+C9/IF((B9)<>0,B9,1)","v":100.16666666666667},{"$f":"+COUNTIF(INDIRECT(\"'Auswertung \"&$A$1&\"'!\"&\"v5:v104\"),1)","v":2},{"$f":"+COUNTIF(INDIRECT(\"'Auswertung \"&$A$1&\"'!\"&\"v5:v104\"),-1)","v":4},{"$f":"+E9-F9","v":-2},{"$f":"+B9*(HARMEAN(IF($B$5=0,1,$B$5),IF($B$6=0,1,$B$6),IF($B$7=0,1,$B$7),IF($B$8=0,1,$B$8),IF($B$9=0,1,$B$9)))/10","v":3.4615384615384621},{"$f":"+IF(B9=0,-1000,ROUND(((E9/B9-F9/B9)*100+D9/10)*H9,3))/10","v":-8.071200000000001},{"$f":"IF(B9=0,\"ng\",RANK(I9,$I$5:$I$10))","v":5},{"$f":"+SUM(IFERROR(INDEX(_xlfn._xlws.FILTER(Abschusstagesliste!$N$4:$AD$144,((Abschusstagesliste!$T$4:$T$144=A9)*(Abschusstagesliste!$U$4:$U$144<>0)*(Abschusstagesliste!$AD$4:$AD$144=$A$1))),_xlfn.SEQUENCE(144),{8}),\"\"))","v":1}]
["Marc",{"$f":"+COUNT(INDIRECT(\"'Auswertung \"&$A$1&\"'!\"&\"$l$5:$l$104\"))","v":5},{"$f":"+SUM(INDIRECT(\"'Auswertung \"&$A$1&\"'!\"&\"$l$5:$l$104\"))","v":258},{"$f":"+C10/IF((B10)<>0,B10,1)","v":51.6},{"$f":"+COUNTIF(INDIRECT(\"'Auswertung \"&$A$1&\"'!\"&\"z5:z104\"),1)","v":1},{"$f":"+COUNTIF(INDIRECT(\"'Auswertung \"&$A$1&\"'!\"&\"z5:z104\"),-1)","v":4},{"$f":"+E10-F10","v":-3},{"$f":"+B10*(HARMEAN(IF($B$5=0,1,$B$5),IF($B$6=0,1,$B$6),IF($B$7=0,1,$B$7),IF($B$8=0,1,$B$8),IF($B$9=0,1,$B$9)))/10","v":2.884615384615385},{"$f":"+IF(B10=0,-1000,ROUND(((E10/B10-F10/B10)*100+D10/10)*H10,3))/10","v":-15.8192},{"$f":"IF(B10=0,\"ng\",RANK(I10,$I$5:$I$10))","v":6},{"$f":"+SUM(IFERROR(INDEX(_xlfn._xlws.FILTER(Abschusstagesliste!$N$4:$AD$144,((Abschusstagesliste!$X$4:$X$144=A10)*(Abschusstagesliste!$Y$4:$Y$144<>0)*(Abschusstagesliste!$AD$4:$AD$144=$A$1))),_xlfn.SEQUENCE(20),{12}),\"\"))","v":-1}]
[]
["letztes Spieledatum:",{"$f":"+'Die Besten'!B12","v":"08.08.2026"}]
[]
[]
[null,{"$f":"IF(INDIRECT( \"'Auswertung \"&$A$1&\"'!\"&\"B106\")<100,CONCATENATE(\"bisher \",INDIRECT( \"'Auswertung \"&$A$1&\"'!\"&\"B106\"),\" Spiel(e)\"),CONCATENATE(\"Pokalsieger: \",A5))","v":"bisher 6 Spiel(e)"}]
[null," "]
["Wertungsformel: ",{"$f":"+\"(Siege / Spiele - Niederlagen / Spiele)*100+Abschüsse/10*Harmonischen Mittelwert aller Spiele\"","v":"(Siege / Spiele - Niederlagen / Spiele)*100+Abschüsse/10*Harmonischen Mittelwert aller Spiele"}]

{"sheet":"Abschusstagesliste","index":21,"n_rows":3632,"n_cols":34,"rows_kept":3632,"cut":false,"hidden":false,"merged":[]}
["Abschusstagesliste"]
["The Wolf",null,"Mike",null,"Big Boss",null,"Groo",null,"Zorro",null,"Marc",null,"Datum","The Wolf",{"$f":"CONCATENATE(10*(COUNT(O4:O144)-COUNTIF(O4:O144,-1)), \" %\")","v":"40 %"},"Mike",{"$f":"IF(ISERR(SUM(Q4:Q147)/COUNTIF(Q4:Q147,\">0\")),1,SUM(Q4:Q147)/COUNTIF(Q4:Q147,\">0\"))","v":0.25},"Big Boss",{"$f":"IF(ISERR(SUM(S4:S147)/COUNTIF(S4:S147,\">0\")),1,SUM(S4:S147)/COUNTIF(S4:S147,\">0\"))","v":0.25},"Groo",{"$f":"IF(ISERR(SUM(U4:U147)/COUNTIF(U4:U147,\">0\")),1,SUM(U4:U147)/COUNTIF(U4:U147,\">0\"))","v":0.6},"Zorro",{"$f":"IF(ISERR(SUM(W4:W147)/COUNTIF(W4:W147,\">0\")),1,SUM(W4:W147)/COUNTIF(W4:W147,\">0\"))","v":-0.33333333333333331},"Marc",{"$f":"IF(ISERR(SUM(Y4:Y147)/COUNTIF(Y4:Y147,\">0\")),1,SUM(Y4:Y147)/COUNTIF(Y4:Y147,\">0\"))","v":-5},null,"Karte",null,"Spiel Nr.","Spiel"]
[]
[240,"Sar",205,"Slaw",212,"Sar",115,"Beng",236,"Beng",114,"Slaw","08.08.2026","The Wolf",1,"Mike",1,"Big Boss",-1,"Groo",1,"Zorro",-1,"Marc",-1,null,"Zufall",null,33,"AoE II"]
[null,null,null,null,null,null,null,null,null,null,null,null,null,"The Wolf",null,"Mike",null,"Big Boss",null,"Groo",null,"Zorro",null,"Marc",null,null,null,null,null,"AoE II"]
[null,null,null,null,null,null,null,null,null,null,null,null,null,"The Wolf",null,"Mike",null,"Big Boss",null,"Groo",null,"Zorro",null,"Marc",null,null,null,null,null,"AoE II"]
[null,null,null,null,null,null,null,null,null,null,null,null,null,"The Wolf",null,"Mike",null,"Big Boss",null,"Groo",null,"Zorro",null,"Marc",null,null,null,null,null,"AoE II"]
[null,null,null,null,null,null,null,null,null,null,null,null,null,"The Wolf",null,"Mike",null,"Big Boss",null,"Groo",null,"Zorro",null,"Marc",null,null,null,null,null,"AoE II"]
[null,null,null,null,null,null,null,null,null,null,null,null,null,"The Wolf",null,"Mike",null,"Big Boss",null,"Groo",null,"Zorro",null,"Marc",null,null,null,null,null,"AoE II"]
[null,null,null,null,null,null,null,null,null,null,null,null,null,"The Wolf",null,"Mike",null,"Big Boss",null,"Groo",null,"Zorro",null,"Marc",null,null,null,null,null,"AoE II"]
[null,null,null,null,null,null,null,null,null,null,null,null,null,"The Wolf",null,"Mike",null,"Big Boss",null,"Groo",null,"Zorro",null,"Marc",null,null,null,null,null,"AoE II"]
[null,null,null,null,null,null,null,null,null,null,null,null,null,"The Wolf",null,"Mike",null,"Big Boss",null,"Groo",null,"Zorro",null,"Marc",null,null,null,null,null,"AoE II"]
[null,null,null,null,null,null,null,null,null,null,null,null,null,"The Wolf",null,"Mike",null,"Big Boss",null,"Groo",null,"Zorro",null,"Marc",null,null,null,null,null,"AoE II"]
[null,null,null,null,null,null,null,null,null,null,null,null,null,"The Wolf",null,"Mike",null,"Big Boss",null,"Groo",null,"Zorro",null,"Marc",null,null,null,null,null,"AoE II"]
[null,null,null,null,null,null,null,null,null,null,null,null,null,"The Wolf",null,"Mike",null,"Big Boss",null,"Groo",null,"Zorro",null,"Marc",null,null,null,null,null,"AoE II"]
[null,null,null,null,null,null,null,null,null,null,null,null,null,"The Wolf",null,"Mike",null,"Big Boss",null,"Groo",null,"Zorro",null,"Marc",null,null,null,null,null,"AoE II"]
[null,null,null,null,null,null,null,null,null,null,null,null,null,"The Wolf",null,"Mike",null,"Big Boss",null,"Groo",null,"Zorro",null,"Marc",null,null,null,null,null,"AoE II"]
[null,null,null,null,null,null,null,null,null,null,null,null,null,"The Wolf",null,"Mike",null,"Big Boss",null,"Groo",null,"Zorro",null,"Marc",null,null,null,null,null,"AoE II"]
[null,null,null,null,null,null,null,null,null,null,null,null,null,"The Wolf",null,"Mike",null,"Big Boss",null,"Groo",null,"Zorro",null,"Marc",null,null,null,null,null,"AoE II"]
[null,null,null,null,null,null,null,null,null,null,null,null,null,"The Wolf",null,"Mike",null,"Big Boss",null,"Groo",null,"Zorro",null,"Marc",null,null,null,null,null,"AoE II"]
[null,null,null,null,null,null,null,null,null,null,null,null,null,"The Wolf",null,"Mike",null,"Big Boss",null,"Groo",null,"Zorro",null,"Marc",null,null,null,null,null,"AoE II"]
[null,null,null,null,null,null,null,null,null,null,null,null,null,"The Wolf",null,"Mike",null,"Big Boss",null,"Groo",null,"Zorro",null,"Marc",null,null,null,null,null,"AoE II"]
[null,null,null,null,null,null,null,null,null,null,null,null,null,"The Wolf",null,"Mike",null,"Big Boss",null,"Groo",null,"Zorro",null,"Marc",null,null,null,null,null,"AoE II",null,null,null,{"$f":"+SUM(IFERROR(INDEX(_xlfn._xlws.FILTER(Abschusstagesliste!$N$4:$AD$144,((Abschusstagesliste!$N$4:$N$144=T2)*(Abschusstagesliste!$O$4:$O$144<>0)*(Abschusstagesliste!$AD$4:$AD$144=\"AoE II\"))),_xlfn.SEQUENCE(20),{2}),\"\"))","v":0}]
[null,null,null,null,null,null,null,null,null,null,null,null,null,"The Wolf",null,"Mike",null,"Big Boss",null,"Groo",null,"Zorro",null,"Marc",null,null,null,null,null,"AoE II",null,null,null,","]
[null,null,null,null,null,null,null,null,null,null,null,null,null,"The Wolf",null,"Mike",null,"Big Boss",null,"Groo",null,"Zorro",null,"Marc",null,null,null,null,null,"AoE II"]
[null,null,null,null,null,null,null,null,null,null,null,null,null,"The Wolf",null,"Mike",null,"Big Boss",null,"Groo",null,"Zorro",null,"Marc",null,null,null,null,null,null,null,null,null,{"$f":"+SUM(IFERROR(INDEX(_xlfn._xlws.FILTER(Abschusstagesliste!$T$4:$AD$144,((Abschusstagesliste!$T$4:$T$144=\"Groo\")*(Abschusstagesliste!$U$4:$U$144<>0)*(Abschusstagesliste!$T$4:$AD$144=\"AoE II\"))),_xlfn.SEQUENCE(20),{2}),\"\"))","v":0}]
[276,"Holl",132,"Osm",198,"GB",186,"Holl",176,"GB",106,"Osm","08.08.2026","The Wolf",1,"Mike",1,"Big Boss",-1,"Groo",-1,"Zorro",1,"Marc",-1,null,"Zufall",null,31,"AoE III"]
[302,"Chi",438,"Chi",346,"Azt",291,"Deu",222,"Azt",199,"Deu",null,"The Wolf",1,"Mike",-1,"Big Boss",1,"Groo",1,"Zorro",-1,"Marc",-1,null,"Zufall",null,36,"AoE III"]
[null,null,null,null,null,null,null,null,null,null,null,null,null,"The Wolf",null,"Mike",null,"Big Boss",null,"Groo",null,"Zorro",null,"Marc",null,null,null,null,null,"AoE III"]
[null,null,null,null,null,null,null,null,null,null,null,null,null,"The Wolf",null,"Mike",null,"Big Boss",null,"Groo",null,"Zorro",null,"Marc",null,null,null,null,null,"AoE III"]
[null,null,null,null,null,null,null,null,null,null,null,null,null,"The Wolf",null,"Mike",null,"Big Boss",null,"Groo",null,"Zorro",null,"Marc",null,null,null,null,null,"AoE III"]
[null,null,null,null,null,null,null,null,null,null,null,null,null,"The Wolf",null,"Mike",null,"Big Boss",null,"Groo",null,"Zorro",null,"Marc",null,null,null,null,null,"AoE III"]
[null,null,null,null,null,null,null,null,null,null,null,null,null,"The Wolf",null,"Mike",null,"Big Boss",null,"Groo",null,"Zorro",null,"Marc",null,null,null,null,null,"AoE III"]
[null,null,null,null,null,null,null,null,null,null,null,null,null,"The Wolf",null,"Mike",null,"Big Boss",null,"Groo",null,"Zorro",null,"Marc",null,null,null,null,null,"AoE III"]
[null,null,null,null,null,null,null,null,null,null,null,null,null,"The Wolf",null,"Mike",null,"Big Boss",null,"Groo",null,"Zorro",null,"Marc",null,null,null,null,null,"AoE III"]
[null,null,null,null,null,null,null,null,null,null,null,null,null,"The Wolf",null,"Mike",null,"Big Boss",null,"Groo",null,"Zorro",null,"Marc",null,null,null,null,null,"AoE III"]
[null,null,null,null,null,null,null,null,null,null,null,null,null,"The Wolf",null,"Mike",null,"Big Boss",null,"Groo",null,"Zorro",null,"Marc",null,null,null,null,null,"AoE III"]
[null,null,null,null,null,null,null,null,null,null,null,null,null,"The Wolf",null,"Mike",null,"Big Boss",null,"Groo",null,"Zorro",null,"Marc",null,null,null,null,null,"AoE III"]
[null,null,null,null,null,null,null,null,null,null,null,null,null,"The Wolf",null,"Mike",null,"Big Boss",null,"Groo",null,"Zorro",null,"Marc",null,null,null,null,null,"AoE III"]
[null,null,null,null,null,null,null,null,null,null,null,null,null,"The Wolf",null,"Mike",null,"Big Boss",null,"Groo",null,"Zorro",null,"Marc",null,null,null,null,null,"AoE III"]
[null,null,null,null,null,null,null,null,null,null,null,null,null,"The Wolf",null,"Mike",null,"Big Boss",null,"Groo",null,"Zorro",null,"Marc",null,null,null,null,null,"AoE III"]
[null,null,null,null,null,null,null,null,null,null,null,null,null,"The Wolf",null,"Mike",null,"Big Boss",null,"Groo",null,"Zorro",null,"Marc",null,null,null,null,null,"AoE III"]
[null,null,null,null,null,null,null,null,null,null,null,null,null,"The Wolf",null,"Mike",null,"Big Boss",null,"Groo",null,"Zorro",null,"Marc",null,null,null,null,null,"AoE III"]
[null,null,null,null,null,null,null,null,null,null,null,null,null,"The Wolf",null,"Mike",null,"Big Boss",null,"Groo",null,"Zorro",null,"Marc",null,null,null,null,null,"AoE III"]
[null,null,null,null,null,null,null,null,null,null,null,null,null,"The Wolf",null,"Mike",null,"Big Boss",null,"Groo",null,"Zorro",null,"Marc",null,null,null,null,null,"AoE III"]
[null,null,null,null,null,null,null,null,null,null,null,null,null,"The Wolf",null,"Mike",null,"Big Boss",null,"Groo",null,"Zorro",null,"Marc",null,null,null,null,null,"AoE III"]
[null,null,null,null,null,null,null,null,null,null,null,null,null,"The Wolf",null,"Mike",null,"Big Boss",null,"Groo",null,"Zorro",null,"Marc",null,null,null,null,null,"AoE III"]
[null,null,null,null,null,null,null,null,null,null,null,null,null,"The Wolf",null,"Mike",null,"Big Boss",null,"Groo",null,"Zorro",null,"Marc",null,null,null,null,null,"AoE III"]
[null,null,null,null,null,null,null,null,null,null,null,null,null,"The Wolf",null,"Mike",null,"Big Boss",null,"Groo",null,"Zorro",null,"Marc"]
[null,null,null,null,null,null,null,null,null,null,null,null,null,"The Wolf",null,"Mike",null,"Big Boss",null,"Groo",null,"Zorro",null,"Marc"]
[382,"Odin",556,"Zeus",182,"Re",424,"Odin",178,"Zeus",342,"Re","08.08.2026","The Wolf",-1,"Mike",1,"Big Boss",1,"Groo",1,"Zorro",-1,"Marc",-1,null,"Zufall",null,37,"AoM"]
[null,null,null,null,null,null,null,null,null,null,null,null,null,"The Wolf",null,"Mike",null,"Big Boss",null,"Groo",null,"Zorro",null,"Marc",null,null,null,null,null,"AoM"]
[null,null,null,null,null,null,null,null,null,null,null,null,null,"The Wolf",null,"Mike",null,"Big Boss",null,"Groo",null,"Zorro",null,"Marc",null,null,null,null,null,"AoM"]
[null,null,null,null,null,null,null,null,null,null,null,null,null,"The Wolf",null,"Mike",null,"Big Boss",null,"Groo",null,"Zorro",null,"Marc",null,null,null,null,null,"AoM"]
[null,null,null,null,null,null,null,null,null,null,null,null,null,"The Wolf",null,"Mike",null,"Big Boss",null,"Groo",null,"Zorro",null,"Marc",null,null,null,null,null,"AoM"]
[null,null,null,null,null,null,null,null,null,null,null,null,null,"The Wolf",null,"Mike",null,"Big Boss",null,"Groo",null,"Zorro",null,"Marc",null,null,null,null,null,"AoM"]
[null,null,null,null,null,null,null,null,null,null,null,null,null,"The Wolf",null,"Mike",null,"Big Boss",null,"Groo",null,"Zorro",null,"Marc",null,null,null,null,null,"AoM"]
[null,null,null,null,null,null,null,null,null,null,null,null,null,"The Wolf",null,"Mike",null,"Big Boss",null,"Groo",null,"Zorro",null,"Marc",null,null,null,null,null,"AoM"]
[null,null,null,null,null,null,null,null,null,null,null,null,null,"The Wolf",null,"Mike",null,"Big Boss",null,"Groo",null,"Zorro",null,"Marc",null,null,null,null,null,"AoM"]
[null,null,null,null,null,null,null,null,null,null,null,null,null,"The Wolf",null,"Mike",null,"Big Boss",null,"Groo",null,"Zorro",null,"Marc",null,null,null,null,null,"AoM"]
[null,null,null,null,null,null,null,null,null,null,null,null,null,"The Wolf",null,"Mike",null,"Big Boss",null,"Groo",null,"Zorro",null,"Marc",null,null,null,null,null,"AoM"]
[null,null,null,null,null,null,null,null,null,null,null,null,null,"The Wolf",null,"Mike",null,"Big Boss",null,"Groo",null,"Zorro",null,"Marc",null,null,null,null,null,"AoM"]
[null,null,null,null,null,null,null,null,null,null,null,null,null,"The Wolf",null,"Mike",null,"Big Boss",null,"Groo",null,"Zorro",null,"Marc",null,null,null,null,null,"AoM"]
[null,null,null,null,null,null,null,null,null,null,null,null,null,"The Wolf",null,"Mike",null,"Big Boss",null,"Groo",null,"Zorro",null,"Marc",null,null,null,null,null,"AoM"]
[null,null,null,null,null,null,null,null,null,null,null,null,null,"The Wolf",null,"Mike",null,"Big Boss",null,"Groo",null,"Zorro",null,"Marc",null,null,null,null,null,"AoM"]
[null,null,null,null,null,null,null,null,null,null,null,null,null,"The Wolf",null,"Mike",null,"Big Boss",null,"Groo",null,"Zorro",null,"Marc",null,null,null,null,null,"AoM"]
[null,null,null,null,null,null,null,null,null,null,null,null,null,"The Wolf",null,"Mike",null,"Big Boss",null,"Groo",null,"Zorro",null,"Marc",null,null,null,null,null,"AoM"]
[null,null,null,null,null,null,null,null,null,null,null,null,null,"The Wolf",null,"Mike",null,"Big Boss",null,"Groo",null,"Zorro",null,"Marc",null,null,null,null,null,"AoM"]
[null,null,null,null,null,null,null,null,null,null,null,null,null,"The Wolf",null,"Mike",null,"Big Boss",null,"Groo",null,"Zorro",null,"Marc",null,null,null,null,null,"AoM"]
[null,null,null,null,null,null,null,null,null,null,null,null,null,"The Wolf",null,"Mike",null,"Big Boss",null,"Groo",null,"Zorro",null,"Marc",null,null,null,null,null,"AoM"]
[null,null,null,null,null,null,null,null,null,null,null,null,null,"The Wolf",null,"Mike",null,"Big Boss",null,"Groo",null,"Zorro",null,"Marc",null,null,null,null,null,"AoM"]
[null,null,null,null,null,null,null,null,null,null,null,null,null,"The Wolf",null,"Mike",null,"Big Boss",null,"Groo",null,"Zorro",null,"Marc",null,null,null,null,null,"AoM"]
[null,null,null,null,null,null,null,null,null,null,null,null,null,"The Wolf",null,"Mike",null,"Big Boss",null,"Groo",null,"Zorro",null,"Marc"]
[null,null,null,null,null,null,null,null,null,null,null,null,null,"The Wolf",null,"Mike",null,"Big Boss",null,"Groo",null,"Zorro",null,"Marc"]
[41,"A",133,"S",110,"S",47,"S",39,"A",48,"A","08.08.2026","The Wolf",-1,"Mike",-1,"Big Boss",1,"Groo",1,"Zorro",-1,"Marc",1,null,29,null,34,"RA"]
[null,null,null,null,null,null,null,null,null,null,null,null,null,"The Wolf",null,"Mike",null,"Big Boss",null,"Groo",null,"Zorro",null,"Marc",null,null,null,null,null,"RA"]
[null,null,null,null,null,null,null,null,null,null,null,null,null,"The Wolf",null,"Mike",null,"Big Boss",null,"Groo",null,"Zorro",null,"Marc",null,null,null,null,null,"RA"]
[null,null,null,null,null,null,null,null,null,null,null,null,null,"The Wolf",null,"Mike",null,"Big Boss",null,"Groo",null,"Zorro",null,"Marc",null,null,null,null,null,"RA"]
[null,null,null,null,null,null,null,null,null,null,null,null,null,"The Wolf",null,"Mike",null,"Big Boss",null,"Groo",null,"Zorro",null,"Marc",null,null,null,null,null,"RA"]
[null,null,null,null,null,null,null,null,null,null,null,null,null,"The Wolf",null,"Mike",null,"Big Boss",null,"Groo",null,"Zorro",null,"Marc",null,null,null,null,null,"RA"]
[null,null,null,null,null,null,null,null,null,null,null,null,null,"The Wolf",null,"Mike",null,"Big Boss",null,"Groo",null,"Zorro",null,"Marc",null,null,null,null,null,"RA"]
[null,null,null,null,null,null,null,null,null,null,null,null,null,"The Wolf",null,"Mike",null,"Big Boss",null,"Groo",null,"Zorro",null,"Marc",null,null,null,null,null,"RA"]
[null,null,null,null,null,null,null,null,null,null,null,null,null,"The Wolf",null,"Mike",null,"Big Boss",null,"Groo",null,"Zorro",null,"Marc",null,null,null,null,null,"RA"]
[null,null,null,null,null,null,null,null,null,null,null,null,null,"The Wolf",null,"Mike",null,"Big Boss",null,"Groo",null,"Zorro",null,"Marc",null,null,null,null,null,"RA"]
[null,null,null,null,null,null,null,null,null,null,null,null,null,"The Wolf",null,"Mike",null,"Big Boss",null,"Groo",null,"Zorro",null,"Marc",null,null,null,null,null,"RA"]
[null,null,null,null,null,null,null,null,null,null,null,null,null,"The Wolf",null,"Mike",null,"Big Boss",null,"Groo",null,"Zorro",null,"Marc",null,null,null,null,null,"RA"]
[null,null,null,null,null,null,null,null,null,null,null,null,null,"The Wolf",null,"Mike",null,"Big Boss",null,"Groo",null,"Zorro",null,"Marc",null,null,null,null,null,"RA"]
[null,null,null,null,null,null,null,null,null,null,null,null,null,"The Wolf",null,"Mike",null,"Big Boss",null,"Groo",null,"Zorro",null,"Marc",null,null,null,null,null,"RA"]
[null,null,null,null,null,null,null,null,null,null,null,null,null,"The Wolf",null,"Mike",null,"Big Boss",null,"Groo",null,"Zorro",null,"Marc",null,null,null,null,null,"RA"]
[null,null,null,null,null,null,null,null,null,null,null,null,null,"The Wolf",null,"Mike",null,"Big Boss",null,"Groo",null,"Zorro",null,"Marc",null,null,null,null,null,"RA"]
[null,null,null,null,null,null,null,null,null,null,null,null,null,"The Wolf",null,"Mike",null,"Big Boss",null,"Groo",null,"Zorro",null,"Marc",null,null,null,null,null,"RA"]
[null,null,null,null,null,null,null,null,null,null,null,null,null,"The Wolf",null,"Mike",null,"Big Boss",null,"Groo",null,"Zorro",null,"Marc",null,null,null,null,null,"RA"]
[null,null,null,null,null,null,null,null,null,null,null,null,null,"The Wolf",null,"Mike",null,"Big Boss",null,"Groo",null,"Zorro",null,"Marc",null,null,null,null,null,"RA"]
[null,null,null,null,null,null,null,null,null,null,null,null,null,"The Wolf",null,"Mike",null,"Big Boss",null,"Groo",null,"Zorro",null,"Marc",null,null,null,null,null,"RA"]
[null,null,null,null,null,null,null,null,null,null,null,null,null,"The Wolf",null,"Mike",null,"Big Boss",null,"Groo",null,"Zorro",null,"Marc",null,null,null,null,null,"RA"]
[null,null,null,null,null,null,null,null,null,null,null,null,null,"The Wolf",null,"Mike",null,"Big Boss",null,"Groo",null,"Zorro",null,"Marc",null,null,null,null,null,"RA"]
[null,null,null,null,null,null,null,null,null,null,null,null,null,"The Wolf",null,"Mike",null,"Big Boss",null,"Groo",null,"Zorro",null,"Marc"]
[null,null,null,null,null,null,null,null,null,null,null,null,null,"The Wolf",null,"Mike",null,"Big Boss",null,"Groo",null,"Zorro",null,"Marc"]
[46,"Kor",33,"Lyb",35,"Kor",45,"Lyb",20,"Deu",38,"Deu","08.08.2026","The Wolf",1,"Mike",1,"Big Boss",-1,"Groo",-1,"Zorro",1,"Marc",-1,null,"Zufall",null,35,"Yuri"]
[null,null,null,null,null,null,null,null,null,null,null,null,null,"The Wolf",null,"Mike",null,"Big Boss",null,"Groo",null,"Zorro",null,"Marc",null,null,null,null,null,"Yuri"]
[null,null,null,null,null,null,null,null,null,null,null,null,null,"The Wolf",null,"Mike",null,"Big Boss",null,"Groo",null,"Zorro",null,"Marc",null,null,null,null,null,"Yuri"]
[null,null,null,null,null,null,null,null,null,null,null,null,null,"The Wolf",null,"Mike",null,"Big Boss",null,"Groo",null,"Zorro",null,"Marc",null,null,null,null,null,"Yuri"]
[null,null,null,null,null,null,null,null,null,null,null,null,null,"The Wolf",null,"Mike",null,"Big Boss",null,"Groo",null,"Zorro",null,"Marc",null,null,null,null,null,"Yuri"]
[null,null,null,null,null,null,null,null,null,null,null,null,null,"The Wolf",null,"Mike",null,"Big Boss",null,"Groo",null,"Zorro",null,"Marc",null,null,null,null,null,"Yuri"]
[null,null,null,null,null,null,null,null,null,null,null,null,null,"The Wolf",null,"Mike",null,"Big Boss",null,"Groo",null,"Zorro",null,"Marc",null,null,null,null,null,"Yuri"]
[null,null,null,null,null,null,null,null,null,null,null,null,null,"The Wolf",null,"Mike",null,"Big Boss",null,"Groo",null,"Zorro",null,"Marc",null,null,null,null,null,"Yuri"]
[null,null,null,null,null,null,null,null,null,null,null,null,null,"The Wolf",null,"Mike",null,"Big Boss",null,"Groo",null,"Zorro",null,"Marc",null,null,null,null,null,"Yuri"]
[null,null,null,null,null,null,null,null,null,null,null,null,null,"The Wolf",null,"Mike",null,"Big Boss",null,"Groo",null,"Zorro",null,"Marc",null,null,null,null,null,"Yuri"]
[null,null,null,null,null,null,null,null,null,null,null,null,null,"The Wolf",null,"Mike",null,"Big Boss",null,"Groo",null,"Zorro",null,"Marc",null,null,null,null,null,"Yuri"]
[null,null,null,null,null,null,null,null,null,null,null,null,null,"The Wolf",null,"Mike",null,"Big Boss",null,"Groo",null,"Zorro",null,"Marc",null,null,null,null,null,"Yuri"]
[null,null,null,null,null,null,null,null,null,null,null,null,null,"The Wolf",null,"Mike",null,"Big Boss",null,"Groo",null,"Zorro",null,"Marc",null,null,null,null,null,"Yuri"]
[null,null,null,null,null,null,null,null,null,null,null,null,null,"The Wolf",null,"Mike",null,"Big Boss",null,"Groo",null,"Zorro",null,"Marc",null,null,null,null,null,"Yuri"]
[null,null,null,null,null,null,null,null,null,null,null,null,null,"The Wolf",null,"Mike",null,"Big Boss",null,"Groo",null,"Zorro",null,"Marc",null,null,null,null,null,"Yuri"]
[null,null,null,null,null,null,null,null,null,null,null,null,null,"The Wolf",null,"Mike",null,"Big Boss",null,"Groo",null,"Zorro",null,"Marc",null,null,null,null,null,"Yuri"]
[null,null,null,null,null,null,null,null,null,null,null,null,null,"The Wolf",null,"Mike",null,"Big Boss",null,"Groo",null,"Zorro",null,"Marc",null,null,null,null,null,"Yuri"]
[null,null,null,null,null,null,null,null,null,null,null,null,null,"The Wolf",null,"Mike",null,"Big Boss",null,"Groo",null,"Zorro",null,"Marc",null,null,null,null,null,"Yuri"]
[null,null,null,null,null,null,null,null,null,null,null,null,null,"The Wolf",null,"Mike",null,"Big Boss",null,"Groo",null,"Zorro",null,"Marc",null,null,null,null,null,"Yuri"]
[null,null,null,null,null,null,null,null,null,null,null,null,null,"The Wolf",null,"Mike",null,"Big Boss",null,"Groo",null,"Zorro",null,"Marc",null,null,null,null,null,"Yuri"]
[null,null,null,null,null,null,null,null,null,null,null,null,null,"The Wolf",null,"Mike",null,"Big Boss",null,"Groo",null,"Zorro",null,"Marc",null,null,null,null,null,"Yuri"]
[null,null,null,null,null,null,null,null,null,null,null,null,null,"The Wolf",null,"Mike",null,"Big Boss",null,"Groo",null,"Zorro",null,"Marc",null,null,null,null,null,"Yuri"]
[null,null,null,null,null,null,null,null,null,null,null,null,null,"The Wolf",null,"Mike",null,"Big Boss",null,"Groo",null,"Zorro",null,"Marc"]
[null,null,null,null,null,null,null,null,null,null,null,null,null,"The Wolf",null,"Mike",null,"Big Boss",null,"Groo",null,"Zorro",null,"Marc"]
[103,"AP",82,"IBG",75,"AP",202,"AP",188,"IBG",119,"AP","08.08.2026","The Wolf",-1,"Mike",-1,"Big Boss",1,"Groo",1,"Zorro",1,"Marc",-1,null,"patchwork mesa",null,32,"Generals"]
[null,null,null,null,null,null,null,null,null,null,null,null,null,"The Wolf",null,"Mike",null,"Big Boss",null,"Groo",null,"Zorro",null,"Marc",null,null,null,null,null,"Generals"]
[null,null,null,null,null,null,null,null,null,null,null,null,null,"The Wolf",null,"Mike",null,"Big Boss",null,"Groo",null,"Zorro",null,"Marc",null,null,null,null,null,"Generals"]
[null,null,null,null,null,null,null,null,null,null,null,null,null,"The Wolf",null,"Mike",null,"Big Boss",null,"Groo",null,"Zorro",null,"Marc",null,null,null,null,null,"Generals"]
[null,null,null,null,null,null,null,null,null,null,null,null,null,"The Wolf",null,"Mike",null,"Big Boss",null,"Groo",null,"Zorro",null,"Marc",null,null,null,null,null,"Generals"]
[null,null,null,null,null,null,null,null,null,null,null,null,null,"The Wolf",null,"Mike",null,"Big Boss",null,"Groo",null,"Zorro",null,"Marc",null,null,null,null,null,"Generals"]
[null,null,null,null,null,null,null,null,null,null,null,null,null,"The Wolf",null,"Mike",null,"Big Boss",null,"Groo",null,"Zorro",null,"Marc",null,null,null,null,null,"Generals"]
[null,null,null,null,null,null,null,null,null,null,null,null,null,"The Wolf",null,"Mike",null,"Big Boss",null,"Groo",null,"Zorro",null,"Marc",null,null,null,null,null,"Generals"]
[null,null,null,null,null,null,null,null,null,null,null,null,null,"The Wolf",null,"Mike",null,"Big Boss",null,"Groo",null,"Zorro",null,"Marc",null,null,null,null,null,"Generals"]
[null,null,null,null,null,null,null,null,null,null,null,null,null,"The Wolf",null,"Mike",null,"Big Boss",null,"Groo",null,"Zorro",null,"Marc",null,null,null,null,null,"Generals"]
[null,null,null,null,null,null,null,null,null,null,null,null,null,"The Wolf",null,"Mike",null,"Big Boss",null,"Groo",null,"Zorro",null,"Marc",null,null,null,null,null,"Generals"]
[null,null,null,null,null,null,null,null,null,null,null,null,null,"The Wolf",null,"Mike",null,"Big Boss",null,"Groo",null,"Zorro",null,"Marc",null,null,null,null,null,"Generals"]
[null,null,null,null,null,null,null,null,null,null,null,null,null,"The Wolf",null,"Mike",null,"Big Boss",null,"Groo",null,"Zorro",null,"Marc",null,null,null,null,null,"Generals"]
[null,null,null,null,null,null,null,null,null,null,null,null,null,"The Wolf",null,"Mike",null,"Big Boss",null,"Groo",null,"Zorro",null,"Marc",null,null,null,null,null,"Generals"]
[null,null,null,null,null,null,null,null,null,null,null,null,null,"The Wolf",null,"Mike",null,"Big Boss",null,"Groo",null,"Zorro",null,"Marc",null,null,null,null,null,"Generals"]
[null,null,null,null,null,null,null,null,null,null,null,null,null,"The Wolf",null,"Mike",null,"Big Boss",null,"Groo",null,"Zorro",null,"Marc",null,null,null,null,null,"Generals"]
[null,null,null,null,null,null,null,null,null,null,null,null,null,"The Wolf",null,"Mike",null,"Big Boss",null,"Groo",null,"Zorro",null,"Marc",null,null,null,null,null,"Generals"]
[null,null,null,null,null,null,null,null,null,null,null,null,null,"The Wolf",null,"Mike",null,"Big Boss",null,"Groo",null,"Zorro",null,"Marc",null,null,null,null,null,"Generals"]
[null,null,null,null,null,null,null,null,null,null,null,null,null,"The Wolf",null,"Mike",null,"Big Boss",null,"Groo",null,"Zorro",null,"Marc",null,null,null,null,null,"Generals"]
[null,null,null,null,null,null,null,null,null,null,null,null,null,"The Wolf",null,"Mike",null,"Big Boss",null,"Groo",null,"Zorro",null,"Marc",null,null,null,null,null,"Generals"]
[null,null,null,null,null,null,null,null,null,null,null,null,null,"The Wolf",null,"Mike",null,"Big Boss",null,"Groo",null,"Zorro",null,"Marc",null,null,null,null,null,"Generals"]
[null,null,null,null,null,null,null,null,null,null,null,null,null,"The Wolf",null,"Mike",null,"Big Boss",null,"Groo",null,"Zorro",null,"Marc",null,null,null,null,null,"Generals"]
[]
[]
[]
[]
[]
[]
[]
[]
[]
[]
[]
[]
[]
[]
[]
[]
[]
[]
[]
[]
[]
[]
[]
[]
[]
[]
[]
[]
[]
[]
[]
[]
[]
[]
[]
[]
[]
[]
[]
[]
[]
[]
[]
[]
[]
[]
[]
[]
[]
[]
[]
[]
[]
[]
[]
[]
[]
[]
[]
[]
[]
[]
[]
[]
[]
[]
[]
[]
[]
[]
[]
[]
[]
[]
[]
[]
[]
[]
[]
[]
[]
[]
[]
[]
[]
[]
[]
[]
[]
[]
[]
[]
[]
[]
[]
[]
[]
[]
[]
[]
[]
[]
[]
[]
[]
[]
[]
[]
[]
[]
[]
[]
[]
[]
[]
[]
[]
[]
[]
[]
[]
[]
[]
[]
[]
[]
[]
[]
[]
[]
[]
[]
[]
[]
[]
[]
[]
[]
[]
[]
[]
[]
[]
[]
[]
[]
[]
[]
[]
[]
[]
[]
[]
[]
[]
[]
[]
[]
[]
[]
[]
[]
[]
[]
[]
[]
[]
[]
[]
[]
[]
[]
[]
[]
[]
[]
[]
[]
[]
[]
[]
[]
[]
[]
[]
[]
[]
[]
[]
[]
[]
[]
[]
[]
[]
[]
[]
[]
[]
[]
[]
[]
[]
[]
[]
[]
[]
[]
[]
[]
[]
[]
[]
[]
[]
[]
[]
[]
[]
[]
[]
[]
[]
[]
[]
[]
[]
[]
[]
[]
[]
[]
[]
[]
[]
[]
[]
[]
[]
[]
[]
[]
[]
[]
[]
[]
[]
[]
[]
[]
[]
[]
[]
[]
[]
[]
[]
[]
[]
[]
[]
[]
[]
[]
[]
[]
[]
[]
[]
[]
[]
[]
[]
[]
[]
[]
[]
[]
[]
[]
[]
[]
[]
[]
[]
[]
[]
[]
[]
[]
[]
[]
[]
[]
[]
[]
[]
[]
[]
[]
[]
[]
[]
[]
[]
[]
[]
[]
[]
[]
[]
[]
[]
[]
[]
[]
[]
[]
[]
[]
[]
[]
[]
[]
[]
[]
[]
[]
[]
[]
[]
[]
[]
[]
[]
[]
[]
[]
[]
[]
[]
[]
[]
[]
[]
[]
[]
[]
[]
[]
[]
[]
[]
[]
[]
[]
[]
[]
[]
[]
[]
[]
[]
[]
[]
[]
[]
[]
[]
[]
[]
[]
[]
[]
[]
[]
[]
[]
[]
[]
[]
[]
[]
[]
[]
[]
[]
[]
[]
[]
[]
[]
[]
[]
[]
[]
[]
[]
[]
[]
[]
[]
[]
[]
[]
[]
[]
[]
[]
[]
[]
[]
[]
[]
[]
[]
[]
[]
[]
[]
[]
[]
[]
[]
[]
[]
[]
[]
[]
[]
[]
[]
[]
[]
[]
[]
[]
[]
[]
[]
[]
[]
[]
[]
[]
[]
[]
[]
[]
[]
[]
[]
[]
[]
[]
[]
[]
[]
[]
[]
[]
[]
[]
[]
[]
[]
[]
[]
[]
[]
[]
[]
[]
[]
[]
[]
[]
[]
[]
[]
[]
[]
[]
[]
[]
[]
[]
[]
[]
[]
[]
[]
[]
[]
[]
[]
[]
[]
[]
[]
[]
[]
[]
[]
[]
[]
[]
[]
[]
[]
[]
[]
[]
[]
[]
[]
[]
[]
[]
[]
[]
[]
[]
[]
[]
[]
[]
[]
[]
[]
[]
[]
[]
[]
[]
[]
[]
[]
[]
[]
[]
[]
[]
[]
[]
[]
[]
[]
[]
[]
[]
[]
[]
[]
[]
[]
[]
[]
[]
[]
[]
[]
[]
[]
[]
[]
[]
[]
[]
[]
[]
[]
[]
[]
[]
[]
[]
[]
[]
[]
[]
[]
[]
[]
[]
[]
[]
[]
[]
[]
[]
[]
[]
[]
[]
[]
[]
[]
[]
[]
[]
[]
[]
[]
[]
[]
[]
[]
[]
[]
[]
[]
[]
[]
[]
[]
[]
[]
[]
[]
[]
[]
[]
[]
[]
[]
[]
[]
[]
[]
[]
[]
[]
[]
[]
[]
[]
[]
[]
[]
[]
[]
[]
[]
[]
[]
[]
[]
[]
[]
[]
[]
[]
[]
[]
[]
[]
[]
[]
[]
[]
[]
[]
[]
[]
[]
[]
[]
[]
[]
[]
[]
[]
[]
[]
[]
[]
[]
[]
[]
[]
[]
[]
[]
[]
[]
[]
[]
[]
[]
[]
[]
[]
[]
[]
[]
[]
[]
[]
[]
[]
[]
[]
[]
[]
[]
[]
[]
[]
[]
[]
[]
[]
[]
[]
[]
[]
[]
[]
[]
[]
[]
[]
[]
[]
[]
[]
[]
[]
[]
[]
[]
[]
[]
[]
[]
[]
[]
[]
[]
[]
[]
[]
[]
[]
[]
[]
[]
[]
[]
[]
[]
[]
[]
[]
[]
[]
[]
[]
[]
[]
[]
[]
[]
[]
[]
[]
[]
[]
[]
[]
[]
[]
[]
[]
[]
[]
[]
[]
[]
[]
[]
[]
[]
[]
[]
[]
[]
[]
[]
[]
[]
[]
[]
[]
[]
[]
[]
[]
[]
[]
[]
[]
[]
[]
[]
[]
[]
[]
[]
[]
[]
[]
[]
[]
[]
[]
[]
[]
[]
[]
[]
[]
[]
[]
[]
[]
[]
[]
[]
[]
[]
[]
[]
[]
[]
[]
[]
[]
[]
[]
[]
[]
[]
[]
[]
[]
[]
[]
[]
[]
[]
[]
[]
[]
[]
[]
[]
[]
[]
[]
[]
[]
[]
[]
[]
[]
[]
[]
[]
[]
[]
[]
[]
[]
[]
[]
[]
[]
[]
[]
[]
[]
[]
[]
[]
[]
[]
[]
[]
[]
[]
[]
[]
[]
[]
[]
[]
[]
[]
[]
[]
[]
[]
[]
[]
[]
[]
[]
[]
[]
[]
[]
[]
[]
[]
[]
[]
[]
[]
[]
[]
[]
[]
[]
[]
[]
[]
[]
[]
[]
[]
[]
[]
[]
[]
[]
[]
[]
[]
[]
[]
[]
[]
[]
[]
[]
[]
[]
[]
[]
[]
[]
[]
[]
[]
[]
[]
[]
[]
[]
[]
[]
[]
[]
[]
[]
[]
[]
[]
[]
[]
[]
[]
[]
[]
[]
[]
[]
[]
[]
[]
[]
[]
[]
[]
[]
[]
[]
[]
[]
[]
[]
[]
[]
[]
[]
[]
[]
[]
[]
[]
[]
[]
[]
[]
[]
[]
[]
[]
[]
[]
[]
[]
[]
[]
[]
[]
[]
[]
[]
[]
[]
[]
[]
[]
[]
[]
[]
[]
[]
[]
[]
[]
[]
[]
[]
[]
[]
[]
[]
[]
[]
[]
[]
[]
[]
[]
[]
[]
[]
[]
[]
[]
[]
[]
[]
[]
[]
[]
[]
[]
[]
[]
[]
[]
[]
[]
[]
[]
[]
[]
[]
[]
[]
[]
[]
[]
[]
[]
[]
[]
[]
[]
[]
[]
[]
[]
[]
[]
[]
[]
[]
[]
[]
[]
[]
[]
[]
[]
[]
[]
[]
[]
[]
[]
[]
[]
[]
[]
[]
[]
[]
[]
[]
[]
[]
[]
[]
[]
[]
[]
[]
[]
[]
[]
[]
[]
[]
[]
[]
[]
[]
[]
[]
[]
[]
[]
[]
[]
[]
[]
[]
[]
[]
[]
[]
[]
[]
[]
[]
[]
[]
[]
[]
[]
[]
[]
[]
[]
[]
[]
[]
[]
[]
[]
[]
[]
[]
[]
[]
[]
[]
[]
[]
[]
[]
[]
[]
[]
[]
[]
[]
[]
[]
[]
[]
[]
[]
[]
[]
[]
[]
[]
[]
[]
[]
[]
[]
[]
[]
[]
[]
[]
[]
[]
[]
[]
[]
[]
[]
[]
[]
[]
[]
[]
[]
[]
[]
[]
[]
[]
[]
[]
[]
[]
[]
[]
[]
[]
[]
[]
[]
[]
[]
[]
[]
[]
[]
[]
[]
[]
[]
[]
[]
[]
[]
[]
[]
[]
[]
[]
[]
[]
[]
[]
[]
[]
[]
[]
[]
[]
[]
[]
[]
[]
[]
[]
[]
[]
[]
[]
[]
[]
[]
[]
[]
[]
[]
[]
[]
[]
[]
[]
[]
[]
[]
[]
[]
[]
[]
[]
[]
[]
[]
[]
[]
[]
[]
[]
[]
[]
[]
[]
[]
[]
[]
[]
[]
[]
[]
[]
[]
[]
[]
[]
[]
[]
[]
[]
[]
[]
[]
[]
[]
[]
[]
[]
[]
[]
[]
[]
[]
[]
[]
[]
[]
[]
[]
[]
[]
[]
[]
[]
[]
[]
[]
[]
[]
[]
[]
[]
[]
[]
[]
[]
[]
[]
[]
[]
[]
[]
[]
[]
[]
[]
[]
[]
[]
[]
[]
[]
[]
[]
[]
[]
[]
[]
[]
[]
[]
[]
[]
[]
[]
[]
[]
[]
[]
[]
[]
[]
[]
[]
[]
[]
[]
[]
[]
[]
[]
[]
[]
[]
[]
[]
[]
[]
[]
[]
[]
[]
[]
[]
[]
[]
[]
[]
[]
[]
[]
[]
[]
[]
[]
[]
[]
[]
[]
[]
[]
[]
[]
[]
[]
[]
[]
[]
[]
[]
[]
[]
[]
[]
[]
[]
[]
[]
[]
[]
[]
[]
[]
[]
[]
[]
[]
[]
[]
[]
[]
[]
[]
[]
[]
[]
[]
[]
[]
[]
[]
[]
[]
[]
[]
[]
[]
[]
[]
[]
[]
[]
[]
[]
[]
[]
[]
[]
[]
[]
[]
[]
[]
[]
[]
[]
[]
[]
[]
[]
[]
[]
[]
[]
[]
[]
[]
[]
[]
[]
[]
[]
[]
[]
[]
[]
[]
[]
[]
[]
[]
[]
[]
[]
[]
[]
[]
[]
[]
[]
[]
[]
[]
[]
[]
[]
[]
[]
[]
[]
[]
[]
[]
[]
[]
[]
[]
[]
[]
[]
[]
[]
[]
[]
[]
[]
[]
[]
[]
[]
[]
[]
[]
[]
[]
[]
[]
[]
[]
[]
[]
[]
[]
[]
[]
[]
[]
[]
[]
[]
[]
[]
[]
[]
[]
[]
[]
[]
[]
[]
[]
[]
[]
[]
[]
[]
[]
[]
[]
[]
[]
[]
[]
[]
[]
[]
[]
[]
[]
[]
[]
[]
[]
[]
[]
[]
[]
[]
[]
[]
[]
[]
[]
[]
[]
[]
[]
[]
[]
[]
[]
[]
[]
[]
[]
[]
[]
[]
[]
[]
[]
[]
[]
[]
[]
[]
[]
[]
[]
[]
[]
[]
[]
[]
[]
[]
[]
[]
[]
[]
[]
[]
[]
[]
[]
[]
[]
[]
[]
[]
[]
[]
[]
[]
[]
[]
[]
[]
[]
[]
[]
[]
[]
[]
[]
[]
[]
[]
[]
[]
[]
[]
[]
[]
[]
[]
[]
[]
[]
[]
[]
[]
[]
[]
[]
[]
[]
[]
[]
[]
[]
[]
[]
[]
[]
[]
[]
[]
[]
[]
[]
[]
[]
[]
[]
[]
[]
[]
[]
[]
[]
[]
[]
[]
[]
[]
[]
[]
[]
[]
[]
[]
[]
[]
[]
[]
[]
[]
[]
[]
[]
[]
[]
[]
[]
[]
[]
[]
[]
[]
[]
[]
[]
[]
[]
[]
[]
[]
[]
[]
[]
[]
[]
[]
[]
[]
[]
[]
[]
[]
[]
[]
[]
[]
[]
[]
[]
[]
[]
[]
[]
[]
[]
[]
[]
[]
[]
[]
[]
[]
[]
[]
[]
[]
[]
[]
[]
[]
[]
[]
[]
[]
[]
[]
[]
[]
[]
[]
[]
[]
[]
[]
[]
[]
[]
[]
[]
[]
[]
[]
[]
[]
[]
[]
[]
[]
[]
[]
[]
[]
[]
[]
[]
[]
[]
[]
[]
[]
[]
[]
[]
[]
[]
[]
[]
[]
[]
[]
[]
[]
[]
[]
[]
[]
[]
[]
[]
[]
[]
[]
[]
[]
[]
[]
[]
[]
[]
[]
[]
[]
[]
[]
[]
[]
[]
[]
[]
[]
[]
[]
[]
[]
[]
[]
[]
[]
[]
[]
[]
[]
[]
[]
[]
[]
[]
[]
[]
[]
[]
[]
[]
[]
[]
[]
[]
[]
[]
[]
[]
[]
[]
[]
[]
[]
[]
[]
[]
[]
[]
[]
[]
[]
[]
[]
[]
[]
[]
[]
[]
[]
[]
[]
[]
[]
[]
[]
[]
[]
[]
[]
[]
[]
[]
[]
[]
[]
[]
[]
[]
[]
[]
[]
[]
[]
[]
[]
[]
[]
[]
[]
[]
[]
[]
[]
[]
[]
[]
[]
[]
[]
[]
[]
[]
[]
[]
[]
[]
[]
[]
[]
[]
[]
[]
[]
[]
[]
[]
[]
[]
[]
[]
[]
[]
[]
[]
[]
[]
[]
[]
[]
[]
[]
[]
[]
[]
[]
[]
[]
[]
[]
[]
[]
[]
[]
[]
[]
[]
[]
[]
[]
[]
[]
[]
[]
[]
[]
[]
[]
[]
[]
[]
[]
[]
[]
[]
[]
[]
[]
[]
[]
[]
[]
[]
[]
[]
[]
[]
[]
[]
[]
[]
[]
[]
[]
[]
[]
[]
[]
[]
[]
[]
[]
[]
[]
[]
[]
[]
[]
[]
[]
[]
[]
[]
[]
[]
[]
[]
[]
[]
[]
[]
[]
[]
[]
[]
[]
[]
[]
[]
[]
[]
[]
[]
[]
[]
[]
[]
[]
[]
[]
[]
[]
[]
[]
[]
[]
[]
[]
[]
[]
[]
[]
[]
[]
[]
[]
[]
[]
[]
[]
[]
[]
[]
[]
[]
[]
[]
[]
[]
[]
[]
[]
[]
[]
[]
[]
[]
[]
[]
[]
[]
[]
[]
[]
[]
[]
[]
[]
[]
[]
[]
[]
[]
[]
[]
[]
[]
[]
[]
[]
[]
[]
[]
[]
[]
[]
[]
[]
[]
[]
[]
[]
[]
[]
[]
[]
[]
[]
[]
[]
[]
[]
[]
[]
[]
[]
[]
[]
[]
[]
[]
[]
[]
[]
[]
[]
[]
[]
[]
[]
[]
[]
[]
[]
[]
[]
[]
[]
[]
[]
[]
[]
[]
[]
[]
[]
[]
[]
[]
[]
[]
[]
[]
[]
[]
[]
[]
[]
[]
[]
[]
[]
[]
[]
[]
[]
[]
[]
[]
[]
[]
[]
[]
[]
[]
[]
[]
[]
[]
[]
[]
[]
[]
[]
[]
[]
[]
[]
[]
[]
[]
[]
[]
[]
[]
[]
[]
[]
[]
[]
[]
[]
[]
[]
[]
[]
[]
[]
[]
[]
[]
[]
[]
[]
[]
[]
[]
[]
[]
[]
[]
[]
[]
[]
[]
[]
[]
[]
[]
[]
[]
[]
[]
[]
[]
[]
[]
[]
[]
[]
[]
[]
[]
[]
[]
[]
[]
[]
[]
[]
[]
[]
[]
[]
[]
[]
[]
[]
[]
[]
[]
[]
[]
[]
[]
[]
[]
[]
[]
[]
[]
[]
[]
[]
[]
[]
[]
[]
[]
[]
[]
[]
[]
[]
[]
[]
[]
[]
[]
[]
[]
[]
[]
[]
[]
[]
[]
[]
[]
[]
[]
[]
[]
[]
[]
[]
[]
[]
[]
[]
[]
[]
[]
[]
[]
[]
[]
[]
[]
[]
[]
[]
[]
[]
[]
[]
[]
[]
[]
[]
[]
[]
[]
[]
[]
[]
[]
[]
[]
[]
[]
[]
[]
[]
[]
[]
[]
[]
[]
[]
[]
[]
[]
[]
[]
[]
[]
[]
[]
[]
[]
[]
[]
[]
[]
[]
[]
[]
[]
[]
[]
[]
[]
[]
[]
[]
[]
[]
[]
[]
[]
[]
[]
[]
[]
[]
[]
[]
[]
[]
[]
[]
[]
[]
[]
[]
[]
[]
[]
[]
[]
[]
[]
[]
[]
[]
[]
[]
[]
[]
[]
[]
[]
[]
[]
[]
[]
[]
[]
[]
[]
[]
[]
[]
[]
[]
[]
[]
[]
[]
[]
[]
[]
[]
[]
[]
[]
[]
[]
[]
[]
[]
[]
[]
[]
[]
[]
[]
[]
[]
[]
[]
[]
[]
[]
[]
[]
[]
[]
[]
[]
[]
[]
[]
[]
[]
[]
[]
[]
[]
[]
[]
[]
[]
[]
[]
[]
[]
[]
[]
[]
[]
[]
[]
[]
[]
[]
[]
[]
[]
[]
[]
[]
[]
[]
[]
[]
[]
[]
[]
[]
[]
[]
[]
[]
[]
[]
[]
[]
[]
[]
[]
[]
[]
[]
[]
[]
[]
[]
[]
[]
[]
[]
[]
[]
[]
[]
[]
[]
[]
[]
[]
[]
[]
[]
[]
[]
[]
[]
[]
[]
[]
[]
[]
[]
[]
[]
[]
[]
[]
[]
[]
[]
[]
[]
[]
[]
[]
[]
[]
[]
[]
[]
[]
[]
[]
[]
[]
[]
[]
[]
[]
[]
[]
[]
[]
[]
[]
[]
[]
[]
[]
[]
[]
[]
[]
[]
[]
[]
[]
[]
[]
[]
[]
[]
[]
[]
[]
[]
[]
[]
[]
[]
[]
[]
[]
[]
[]
[]
[]
[]
[]
[]
[]
[]
[]
[]
[]
[]
[]
[]
[]
[]
[]
[]
[]
[]
[]
[]
[]
[]
[]
[]
[]
[]
[]
[]
[]
[]
[]
[]
[]
[]
[]
[]
[]
[]
[]
[]
[]
[]
[]
[]
[]
[]
[]
[]
[]
[]
[]
[]
[]
[]
[]
[]
[]
[]
[]
[]
[]
[]
[]
[]
[]
[]
[]
[]
[]
[]
[]
[]
[]
[]
[]
[]
[]
[]
[]
[]
[]
[]
[]
[]
[]
[]
[]
[]
[]
[]
[]
[]
[]
[]
[]
[]
[]
[]
[]
[]
[]
[]
[]
[]
[]
[]
[]
[]
[]
[]
[]
[]
[]
[]
[]
[]
[]
[]
[]
[]
[]
[]
[]
[]
[]
[]
[]
[]
[]
[]
[]
[]
[]
[]
[]
[]
[]
[]
[]
[]
[]
[]
[]
[]
[]
[]
[]
[]
[]
[]
[]
[]
[]
[]
[]
[]
[]
[]
[]
[]
[]
[]
[]
[]
[]
[]
[]
[]
[]
[]
[]
[]
[]
[]
[]
[]
[]
[]
[]
[]
[]
[]
[]
[]
[]
[]
[]
[]
[]
[]
[]
[]
[]
[]
[]
[]
[]
[]
[]
[]
[]
[]
[]
[]
[]
[]
[]
[]
[]
[]
[]
[]
[]
[]
[]
[]
[]
[]
[]
[]
[]
[]
[]
[]
[]
[]
[]
[]
[]
[]
[]
[]
[]
[]
[]
[]
[]
[]
[]
[]
[]
[]
[]
[]
[]
[]
[]
[]
[]
[]
[]
[]
[]
[]
[]
[]
[]
[]
[]
[]
[]
[]
[]
[]
[]
[]
[]
[]
[]
[]
[]
[]
[]
[]
[]
[]
[]
[]
[]
[]
[]
[]
[]
[]
[]
[]
[]
[]
[]
[]
[]
[]
[]
[]
[]
[]
[]
[]
[]
[]
[]
[]
[]
[]
[]
[]
[]
[]
[]
[]
[]
[]
[]
[]
[]
[]
[]
[]
[]
[]
[]
[]
[]
[]
[]
[]
[]
[]
[]
[]
[]
[]
[]
[]
[]
[]
[]
[]
[]
[]
[]
[]
[]
[]
[]
[]
[]
[]
[]
[]
[]
[]
[]
[]
[]
[]
[]
[]
[]
[]
[]
[]
[]
[]
[]
[]
[]
[]
[]
[]
[]
[]
[]
[]
[]
[]
[]
[]
[]
[]
[]
[]
[]
[]
[]
[]
[]
[]
[]
[]
[]
[]
[]
[]
[]
[]
[]
[]
[]
[]
[]
[]
[]
[]
[]
[]
[]
[]
[]
[]
[]
[]
[]
[]
[]
[]
[]
[]
[]
[]
[]
[]
[]
[]
[]
[]
[]
[]
[]
[]
[]
[]
[]
[]
[]
[]
[]
[]
[]
[]
[]
[]
[]
[]
[]
[]
[]
[]
[]
[]
[]
[]
[]
[]
[]
[]
[]
[]
[]
[]
[]
[]
[]
[]
[]
[]
[]
[]
[]
[]
[]
[]
[]
[]
[]
[]
[]
[]
[]
[]
[]
[]
[]
[]
[]
[]
[]
[]
[]
[]
[]
[]
[]
[]
[]
[]
[]
[]
[]
[]
[]
[]
[]
[]
[]
[]
[]
[]
[]
[]
[]
[]
[]
[]
[]
[]
[]
[]
[]
[]
[]
[]
[]
[]
[]
[]
[]
[]
[]
[]
[]
[]
[]
[]
[]
[]
[]
[]
[]
[]
[]
[]
[]
[]
[]
[]
[]
[]
[]
[]
[]
[]
[]
[]
[]
[]
[]
[]
[]
[]
[]
[]
[]
[]
[]
[]
[]
[]
[]
[]
[]
[]
[]
[]
[]
[]
[]
[]
[]
[]
[]
[]
[]
[]
[]
[]
[]
[]
[]
[]
[]
[]
[]
[]
[]
[]
[]
[]
[]
[]
[]
[]
[]
[]
[]
[]
[]
[]
[]
[]
[]
[]
[]
[]
[]
[]
[]
[]
[]
[]
[]
[]
[]
[]
[]
[]
[]
[]
[]
[]
[]
[]
[]
[]
[]
[]
[]
[]
[]
[]
[]
[]
[]
[]
[]
[]
[]
[]
[]
[]
[]
[]
[]
[]
[]
[]
[]
[]
[]
[]
[]
[]
[]
[]
[]
[]
[]
[]
[]
[]
[]
[]
[]
[]
[]
[]
[]
[]
[]
[]
[]
[]
[]
[]
[]
[]
[]
[]
[]
[]
[]
[]
[]
[]
[]
[]
[]
[]
[]
[]
[]
[]
[]
[]
[]
[]
[]
[]
[]
[]
[]
[]
[]
[]
[]
[]
[]
[]
[]
[]
[]
[]
[]
[]
[]
[]
[]
[]
[]
[]
[]
[]
[]
[]
[]
[]
[]
[]
[]
[]
[]
[]
[]
[]
[]
[]
[]
[]
[]
[]
[]
[]
[]
[]
[]
[]
[]
[]
[]
[]
[]
[]
[]
[]
[]
[]
[]
[]
[]
[]
[]
[]
[]
[]
[]
[]
[]
[]
[]
[]
[]
[]
[]
[]
[]
[]
[]
[]
[]
[]
[null,null,null,null,null,null,null,null,null,null,null,null,null,null,null,null,null,null,null,null,null,null,null,null,null,null,null,"TA"]
[null,null,null,null,null,null,null,null,null,null,null,null,null,null,null,null,null,null,null,null,null,null,null,null,null,null,null,"TA"]
[null,null,null,null,null,null,null,null,null,null,null,null,null,null,null,null,null,null,null,null,null,null,null,null,null,null,null,"TA"]
[null,null,null,null,null,null,null,null,null,null,null,null,null,null,null,null,null,null,null,null,null,null,null,null,null,-1,null,"TA"]
[null,null,null,null,null,null,null,null,null,null,null,null,null,null,null,null,null,null,null,null,null,null,null,null,null,null,null,"TA"]
[null,null,null,null,null,null,null,null,null,null,null,null,null,null,null,null,null,null,null,null,null,null,null,null,null,-1,null,"TA"]
[null,null,null,null,null,null,null,null,null,null,null,null,null,null,null,null,null,null,null,null,null,null,null,null,null,-1,null,"TA"]
[null,null,null,null,null,null,null,null,null,null,null,null,null,null,null,null,null,null,null,null,null,null,null,null,null,-1,null,"TA"]
[null,null,null,null,null,null,null,null,null,null,null,null,null,null,null,null,null,null,null,null,null,null,null,null,null,-1,null,"TA"]

{"sheet":"Wer-mit-Wem","index":22,"n_rows":20,"n_cols":8,"rows_kept":20,"cut":false,"hidden":false,"merged":[]}
[]
[null,"Wer hat mit Wem gespielt ?"]
[]
[null,"Datum"]
[null,{"$f":"+'Die Besten'!B12","v":"08.08.2026"}]
[]
[]
[]
[null,"Spieler (Anzahl Spiele)","The Wolf","Mike","Big Boss","Groo","Zorro","Marc"]
[null,{"$f":"CONCATENATE(\"The Wolf (\",COUNT(Abschusstagesliste!A3:A200),\")\")","v":"The Wolf (7)"},null,{"$f":"+SUMPRODUCT((Abschusstagesliste!O4:O200=1)*(Abschusstagesliste!Q4:Q200=1))+SUMPRODUCT((Abschusstagesliste!O4:O200=-1)*(Abschusstagesliste!Q4:Q200=-1))","v":5},{"$f":"+SUMPRODUCT((Abschusstagesliste!O4:O200=1)*(Abschusstagesliste!S4:S200=1))+SUMPRODUCT((Abschusstagesliste!O4:O200=-1)*(Abschusstagesliste!S4:S200=-1))","v":1},{"$f":"+SUMPRODUCT((Abschusstagesliste!O4:O200=1)*(Abschusstagesliste!U4:U200=1))+SUMPRODUCT((Abschusstagesliste!O4:O200=-1)*(Abschusstagesliste!U4:U200=-1))","v":2},{"$f":"+SUMPRODUCT((Abschusstagesliste!O4:O200=1)*(Abschusstagesliste!W4:W200=1))+SUMPRODUCT((Abschusstagesliste!O4:O200=-1)*(Abschusstagesliste!W4:W200=-1))","v":4},{"$f":"+SUMPRODUCT((Abschusstagesliste!O3:O200=1)*(Abschusstagesliste!Y3:Y200=1))+SUMPRODUCT((Abschusstagesliste!O3:O200=-1)*(Abschusstagesliste!Y3:Y200=-1))","v":2}]
[]
[null,{"$f":"CONCATENATE(\"Mike (\",COUNT(Abschusstagesliste!C3:C200),\")\")","v":"Mike (7)"},{"$f":"+D10","v":5},null,{"$f":"+SUMPRODUCT((Abschusstagesliste!S4:S200=1)*(Abschusstagesliste!Q4:Q200=1))+SUMPRODUCT((Abschusstagesliste!S4:S200=-1)*(Abschusstagesliste!Q4:Q200=-1))","v":1},{"$f":"+SUMPRODUCT((Abschusstagesliste!U4:U200=1)*(Abschusstagesliste!Q4:Q200=1))+SUMPRODUCT((Abschusstagesliste!U4:U200=-1)*(Abschusstagesliste!Q4:Q200=-1))","v":2},{"$f":"+SUMPRODUCT((Abschusstagesliste!W4:W200=1)*(Abschusstagesliste!Q4:Q200=1))+SUMPRODUCT((Abschusstagesliste!W4:W200=-1)*(Abschusstagesliste!Q4:Q200=-1))","v":4},{"$f":"+SUMPRODUCT((Abschusstagesliste!Q3:Q200=1)*(Abschusstagesliste!Y3:Y200=1))+SUMPRODUCT((Abschusstagesliste!Q3:Q200=-1)*(Abschusstagesliste!Y3:Y200=-1))","v":2}]
[]
[null,{"$f":"CONCATENATE(\"Big Boss (\",COUNT(Abschusstagesliste!E3:E200),\")\")","v":"Big Boss (7)"},{"$f":"+E10","v":1},{"$f":"+E12","v":1},null,{"$f":"+SUMPRODUCT((Abschusstagesliste!U4:U200=1)*(Abschusstagesliste!S4:S200=1))+SUMPRODUCT((Abschusstagesliste!U4:U200=-1)*(Abschusstagesliste!S4:S200=-1))","v":6},{"$f":"+SUMPRODUCT((Abschusstagesliste!W4:W200=1)*(Abschusstagesliste!S4:S200=1))+SUMPRODUCT((Abschusstagesliste!W4:W200=-1)*(Abschusstagesliste!S4:S200=-1))","v":2},{"$f":"+SUMPRODUCT((Abschusstagesliste!S3:S200=1)*(Abschusstagesliste!Y3:Y200=1))+SUMPRODUCT((Abschusstagesliste!S3:S200=-1)*(Abschusstagesliste!Y3:Y200=-1))","v":4}]
[]
[null,{"$f":"CONCATENATE(\"Groo (\",COUNT(Abschusstagesliste!G3:G200),\")\")","v":"Groo (7)"},{"$f":"+F10","v":2},{"$f":"+F12","v":2},{"$f":"+F14","v":6},null,{"$f":"+SUMPRODUCT((Abschusstagesliste!U4:U200=1)*(Abschusstagesliste!W4:W200=1))+SUMPRODUCT((Abschusstagesliste!U4:U200=-1)*(Abschusstagesliste!W4:W200=-1))","v":1},{"$f":"+SUMPRODUCT((Abschusstagesliste!U3:U200=1)*(Abschusstagesliste!Y3:Y200=1))+SUMPRODUCT((Abschusstagesliste!U3:U200=-1)*(Abschusstagesliste!Y3:Y200=-1))","v":3}]
[]
[null,{"$f":"CONCATENATE(\"Zorro (\",COUNT(Abschusstagesliste!I3:I200),\")\")","v":"Zorro (7)"},{"$f":"+G10","v":4},{"$f":"+G12","v":4},{"$f":"+G14","v":2},{"$f":"+G16","v":1},null,{"$f":"+SUMPRODUCT((Abschusstagesliste!W3:W200=1)*(Abschusstagesliste!Y3:Y200=1))+SUMPRODUCT((Abschusstagesliste!W3:W200=-1)*(Abschusstagesliste!Y3:Y200=-1))","v":3}]
[]
[null,{"$f":"CONCATENATE(\"Marc (\",COUNT(Abschusstagesliste!K3:K202),\")\")","v":"Marc (7)"},{"$f":"+H10","v":2},{"$f":"+H12","v":2},{"$f":"+H14","v":4},{"$f":"+H16","v":3},{"$f":"+H18","v":3}]

{"sheet":"Kartenauswahl Generals","index":23,"n_rows":2920,"n_cols":8,"rows_kept":2920,"cut":false,"hidden":false,"merged":[]}
["Kartenliste und Auswahl",null,null,null,null,"Kartenauswahl"]
[null,"Karte"]
["C&C Generals"]
[1,"x2f01",4,null,{"$f":"_xlfn.LET(\n_xlpm.s,COUNTA(Spiel_Team!B13:G13),\n_xlpm.z,ROW(B4:B1424),\n_xlpm.k,IF(_xlpm.s=6,_xlfn._xlws.FILTER(_xlpm.z,C4:C1424=6),_xlpm.z),\nINDEX(_xlfn.SORTBY(_xlpm.k,_xlfn.RANDARRAY(ROWS(_xlpm.k))),1)\n)","v":991}]
[2,"000-muddywoods-000",4,null,null,null,null,"Nächste Karte (STRG-T)"]
[3,"000-TheRoundValley-000",4]
[4,"2 Fort",4]
[5,"2high2low",4]
[6,"2V2 ChokePoint",4,null,null,null,null,{"$f":"+VLOOKUP($E$4,$A$4:$B$1460,2)","v":"Boardwalk Bloodbath"}]
[7,"4 Seasons",4]
[8,"[FOH] Deep Canyons",4]
[9,"[FOH] Desert Map",4]
[10,"[GWSF]Center City",4]
[11,"[GWFS]Middel City",4]
[12,"tgl - death bridge 2",4]
[13,"[AX]_danger_middle",4]
[14,"2v2 Cool Game",4]
[15,"4 Corners",4]
[16,"4 player 1",4]
[17,"5 Dam Lake",4]
[18,"_VM_GoodToTheLastDrop2",4]
[19,"A Generals Battlefield",4]
[20,"A Path Beyond",4]
[21,"A Train Runs Near",4]
[22,"A Winter Wonderland",4]
[23,"Abandoned Boss base",4]
[24,"A closer Encounter",4]
[25,"Across The Train",4]
[26,"Ägypten",4]
[27,"air 'n sea combat iv",4]
[28,"air wars",4]
[29,"Air America",4]
[30,"Airfield",4]
[31,"All about Oil",4]
[32,"All aboard",4]
[33,"Air War",4]
[34,"Allied Assault",4]
[35,"Allied Assault (4)",4]
[36,"Alpha Grasslands",4]
[37,"alpha&omega tactical",4]
[38,"alpine assault",4]
[39,"Alpine Assault 2",4]
[40,"Alpine Battlefield",4]
[41,"Alpine Conflict",4]
[42,"Alpine Crusade",4]
[43,"Alpine Express",4]
[44,"Alpine fortress",4]
[45,"Alpine Madness",4]
[46,"Alpine Village Campaign",4]
[47,"Allied Battlegrounds",4]
[48,"amazon",4]
[49,"American Threat",4]
[50,"Ammo Avenue",4]
[51,"Ancient Axon",4]
[52,"Anthrax Fortress",4]
[53,"Appalachian Melee",4]
[54,"Arena Del Sino",4]
[55,"Arena of War",4]
[56,"ArenaOnline",4]
[57,"Armageddon",4]
[58,"Armageddon V1",4]
[59,"Arterilly Super War",4]
[60,"Arctic Blizzard",4]
[61,"Asphaltvalley",4]
[62,"Assimarr Pass",4]
[63,"Atlantis",4]
[64,"Atomic Warfactory 2004",4]
[65,"Attacking Platforms",4]
[66,"Aunicaz Masa",4]
[67,"Autumn Ambush",4]
[68,"AX_bridges_in_town",4]
[69,"Axon Beach",4]
[70,"Axon River",4]
[71,"Axon Sides",4]
[72,"Axon Valley",4]
[73,"Back2back Final",4]
[74,"Baghdad Outskrits",4]
[75,"Balkan SK",4]
[76,"Barrels of Fun",4]
[77,"Base Race",4]
[78,"basesbullseyed",4]
[79,"basewars",4]
[80,"Basis SK",4]
[81,"Battle for Baghdad",4]
[82,"Battle for Korea",4]
[83,"Battle for Oil 2",4]
[84,"Battle for the Rockies",4]
[85,"Battle in the Valves",4]
[86,"Battle of the climates",4]
[87,"BattleArena_ZH",4]
[88,"Battlefield 1",4]
[89,"Battleground Zero",4]
[90,"BATTLETANX II RTS",4]
[91,"Bellum Ora",4]
[92,"Big Valley Conflict",4]
[93,"Big War",4]
[94,"Black Gold Fields",4]
[95,"Outpost of Hell",4]
[96,"Winter Getaway",4]
[97,"Blastern Canyon Redux",4]
[98,"blingbling",4]
[99,"BLO_TheDeltaBridge",4]
[100,"Blockade",4]
[101,"blood gultch",4]
[102,"Blue City",4]
[103,"Blue Diamond",4]
[104,"Blue-X-Trax",4]
[105,"bodycountfield",4]
[106,"Bombardement Island",4]
[107,"Boss Castle Bastions",4]
[108,"boyddiesfolly",4]
[109,"Bridge Wars",4]
[110,"Bridges to Boss Isle",4]
[111,"Bright Light City",4]
[112,"Broken Island",4]
[113,"BuggyRide",4]
[114,"bunker war titus",4]
[115,"bunker wars",4]
[116,"Burning at Daybreak",4]
[117,"Burning Crusade",4]
[118,"Buschland",4]
[119,"Buzz's Bluff",4]
[120,"April Weather",4]
[121,"Arabianb Domination",4]
[122,"arabwar",4]
[123,"Arctic Challenge",4]
[124,"Arctic National Wildlife Refugium",4]
[125,"Arctic Storm",4]
[126,"Arctic Winds",4]
[127,"Arctic",4]
[128,"Area of Death",4]
[129,"Canada DMZ",4]
[130,"Canada vs America",4]
[131,"Canion Own",4]
[132,"Canyon Carnage",4]
[133,"Canyon City",4]
[134,"Canyon Madness",4]
[135,"Canyon",4]
[136,"Canyon Craters",4]
[137,"Casablanca",4]
[138,"Castle Bastions",4]
[139,"Castle City",4]
[140,"catch the Carrier",4]
[141,"ceazy",4]
[142,"Center Point",4]
[143,"Central Land Mass",4]
[144,"Central_Park_1",4]
[145,"centre stage",4]
[146,"Chaos Theory",4]
[147,"Checkmate Your Dead",4]
[148,"Chemical Forest",4]
[149,"Chinese Invasion",4]
[150,"choke",4]
[151,"Checkpoint Chaos",4]
[152,"City in the Snow",4]
[153,"City Limits",4]
[155,"City of Oil",4]
[156,"City Pass",4]
[157,"City Seige",4]
[158,"City Siege XL",4]
[159,"City under Siege",4]
[160,"City War",4]
[161,"City Raiders",4]
[162,"City War Night",4]
[163,"Civil War",4]
[164,"Classic Dark Mountain",4]
[165,"Classic Fallen Empire",4]
[166,"Classic Golden Oasis",4]
[167,"Classic Lone Eagle",4]
[168,"Classic Rogue Agent",4]
[169,"Classic Tournament Island",4]
[170,"Classic Tounarment Lake",4]
[171,"Classic Tournament Tundra",4]
[172,"CLIFF TOP PASS",4]
[173,"Cliff Top",4]
[174,"Climate Wars",4]
[175,"Close Quarters",4]
[176,"Clutha River",4]
[177,"Col. Burtons Hometown",4]
[178,"Cold War",4]
[179,"Cold Company",4]
[180,"Collateral Damage",4]
[181,"CombatZone",4]
[182,"Come_n_Get_it",4]
[183,"Cliffhanger [General Challenge]",4]
[184,"Conflict Zone",4]
[185,"ConPsycon!",4]
[186,"Covered Bases",4]
[187,"CR Supremacy City",4]
[188,"Crater City",4]
[189,"Crater Lake DMZ",4]
[190,"craterparadise",4]
[191,"Cross Over",4]
[192,"Cross Roads",4]
[193,"Cross(ZH)",4]
[194,"Cross Zero",4]
[195,"Crystal Lake",4]
[196,"Crz-OilFortress2v2a",4]
[197,"Crz-riverwarsversion3",4]
[198,"Crz-urbanbaghdad4plyr",4]
[199,"cwc northern atlantic",4]
[200,"DA Tiger Mountain",4]
[201,"Dam Crisis",4]
[202,"Corner to Corner",4]
[203,"Crater Lake",4]
[204,"Crosstown Tactics",4]
[205,"D-Day",4]
[206,"DAM WAR!",4]
[207,"Dark Bay",4]
[208,"Dark Side of the Moon",4]
[209,"Dark Woods",4]
[210,"Daytona Beach",4]
[211,"Dead on Arrival",4]
[212,"deadcreek",4]
[213,"Deadly Pit",4]
[214,"Death at Seaside",4]
[215,"Death in the Levant",4]
[216,"davidusa9 - Bleak Horizon",4]
[217,"Darknight",4]
[218,"Death Valley Fortress",4]
[219,"Deep Kloof",4]
[220,"deepblue v2",4]
[221,"Der einsame Tod",4]
[222,"Desert City (ZH)",4]
[223,"Desert Cliffs",4]
[224,"Desert Combat ZH",4]
[225,"Desert Conquer",4]
[226,"Desert Crossing",4]
[227,"Desert Dash",4]
[228,"Desert Divide",4]
[229,"desert flood",4]
[230,"Desert Forest",4]
[231,"Desert Guardian",4]
[232,"Desert Madness",4]
[233,"desert map with lots of $$$",4]
[234,"Desert Maze",4]
[235,"Desert Mountains",4]
[236,"Desert Oasis",4]
[237,"Desert of Doom",4]
[238,"Desert Oil feilds",4]
[239,"Desert Oilfields",4]
[240,"Desert Party",4]
[241,"Desert Passage",4]
[242,"Desert Plateau",4]
[243,"Desert Rampage",4]
[244,"Desert Rats",4]
[245,"desert River Canyon",4]
[246,"Desert Shield",4]
[247,"Desert Sundown",4]
[248,"Desert supplys",4]
[249,"Desert Training",4]
[250,"Desert Warfare",4]
[251,"desertbowl",4]
[252,"DesertCorners",4]
[253,"DesertDemolition",4]
[254,"desertexpress",4]
[255,"Desertfight",4]
[256,"DesertHills",4]
[257,"Desertification",4]
[258,"Desert-River Battle",4]
[259,"deserttrap",4]
[260,"Dinah Don't Blow",4]
[261,"Disposable Heroes",4]
[262,"DMZ",4]
[263,"Dogfight Pure",4]
[264,"Donauinsel",4]
[265,"doom skrimish",4]
[266,"Double Rail Rush",4]
[267,"Downtown City",4]
[268,"Downtown Warsville",4]
[269,"Drachenfels",4]
[270,"Dreaded Trails",4]
[271,"Dreamland",4]
[272,"drop zone V1",4]
[273,"Dry Gulch",4]
[274,"Drydocks",4]
[275,"Dryland Oasis",4]
[276,"Dust to Dust",4]
[277,"Dynamite Dunes",4]
[278,"Desert War",4]
[279,"Early Mornings",4]
[280,"Earthquake",4]
[281,"Echo's of War",4]
[282,"Ecks",4]
[283,"EdgwareRoad",4]
[284,"El Alamein",4]
[285,"Emerald Valley",4]
[286,"emotiondreams 2004",4]
[287,"End of the World",4]
[288,"End War",4]
[289,"Enough Dead Heroes",4]
[290,"Erebus Pass",4]
[291,"European War",4]
[292,"Evening Valley",4]
[293,"EvilAs Crazy Ivan",4]
[294,"EvilAs Cross Roads",4]
[295,"EvilAs Desert of Sin",4]
[296,"EvilAs Holy Mountain",4]
[297,"Explosion War",4]
[298,"Extreme War",4]
[299,"F_hilly_landscape",4]
[300,"F_Rocky_Mountains",4]
[301,"Fall Frenzy",4]
[302,"Fallen Empire Reloaded",4]
[303,"Fallen Empire2",4]
[304,"FANTASY",4]
[305,"Feuerthalen vs Schaffhausen",4]
[306,"FFA $$$",4]
[307,"Field of Warriors",4]
[308,"Fields of Battle",4]
[309,"Fields of Dread",4]
[310,"Covert Operations",4]
[311,"Eifel Battle",4]
[312,"Encounter",4]
[313,"Final Crusade",4]
[314,"Five Bridges",4]
[315,"five continents",4]
[316,"flooding plains tank warz",4]
[317,"Forest Fury",4]
[318,"Forest of force",4]
[319,"ForestBattle",4]
[320,"Forever into Centuries",4]
[321,"ForrestWars",4]
[322,"Fortress Wall",4]
[323,"Fortress",4]
[324,"Forward Operations Base for ZH",4]
[325,"Four Corners",4]
[326,"FOUR_ISLANDS",4]
[327,"FourPlay",4]
[328,"Freon City",4]
[329,"Frightened City",4]
[330,"Frigid Night",4]
[331,"Frostland Arena",4]
[332,"Frozen",4]
[333,"Frozen Betty",4]
[334,"Frozen Falls",4]
[335,"Frozen Mountain",4]
[336,"Frozen Tundra",4]
[337,"FroZen-Desert",4]
[338,"Fighter Multi Map4",4]
[339,"Forest Fortress",4]
[340,"Frontline Conflicts",4]
[341,"Gate Keeper",4]
[342,"Generals Dreamland",4]
[343,"Generals Tundra Training",4]
[344,"Genome D-Day",4]
[345,"Genome River Strike",4]
[346,"Genome Sunken Ruins",4]
[347,"Genome's Base War",4]
[348,"GLA Oilfield",4]
[349,"Glacial Assault",4]
[350,"Gnawing Sands of Time",4]
[351,"Golden Hill Version 2",4]
[352,"Golden Sands",4]
[353,"Good Morning Mosul",4]
[354,"Good Old USA",4]
[355,"Grad",4]
[356,"Grand Canyon Battle ",4]
[357,"Grand Canyon",4]
[358,"Gravel Maze",4]
[359,"Green Greens",4]
[360,"Green Mountains",4]
[361,"Green Province",4]
[362,"greenday 2.0",4]
[363,"Greenland",4]
[364,"Greenmoon",4]
[365,"hammerandsickle",4]
[366,"happy sun valley",4]
[367,"harbozarb",4]
[368,"Heartland",4]
[369,"Heavy Bunkers",4]
[370,"heiligerkrieg",4]
[371,"Great Walls",4]
[372,"GreenMountainPass2",4]
[373,"Hells Ferry Naval",4]
[374,"hero hour",4]
[375,"HiddenEasterEgg",4]
[376,"High Land",4]
[377,"High Octane",4]
[378,"High Stakes Lake",4]
[379,"highheathavoc",4]
[380,"High Plains",4]
[381,"Hill Fight",4]
[382,"Hillfight",4]
[383,"Hilltop",4]
[384,"HITMANsBadlands2",4]
[385,"Hold the Hill",4]
[386,"Holiday Backstab",4]
[387,"Holy Land",4]
[388,"Home on the Range",4]
[389,"Homeland Assault",4]
[390,"Homeland Combat",4]
[391,"homelandflame",4]
[392,"Honulai Isle",4]
[393,"hopeless",4]
[394,"hostile dawn",4]
[395,"Hot Winter",4]
[396,"House Wars",4]
[397,"High an d Dry",4]
[398,"highground",4]
[399,"Hovercraft_Free4All",4]
[400,"Hovercraft_Free4All_Mound",4]
[401,"Ice by Day",4]
[402,"Idilic Island II",4]
[403,"Im Zentrum der Macht",4]
[404,"In the Darkness of the Killing Fields",4]
[405,"independence Day Special",4]
[406,"Industrial City",4]
[407,"Infantry Battle",4]
[408,"Infantry Fighting Arena",4]
[409,"infantry warz v3",4]
[410,"infrantrywarbattleground",4]
[411,"infiltration",4]
[412,"Infinite Justice",4]
[413,"Invisible Boundaries",4]
[414,"iowa",4]
[415,"iraqhistan",4]
[416,"Ireland Meadows",4]
[417,"Iron Cross",4]
[418,"Iron Dragon",4]
[419,"Isla de la Muerte",4]
[420,"Island Arena",4]
[421,"island assault",4]
[422,"Island battle",4]
[423,"Island Crossing",4]
[424,"Island Defence",4]
[425,"Island Hoppers",4]
[426,"island hopping v2",4]
[427,"island hopping",4]
[428,"Isalnd Riches",4]
[429,"Island X",4]
[430,"islandmaze",4]
[431,"islandofniihau",4]
[432,"Islands of War",4]
[433,"Isle of the Dragon",4]
[434,"Island Fury",4]
[435,"islandnameddesire",4]
[436,"Inferno Island",4]
[437,"Island Fortress",4]
[438,"Jungle Discover",4]
[439,"Kampf am Fluss",4]
[440,"JustFight",4]
[441,"Kandahar Battle",4]
[442,"Kill Zone",4]
[443,"king of the pond",4]
[444,"kingofthemountain",4]
[445,"Klimawandel",4]
[446,"Knife Fight",4]
[447,"Korea DMZ Final",4]
[448,"KSA",4]
[449,"Kuram Dam",4]
[450,"Kuwait Craters",4]
[451,"Kuwait Conflict",4]
[452,"Kyber Pass",4]
[453,"Mars Invasion",4]
[454,"maze_to_death",4]
[455,"Mogadishu Twilight",4]
[456,"Moon Shine",4]
[457,"Mount Olympus",4]
[458,"Mountain Range",4]
[459,"Mountain _Artillery",4]
[460,"La Molina",4]
[461,"La-Vallie",4]
[462,"Lake side destruction",4]
[463,"Lake Tahoe Conflict",4]
[464,"Lakeshore Battle",4]
[465,"Lakeside Basin",4]
[466,"Land-Luft-Wasser",4]
[467,"landofthelost",4]
[468,"landslide",4]
[469,"largecountryside",4]
[470,"Last Stand",4]
[471,"level 15",4]
[472,"Lion City",4]
[473,"Lions DEN",4]
[474,"Little Big Lake",4]
[475,"LIVE AND LET DIE",4]
[476,"Lone Eagle",4]
[477,"Lone Eagle 2",4]
[478,"Lonely Hills",4]
[479,"Lonely Mountain",4]
[480,"Long Island Nuclear Winter",4]
[481,"Long Island",4]
[482,"long river v3",4]
[483,"Long Story Short",4]
[484,"Long Way Home",4]
[485,"Longtown v121",4]
[486,"Lord of the Hill",4]
[487,"Lost Highway",4]
[488,"LostLakeAOW",4]
[489,"lotus training ground V3",4]
[490,"Lunar Eclipse",4]
[491,"Laberynthe",4]
[492,"[Battle Arena]",4]
[493,"[Deadly Skies]",4]
[494,"[Desert Fury]",4]
[495,"[Treacherous Tides]",4]
[496,"city battle",4]
[497,"Greenland",4]
[498,"Island X",4]
[499,"Maddog's Revenge",4]
[500,"Maguso ZH",4]
[501,"maidanejang",4]
[502,"Market Town",4]
[503,"Marooned",4]
[504,"Master of Puppets",4]
[505,"Maze of War",4]
[506,"maze_to_death",4]
[507,"Mesa River",4]
[508,"Midnight Ambush",4]
[509,"Midnight on cemetry",4]
[510,"Migration",4]
[511,"Miliatary Zone",4]
[512,"Military Bases",4]
[513,"4 Citys Apart",4]
[514,"Middle River",4]
[515,"Midwater",4]
[516,"Molina Grande",4]
[517,"Mount Kaefernest",4]
[518,"Mountain Aggression",4]
[519,"Mountain Falls",4]
[520,"Mountain Lake Battle",4]
[521,"Mountain Mayhem",4]
[522,"Mountain of Nukes",4]
[523,"Mountain Pass",4]
[524,"Mountain passes",4]
[525,"Moutain Path",4]
[526,"Mountain Plains",4]
[527,"Montain Raiders",4]
[528,"Mountain Roads",4]
[529,"Mountain Summit",4]
[530,"Mountain Warfare",4]
[531,"Mountain_Artillery",4]
[532,"Mountain_Battle",4]
[533,"Mrintelpentiums homezone",4]
[534,"muchcash",4]
[535,"Muff map",4]
[536,"Mystic Island",4]
[537,"Pitfall",4]
[538,"Up Hill Battle",4]
[539,"Water Forest",4]
[540,"Forest Battle",4]
[541,"Island X",4]
[542,"New Reno",4]
[543,"Nuclear Base ZH",4]
[544,"Natural Tower",4]
[545,"Natural War Zone",4]
[546,"Naval Base AirWar",4]
[547,"Naval Bombardement Batlle",4]
[548,"Neo Village",4]
[549,"Night Shift",4]
[550,"nightmare",4]
[551,"Nighttime insurrection",4]
[552,"No Surrender",4]
[553,"No Way Out! V2",4]
[554,"no way out",4]
[555,"NoMansLand5",4]
[556,"Nordamerika",4]
[557,"North Korea",4]
[558,"NSA_Scenario",4]
[559,"Nuclear Convoy",4]
[560,"nuclear war",4]
[561,"nukez & war",4]
[562,"Surplus Securities",4]
[563,"TropicalDesert",4]
[564,"Two Bridges",4]
[565,"Operation Phalanx",4]
[566,"Oasis City",4]
[567,"Oasis of Nomads",4]
[568,"Oasis",4]
[569,"Offence Deffence",4]
[570,"Offshore Oil Fights",4]
[571,"Oil Crisis",4]
[572,"Oil_Field_Battle",4]
[573,"Operation Desert Eagle",4]
[574,"operationmixup",4]
[575,"operationtownsville",4]
[576,"Optimium online",4]
[577,"Outpost of Hell",4]
[578,"Outpost[ZH]",4]
[579,"overunder",4]
[580,"PlateauofDread",4]
[581,"Pacific Control",4]
[582,"Pacific Island",4]
[583,"Pacific Tension",4]
[584,"Pagong",4]
[585,"Palm Springs",4]
[586,"Palm_Paradise",4]
[587,"Panzer Claw",4]
[588,"Paradies of Nature 2",4]
[589,"Paradise Lost",4]
[590,"Particulate Matter",4]
[591,"Peaceful Neighborhood",4]
[592,"Perimeter Patrol",4]
[593,"Petra Flash Floods",4]
[594,"Pile of Crap",4]
[595,"Pit of Death",4]
[596,"Planet Kerwan",4]
[597,"Plateau Battle",4]
[598,"Play for Brutals",4]
[599,"Pompei",4]
[600,"poweraroundthetemple",4]
[601,"Power Plant",4]
[602,"Power Point",4]
[603,"Practice Map",4]
[604,"Pripiat",4]
[605,"Psycho swiss alps",4]
[606,"Psychrophobia",4]
[607,"RainforestMinefield",4]
[608,"Red Cross SE",4]
[609,"Quad City",4]
[610,"Race for Erbil",4]
[611,"Raiders of the lost Acropolis",4]
[612,"Rail Rush",4]
[613,"Railroad Frenzy multiplayer",4]
[614,"Railway River",4]
[615,"Rainy Day",4]
[616,"Ramps&Bridges Battle",4]
[617,"Red Lights",4]
[618,"Restricted Area",4]
[619,"Revenge of the Grunts",4]
[620,"Revoluflymachine",4]
[621,"Rhino Island",4]
[622,"Riches to Rags",4]
[623,"Rickenbacker1",4]
[624,"River Canyon",4]
[625,"River Crossing",4]
[626,"River of death",4]
[627,"River of peace",4]
[628,"River Run",4]
[629,"River Showdown",4]
[630,"River Valley Showdown",4]
[631,"Rivers of Death",4]
[632,"RiversideBrawl",4]
[633,"Road Traverse Remake",4]
[634,"roadtodestruction",4]
[635,"Rocky Dispute",4]
[636,"rockyisland",4]
[637,"RogerAI",4]
[638,"RogerUltra",4]
[639,"Rolling Thunder",4]
[640,"RR Crossing",4]
[641,"Ruby Plateaus",4]
[642,"Rush Hour",4]
[643,"remake of i^love^aod map",4]
[644,"RocketScience",4]
[645,"Sand Kings V2",4]
[646,"Scarcity",4]
[647,"Sadams Secret Citadels",4]
[648,"sahara strike",4]
[649,"Sand Storm",4]
[650,"Sand Tiger",4]
[651,"sandconflict",4]
[652,"Sands of Slaghter",4]
[653,"Saudi Troubles",4]
[654,"save da villages",4]
[655,"Savo Island",4]
[656,"Scorched Wilderness",4]
[657,"seasons",4]
[658,"Secret Army Battle",4]
[659,"Secret Island 2004",4]
[660,"SelfControl",4]
[661,"Severe Winter",4]
[662,"Sewajee Hill",4]
[663,"shamentournament2",4]
[664,"Shangri-la",4]
[665,"Shaoyang",4]
[666,"Shared Bases",4]
[667,"Shipwreck Island",4]
[668,"siberia wasteland",4]
[669,"Siberian Ice Caps",4]
[670,"Silent Storm",4]
[671,"silentvalley",4]
[672,"Sin City InfWar",4]
[673,"Sin Piel",4]
[674,"Six Stars Deluxe 2004",4]
[675,"sixfeetunder",4]
[676,"Sedona Pass",4]
[677,"Sedona Pass ZH",4]
[678,"SK_CWC_Battle For Baghdad",4]
[679,"SK_CWC_Reconstruck",4]
[680,"SK_CWC_Snowbattle",4]
[681,"Skint",4]
[682,"Slaughter Pen",4]
[683,"Smallville",4]
[684,"Sniper's Delight",4]
[685,"Sniper's Pass",4]
[686,"Snow Bound",4]
[687,"Snow Corners",4]
[688,"Snow Defense",4]
[689,"Snow Giants",4]
[690,"Snow Lion",4]
[691,"Snow Night",4]
[692,"Snowland",4]
[693,"Snowy Combat",4]
[694,"Snowy Island",4]
[695,"Snow Warfront",4]
[696,"Snowy Lands",4]
[697,"somewhereinchina",4]
[698,"Sonic Warfare",4]
[699,"soviet wasteland",4]
[700,"Spearhead",4]
[701,"Special Ops",4]
[702,"SpiderLand",4]
[703,"Spire",4]
[704,"Spotlight",4]
[705,"Spring War",4]
[706,"Stalemate",4]
[707,"strategem",4]
[708,"Strategiquement",4]
[709,"StarBase",4]
[710,"Swiss Alps",4]
[711,"Supply Mountain Battle",4]
[712,"Supplys Aren't Forever",4]
[713,"Strongholds",4]
[714,"Stuck in the middle",4]
[715,"Summer Dreams 2004",4]
[716,"Summer Dreams 2004 Extended",4]
[717,"Summer Dreams 2005",4]
[718,"Sumpfloch",4]
[719,"Sundown",4]
[720,"Sunrise Showdown",4]
[721,"Super_Supplxy",4]
[722,"Team Plateaus",4]
[723,"Terrorlake",4]
[724,"T@g",4]
[725,"tactical_ground_rrgesign",4]
[726,"Tag-Battle",4]
[727,"Tango in Harlem",4]
[728,"Tank Wars",4]
[729,"Tank_only_Valley",4]
[730,"TD Classic",4]
[731,"Team Conquest",4]
[732,"Team Tournament",4]
[733,"Team Turtle",4]
[734,"Teheran Outskirts",4]
[735,"tempestade tropical",4]
[736,"Temptation Island",4]
[737,"terrace",4]
[738,"terrainadaption",4]
[739,"Terrorain",4]
[740,"Texas by DesertSnake",4]
[741,"Texas Tea ZH",4]
[742,"TGL - Death Bridge",4]
[743,"Thar She Blows",4]
[744,"The 4 Kings",4]
[745,"The Alpine Border",4]
[746,"The Battle Fortress",4]
[747,"The Beach",4]
[748,"The Blue Death War",4]
[749,"The Bridge in the  Mitddle",4]
[750,"the chasm II",4]
[751,"The Crimson Winter",4]
[752,"The Delta System",4]
[753,"The Ditch M",4]
[754,"The dried up Tiberium pits",4]
[755,"The Fallen Empire",4]
[756,"The Flats",4]
[757,"The Fortified Island",4]
[758,"the fortress 2",4]
[759,"The Four Islands",4]
[760,"The Green Battle",4]
[761,"The High Field",4]
[762,"The High Life",4]
[763,"The Hill Town",4]
[764,"The Islands",4]
[765,"The Krakatoa Volcano",4]
[766,"The Maze of Death",4]
[767,"The Middle",4]
[768,"The Morning Freeway Frack",4]
[769,"The Hub",4]
[770,"Thunder City",4]
[771,"The Night of the Dead",4]
[772,"The Sands of Time",4]
[773,"The Seasons First Snow",4]
[774,"The Silent Cartographer",4]
[775,"The Stomping Grounds",4]
[776,"The Third Right",4]
[777,"The Valley of the Kings",4]
[778,"The Village",4]
[779,"The Wrath of Neptune",4]
[780,"The-Crossing-River",4]
[781,"TheClanWar",4]
[782,"thedeltabridge",4]
[783,"theislands",4]
[784,"thelogestyard10k",4]
[785,"thesnowman",4]
[786,"Thin Red Line",4]
[787,"Toxic Battle",4]
[788,"Urban Battle",4]
[789,"Tournament Island 2k",4]
[790,"Thundering Trains",4]
[791,"tigermountain",4]
[792,"Tikrit Showdown",4]
[793,"TimberWolf",4]
[794,"time2bcool",4]
[795,"Titus City Bio",4]
[796,"Tobruk",4]
[797,"TopSecret2",4]
[798,"Toscana",4]
[799,"TOTF Night Watch",4]
[800,"Tournament arena",4]
[801,"Tournament City!",4]
[802,"Torunament Crossing",4]
[803,"Tournament Desert",4]
[804,"Tournament Map F",4]
[805,"Tournament Mountain",4]
[806,"Tournament Mountain Islands",4]
[807,"Tournament Mountains",4]
[808,"Tournament Oasis",4]
[809,"Tournament Snowy Railroad",4]
[810,"tournament tundra",4]
[811,"tournament village",4]
[812,"Tournament Wilderness",4]
[813,"Tower Troubles Zero Hour",4]
[814,"Town n Country",4]
[815,"TownvTown01",4]
[816,"toxic assualt",4]
[817,"Toxic ",4]
[818,"Toxicity",4]
[819,"Track Race",4]
[820,"Train Town",4]
[821,"Trains Drains and Valve Stations",4]
[822,"transmountain",4]
[823,"transylvania",4]
[824,"Treisure Island",4]
[825,"Treasure Mountain",4]
[826,"Treats",4]
[827,"Tresure Island",4]
[828,"tropic arena",4]
[829,"Tropical Fortress",4]
[830,"Tropical Thunder Storm",4]
[831,"Tropical Trance",4]
[832,"Tropical Warfare",4]
[833,"Tropical Warriors",4]
[834,"Tropical Desert",4]
[835,"Tropico",4]
[836,"Truth from Defiance",4]
[837,"Tundra Thunder",4]
[838,"Unreal Terrorment",4]
[839,"Utter Carnage",4]
[840,"Two Sides And Just A Bit Toxic",4]
[841,"Two Sides Foru Forces",4]
[842,"Unity A ZH",4]
[843,"unlake",4]
[844,"Untamed Lands",4]
[845,"Unwanted Exposer",4]
[846,"Urban Crush",4]
[847,"Urban Dread",4]
[848,"Urban Gauntlet",4]
[849,"Urban Invasion",4]
[850,"Urban Rush",4]
[851,"Urban Savanna",4]
[852,"Urban Sunset",4]
[853,"Urban Uproar",4]
[854,"Urban Warfare Training",4]
[855,"Urban Warfare",4]
[856,"urbancontainment",4]
[857,"urbandread",4]
[858,"USA01_MP_VERSION",4]
[859,"Utah War",4]
[860,"The Valley of Kings",4]
[861,"Valley of Fortune",4]
[862,"valley of terror",4]
[863,"valley of war",4]
[864,"Valley Wars",4]
[865,"valleyofdeath",4]
[866,"Vally of Death Day",4]
[867,"VANTAGE POINT2",4]
[868,"VenturousLanes",4]
[869,"Vicks Desert Camp",4]
[870,"victoryofthemountains",4]
[871,"Village Desolation",4]
[872,"violent tundra",4]
[873,"Volcano Battleground",4]
[874,"Volcano Island",4]
[875,"Volcano",4]
[876,"Volcanoe ZH",4]
[877,"Walled City",4]
[878,"WildDarkness",4]
[879,"Walls of Water and Blood",4]
[880,"War at oil Hill",4]
[881,"War Camp",4]
[882,"War in Q8",4]
[883,"War in the Dawn",4]
[884,"War in the Grass Land",4]
[885,"War in the Middle Desert",4]
[886,"War in the Snow Land",4]
[887,"War Island Final",4]
[888,"war titus cats",4]
[889,"War-in Paradise",4]
[890,"War-Torn Country",4]
[891,"war_of_the_islands",4]
[892,"Warpaths",4]
[893,"Warriors of the World",4]
[894,"Wastegrounds",4]
[895,"Water Logged",4]
[896,"Waterfall Oasis",4]
[897,"Waterfront Property",4]
[898,"Waterworld",4]
[899,"White Landscape",4]
[900,"Zero Degrees",4]
[901,"Winter Battle Land",4]
[902,"Winter Crossfire",4]
[903,"Winter Meadows",4]
[904,"Winter Ridge",4]
[905,"winterharvest",4]
[906,"Woodland Border",4]
[907,"wrapped_in_mystery",4]
[908,"X Factor",4]
[909,"X-Force",4]
[910,"x2f01",4]
[911,"Xfire",4]
[912,"xmarksthespot",4]
[913,"Yorkton",4]
[914,"Yucatan",4]
[915,"BioHazard's Fun",4]
[916,"Suicide Canal",4]
[917,"Bear Toen Beatdown (of.)",4]
[918,"Dark Mountain (of.)",4]
[919,"Dark Night (of.)",4]
[920,"Dogs of War (of.)",4]
[921,"Eastern Everglades (of.)",4]
[922,"El Scorcho (of.)",4]
[923,"Fallen Empire (of.)",4]
[924,"Flooded Plains (of.)",4]
[925,"Golden Oasis (of.)",4]
[926,"Homeland Alliance (of.)",4]
[927,"Lights Out (of.)",4]
[928,"Lone Eagle (of.)",4]
[929,"Manic Aggression (of.)",4]
[930,"Mountain Fox (of.)",4]
[931,"Overland Offensive (of.)",4]
[932,"Rocky Rampage (of.)",4]
[933,"Rogue Agent (of.)",4]
[934,"Tournament A (of.)",4]
[935,"Tournament B (of.)",4]
[936,"Tournament Continent (of.)",4]
[937,"Tournament Island (of.)",4]
[938,"Tournament Lake (of.)",4]
[939,"Torunament Tundra (of.)",4]
[940,"Torunament Urban (of.)",4]
[941,"Victory Valley (of.)",4]
[942,"[Rank] Aftermath",4]
[943,"[Rank] Coastline Wold",4]
[944,"[Rank] Ghostly Rocks",4]
[945,"[Rank] Middle Fight",4]
[946,"[Rank] Lost Temple",4]
[947,"[Rank] Maguso ZH v3",4]
[948,"[Rank] Mountain Path v4",4]
[949,"[Rank] Target Tournament",4]
[950,"[Rank] Toxic ZH v3",4]
[951,"[Rank] Unity A ZH v2",4]
[952,"[Rank] Volcano ZH v1",4]
[953,"--- appetite for destruction---",6]
[954,"--- ]-[ i l l  k i l l e d  b i l l --- final",6]
[955,"$ island of armees $",6]
[956,"[PFT] Beach Battle",6]
[957,"[pft] jungle island",6]
[958,"_3vs3_RattleTrap",6]
[959,"_vs5_Bgdad =III=",6]
[960,"_vs5_taunus-11",6]
[961,"000-8-Ball-000",6]
[962,"000-EmbassyCity-000",6]
[963,"62Go",6]
[964,"3v3 riyadh",6]
[965,"6 player 1",6]
[966,"_[AX]_climbtown",6]
[967,"3StepstoHeaven",6]
[968,"6 Player 3",6]
[969,"6 Player 4",6]
[970,"75 Mile !!!!!",6]
[971,"A Death Trend Setta",6]
[972,"A Walk around da old Block",6]
[973,"A Bridge too near",6]
[974,"Across the Rhine",6]
[975,"Adirondack Seige",6]
[976,"All Out Industrial",6]
[977,"All out War",6]
[978,"AmazonAssault",6]
[979,"Amok Dan WATER HAND",6]
[980,"Any Island",6]
[981,"Armored Fury",6]
[982,"armoredroulette",6]
[983,"Asian Conflict",6]
[984,"avalanchecliffs",6]
[985,"awarroirsbattlefield",6]
[986,"Badlands",6]
[987,"battlecreek",6]
[988,"Bermuda 3angle",6]
[989,"biologicalwarfare",6]
[990,"Blast Pit",6]
[991,"Boardwalk Bloodbath",6]
[992,"Brookside",6]
[993,"Arctic Avalance",6]
[994,"Arctic Base",6]
[995,"Canyon Crossing",6]
[996,"Canyon in Between",6]
[997,"canyoncrossing",6]
[998,"Castle Wolfenstein",6]
[999,"Chaos",6]
[1000,"Classic Armoured Fury",6]
[1001,"Coastal Crush",6]
[1002,"Coastal Defence",6]
[1003,"Cold Harbour 2",6]
[1004,"Combat_Elevation",6]
[1005,"Company Town",6]
[1006,"Conflict-by-STOUT",6]
[1007,"Country Conflict",6]
[1008,"Cross Country",6]
[1009,"Crz-nuklearcirclea",6]
[1010,"Crz-urbanbaghdadver1b",6]
[1011,"Dam River Battle",6]
[1012,"Dam That River",6]
[1013,"Dark Bay AREA",6]
[1014,"darkglacier",6]
[1015,"Das Paradies Reloaded",6]
[1016,"Das Paradies",6]
[1017,"Death at Sunrise",6]
[1018,"Desert Mountain Range",6]
[1019,"goldcoast",6]
[1020,"Death Valley",6]
[1021,"Delta",6]
[1022,"Desert Combat",6]
[1023,"Desert Disaster Scene Online Version",6]
[1024,"Desert Dueling Arena",6]
[1025,"Desert Romp",6]
[1026,"Desert Showdown",6]
[1027,"desert sphinx",6]
[1028,"Desert Trap",6]
[1029,"Desert Wars",6]
[1030,"Deutschland",6]
[1031,"devislcrossing",6]
[1032,"Dietetic war",6]
[1033,"Dreadly Sins",6]
[1034,"Dusk Hour",6]
[1035,"East Vs Best (gowmanAG)",6]
[1036,"East Vs Best",6]
[1037,"Europa Remix",6]
[1038,"Evergreen Pass",6]
[1039,"F_Snow_War",6]
[1040,"FanaticalFun",6]
[1041,"Fantasy Islands",6]
[1042,"Fata Morgana",6]
[1043,"fatamorgana",6]
[1044,"Eastern Block",6]
[1045,"Fighter Multi Map6",6]
[1046,"First Strike",6]
[1047,"Fisherman's Bay",6]
[1048,"Forbidden City Battle",6]
[1049,"forest",6]
[1050,"forestgump",6]
[1051,"Fortified Canyon",6]
[1052,"Fortress Avalanche",6]
[1053,"freelan",6]
[1054,"Freeway for all",6]
[1055,"frost valley",6]
[1056,"frozenvalley",6]
[1057,"Flusslandschaft",6]
[1058,"Gazala",6]
[1059,"Generals beyond the Bridges",6]
[1060,"Germany",6]
[1061,"Ghost Society",6]
[1062,"Green Island",6]
[1063,"Grenzübergang",6]
[1064,"hamond $$$$$$$",6]
[1065,"Heavy War",6]
[1066,"hellholewinter",6]
[1067,"Highland Arena",6]
[1068,"Highland Islands",6]
[1069,"Hold the Hill",6]
[1070,"hold the line 2004",6]
[1071,"Home-of-Nuke",6]
[1072,"Homeland Base",6]
[1073,"homelandalliance",6]
[1074,"Horny Bttle",6]
[1075,"Hostile Dawn",6]
[1076,"Ice Age",6]
[1077,"Impressions",6]
[1078,"in the waste",6]
[1079,"indiewueste",6]
[1080,"Industiral Arena ZH",6]
[1081,"industrial revolution",6]
[1082,"infantry_strike II",6]
[1083,"Iraq",6]
[1084,"Island of Armees",6]
[1085,"island_2",6]
[1086,"It is snowing",6]
[1087,"indigo",6]
[1088,"jungleisland",6]
[1089,"Kampf der Titanen",6]
[1090,"moneydesert",6]
[1091,"littleriver",6]
[1092,"Long Reef",6]
[1093,"Malibu Cliffs",6]
[1094,"map aku5",6]
[1095,"map aku8",6]
[1096,"Martian Marauders",6]
[1097,"meetingatthebridge",6]
[1098,"Mounds",6]
[1099,"mission on mars",6]
[1100,"mission on mars 2",6]
[1101,"mogadishumayhem",6]
[1102,"moneycrazy",6]
[1103,"moneyremake",6]
[1104,"mountainpass",6]
[1105,"nomansland",6]
[1106,"Nuke Island",6]
[1107,"nuts",6]
[1108,"OilTrain6Ex2",6]
[1109,"Old times return",6]
[1110,"On the Edge of Panic",6]
[1111,"Operation Sleepy Weasel",6]
[1112,"operartiondesertstorm",6]
[1113,"OS_Canyon",6]
[1114,"patchwork mesa",6]
[1115,"Pearl Harbor",6]
[1116,"Polargebiet",6]
[1117,"Premptive Strike",6]
[1118,"Promised-Land",6]
[1119,"purgatory",6]
[1120,"RA Classic",6]
[1121,"Qayyarah Airport",6]
[1122,"Racing Park",6]
[1123,"RedSnows",6]
[1124,"Rising Sun",6]
[1125,"River Raid ZH",6]
[1126,"River_Divided",6]
[1127,"Riverblade",6]
[1128,"rivermastah",6]
[1129,"RiverRumble",6]
[1130,"Russian Roulette",6]
[1131,"Sandy Punishment",6]
[1132,"Sapphire Streams",6]
[1133,"Scattered Rocks",6]
[1134,"Schneegestoeber",6]
[1135,"SARS Attacks",6]
[1136,"Shallow grave",6]
[1137,"Siberia",6]
[1138,"Siberian Thunder",6]
[1139,"Sidewinder",6]
[1140,"Six Iron Dragons",6]
[1141,"Six-part race",6]
[1142,"Six_Bridge Deluxe",6]
[1143,"SixPack Fight",6]
[1144,"Snow Wars",6]
[1145,"snowmountainpass",6]
[1146,"stormdesert",6]
[1147,"Streets of Gold",6]
[1148,"survival of the bunker kings",6]
[1149,"SunFusion",6]
[1150,"The Bay",6]
[1151,"Tactical Play Ground",6]
[1152,"Terra Incognita",6]
[1153,"the crossroads",6]
[1154,"The Ditch XL",6]
[1155,"Tactical Nightmare",6]
[1156,"The Final 6",6]
[1157,"The Grand Theme of Things",6]
[1158,"The High Pass Vanilla",6]
[1159,"The Key to Victory is Teamwork",6]
[1160,"The last Siege",6]
[1161,"The Plateau",6]
[1162,"The Pit - T",6]
[1163,"thelongestyard20k",6]
[1164,"thetownofmosul",6]
[1165,"Three Islands",6]
[1166,"Grenzübergang",6]
[1167,"Quyyarah Airport",6]
[1168,"Three Islands",6]
[1169,"Tortured Waters",6]
[1170,"TOFTF Frozen Valley",6]
[1171,"tothemountains",6]
[1172,"Tour of Egypt",6]
[1173,"Tour of Solid",6]
[1174,"Tournament Artillary",6]
[1175,"Tournament Graveyard",6]
[1176,"Tournament Island 2",6]
[1177,"Tournament Valley 2",6]
[1178,"Transition",6]
[1179,"Toxicity (7)",6]
[1180,"Trenches",6]
[1181,"tropic island storm",6]
[1182,"Tropical Tournament",6]
[1183,"Tropico 2",6]
[1184,"Truppen Trainingslager",6]
[1185,"Twilight Sunset",6]
[1186,"twilight game",6]
[1187,"ultimate-survival remake the eal E-3",6]
[1188,"Unity B ZH",6]
[1189,"Unreachable Heights",6]
[1190,"Urantian Conflict",6]
[1191,"volcano 7",6]
[1192,"wall_of_china",6]
[1193,"WATER HAND MAP TEXTURED!!!!",6]
[1194,"War Zone",6]
[1195,"war killz tankwarz v1",6]
[1196,"Waterwheel",6]
[1197,"weltkrieg",6]
[1198,"Wilderness Valley",6]
[1199,"Winter Valley Final",6]
[1200,"winterwars",6]
[1201,"X-For Ponds",6]
[1202,"X-Valley Showdown",6]
[1203,"Xtreme Cold",6]
[1204,"yellowfever",6]
[1205,"Zero Hour Fortress Battle",6]
[1206,"wintervalley",6]
[1207,"wildernessvalley",6]
[1208,"Bay of Pigs 2",6]
[1209,"Defcon 6 (of.)",6]
[1210,"Free Fire Zone (of.)",6]
[1211,"Green Pastures (of.)",6]
[1212,"Hostile Dawn (of.)",6]
[1213,"Red Rock (of.)",6]
[1214,"Tournament City (of.)",6]
[1215,"Armoured Fury",6]
[1216,"Industrial Arena ZH",6]
[1217,"Tournament Graveyard ZH v2",6]
[1218,"Transition ZH v2",6]
[1219,"Unity B ZH v2",6]
[1220,"deepdivide",6]
[1221,"lukasinobridgecity",6]
[1222,"(W)orld (W)ar (3)",8]
[1223,"00-Danferous_mines-00",8]
[1224,"00-W_ThunderLand-00",8]
[1225,"17 Island Battle Temperate",8]
[1226,"4Cross",8]
[1227,"4vs4CompStompBattle",8]
[1228,"4Cultures",8]
[1229,"7thsonofa7thson",8]
[1230,"8 paths 16 islands",8]
[1231,"8 player map",8]
[1232,"8 Star",8]
[1233,"Abandoned Experiments",8]
[1234,"all out war v1",8]
[1235,"AlphaBase_ZH",8]
[1236,"Another War",8]
[1237,"Antarctic Assault",8]
[1238,"Apokolypse",8]
[1239,"Autumn Nights",8]
[1240,"Battle Fortress",8]
[1241,"Battle Fortress III",8]
[1242,"Battle Island 2",8]
[1243,"Battle Lands",8]
[1244,"Battle Royal",8]
[1245,"Battle Chess v2",8]
[1246,"battlelands",8]
[1247,"battle of the best",8]
[1248,"Battle of the Themes",8]
[1249,"battleofwatercrater",8]
[1250,"Bay of Pigs 2",8]
[1251,"Big.City",8]
[1252,"Big Game Hunters",8]
[1253,"Big Mess",8]
[1254,"Black Ice",8]
[1255,"blackgold",8]
[1256,"City Assault",8]
[1257,"bigens",8]
[1258,"BlackDragonDesetGlory",8]
[1259,"BLO HedgeHog",8]
[1260,"BLO_WhenGeneralsMeet",8]
[1261,"Blueness abounds",8]
[1262,"Area Truns Red",8]
[1263,"Area 52",8]
[1264,"Area 52 $$$",8]
[1265,"Centre of the Universe",8]
[1266,"checker",8]
[1267,"Classic Fortress Avalanche",8]
[1268,"Classic Twilight Flame",8]
[1269,"ClassicWhiteout",8]
[1270,"combatarena",8]
[1271,"Corruption",8]
[1272,"Crossfire",8]
[1273,"das bett in flammen",8]
[1274,"Dam Hole",8]
[1275,"godlands",8]
[1276,"Deceitful Conquest",8]
[1277,"Desert morning",8]
[1278,"Desert Tournament",8]
[1279,"Desert Uprising",8]
[1280,"desertcombat",8]
[1281,"Deserted",8]
[1282,"Desert Siege",8]
[1283,"Destruction Fortress",8]
[1284,"Devastation on ist Way",8]
[1285,"Dirt's Destruction Derby",8]
[1286,"dunes",8]
[1287,"DiamondRidges",8]
[1288,"EA Games GodLands Professional",8]
[1289,"East Asia",8]
[1290,"egyptianentrance",8]
[1291,"europe at ww3",8]
[1292,"Fates Ridge Final",8]
[1293,"Fine art of war",8]
[1294,"Forgotten Realm",8]
[1295,"forgottentwilightcountry3",8]
[1296,"Fortress Guardian",8]
[1297,"Frozen Fire",8]
[1298,"godhatesusall",8]
[1299,"BLO_Hedgehog",8]
[1300,"greececonvention",8]
[1301,"Green >Cross",8]
[1302,"Guadalquidir",8]
[1303,"HadithaVillageBattle",8]
[1304,"hatewithin",8]
[1305,"Head-Russian",8]
[1306,"Heat of the Night",8]
[1307,"Green Acres",8]
[1308,"Helasious Battle Hill",8]
[1309,"Hidden Island",8]
[1310,"Highway to Hell",8]
[1311,"Hill Conquest",8]
[1312,"Hot Snow",8]
[1313,"Hunted Valley",8]
[1314,"Hunters",8]
[1315,"ice canyon",8]
[1316,"ingodsname",8]
[1317,"insel",8]
[1318,"inTheQuarry",8]
[1319,"inthezone",8]
[1320,"iraqoasis",8]
[1321,"it looks like rain",8]
[1322,"impact Island",8]
[1323,"Kill Crush and Destroy",8]
[1324,"knife_fight 8",8]
[1325,"Midnight Ice",8]
[1326,"Land and Sea",8]
[1327,"Landscape",8]
[1328,"levelheaded",8]
[1329,"LineUp",8]
[1330,"Lions Foot",8]
[1331,"Little Town",8]
[1332,"massacre",8]
[1333,"Max Team War",8]
[1334,"mediterraineanmelee",8]
[1335,"Math",8]
[1336,"Mountain Fortress",8]
[1337,"Mission Team",8]
[1338,"missionteam",8]
[1339,"Squared",8]
[1340,"No Mans Land",8]
[1341,"nomads",8]
[1342,"northern atlantic",8]
[1343,"Nuclear Desert",8]
[1344,"Operation Desert Combat",8]
[1345,"Oasis aride",8]
[1346,"Ocean Shores",8]
[1347,"Paratrooper Paradise",8]
[1348,"plus",8]
[1349,"Protected City",8]
[1350,"Q8",8]
[1351,"Raging Darkness",8]
[1352,"Randomosity Mark II",8]
[1353,"Refined Cliffs",8]
[1354,"Reveil matinal",8]
[1355,"River Crossing XL",8]
[1356,"Rock-Bottom",8]
[1357,"RogerSun",8]
[1358,"Run in the Middle",8]
[1359,"scudtournament",8]
[1360,"Siberian Winter",8]
[1361,"Sin City",8]
[1362,"SK_CWC_Twilight Flame",8]
[1363,"snow canyon",8]
[1364,"SnowHeaven",8]
[1365,"Snowy Twilight Flame",8]
[1366,"Something To Fight For",8]
[1367,"southeastasia",8]
[1368,"Stream",8]
[1369,"Swamp Matrix",8]
[1370,"Swiss Mountainside",8]
[1371,"Sunset Beach",8]
[1372,"terrahill",8]
[1373,"territorialimperative",8]
[1374,"The Conflict City",8]
[1375,"The Forgotten Castle",8]
[1376,"The Last Castle",8]
[1377,"Tropical Flame",8]
[1378,"The Octogon V2",8]
[1379,"The Ring of Fire",8]
[1380,"The Sky is falling",8]
[1381,"The Zionist Agenda",8]
[1382,"theatreofwar",8]
[1383,"theforgottencastle",8]
[1384,"thelastresort",8]
[1385,"thesilenceofthesky",8]
[1386,"Thunder Maze",8]
[1387,"Tides of War",8]
[1388,"timberline",8]
[1389,"Town and Country",8]
[1390,"Tournament River Revisited",8]
[1391,"Toxic Nightmare",8]
[1392,"triplex",8]
[1393,"Twilight Fire 2",8]
[1394,"twilight flame 2",8]
[1395,"twilightflame 3 morningdawn",8]
[1396,"Uneven Ground Final",8]
[1397,"Urban Plateau",8]
[1398,"Victory Valley",8]
[1399,"volcanoring",8]
[1400,"BLE_WhenGeneralsMeet",8]
[1401,"war of the hills",8]
[1402,"War of the pits",8]
[1403,"WarinTienShan",8]
[1404,"Water World 2",8]
[1405,"Westwood Arena",8]
[1406,"Wheel of death",8]
[1407,"whenendsnevermeet",8]
[1408,"wierd ",8]
[1409,"Winter SlugFest",8]
[1410,"Woodland Siege",8]
[1411,"Xiamen Assault",8]
[1412,"Year 3500_rebuild",8]
[1413,"Yellowstone Eruption",8]
[1414,"ZHSHOWDOWN4",8]
[1415,"A day at the beach",8]
[1416,"Death Valley (of.)",8]
[1417,"Destruction Station (of.)",8]
[1418,"Fortress Avalanche (of.)",8]
[1419,"Iron Dragon (of.)",8]
[1420,"Twilight Flame (of.)",8]
[1421,"Whiteout (of.)",8]
[1422,"Showdown",8]
[1423]
[1424]
[1425]
[1426]
[1427]
[1428]
[1429]
[1430]
[1431]
[1432]
[1433]
[1434]
[1435]
[1436]
[1437]
[1438]
[1439]
[1440]
[1441]
[1442]
[1443]
[1444]
[1445]
[1446]
[1447]
[1448]
[1449]
[1450]
[1451]
[1452]
[1453]
[1454]
[1455]
[1456]
[1457]
[1458]
[]
[]
[]
[null,"--- ]-[ i l l  k i l l e d  b i l l --- final",4]
[null,{"$f":"\"--- appetite for destruction---\"","v":"--- appetite for destruction---"},4]
[null,"$ island of armees $",4]
[null,"(W)orld (W)ar (3)",4]
[null,"[AX]_danger_middle",4]
[null,"[Battle Arena]",4]
[null,"[Deadly Skies]",4]
[null,"[Desert Fury]",4]
[null,"[FOH] Deep Canyons",4]
[null,"[FOH] Desert Map",4]
[null,"[GWFS]Middel City",4]
[null,"[GWSF]Center City",4]
[null,"[PFT] Beach Battle",4]
[null,"[pft] jungle island",4]
[null,"[Treacherous Tides]",4]
[null,"_[AX]_climbtown",4]
[null,"_3vs3_RattleTrap",4]
[null,"_VM_GoodToTheLastDrop2",4]
[null,"_vs5_Bgdad =III=",4]
[null,"_vs5_taunus-11",4]
[null,"000-8-Ball-000",4]
[null,"000-EmbassyCity-000",4]
[null,"000-muddywoods-000",4]
[null,"000-TheRoundValley-000",4]
[null,"00-Danferous_mines-00",4]
[null,"00-W_ThunderLand-00",4]
[null,"17 Island Battle Temperate",4]
[null,"2 Fort",4]
[null,"2high2low",4]
[null,"2V2 ChokePoint",4]
[null,"2v2 Cool Game",4]
[null,"3StepstoHeaven",4]
[null,"3v3 riyadh",4]
[null,"4 Citys Apart",4]
[null,"4 Corners",4]
[null,"4 player 1",4]
[null,"4 Seasons",4]
[null,"4Cross",4]
[null,"4Cultures",4]
[null,"4vs4CompStompBattle",4]
[null,"5 Dam Lake",4]
[null,"6 player 1",4]
[null,"6 Player 3",4]
[null,"6 Player 4",4]
[null,"62Go",4]
[null,"75 Mile !!!!!",4]
[null,"7thsonofa7thson",4]
[null,"8 paths 16 islands",4]
[null,"8 player map",4]
[null,"8 Star",4]
[null,"A Bridge too near",4]
[null,"A closer Encounter",4]
[null,"A day at the beach",4]
[null,"A Death Trend Setta",4]
[null,"A Generals Battlefield",4]
[null,"A Path Beyond",4]
[null,"A Train Runs Near",4]
[null,"A Walk around da old Block",4]
[null,"A Winter Wonderland",4]
[null,"Abandoned Boss base",4]
[null,"Abandoned Experiments",4]
[null,"Across the Rhine",4]
[null,"Across The Train",4]
[null,"Adirondack Seige",4]
[null,"Ägypten",4]
[null,"Air America",4]
[null,"air 'n sea combat iv",4]
[null,"Air War",4]
[null,"air wars",4]
[null,"Airfield",4]
[null,"All aboard",4]
[null,"All about Oil",4]
[null,"All Out Industrial",4]
[null,"All out War",4]
[null,"all out war v1",4]
[null,"Allied Assault",4]
[null,"Allied Assault (4)",4]
[null,"Allied Battlegrounds",4]
[null,"Alpha Grasslands",4]
[null,"alpha&omega tactical",4]
[null,"AlphaBase_ZH",4]
[null,"alpine assault",4]
[null,"Alpine Assault 2",4]
[null,"Alpine Battlefield",4]
[null,"Alpine Conflict",4]
[null,"Alpine Crusade",4]
[null,"Alpine Express",4]
[null,"Alpine fortress",4]
[null,"Alpine Madness",4]
[null,"Alpine Village Campaign",4]
[null,"amazon",4]
[null,"AmazonAssault",4]
[null,"American Threat",4]
[null,"Ammo Avenue",4]
[null,"Amok Dan WATER HAND",4]
[null,"Ancient Axon",4]
[null,"Another War",4]
[null,"Antarctic Assault",4]
[null,"Anthrax Fortress",4]
[null,"Any Island",4]
[null,"Apokolypse",4]
[null,"Appalachian Melee",4]
[null,"April Weather",4]
[null,"Arabianb Domination",4]
[null,"arabwar",4]
[null,"Arctic",4]
[null,"Arctic Avalance",4]
[null,"Arctic Base",4]
[null,"Arctic Blizzard",4]
[null,"Arctic Challenge",4]
[null,"Arctic National Wildlife Refugium",4]
[null,"Arctic Storm",4]
[null,"Arctic Winds",4]
[null,"Area 52",4]
[null,"Area 52 $$$",4]
[null,"Area of Death",4]
[null,"Area Truns Red",4]
[null,"Arena Del Sino",4]
[null,"Arena of War",4]
[null,"ArenaOnline",4]
[null,"Armageddon",4]
[null,"Armageddon V1",4]
[null,"Armored Fury",4]
[null,"armoredroulette",4]
[null,"Armoured Fury",4]
[null,"Arterilly Super War",4]
[null,"Asian Conflict",4]
[null,"Asphaltvalley",4]
[null,"Assimarr Pass",4]
[null,"Atlantis",4]
[null,"Atomic Warfactory 2004",4]
[null,"Attacking Platforms",4]
[null,"Aunicaz Masa",4]
[null,"Autumn Ambush",4]
[null,"Autumn Nights",4]
[null,"avalanchecliffs",4]
[null,"awarroirsbattlefield",4]
[null,"AX_bridges_in_town",4]
[null,"Axon Beach",4]
[null,"Axon River",4]
[null,"Axon Sides",4]
[null,"Axon Valley",4]
[null,"Back2back Final",4]
[null,"Badlands",4]
[null,"Baghdad Outskrits",4]
[null,"Balkan SK",4]
[null,"Barrels of Fun",4]
[null,"Base Race",4]
[null,"basesbullseyed",4]
[null,"basewars",4]
[null,"Basis SK",4]
[null,"Battle Chess v2",4]
[null,"Battle for Baghdad",4]
[null,"Battle for Korea",4]
[null,"Battle for Oil 2",4]
[null,"Battle for the Rockies",4]
[null,"Battle Fortress",4]
[null,"Battle Fortress III",4]
[null,"Battle in the Valves",4]
[null,"Battle Island 2",4]
[null,"Battle Lands",4]
[null,"battle of the best",4]
[null,"Battle of the climates",4]
[null,"Battle of the Themes",4]
[null,"Battle Royal",4]
[null,"BattleArena_ZH",4]
[null,"battlecreek",4]
[null,"Battlefield 1",4]
[null,"Battleground Zero",4]
[null,"battlelands",4]
[null,"battleofwatercrater",4]
[null,"BATTLETANX II RTS",4]
[null,"Bay of Pigs 2",4]
[null,"Bay of Pigs 2",4]
[null,"Bear Toen Beatdown (of.)",4]
[null,"Bellum Ora",4]
[null,"Bermuda 3angle",4]
[null,"Big Game Hunters",4]
[null,"Big Mess",4]
[null,"Big Valley Conflict",4]
[null,"Big War",4]
[null,"Big.City",4]
[null,"bigens",4]
[null,"BioHazard's Fun",4]
[null,"biologicalwarfare",4]
[null,"Black Gold Fields",4]
[null,"Black Ice",4]
[null,"BlackDragonDesetGlory",4]
[null,"blackgold",4]
[null,"Blast Pit",4]
[null,"Blastern Canyon Redux",4]
[null,"BLE_WhenGeneralsMeet",4]
[null,"blingbling",4]
[null,"BLO HedgeHog",4]
[null,"BLO_Hedgehog",4]
[null,"BLO_TheDeltaBridge",4]
[null,"BLO_WhenGeneralsMeet",4]
[null,"Blockade",4]
[null,"blood gultch",4]
[null,"Blue City",4]
[null,"Blue Diamond",4]
[null,"Blueness abounds",4]
[null,"Blue-X-Trax",4]
[null,"Boardwalk Bloodbath",4]
[null,"bodycountfield",4]
[null,"Bombardement Island",4]
[null,"Boss Castle Bastions",4]
[null,"boyddiesfolly",4]
[null,"Bridge Wars",4]
[null,"Bridges to Boss Isle",4]
[null,"Bright Light City",4]
[null,"Broken Island",4]
[null,"Brookside",4]
[null,"BuggyRide",4]
[null,"bunker war titus",4]
[null,"bunker wars",4]
[null,"Burning at Daybreak",4]
[null,"Burning Crusade",4]
[null,"Buschland",4]
[null,"Buzz's Bluff",4]
[null,"Canada DMZ",4]
[null,"Canada vs America",4]
[null,"Canion Own",4]
[null,"Canyon",4]
[null,"Canyon Carnage",4]
[null,"Canyon City",4]
[null,"Canyon Craters",4]
[null,"Canyon Crossing",4]
[null,"Canyon in Between",4]
[null,"Canyon Madness",4]
[null,"canyoncrossing",4]
[null,"Casablanca",4]
[null,"Castle Bastions",4]
[null,"Castle City",4]
[null,"Castle Wolfenstein",4]
[null,"catch the Carrier",4]
[null,"ceazy",4]
[null,"Center Point",4]
[null,"Central Land Mass",4]
[null,"Central_Park_1",4]
[null,"Centre of the Universe",4]
[null,"centre stage",4]
[null,"Chaos",4]
[null,"Chaos Theory",4]
[null,"checker",4]
[null,"Checkmate Your Dead",4]
[null,"Checkpoint Chaos",4]
[null,"Chemical Forest",4]
[null,"Chinese Invasion",4]
[null,"choke",4]
[null,"City Assault",4]
[null,"city battle",4]
[null,"City in the Snow",4]
[null,"City Limits",4]
[null,"City of Oil",4]
[null,"City Pass",4]
[null,"City Raiders",4]
[null,"City Seige",4]
[null,"City Siege XL",4]
[null,"City under Siege",4]
[null,"City War",4]
[null,"City War Night",4]
[null,"Civil War",4]
[null,"Classic Armoured Fury",4]
[null,"Classic Dark Mountain",4]
[null,"Classic Fallen Empire",4]
[null,"Classic Fortress Avalanche",4]
[null,"Classic Golden Oasis",4]
[null,"Classic Lone Eagle",4]
[null,"Classic Rogue Agent",4]
[null,"Classic Tounarment Lake",4]
[null,"Classic Tournament Island",4]
[null,"Classic Tournament Tundra",4]
[null,"Classic Twilight Flame",4]
[null,"ClassicWhiteout",4]
[null,"Cliff Top",4]
[null,"CLIFF TOP PASS",4]
[null,"Cliffhanger [General Challenge]",4]
[null,"Climate Wars",4]
[null,"Close Quarters",4]
[null,"Clutha River",4]
[null,"Coastal Crush",4]
[null,"Coastal Defence",4]
[null,"Col. Burtons Hometown",4]
[null,"Cold Company",4]
[null,"Cold Harbour 2",4]
[null,"Cold War",4]
[null,"Collateral Damage",4]
[null,"Combat_Elevation",4]
[null,"combatarena",4]
[null,"CombatZone",4]
[null,"Come_n_Get_it",4]
[null,"Company Town",4]
[null,"Conflict Zone",4]
[null,"Conflict-by-STOUT",4]
[null,"ConPsycon!",4]
[null,"Corner to Corner",4]
[null,"Corruption",4]
[null,"Country Conflict",4]
[null,"Covered Bases",4]
[null,"Covert Operations",4]
[null,"CR Supremacy City",4]
[null,"Crater City",4]
[null,"Crater Lake",4]
[null,"Crater Lake DMZ",4]
[null,"craterparadise",4]
[null,"Cross Country",4]
[null,"Cross Over",4]
[null,"Cross Roads",4]
[null,"Cross Zero",4]
[null,"Cross(ZH)",4]
[null,"Crossfire",4]
[null,"Crosstown Tactics",4]
[null,"Crystal Lake",4]
[null,"Crz-nuklearcirclea",4]
[null,"Crz-OilFortress2v2a",4]
[null,"Crz-riverwarsversion3",4]
[null,"Crz-urbanbaghdad4plyr",4]
[null,"Crz-urbanbaghdadver1b",4]
[null,"cwc northern atlantic",4]
[null,"DA Tiger Mountain",4]
[null,"Dam Crisis",4]
[null,"Dam Hole",4]
[null,"Dam River Battle",4]
[null,"Dam That River",4]
[null,"DAM WAR!",4]
[null,"Dark Bay",4]
[null,"Dark Bay AREA",4]
[null,"Dark Mountain (of.)",4]
[null,"Dark Night (of.)",4]
[null,"Dark Side of the Moon",4]
[null,"Dark Woods",4]
[null,"darkglacier",4]
[null,"Darknight",4]
[null,"das bett in flammen",4]
[null,"Das Paradies",4]
[null,"Das Paradies Reloaded",4]
[null,"davidusa9 - Bleak Horizon",4]
[null,"Daytona Beach",4]
[null,"D-Day",4]
[null,"Dead on Arrival",4]
[null,"deadcreek",4]
[null,"Deadly Pit",4]
[null,"Death at Seaside",4]
[null,"Death at Sunrise",4]
[null,"Death in the Levant",4]
[null,"Death Valley",4]
[null,"Death Valley (of.)",4]
[null,"Death Valley Fortress",4]
[null,"Deceitful Conquest",4]
[null,"Deep Kloof",4]
[null,"deepblue v2",4]
[null,"Defcon 6 (of.)",4]
[null,"Delta",4]
[null,"Der einsame Tod",4]
[null,"Desert City (ZH)",4]
[null,"Desert Cliffs",4]
[null,"Desert Combat",4]
[null,"Desert Combat ZH",4]
[null,"Desert Conquer",4]
[null,"Desert Crossing",4]
[null,"Desert Dash",4]
[null,"Desert Disaster Scene Online Version",4]
[null,"Desert Divide",4]
[null,"Desert Dueling Arena",4]
[null,"desert flood",4]
[null,"Desert Forest",4]
[null,"Desert Guardian",4]
[null,"Desert Madness",4]
[null,"desert map with lots of $$$",4]
[null,"Desert Maze",4]
[null,"Desert morning",4]
[null,"Desert Mountain Range",4]
[null,"Desert Mountains",4]
[null,"Desert Oasis",4]
[null,"Desert of Doom",4]
[null,"Desert Oil feilds",4]
[null,"Desert Oilfields",4]
[null,"Desert Party",4]
[null,"Desert Passage",4]
[null,"Desert Plateau",4]
[null,"Desert Rampage",4]
[null,"Desert Rats",4]
[null,"desert River Canyon",4]
[null,"Desert Romp",4]
[null,"Desert Shield",4]
[null,"Desert Showdown",4]
[null,"Desert Siege",4]
[null,"desert sphinx",4]
[null,"Desert Sundown",4]
[null,"Desert supplys",4]
[null,"Desert Tournament",4]
[null,"Desert Training",4]
[null,"Desert Trap",4]
[null,"Desert Uprising",4]
[null,"Desert War",4]
[null,"Desert Warfare",4]
[null,"Desert Wars",4]
[null,"desertbowl",4]
[null,"desertcombat",4]
[null,"DesertCorners",4]
[null,"DesertDemolition",4]
[null,"Deserted",4]
[null,"desertexpress",4]
[null,"Desertfight",4]
[null,"DesertHills",4]
[null,"Desertification",4]
[null,"Desert-River Battle",4]
[null,"deserttrap",4]
[null,"Destruction Fortress",4]
[null,"Destruction Station (of.)",4]
[null,"Deutschland",4]
[null,"Devastation on ist Way",4]
[null,"devislcrossing",4]
[null,"DiamondRidges",4]
[null,"Dietetic war",4]
[null,"Dinah Don't Blow",4]
[null,"Dirt's Destruction Derby",4]
[null,"Disposable Heroes",4]
[null,"DMZ",4]
[null,"Dogfight Pure",4]
[null,"Dogs of War (of.)",4]
[null,"Donauinsel",4]
[null,"doom skrimish",4]
[null,"Double Rail Rush",4]
[null,"Downtown City",4]
[null,"Downtown Warsville",4]
[null,"Drachenfels",4]
[null,"Dreaded Trails",4]
[null,"Dreadly Sins",4]
[null,"Dreamland",4]
[null,"drop zone V1",4]
[null,"Dry Gulch",4]
[null,"Drydocks",4]
[null,"Dryland Oasis",4]
[null,"dunes",4]
[null,"Dusk Hour",4]
[null,"Dust to Dust",4]
[null,"Dynamite Dunes",4]
[null,"EA Games GodLands Professional",4]
[null,"Early Mornings",4]
[null,"Earthquake",4]
[null,"East Asia",4]
[null,"East Vs Best",4]
[null,"East Vs Best (gowmanAG)",4]
[null,"Eastern Block",4]
[null,"Eastern Everglades (of.)",4]
[null,"Echo's of War",4]
[null,"Ecks",4]
[null,"EdgwareRoad",4]
[null,"egyptianentrance",4]
[null,"Eifel Battle",4]
[null,"El Alamein",4]
[null,"El Scorcho (of.)",4]
[null,"Emerald Valley",4]
[null,"emotiondreams 2004",4]
[null,"Encounter",4]
[null,"End of the World",4]
[null,"End War",4]
[null,"Enough Dead Heroes",4]
[null,"Erebus Pass",4]
[null,"Europa Remix",4]
[null,"europe at ww3",4]
[null,"European War",4]
[null,"Evening Valley",4]
[null,"Evergreen Pass",4]
[null,"EvilAs Crazy Ivan",4]
[null,"EvilAs Cross Roads",4]
[null,"EvilAs Desert of Sin",4]
[null,"EvilAs Holy Mountain",4]
[null,"Explosion War",4]
[null,"Extreme War",4]
[null,"F_hilly_landscape",4]
[null,"F_Rocky_Mountains",4]
[null,"F_Snow_War",4]
[null,"Fall Frenzy",4]
[null,"Fallen Empire (of.)",4]
[null,"Fallen Empire Reloaded",4]
[null,"Fallen Empire2",4]
[null,"FanaticalFun",4]
[null,"FANTASY",4]
[null,"Fantasy Islands",4]
[null,"Fata Morgana",4]
[null,"fatamorgana",4]
[null,"Fates Ridge Final",4]
[null,"Feuerthalen vs Schaffhausen",4]
[null,"FFA $$$",4]
[null,"Field of Warriors",4]
[null,"Fields of Battle",4]
[null,"Fields of Dread",4]
[null,"Fighter Multi Map4",4]
[null,"Fighter Multi Map6",4]
[null,"Final Crusade",4]
[null,"Fine art of war",4]
[null,"First Strike",4]
[null,"Fisherman's Bay",4]
[null,"Five Bridges",4]
[null,"five continents",4]
[null,"Flooded Plains (of.)",4]
[null,"flooding plains tank warz",4]
[null,"Flusslandschaft",4]
[null,"Forbidden City Battle",4]
[null,"forest",4]
[null,"Forest Battle",4]
[null,"Forest Fortress",4]
[null,"Forest Fury",4]
[null,"Forest of force",4]
[null,"ForestBattle",4]
[null,"forestgump",4]
[null,"Forever into Centuries",4]
[null,"Forgotten Realm",4]
[null,"forgottentwilightcountry3",4]
[null,"ForrestWars",4]
[null,"Fortified Canyon",4]
[null,"Fortress",4]
[null,"Fortress Avalanche",4]
[null,"Fortress Avalanche (of.)",4]
[null,"Fortress Guardian",4]
[null,"Fortress Wall",4]
[null,"Forward Operations Base for ZH",4]
[null,"Four Corners",4]
[null,"FOUR_ISLANDS",4]
[null,"FourPlay",4]
[null,"Free Fire Zone (of.)",4]
[null,"freelan",4]
[null,"Freeway for all",4]
[null,"Freon City",4]
[null,"Frightened City",4]
[null,"Frigid Night",4]
[null,"Frontline Conflicts",4]
[null,"frost valley",4]
[null,"Frostland Arena",4]
[null,"Frozen",4]
[null,"Frozen Betty",4]
[null,"Frozen Falls",4]
[null,"Frozen Fire",4]
[null,"Frozen Mountain",4]
[null,"Frozen Tundra",4]
[null,"FroZen-Desert",4]
[null,"frozenvalley",4]
[null,"Gate Keeper",4]
[null,"Gazala",4]
[null,"Generals beyond the Bridges",4]
[null,"Generals Dreamland",4]
[null,"Generals Tundra Training",4]
[null,"Genome D-Day",4]
[null,"Genome River Strike",4]
[null,"Genome Sunken Ruins",4]
[null,"Genome's Base War",4]
[null,"Germany",4]
[null,"Ghost Society",4]
[null,"GLA Oilfield",4]
[null,"Glacial Assault",4]
[null,"Gnawing Sands of Time",4]
[null,"godhatesusall",4]
[null,"godlands",4]
[null,"goldcoast",4]
[null,"Golden Hill Version 2",4]
[null,"Golden Oasis (of.)",4]
[null,"Golden Sands",4]
[null,"Good Morning Mosul",4]
[null,"Good Old USA",4]
[null,"Grad",4]
[null,"Grand Canyon",4]
[null,"Grand Canyon Battle ",4]
[null,"Gravel Maze",4]
[null,"Great Walls",4]
[null,"greececonvention",4]
[null,"Green >Cross",4]
[null,"Green Acres",4]
[null,"Green Greens",4]
[null,"Green Island",4]
[null,"Green Mountains",4]
[null,"Green Pastures (of.)",4]
[null,"Green Province",4]
[null,"greenday 2.0",4]
[null,"Greenland",4]
[null,"Greenland",4]
[null,"Greenmoon",4]
[null,"GreenMountainPass2",4]
[null,"Grenzübergang",4]
[null,"Grenzübergang",4]
[null,"Guadalquidir",4]
[null,"HadithaVillageBattle",4]
[null,"hammerandsickle",4]
[null,"hamond $$$$$$$",4]
[null,"happy sun valley",4]
[null,"harbozarb",4]
[null,"hatewithin",4]
[null,"Head-Russian",4]
[null,"Heartland",4]
[null,"Heat of the Night",4]
[null,"Heavy Bunkers",4]
[null,"Heavy War",4]
[null,"heiligerkrieg",4]
[null,"Helasious Battle Hill",4]
[null,"hellholewinter",4]
[null,"Hells Ferry Naval",4]
[null,"hero hour",4]
[null,"Hidden Island",4]
[null,"HiddenEasterEgg",4]
[null,"High an d Dry",4]
[null,"High Land",4]
[null,"High Octane",4]
[null,"High Plains",4]
[null,"High Stakes Lake",4]
[null,"highground",4]
[null,"highheathavoc",4]
[null,"Highland Arena",4]
[null,"Highland Islands",4]
[null,"Highway to Hell",4]
[null,"Hill Conquest",4]
[null,"Hill Fight",4]
[null,"Hillfight",4]
[null,"Hilltop",4]
[null,"HITMANsBadlands2",4]
[null,"Hold the Hill",4]
[null,"Hold the Hill",4]
[null,"hold the line 2004",4]
[null,"Holiday Backstab",4]
[null,"Holy Land",4]
[null,"Home on the Range",4]
[null,"Homeland Alliance (of.)",4]
[null,"Homeland Assault",4]
[null,"Homeland Base",4]
[null,"Homeland Combat",4]
[null,"homelandalliance",4]
[null,"homelandflame",4]
[null,"Home-of-Nuke",4]
[null,"Honulai Isle",4]
[null,"hopeless",4]
[null,"Horny Bttle",4]
[null,"hostile dawn",4]
[null,"Hostile Dawn",4]
[null,"Hostile Dawn (of.)",4]
[null,"Hot Snow",4]
[null,"Hot Winter",4]
[null,"House Wars",4]
[null,"Hovercraft_Free4All",4]
[null,"Hovercraft_Free4All_Mound",4]
[null,"Hunted Valley",4]
[null,"Hunters",4]
[null,"Ice Age",4]
[null,"Ice by Day",4]
[null,"ice canyon",4]
[null,"Idilic Island II",4]
[null,"Im Zentrum der Macht",4]
[null,"impact Island",4]
[null,"Impressions",4]
[null,"In the Darkness of the Killing Fields",4]
[null,"in the waste",4]
[null,"independence Day Special",4]
[null,"indiewueste",4]
[null,"indigo",4]
[null,"Industiral Arena ZH",4]
[null,"industiral revolution",4]
[null,"Industrial Arena ZH",4]
[null,"Industrial City",4]
[null,"Infantry Battle",4]
[null,"Infantry Fighting Arena",4]
[null,"infantry warz v3",4]
[null,"infantry_strike II",4]
[null,"Inferno Island",4]
[null,"infiltration",4]
[null,"Infinite Justice",4]
[null,"infrantrywarbattleground",4]
[null,"ingodsname",4]
[null,"insel",4]
[null,"inTheQuarry",4]
[null,"inthezone",4]
[null,"Invisible Boundaries",4]
[null,"iowa",4]
[null,"Iraq",4]
[null,"iraqhistan",4]
[null,"iraqoasis",4]
[null,"Ireland Meadows",4]
[null,"Iron Cross",4]
[null,"Iron Dragon",4]
[null,"Iron Dragon (of.)",4]
[null,"Isalnd Riches",4]
[null,"Isla de la Muerte",4]
[null,"Island Arena",4]
[null,"island assault",4]
[null,"Island battle",4]
[null,"Island Crossing",4]
[null,"Island Defence",4]
[null,"Island Fortress",4]
[null,"Island Fury",4]
[null,"Island Hoppers",4]
[null,"island hopping",4]
[null,"island hopping v2",4]
[null,"Island of Armees",4]
[null,"Island X",4]
[null,"Island X",4]
[null,"Island X",4]
[null,"island_2",4]
[null,"islandmaze",4]
[null,"islandnameddesire",4]
[null,"islandofniihau",4]
[null,"Islands of War",4]
[null,"Isle of the Dragon",4]
[null,"It is snowing",4]
[null,"it looks like rain",4]
[null,"Jungle Discover",4]
[null,"jungleisland",4]
[null,"JustFight",4]
[null,"Kampf am Fluss",4]
[null,"Kampf der Titanen",4]
[null,"Kandahar Battle",4]
[null,"Kill Crush and Destroy",4]
[null,"Kill Zone",4]
[null,"king of the pond",4]
[null,"kingofthemountain",4]
[null,"Klimawandel",4]
[null,"Knife Fight",4]
[null,"knife_fight 8",4]
[null,"Korea DMZ Final",4]
[null,"KSA",4]
[null,"Kuram Dam",4]
[null,"Kuwait Conflict",4]
[null,"Kuwait Craters",4]
[null,"Kyber Pass",4]
[null,"La Molina",4]
[null,"Laberynthe",4]
[null,"Lake side destruction",4]
[null,"Lake Tahoe Conflict",4]
[null,"Lakeshore Battle",4]
[null,"Lakeside Basin",4]
[null,"Land and Sea",4]
[null,"Land-Luft-Wasser",4]
[null,"landofthelost",4]
[null,"Landscape",4]
[null,"landslide",4]
[null,"largecountryside",4]
[null,"Last Stand",4]
[null,"La-Vallie",4]
[null,"level 15",4]
[null,"levelheaded",4]
[null,"Lights Out (of.)",4]
[null,"LineUp",4]
[null,"Lion City",4]
[null,"Lions DEN",4]
[null,"Lions Foot",4]
[null,"Little Big Lake",4]
[null,"Little Town",4]
[null,"littleriver",4]
[null,"LIVE AND LET DIE",4]
[null,"Lone Eagle",4]
[null,"Lone Eagle (of.)",4]
[null,"Lone Eagle 2",4]
[null,"Lonely Hills",4]
[null,"Lonely Mountain",4]
[null,"Long Island",4]
[null,"Long Island Nuclear Winter",4]
[null,"Long Reef",4]
[null,"long river v3",4]
[null,"Long Story Short",4]
[null,"Long Way Home",4]
[null,"Longtown v121",4]
[null,"Lord of the Hill",4]
[null,"Lost Highway",4]
[null,"LostLakeAOW",4]
[null,"lotus training ground V3",4]
[null,"Lunar Eclipse",4]
[null,"Maddog's Revenge",4]
[null,"Maguso ZH",4]
[null,"maidanejang",4]
[null,"Malibu Cliffs",4]
[null,"Manic Aggression (of.)",4]
[null,"map aku5",4]
[null,"map aku8",4]
[null,"Market Town",4]
[null,"Marooned",4]
[null,"Mars Invasion",4]
[null,"Martian Marauders",4]
[null,"massacre",4]
[null,"Master of Puppets",4]
[null,"Math",4]
[null,"Max Team War",4]
[null,"Maze of War",4]
[null,"maze_to_death",4]
[null,"maze_to_death",4]
[null,"mediterraineanmelee",4]
[null,"meetingatthebridge",4]
[null,"Mesa River",4]
[null,"Middle River",4]
[null,"Midnight Ambush",4]
[null,"Midnight Ice",4]
[null,"Midnight on cemetry",4]
[null,"Midwater",4]
[null,"Migration",4]
[null,"Miliatary Zone",4]
[null,"Military Bases",4]
[null,"mission on mars",4]
[null,"mission on mars 2",4]
[null,"Mission Team",4]
[null,"missionteam",4]
[null,"Mogadishu Twilight",4]
[null,"mogadishumayhem",4]
[null,"Molina Grande",4]
[null,"moneycrazy",4]
[null,"moneydesert",4]
[null,"moneyremake",4]
[null,"Montain Raiders",4]
[null,"Moon Shine",4]
[null,"Mounds",4]
[null,"Mount Kaefernest",4]
[null,"Mount Olympus",4]
[null,"Mountain _Artillery",4]
[null,"Mountain Aggression",4]
[null,"Mountain Falls",4]
[null,"Mountain Fortress",4]
[null,"Mountain Fox (of.)",4]
[null,"Mountain Lake Battle",4]
[null,"Mountain Mayhem",4]
[null,"Mountain of Nukes",4]
[null,"Mountain Pass",4]
[null,"Mountain passes",4]
[null,"Mountain Plains",4]
[null,"Mountain Range",4]
[null,"Mountain Roads",4]
[null,"Mountain Summit",4]
[null,"Mountain Warfare",4]
[null,"Mountain_Artillery",4]
[null,"Mountain_Battle",4]
[null,"mountainpass",4]
[null,"Moutain Path",4]
[null,"Mrintelpentiums homezone",4]
[null,"muchcash",4]
[null,"Muff map",4]
[null,"Mystic Island",4]
[null,"Natural Tower",4]
[null,"Natural War Zone",4]
[null,"Naval Base AirWar",4]
[null,"Naval Bombardement Batlle",4]
[null,"Neo Village",4]
[null,"New Reno",4]
[null,"Night Shift",4]
[null,"nightmare",4]
[null,"Nighttime insurrection",4]
[null,"No Mans Land",4]
[null,"No Surrender",4]
[null,"no way out",4]
[null,"No Way Out! V2",4]
[null,"nomads",4]
[null,"nomansland",4]
[null,"NoMansLand5",4]
[null,"Nordamerika",4]
[null,"North Korea",4]
[null,"northern atlantic",4]
[null,"NSA_Scenario",4]
[null,"Nuclear Base ZH",4]
[null,"Nuclear Convoy",4]
[null,"Nuclear Desert",4]
[null,"nuclear war",4]
[null,"Nuke Island",4]
[null,"nukez & war",4]
[null,"nuts",4]
[null,"Oasis",4]
[null,"Oasis aride",4]
[null,"Oasis City",4]
[null,"Oasis of Nomads",4]
[null,"Ocean Shores",4]
[null,"Offence Deffence",4]
[null,"Offshore Oil Fights",4]
[null,"Oil Crisis",4]
[null,"Oil_Field_Battle",4]
[null,"OilTrain6Ex2",4]
[null,"Old times return",4]
[null,"On the Edge of Panic",4]
[null,"operartiondesertstorm",4]
[null,"Operation Desert Combat",4]
[null,"Operation Desert Eagle",4]
[null,"Operation Phalanx",4]
[null,"Operation Sleepy Weasel",4]
[null,"operationmixup",4]
[null,"operationtownsville",4]
[null,"Optimium online",4]
[null,"OS_Canyon",4]
[null,"Outpost of Hell",4]
[null,"Outpost of Hell",4]
[null,"Outpost[ZH]",4]
[null,"Overland Offensive (of.)",4]
[null,"overunder",4]
[null,"Pacific Control",4]
[null,"Pacific Island",4]
[null,"Pacific Tension",4]
[null,"Pagong",4]
[null,"Palm Springs",4]
[null,"Palm_Paradise",4]
[null,"Panzer Claw",4]
[null,"Paradies of Nature 2",4]
[null,"Paradise Lost",4]
[null,"Paratrooper Paradise",4]
[null,"Particulate Matter",4]
[null,"patchwork mesa",4]
[null,"Peaceful Neighborhood",4]
[null,"Pearl Harbor",4]
[null,"Perimeter Patrol",4]
[null,"Petra Flash Floods",4]
[null,"Pile of Crap",4]
[null,"Pit of Death",4]
[null,"Pitfall",4]
[null,"Planet Kerwan",4]
[null,"Plateau Battle",4]
[null,"PlateauofDread",4]
[null,"Play for Brutals",4]
[null,"plus",4]
[null,"Polargebiet",4]
[null,"Pompei",4]
[null,"Power Plant",4]
[null,"Power Point",4]
[null,"poweraroundthetemple",4]
[null,"Practice Map",4]
[null,"Premptive Strike",4]
[null,"Pripiat",4]
[null,"Promised-Land",4]
[null,"Protected City",4]
[null,"Psycho swiss alps",4]
[null,"Psychrophobia",4]
[null,"purgatory",4]
[null,"Q8",4]
[null,"Qayyarah Airport",4]
[null,"Quad City",4]
[null,"Quyyarah Airport",4]
[null,"RA Classic",4]
[null,"Race for Erbil",4]
[null,"Racing Park",4]
[null,"Raging Darkness",4]
[null,"Raiders of the lost Acropolis",4]
[null,"Rail Rush",4]
[null,"Railroad Frenzy multiplayer",4]
[null,"Railway River",4]
[null,"RainforestMinefield",4]
[null,"Rainy Day",4]
[null,"Ramps&Bridges Battle",4]
[null,"Randomosity Mark II",4]
[null,"RANK Aftermath",4]
[null,"RANK Burning Deadline",4]
[null,"RANK Bursting Asunder",4]
[null,"RANK Christmas ZH",4]
[null,"RANK Coastline Wold",4]
[null,"RANK Combat Encounter",4]
[null,"RANK Conflict Zone",4]
[null,"RANK Coral Islands",4]
[null,"RANK Defcon Balanced",4]
[null,"RANK Desert Comabt",4]
[null,"RANK Drowning Horses",4]
[null,"RANK Dusty Rampage",4]
[null,"RANK Fall Out ZH",4]
[null,"RANK FE No Bug",4]
[null,"RANK Final Departure",6]
[null,"RANK Ghostly Rocks",6]
[null,"RANK Hidden Pearls",6]
[null,"RANK Icy Frontier",6]
[null,"RANK Lion Heart",6]
[null,"RANK Lost Temple",6]
[null,"RANK Maguso",6]
[null,"RANK Make Make 4",6]
[null,"RANK Middle Fight",6]
[null,"RANK Mountain Path",6]
[null,"RANK Naval Port Reyes",6]
[null,"RANK NoWall",6]
[null,"RANK Philippine Highlands",6]
[null,"RANK Rubies and Pearls",6]
[null,"RANK Subjugation",6]
[null,"RANK Target Tournament",6]
[null,"RANK Territorial Dispute",6]
[null,"RANK Tournament A",6]
[null,"RANK Toxic",6]
[null,"RANK Twister Land",6]
[null,"RANK Unity",6]
[null,"RANK Volcanoe",6]
[null,"RANK Whispering Woods",6]
[null,"Red Cross SE",6]
[null,"Red Lights",6]
[null,"Red Rock (of.)",6]
[null,"RedSnows",6]
[null,"Refined Cliffs",6]
[null,"remake of i^love^aod map",6]
[null,"Restricted Area",6]
[null,"Reveil matinal",6]
[null,"Revenge of the Grunts",6]
[null,"Revoluflymachine",6]
[null,"Rhino Island",6]
[null,"Riches to Rags",6]
[null,"Rickenbacker1",6]
[null,"Rising Sun",6]
[null,"River Canyon",6]
[null,"River Crossing",6]
[null,"River Crossing XL",6]
[null,"River of death",6]
[null,"River of peace",6]
[null,"River Raid ZH",6]
[null,"River Run",6]
[null,"River Showdown",6]
[null,"River Valley Showdown",6]
[null,"River_Divided",6]
[null,"Riverblade",6]
[null,"rivermastah",6]
[null,"RiverRumble",6]
[null,"Rivers of Death",6]
[null,"RiversideBrawl",6]
[null,"Road Traverse Remake",6]
[null,"roadtodestruction",6]
[null,"Rock-Bottom",6]
[null,"RocketScience",6]
[null,"Rocky Dispute",6]
[null,"Rocky Rampage (of.)",6]
[null,"rockyisland",6]
[null,"RogerAI",6]
[null,"RogerSun",6]
[null,"RogerUltra",6]
[null,"Rogue Agent (of.)",6]
[null,"Rolling Thunder",6]
[null,"RR Crossing",6]
[null,"Ruby Plateaus",6]
[null,"Run in the Middle",6]
[null,"Rush Hour",6]
[null,"Russian Roulette",6]
[null,"Sadams Secret Citadels",6]
[null,"sahara strike",6]
[null,"Sand Kings V2",6]
[null,"Sand Storm",6]
[null,"Sand Tiger",6]
[null,"sandconflict",6]
[null,"Sands of Slaghter",6]
[null,"Sandy Punishment",6]
[null,"Sapphire Streams",6]
[null,"SARS Attacks",6]
[null,"Saudi Troubles",6]
[null,"save da villages",6]
[null,"Savo Island",6]
[null,"Scarcity",6]
[null,"Scattered Rocks",6]
[null,"Schneegestoeber",6]
[null,"Scorched Wilderness",6]
[null,"scudtournament",6]
[null,"seasons",6]
[null,"Secret Army Battle",6]
[null,"Secret Island 2004",6]
[null,"Sedona Pass",6]
[null,"Sedona Pass ZH",6]
[null,"SelfControl",6]
[null,"Severe Winter",6]
[null,"Sewajee Hill",6]
[null,"Shallow grave",6]
[null,"shamentournament2",6]
[null,"Shangri-la",6]
[null,"Shaoyang",6]
[null,"Shared Bases",6]
[null,"Shipwreck Island",6]
[null,"Siberia",6]
[null,"siberia wasteland",6]
[null,"Siberian Ice Caps",6]
[null,"Siberian Thunder",6]
[null,"Siberian Winter",6]
[null,"Sidewinder",6]
[null,"Silent Storm",6]
[null,"silentvalley",6]
[null,"Sin City",6]
[null,"Sin City InfWar",6]
[null,"Sin Piel",6]
[null,"Six Iron Dragons",6]
[null,"Six Stars Deluxe 2004",6]
[null,"Six_Bridge Deluxe",6]
[null,"sixfeetunder",6]
[null,"SixPack Fight",6]
[null,"Six-part race",6]
[null,"SK_CWC_Battle For Baghdad",6]
[null,"SK_CWC_Reconstruck",6]
[null,"SK_CWC_Snowbattle",6]
[null,"SK_CWC_Twilight Flame",6]
[null,"Skint",6]
[null,"Slaughter Pen",6]
[null,"Smallville",6]
[null,"Sniper's Delight",6]
[null,"Sniper's Pass",6]
[null,"Snow Bound",6]
[null,"snow canyon",6]
[null,"Snow Corners",6]
[null,"Snow Defense",6]
[null,"Snow Giants",6]
[null,"Snow Lion",6]
[null,"Snow Night",6]
[null,"Snow Warfront",6]
[null,"Snow Wars",6]
[null,"SnowHeaven",6]
[null,"Snowland",6]
[null,"snowmountainpass",6]
[null,"Snowy Combat",6]
[null,"Snowy Island",6]
[null,"Snowy Lands",6]
[null,"Snowy Twilight Flame",6]
[null,"Something To Fight For",6]
[null,"somewhereinchina",6]
[null,"Sonic Warfare",6]
[null,"southeastasia",6]
[null,"soviet wasteland",6]
[null,"Spearhead",6]
[null,"Special Ops",6]
[null,"SpiderLand",6]
[null,"Spire",6]
[null,"Spotlight",6]
[null,"Spring War",6]
[null,"Squared",6]
[null,"Stalemate",6]
[null,"StarBase",6]
[null,"stormdesert",6]
[null,"strategem",6]
[null,"Strategiquement",6]
[null,"Stream",6]
[null,"Streets of Gold",6]
[null,"Strongholds",6]
[null,"Stuck in the middle",6]
[null,"Suicide Canal",6]
[null,"Summer Dreams 2004",6]
[null,"Summer Dreams 2004 Extended",6]
[null,"Summer Dreams 2005",6]
[null,"Sumpfloch",6]
[null,"Sundown",6]
[null,"SunFusion",6]
[null,"Sunrise Showdown",6]
[null,"Sunset Beach",6]
[null,"Super_Supplxy",6]
[null,"Supply Mountain Battle",6]
[null,"Supplys Aren't Forever",6]
[null,"Surplus Securities",6]
[null,"survival of the bunker kings",6]
[null,"Swamp Matrix",6]
[null,"Swiss Alps",6]
[null,"Swiss Mountainside",6]
[null,"T@g",6]
[null,"Tactical Nightmare",6]
[null,"Tactical Play Ground",6]
[null,"tactical_ground_rrgesign",6]
[null,"Tag-Battle",6]
[null,"Tango in Harlem",6]
[null,"Tank Wars",6]
[null,"Tank_only_Valley",6]
[null,"TD Classic",6]
[null,"Team Conquest",6]
[null,"Team Plateaus",6]
[null,"Team Tournament",6]
[null,"Team Turtle",6]
[null,"Teheran Outskirts",6]
[null,"tempestade tropical",6]
[null,"Temptation Island",6]
[null,"Terra Incognita",6]
[null,"terrace",6]
[null,"terrahill",6]
[null,"terrainadaption",6]
[null,"territorialimperative",6]
[null,"Terrorain",6]
[null,"Terrorlake",6]
[null,"Texas by DesertSnake",6]
[null,"Texas Tea ZH",6]
[null,"TGL - Death Bridge",6]
[null,"tgl - death bridge 2",6]
[null,"Thar She Blows",6]
[null,"The 4 Kings",6]
[null,"The Alpine Border",6]
[null,"The Battle Fortress",6]
[null,"The Bay",6]
[null,"The Beach",6]
[null,"The Blue Death War",6]
[null,"The Bridge in the  Mitddle",6]
[null,"the chasm II",6]
[null,"The Conflict City",6]
[null,"The Crimson Winter",6]
[null,"the crossroads",6]
[null,"The Delta System",6]
[null,"The Ditch M",6]
[null,"The Ditch XL",6]
[null,"The dried up Tiberium pits",6]
[null,"The Fallen Empire",6]
[null,"The Final 6",6]
[null,"The Flats",6]
[null,"The Forgotten Castle",6]
[null,"The Fortified Island",6]
[null,"the fortress 2",6]
[null,"The Four Islands",6]
[null,"The Grand Theme of Things",6]
[null,"The Green Battle",6]
[null,"The High Field",6]
[null,"The High Life",6]
[null,"The High Pass Vanilla",6]
[null,"The Hill Town",6]
[null,"The Hub",6]
[null,"The Islands",6]
[null,"The Key to Victory is Teamwork",6]
[null,"The Krakatoa Volcano",6]
[null,"The Last Castle",6]
[null,"The last Siege",6]
[null,"The Maze of Death",6]
[null,"The Middle",6]
[null,"The Morning Freeway Frack",6]
[null,"The Night of the Dead",6]
[null,"The Octogon V2",6]
[null,"The Pit - T",6]
[null,"The Plateau",6]
[null,"The Ring of Fire",6]
[null,"The Sands of Time",6]
[null,"The Seasons First Snow",6]
[null,"The Silent Cartographer",6]
[null,"The Sky is falling",6]
[null,"The Stomping Grounds",6]
[null,"The Third Right",6]
[null,"The Valley of Kings",6]
[null,"The Valley of the Kings",6]
[null,"The Village",6]
[null,"The Wrath of Neptune",6]
[null,"The Zionist Agenda",6]
[null,"theatreofwar",6]
[null,"TheClanWar",6]
[null,"The-Crossing-River",6]
[null,"thedeltabridge",6]
[null,"theforgottencastle",6]
[null,"theislands",6]
[null,"thelastresort",6]
[null,"thelogestyard10k",6]
[null,"thelongestyard20k",6]
[null,"thesilenceofthesky",6]
[null,"thesnowman",6]
[null,"thetownofmosul",6]
[null,"Thin Red Line",6]
[null,"Three Islands",6]
[null,"Three Islands",6]
[null,"Thunder City",6]
[null,"Thunder Maze",6]
[null,"Thundering Trains",6]
[null,"Tides of War",6]
[null,"tigermountain",6]
[null,"Tikrit Showdown",6]
[null,"timberline",6]
[null,"TimberWolf",6]
[null,"time2bcool",6]
[null,"Titus City Bio",6]
[null,"Tobruk",6]
[null,"TOFTF Frozen Valley",6]
[null,"TopSecret2",6]
[null,"Tortured Waters",6]
[null,"Torunament Crossing",6]
[null,"Torunament Mountain",6]
[null,"Torunament Mountain Islands",6]
[null,"Torunament Mountains",6]
[null,"Torunament Tundra (of.)",6]
[null,"Torunament Urban (of.)",6]
[null,"Toscana",6]
[null,"TOTF Night Watch",6]
[null,"tothemountains",6]
[null,"Tour of Egypt",6]
[null,"Tour of Solid",6]
[null,"Tournament A (of.)",6]
[null,"Tournament arena",6]
[null,"Tournament Artillary",6]
[null,"Tournament B (of.)",6]
[null,"Tournament City (of.)",6]
[null,"Tournament City!",6]
[null,"Tournament Continent (of.)",6]
[null,"Tournament Desert",6]
[null,"Tournament Graveyard",6]
[null,"Tournament Graveyard ZH v2",6]
[null,"Tournament Island (of.)",6]
[null,"Tournament Island 2",6]
[null,"Tournament Island 2k",6]
[null,"Tournament Lake (of.)",6]
[null,"Tournament Map F",6]
[null,"Tournament Oasis",6]
[null,"Tournament River Revisited",6]
[null,"Tournament Snowy Railroad",6]
[null,"tournament tundra",6]
[null,"Tournament Valley 2",6]
[null,"tournament village",6]
[null,"Tournament Wilderness",6]
[null,"Tower Troubles Zero Hour",6]
[null,"Town and Country",6]
[null,"Town n Country",6]
[null,"TownvTown01",6]
[null,"Toxic ",6]
[null,"toxic assualt",6]
[null,"Toxic Battle",6]
[null,"Toxic Nightmare",6]
[null,"Toxicity",6]
[null,"Toxicity (7)",6]
[null,"Track Race",6]
[null,"Train Town",6]
[null,"Trains Drains and Valve Stations",6]
[null,"Transition",6]
[null,"Transition ZH v2",6]
[null,"transmountain",6]
[null,"transylvania",6]
[null,"Treasure Mountain",6]
[null,"Treats",6]
[null,"Treisure Island",6]
[null,"Trenches",6]
[null,"Tresure Island",6]
[null,"triplex",6]
[null,"tropic arena",6]
[null,"tropic island storm",6]
[null,"Tropical Desert",6]
[null,"Tropical Flame",6]
[null,"Tropical Fortress",6]
[null,"Tropical Thunder Storm",4]
[null,"Tropical Tournament",6]
[null,"Tropical Trance",6]
[null,"Tropical Warfare",6]
[null,"Tropical Warriors",6]
[null,"TropicalDesert",6]
[null,"Tropico",6]
[null,"Tropico 2",6]
[null,"Truppen Trainingslager",6]
[null,"Truth from Defiance",6]
[null,"Tundra Thunder",6]
[null,"Twilight Fire 2",6]
[null,"Twilight Flame (of.)",6]
[null,"twilight flame 2",6]
[null,"twilight game",6]
[null,"Twilight Sunset",6]
[null,"twilightflame 3 morningdawn",6]
[null,"Two Bridges",6]
[null,"Two Sides And Just A Bit Toxic",6]
[null,"Two Sides Foru Forces",6]
[null,"ultimate-survival remake the eal E-3",6]
[null,"Uneven Ground Final",6]
[null,"Unity A ZH",6]
[null,"Unity B ZH",6]
[null,"Unity B ZH v2",6]
[null,"unlake",6]
[null,"Unreachable Heights",6]
[null,"Unreal Terrorment",6]
[null,"Untamed Lands",6]
[null,"Unwanted Exposer",6]
[null,"Up Hill Battle",6]
[null,"Urantian Conflict",6]
[null,"Urban Battle",6]
[null,"Urban Crush",6]
[null,"Urban Dread",6]
[null,"Urban Gauntlet",6]
[null,"Urban Invasion",6]
[null,"Urban Plateau",6]
[null,"Urban Rush",6]
[null,"Urban Savanna",6]
[null,"Urban Sunset",6]
[null,"Urban Uproar",6]
[null,"Urban Warfare",6]
[null,"Urban Warfare Training",6]
[null,"urbancontainment",6]
[null,"urbandread",6]
[null,"USA01_MP_VERSION",6]
[null,"Utah War",6]
[null,"Utter Carnage",6]
[null,"Valley of Fortune",6]
[null,"valley of terror",6]
[null,"valley of war",6]
[null,"Valley Wars",6]
[null,"valleyofdeath",6]
[null,"Vally of Death Day",6]
[null,"VANTAGE POINT2",6]
[null,"VenturousLanes",6]
[null,"Vicks Desert Camp",6]
[null,"Victory Valley",6]
[null,"Victory Valley (of.)",6]
[null,"victoryofthemountains",6]
[null,"Village Desolation",6]
[null,"violent tundra",6]
[null,"Volcano",6]
[null,"volcano 7",6]
[null,"Volcano Battleground",6]
[null,"Volcano Island",6]
[null,"Volcanoe ZH",6]
[null,"volcanoring",6]
[null,"wall_of_china",6]
[null,"Walled City",6]
[null,"Walls of Water and Blood",6]
[null,"War at oil Hill",6]
[null,"War Camp",6]
[null,"War in Q8",6]
[null,"War in the Dawn",6]
[null,"War in the Grass Land",6]
[null,"War in the Middle Desert",6]
[null,"War in the Snow Land",6]
[null,"War Island Final",6]
[null,"war killz tankwarz v1",6]
[null,"war of the hills",6]
[null,"War of the pits",6]
[null,"war titus cats",6]
[null,"War Zone",6]
[null,"war_of_the_islands",6]
[null,"War-in Paradise",6]
[null,"WarinTienShan",6]
[null,"Warpaths",6]
[null,"Warriors of the World",4]
[null,"War-Torn Country",6]
[null,"Wastegrounds",6]
[null,"Water Forest",6]
[null,"WATER HAND MAP TEXTURED!!!!",6]
[null,"Water Logged",6]
[null,"Water World 2",6]
[null,"Waterfall Oasis",6]
[null,"Waterfront Property",6]
[null,"Waterwheel",6]
[null,"Waterworld",6]
[null,"weltkrieg",6]
[null,"Westwood Arena",6]
[null,"Wheel of death",6]
[null,"whenendsnevermeet",6]
[null,"White Landscape",6]
[null,"Whiteout (of.)",6]
[null,"wierd ",6]
[null,"WildDarkness",6]
[null,"Wilderness Valley",6]
[null,"wildernessvalley",6]
[null,"Winter Battle Land",6]
[null,"Winter Crossfire",6]
[null,"Winter Getaway",6]
[null,"Winter Meadows",6]
[null,"Winter Ridge",6]
[null,"Winter SlugFest",6]
[null,"Winter Valley Final",6]
[null,"winterharvest",6]
[null,"wintervalley",6]
[null,"winterwars",6]
[null,"Woodland Border",6]
[null,"Woodland Siege",6]
[null,"wrapped_in_mystery",6]
[null,"X Factor",6]
[null,"x2f01",6]
[null,"Xfire",6]
[null,"X-For Ponds",6]
[null,"X-Force",6]
[null,"Xiamen Assault",6]
[null,"xmarksthespot",6]
[null,"Xtreme Cold",6]
[null,"X-Valley Showdown",6]
[null,"Year 3500_rebuild",6]
[null,"yellowfever",6]
[null,"Yellowstone Eruption",6]
[null,"Yorkton",6]
[null,"Yucatan",6]
[null,"Zero Degrees",6]
[null,"Zero Hour Fortress Battle",6]
[null,"ZHSHOWDOWN4",6]
[null,"3 letter names required",6]
[null,"Allstars v3",6]
[null,"Ancient Keep Bal",6]
[null,"Archaic Meltdown",6]
[null,"At Doom's Gate",6]
[null,"Aztec Empire",6]
[null,"Battle for Reach",6]
[null,"Beijing Uprise",6]
[null,"Back Hell",6]
[null,"Chunk Island",6]
[null,"City under Fire",6]
[null,"Coastal Shock",6]
[null,"Conflict in the Mediterranean",6]
[null,"Coral Islands",6]

{"sheet":"Kartenauswahl Yuri","index":24,"n_rows":9,"n_cols":8,"rows_kept":9,"cut":false,"hidden":false,"merged":[]}
["Kartenliste und Auswahl",null,null,null,null,"Kartenauswahl"]
[null,"Karte"]
["Auswahl Yuri"]
[1,"Battle",null,null,{"$f":"+_xlfn.SORTBY(_xlfn.SEQUENCE(COUNTIF(B4:B7,\"*\")),_xlfn.RANDARRAY(COUNTIF(B4:B7,\"*\")))","v":2}]
[2,"Battle",null,null,1,null,null,"Nächste Karte (STRG-N)"]
[3,"Standard",null,null,3]
[4,"Standard",null,null,4]
[]
[null,null,null,null,null,null,null,{"$f":"+\"Zufallskarte aus: \"&VLOOKUP(E4,$A$4:$B$1004,2)","v":"Zufallskarte aus: Battle"}]

{"sheet":"Kartenauswahl AoE II","index":25,"n_rows":1262,"n_cols":8,"rows_kept":1262,"cut":false,"hidden":false,"merged":[]}
["Kartenliste und Auswahl",null,null,null,null,"Kartenauswahl"]
[null,"Karte"]
["AoE II",null,null,null,{"$f":"+_xlfn.SORTBY(_xlfn.SEQUENCE(COUNTIF(B4:B1262,\"*\")),_xlfn.RANDARRAY(COUNTIF(B4:B1262,\"*\")))","v":1063}]
[1,"' RA ' Parallel Worlds Wet",null,null,292]
[2,"' RA ' Parallel Worlds",null,null,795,null,null,"Nächste Karte (STRG-T)"]
[3,"Accessable_Oasis_v5",null,null,865]
[4,"Accessible Forest - Wet version",null,null,122]
[5,"Accessible Forest",null,null,918]
[6,"Adriatic",null,null,995,null,null,{"$f":"+VLOOKUP(E3,$A$4:$B$1262,2)","v":"Z-ES@Prairie_v2"}]
[7,"Aegean_Islands",null,null,153,null,null,","]
[8,"AE_Double_Arabia",null,null,440]
[9,"AE_Two_Rivers_v1.1",null,null,107]
[10,"Amazon Tunel fixed",null,null,938]
[11,"Amazon Tunel Grass only midle",null,null,608]
[12,"Amazonas_v5",null,null,88]
[13,"Anatolia_v4",null,null,648]
[14,"AnniversaryPack(DF)_v2.1",null,null,323]
[15,"AnniversaryPack(MR)_v2.1",null,null,780]
[16,"AOC_Islands",null,null,855]
[17,"AoFE_Acropolis",null,null,1103]
[18,"AoFE_Budapest",null,null,1119]
[19,"AoFE_Cenotes",null,null,866]
[20,"AoFE_Golden Pit",null,null,1135]
[21,"AoFE_Hideout",null,null,367]
[22,"AoFE_Hill Fort",null,null,777]
[23,"AoFE_Lombardia",null,null,430]
[24,"AoFE_Steppe",null,null,264]
[25,"AoFE_Team Arena",null,null,442]
[26,"AoFE_Valley",null,null,653]
[27,"AP-Acropolis",null,null,309]
[28,"AP-Agricultural",null,null,553]
[29,"AP-Ancient Lake",null,null,489]
[30,"AP-Arzachel",null,null,962]
[31,"AP-Autumnalae",null,null,354]
[32,"AP-Baltic",null,null,1205]
[33,"AP-Bedouins",null,null,820]
[34,"AP-Big Blue",null,null,606]
[35,"AP-BoardsofCanada",null,null,953]
[36,"AP-Caribbean",null,null,18]
[37,"AP-Continental",null,null,1220]
[38,"AP-Dam",null,null,1014]
[39,"AP-Devastation",null,null,353]
[40,"AP-Dry Arabia",null,null,234]
[41,"AP-Easter Island",null,null,821]
[42,"AP-Ensnared",null,null,1019]
[43,"AP-Flood",null,null,36]
[44,"AP-Fort",null,null,585]
[45,"AP-Frosty Islands",null,null,671]
[46,"AP-Geometric Piss",null,null,1108]
[47,"AP-Ghost Forest",null,null,641]
[48,"AP-Glacier",null,null,11]
[49,"AP-Hideout",null,null,308]
[50,"AP-Hill Nomad",null,null,2]
[51,"AP-Hyperborea",null,null,133]
[52,"AP-Infrequent",null,null,1242]
[53,"AP-Islands",null,null,1069]
[54,"AP-Land_Nomad",null,null,1210]
[55,"AP-Lock Washer",null,null,1072]
[56,"AP-Maze",null,null,176]
[57,"AP-MegaRandom",null,null,34]
[58,"AP-Melting Ice",null,null,327]
[59,"AP-Microphone",null,null,203]
[60,"AP-Mixture",null,null,1060]
[61,"AP-Nomad",null,null,325]
[62,"AP-Oirectine",null,null,1169]
[63,"AP-Quicksand",null,null,128]
[64,"AP-Raft",null,null,547]
[65,"AP-Relic Ponds",null,null,1046]
[66,"AP-Road to Victory",null,null,8]
[67,"AP-Sahara",null,null,1195]
[68,"AP-Seize The Hump",null,null,516]
[69,"AP-Sinkholes",null,null,978]
[70,"AP-Trade_Route",null,null,252]
[71,"AP-Two Rivers",null,null,377]
[72,"AP-Wooden Web",null,null,454]
[73,"AP_Agricultural(MR)",null,null,118]
[74,"AP_Agricultural",null,null,268]
[75,"AP_Ancient_Lake(MR)",null,null,815]
[76,"AP_Ancient_Lake",null,null,629]
[77,"AP_Arabia(MR)",null,null,1240]
[78,"AP_Arabia",null,null,630]
[79,"AP_Arzachel(MR)",null,null,1203]
[80,"AP_Arzachel",null,null,193]
[81,"AP_Ataronchronon(MR)",null,null,44]
[82,"AP_Ataronchronon",null,null,1076]
[83,"AP_Autumnalae(MR)",null,null,192]
[84,"AP_Autumnalae",null,null,79]
[85,"AP_Barren_Land(MR)",null,null,104]
[86,"AP_Barren_Land",null,null,187]
[87,"AP_Bazaar_War(MR)",null,null,436]
[88,"AP_Bazaar_War",null,null,468]
[89,"AP_Big_Blue(MR)",null,null,982]
[90,"AP_Big_Blue",null,null,589]
[91,"AP_BoardsofCanada(MR)",null,null,48]
[92,"AP_BoardsofCanada",null,null,1024]
[93,"AP_Caribbean(MR)",null,null,178]
[94,"AP_Caribbean",null,null,1015]
[95,"AP_Conflict(MR)",null,null,751]
[96,"AP_Conflict",null,null,686]
[97,"AP_Dam(MR)",null,null,681]
[98,"AP_Dam",null,null,172]
[99,"AP_Devastation(MR)",null,null,1044]
[100,"AP_Devastation",null,null,232]
[101,"AP_Double_Danger(MR)",null,null,371]
[102,"AP_Double_Danger",6,null,712]
[103,"AP_Easter_Island(MR)",6,null,99]
[104,"AP_Easter_Island",6,null,507]
[105,"AP_Ensnared(MR)",6,null,1115]
[106,"AP_Ensnared",6,null,566]
[107,"AP_Flood(MR)",6,null,477]
[108,"AP_Flood",6,null,799]
[109,"AP_Fluctuate(MR)",6,null,1234]
[110,"AP_Fluctuate",6,null,664]
[111,"AP_Fort(MR)",6,null,92]
[112,"AP_Fort",6,null,413]
[113,"AP_Frosty_Islands(MR)",6,null,361]
[114,"AP_Frosty_Islands",6,null,336]
[115,"AP_Ghost_Forest(MR)",6,null,827]
[116,"AP_Ghost_Forest",6,null,472]
[117,"AP_Glacier(MR)",6,null,230]
[118,"AP_Glacier",6,null,290]
[119,"AP_Great_Forest(MR)",6,null,332]
[120,"AP_Great_Forest",6,null,506]
[121,"AP_Hallucination(MR)",6,null,424]
[122,"AP_Hallucination",6,null,964]
[123,"AP_Hydrology(MR)",6,null,1035]
[124,"AP_Hydrology",6,null,654]
[125,"AP_Hyperborea(MR)",6,null,1034]
[126,"AP_Hyperborea",6,null,280]
[127,"AP_Infrequent(MR)",6,null,108]
[128,"AP_Infrequent",6,null,927]
[129,"AP_Innovation(MR)",6,null,160]
[130,"AP_Innovation",6,null,959]
[131,"AP_J rnvi r(MR)",6,null,639]
[132,"AP_J rnvi r",6,null,1256]
[133,"AP_Kyzyl_Kum(MR)",6,null,936]
[134,"AP_Kyzyl_Kum",6,null,307]
[135,"AP_Leaf_Lakes(MR)",6,null,32]
[136,"AP_Leaf_Lakes",6,null,458]
[137,"AP_Lock_Washer(MR)",6,null,1167]
[138,"AP_Lock_Washer",6,null,710]
[139,"AP_Maze(MR)",6,null,909]
[140,"AP_Maze",6,null,508]
[141,"AP_Melting_Ice(MR)",6,null,792]
[142,"AP_Melting_Ice",6,null,1258]
[143,"AP_Mixture(MR)",6,null,755]
[144,"AP_Mixture",6,null,98]
[145,"AP_New_Planet(MR)",6,null,483]
[146,"AP_New_Planet",6,null,14]
[147,"AP_Old_Growth(MR)",6,null,879]
[148,"AP_Old_Growth",6,null,1147]
[149,"AP_Palette(MR)",6,null,1113]
[150,"AP_Palette",6,null,622]
[151,"AP_Quicksand(MR)",6,null,990]
[152,"AP_Quicksand",6,null,303]
[153,"AP_Raft(MR)",6,null,338]
[155,"AP_Raft",6,null,1151]
[156,"AP_Rainforest(MR)",6,null,940]
[157,"AP_Rainforest",6,null,574]
[158,"AP_Relic_Ponds(MR)",6,null,90]
[159,"AP_Relic_Ponds",6,null,760]
[160,"AP_Road_To_Victory(MR)",6,null,746]
[161,"AP_Road_To_Victory",6,null,177]
[162,"AP_Sand_Ocean(MR)",6,null,395]
[163,"AP_Sand_Ocean",6,null,320]
[164,"AP_Sand_River(MR)",6,null,713]
[165,"AP_Sand_River",6,null,226]
[166,"AP_Scythia(MR)",6,null,667]
[167,"AP_Scythia",6,null,882]
[168,"AP_Trade_Route(MR)",6,null,1027]
[169,"AP_Trade_Route",6,null,289]
[170,"AP_Two_Rivers(MR)",6,null,595]
[171,"AP_Two_Rivers",6,null,502]
[172,"AP_Wooden_Web(MR)",6,null,1038]
[173,"AP_Wooden_Web",6,null,355]
[174,"Arabia Cartography",6,null,1257]
[175,"Archipel_v4",6,null,961]
[176,"Arina",6,null,196]
[177,"Artificial_v4",6,null,337]
[178,"Aspiring_Experts_Mappack",6,null,829]
[179,"Atacama (LR)",6,null,1083]
[180,"Atlantean Relics (LR)",6,null,949]
[181,"Atlantic_v4",6,null,719]
[182,"AV_Arabia",6,null,247]
[183,"AV_Dry Arabia",6,null,613]
[184,"AV_Full Random",6,null,602]
[185,"AV_Green Arabia",6,null,167]
[186,"AV_MegaRandom",6,null,652]
[187,"AV_UltraRandom_v5",6,null,263]
[188,"Battle of Plassey",6,null,1057]
[189,"BCC3@Fortress",6,null,435]
[190,"Bigfoot (LR)",6,null,407]
[191,"BoA_Arabia",6,null,139]
[192,"BoA_Beachfight",6,null,700]
[193,"BoA_Colloseum",6,null,390]
[194,"BoA_Donut",6,null,920]
[195,"BoA_Dust",6,null,448]
[196,"BoA_MapPack v3",6,null,414]
[197,"BoA_NotSocotra",6,null,884]
[198,"BoA_Steppe",6,null,1056]
[199,"BOP_Map_Pack_v1",6,null,1098]
[200,"Border Dispute (LR)",6,null,106]
[201,"Camel Turd",6,null,905]
[202,"Canyons V1",6,null,85]
[203,"Channel",6,null,948]
[204,"Chaos_v2",6,null,800]
[205,"Cheese",6,null,1243]
[206,"Chicken Ball",6,null,883]
[207,"ChocolateBarArabia",6,null,1029]
[208,"Clearing_v4",6,null,441]
[209,"CM_Acropolis",6,null,854]
[210,"CM_AP_Two_Rivers",6,null,45]
[211,"CM_Arabia",6,null,894]
[212,"CM_Archipelago",6,null,1134]
[213,"CM_Atoll",6,null,1133]
[214,"CM_Baltic",6,null,1144]
[215,"CM_Bedouins",6,null,752]
[216,"CM_Boards_of_Canada",6,null,495]
[217,"CM_Burning_Plains_v2",6,null,1223]
[218,"CM_Caribbean",6,null,526]
[219,"CM_Chaos_Pit",6,null,610]
[220,"CM_Cliffy_Arena",6,null,297]
[221,"CM_Coastal",6,null,432]
[222,"CM_Continental",6,null,757]
[223,"CM_Cross",6,null,794]
[224,"CM_Desertfox",6,null,82]
[225,"CM_Dry_Arabia",6,null,348]
[226,"CM_Ghost_Lake",6,null,444]
[227,"CM_Hideout",6,null,937]
[228,"CM_Highland",6,null,23]
[229,"CM_Hippos_Belly",6,null,66]
[230,"CM_Houseboat_v2",6,null,1030]
[231,"CM_Hunger_Games",6,null,10]
[232,"CM_Islands",6,null,743]
[233,"CM_JDGrossrox",6,null,913]
[234,"CM_Land_Nomad",6,null,485]
[235,"CM_Map_Pack_v2",6,null,1259]
[236,"CM_Mediterranean",6,null,572]
[237,"CM_Melting_Ice",6,null,1199]
[238,"CM_MFO_Plateau",6,null,433]
[239,"CM_MFO_Woogy",6,null,194]
[240,"CM_Migration",6,null,166]
[241,"CM_Mongolia",6,null,449]
[242,"CM_Nomad",6,null,131]
[243,"CM_Oasis",6,null,293]
[244,"CM_Pond_Arena",6,null,801]
[245,"CM_Raft",6,null,631]
[246,"CM_Ripples",6,null,721]
[247,"CM_Rivers",6,null,416]
[248,"CM_Sahara",6,null,718]
[249,"CM_Scandinavia",6,null,715]
[250,"CM_Seize_The_Hump",6,null,243]
[251,"CM_Team_Acropolis",6,null,31]
[252,"CM_Team_Islands",6,null,1084]
[253,"CM_Tombolo",6,null,1136]
[254,"CM_Wetweb",6,null,277]
[255,"CM_Yucatan",6,null,819]
[256,"CM_Zero",6,null,438]
[257,"CoastalGoldRush_v3",6,null,695]
[258,"Connected_Islands_v5",6,null,823]
[259,"Continents_v2",6,null,1111]
[260,"Continent_v4",6,null,296]
[261,"CoT-Desert",6,null,240]
[262,"CoT-DoubleArabia",6,null,1102]
[263,"CoT-FluffyNomad",6,null,525]
[264,"CoT-Fortress",6,null,1045]
[265,"CoT-LandNomad",6,null,984]
[266,"CoT-Plains",6,null,942]
[267,"CoT_Desert",6,null,859]
[268,"CoT_DoubleArabia",6,null,182]
[269,"CoT_FluffyNomad",6,null,834]
[270,"CoT_Fortress",6,null,933]
[271,"COT_LandNomad",6,null,749]
[272,"CoT_Map_Pack_v2",6,null,874]
[273,"CoT_Plains",6,null,1101]
[274,"DA_Map_Pack",6,null,198]
[275,"DE Acropolis - Allied Vision",6,null,906]
[276,"DE Acropolis",6,null,422]
[277,"DE Arabia - Allied Vision",6,null,183]
[278,"DE Arabia",6,null,764]
[279,"DE Four Lakes - Allied Vision",6,null,1065]
[280,"DE Four Lakes",6,null,1207]
[281,"DERAC - Arena",6,null,156]
[282,"Desert_v4",6,null,775]
[283,"DE_Acropolis",6,null,392]
[284,"DE_Atacama",6,null,570]
[285,"DE_Baltic",6,null,69]
[286,"DE_Bedouins",6,null,850]
[287,"DE_Big Freeze",6,null,245]
[288,"DE_Budapest",6,null,1213]
[289,"DE_Caribbean",6,null,71]
[290,"DE_Cenotes",6,null,520]
[291,"DE_Chaos Pit",6,null,1000]
[292,"DE_Clearing",6,null,683]
[293,"DE_Cross",6,null,208]
[294,"DE_Desert",6,null,774]
[295,"DE_Dry_River",6,null,732]
[296,"DE_El_Dorado",6,null,451]
[297,"DE_Fortress",6,null,366]
[298,"DE_Ghost Lake",6,null,186]
[299,"DE_Glade",6,null,957]
[300,"DE_Gold Rush",6,null,609]
[301,"DE_Gold Volcano",6,null,76]
[302,"DE_Golden Pit",6,null,1204]
[303,"DE_Golden Swamp",6,null,939]
[304,"DE_Gorge",6,null,101]
[305,"DE_Graveyards",6,null,1166]
[306,"DE_Hamburger",6,null,1193]
[307,"DE_Hideout",6,null,803]
[308,"DE_Highland",6,null,578]
[309,"DE_Hillfort",6,null,350]
[310,"DE_Houseboat",6,null,809]
[311,"DE_Islands",6,null,994]
[312,"DE_Lombardia",6,null,241]
[313,"DE_Mediterranean",6,null,573]
[314,"DE_Megarandom",6,null,921]
[315,"DE_Mongolia",6,null,674]
[316,"DE_Mt_Fuji",6,null,916]
[317,"DE_Oasis",6,null,900]
[318,"DE_Rift_Island",6,null,151]
[319,"DE_Rooster",6,null,250]
[320,"DE_Sahara",6,null,656]
[321,"DE_Salt_Marsh",6,null,28]
[322,"DE_Scandinavia",6,null,512]
[323,"DE_Socotra",6,null,558]
[324,"DE_Steppe",6,null,996]
[325,"DE_Team Acropolis",6,null,788]
[326,"DE_Team Islands",6,null,1143]
[327,"DE_Team_Causeways",6,null,1066]
[328,"DE_Twin Puddles",6,null,1071]
[329,"DE_Valley",6,null,575]
[330,"DE_Yucatan",6,null,556]
[331,"Disc_v4",6,null,1188]
[332,"Double Migration (LR)",6,null,967]
[333,"Dry Arabia",6,null,1086]
[334,"Duopoly",6,null,311]
[335,"ECL_Acropolis",6,null,149]
[336,"ECL_Africa_Map_Pack",6,null,428]
[337,"ECL_Americas_Map_Pack",6,null,643]
[338,"ECL_Arabia-3v3",6,null,761]
[339,"ECL_Arabia",6,null,276]
[340,"ECL_Arina",6,null,207]
[341,"ECL_Atacama",6,null,305]
[342,"ECL_Baltic-3v3",6,null,911]
[343,"ECL_Baltic",6,null,116]
[344,"ECL_Bedouins",6,null,1047]
[345,"ECL_Budapest",6,null,41]
[346,"ECL_Caribbean",6,null,782]
[347,"ECL_Cenotes",6,null,1148]
[348,"ECL_Chaos_Pit",6,null,318]
[349,"ECL_Clearing",6,null,728]
[350,"ECL_Continental",6,null,184]
[351,"ECL_Cross-3v3",6,null,249]
[352,"ECL_Cross",6,null,286]
[353,"ECL_Desert-3v3",6,null,313]
[354,"ECL_Desert",6,null,567]
[355,"ECL_Dry_River",6,null,1249]
[356,"ECL_East_Asia_Map_Pack",null,null,627]
[357,"ECL_El_Dorado",null,null,95]
[358,"ECL_EU_East_Map_Pack",null,null,604]
[359,"ECL_EU_West_Map_Pack",null,null,736]
[360,"ECL_Fortress",null,null,63]
[361,"ECL_Frisia",null,null,987]
[362,"ECL_Golden_Pit",null,null,592]
[363,"ECL_Gold_Rush",null,null,212]
[364,"ECL_Gorge",null,null,137]
[365,"ECL_Hamburger",null,null,301]
[366,"ECL_Hideout",null,null,1216]
[367,"ECL_Highland",null,null,691]
[368,"ECL_Houseboat",null,null,753]
[369,"ECL_Lombardia",null,null,816]
[370,"ECL_Map_Pack",null,null,209]
[371,"ECL_Mediterranean",null,null,358]
[372,"ECL_Mesas",null,null,673]
[373,"ECL_Middle_East_Map_Pack",null,null,281]
[374,"ECL_Mongolia",null,null,306]
[375,"ECL_Mt_Fuji",null,null,5]
[376,"ECL_Nomad",null,null,24]
[377,"ECL_Oasis-3v3",null,null,22]
[378,"ECL_Oasis",null,null,960]
[379,"ECL_Qualifier_Map_Pack",null,null,388]
[380,"ECL_Rift_Island",null,null,1245]
[381,"ECL_Sahara",null,null,633]
[382,"ECL_Salt_Marsh",null,null,404]
[383,"ECL_Scandinavia",null,null,15]
[384,"ECL_Steppe-3v3",null,null,257]
[385,"ECL_Steppe",null,null,1211]
[386,"ECL_Sunburn",null,null,206]
[387,"ECL_Team_Acropolis",null,null,1156]
[388,"ECL_Team_Causeways",null,null,37]
[389,"ECL_Team_Islands",null,null,607]
[390,"ECL_Twin_Puddles-3v3",null,null,600]
[391,"ECL_Twin_Puddles",null,null,1228]
[392,"ECL_Valley",null,null,703]
[393,"ECL_Yucatan",null,null,860]
[394,"Emigration_v5",null,null,970]
[395,"ES@Graveyards_v2",null,null,272]
[396,"ES@Metropolis_v2",null,null,1141]
[397,"ES@Sherwood_Heroes_v2",null,null,415]
[398,"ES@Team_Glaciers_v2",null,null,591]
[399,"Eye_of_Sauron_nomad",null,null,334]
[400,"Fairer_Nomad_b5",null,null,299]
[401,"Fairrivers_v4",null,null,463]
[402,"FE-Acropolis",null,null,549]
[403,"FE-Budapest",null,null,256]
[404,"FE-Cenotes",null,null,499]
[405,"FE-Golden Pit",null,null,840]
[406,"FE-Hideout",null,null,223]
[407,"FE-Hill Fort",null,null,1028]
[408,"FE-Land of Lakes",null,null,330]
[409,"FE-Lombardia",null,null,1114]
[410,"FE-Steppe",null,null,875]
[411,"FE-Team Arena",null,null,494]
[412,"FE-Valley",null,null,406]
[413,"Focal_Point_v2",null,null,744]
[414,"Frisia",null,null,273]
[415,"Frozen Big Mac",null,null,529]
[416,"Ghost Forest",null,null,227]
[417,"Ghostbusters",null,null,144]
[418,"Ghostswamp_v4",null,null,1137]
[419,"Golden Hill (LR)",null,null,391]
[420,"GOW_Archipelago",null,null,658]
[421,"GOW_Atlantic",null,null,1041]
[422,"GOW_Caribbean",null,null,1130]
[423,"GOW_Islands",null,null,464]
[424,"GOW_KingF",null,null,789]
[425,"GOW_LandBridge",null,null,287]
[426,"GOW_Map_Pack",null,null,684]
[427,"GOW_Shoals_1.2",null,null,1149]
[428,"GOW_Team_Islands",null,null,944]
[429,"GOW_Tsunami",null,null,539]
[430,"Greatlake_v4",null,null,941]
[431,"Green Arabia",null,null,26]
[432,"Hamburger (LR)",null,null,1162]
[433,"HardWall@Arab_v2",null,null,768]
[434,"High Seas",null,null,434]
[435,"Highland_v4",null,null,356]
[436,"Hills (LR)",null,null,538]
[437,"Homeland_v4",null,null,1078]
[438,"Hybrid Arenas v1.1",null,null,723]
[439,"Icy_Forest_v3",null,null,848]
[440,"Islands_v4",null,null,698]
[441,"Jungle Dive v1",null,null,1]
[442,"Knolls",null,null,205]
[443,"KotD2 - Arabia",null,null,1008]
[444,"Lakes_v4",null,null,1248]
[445,"Land of Lakes (LR)",null,null,783]
[446,"Landbridge_v5",null,null,759]
[447,"Landmass_v4",null,null,642]
[448,"Land_Madness_v2",null,null,1176]
[449,"Light Random (AoCZ) v2",null,null,39]
[450,"LN_Refix5b_",null,null,368]
[451,"LR-Atacama",null,null,786]
[452,"LR-Atlantean Relics",null,null,188]
[453,"LR-Bigfoot",null,null,78]
[454,"LR-Border Dispute",null,null,510]
[455,"LR-Double Migration",null,null,844]
[456,"LR-Golden Hill",null,null,197]
[457,"LR-Hamburger",null,null,450]
[458,"LR-Hills",null,null,852]
[459,"LR-Land of Lakes",null,null,315]
[460,"LR-Meatballs v2",null,null,519]
[461,"LR-Microphone",null,null,446]
[462,"LR-Paved Highland",null,null,833]
[463,"LR-Rooster",null,null,89]
[464,"LR-Sand Maze",null,null,1200]
[465,"LR-Sealed Islands",null,null,111]
[466,"LR-Slippery Springs",null,null,80]
[467,"LR-Soul",null,null,917]
[468,"LR-Stardom",null,null,270]
[469,"LR-Tentacle Isle",null,null,1058]
[470,"LR-Tsunami",null,null,161]
[471,"MAD-Aggression v2.1",null,null,808]
[472,"MAD-Amazonia v2.3",null,null,1033]
[473,"MAD-Ambush v1.0",null,null,1093]
[474,"MAD-Aquapolis v1.2",null,null,1010]
[475,"MAD-Arctic Circle v1.0",null,null,191]
[476,"MAD-Atoll v1.2",null,null,431]
[477,"MAD-Badlands v1.0",null,null,977]
[478,"MAD-Basin v1.0",null,null,1036]
[479,"MAD-Battlefield v1.0",null,null,704]
[480,"MAD-Black Gold Rush v1.1",null,null,1007]
[481,"MAD-Blue Hole v1.1",null,null,714]
[482,"MAD-Bog v1.1",null,null,81]
[483,"MAD-Caldera Nomad v1.3",null,null,619]
[484,"MAD-Caldera v1.1",null,null,421]
[485,"MAD-Canopy v1.1",null,null,102]
[486,"MAD-Canyon v1.0",null,null,1013]
[487,"MAD-Chaos Pit v2.0",null,null,1039]
[488,"MAD-Chasm v1.1",null,null,958]
[489,"MAD-Civil Nomads v1.0",null,null,418]
[490,"MAD-Civil War v1.1",null,null,159]
[491,"MAD-Cluster Fortress v1.1",null,null,702]
[492,"MAD-Cluster v1.1",null,null,74]
[493,"MAD-Coral Reef v1.0",null,null,150]
[494,"MAD-Countryside v1.1",null,null,1079]
[495,"MAD-Cove v1.0",null,null,174]
[496,"MAD-Crater v1.0",null,null,466]
[497,"MAD-Criss Cross v1.2",null,null,554]
[498,"MAD-Crop Circles v1.0",null,null,1219]
[499,"MAD-Cross v1.2",null,null,1171]
[500,"MAD-Deadly Forest v1.1",null,null,397]
[501,"MAD-Double Arena v1.0",null,null,599]
[502,"MAD-Drought v1.0",null,null,1247]
[503,"MAD-Dry Cross v1.1",null,null,925]
[504,"MAD-Dry River v1.0",null,null,980]
[505,"MAD-Ensnared Arena v1.0",null,null,503]
[506,"MAD-Excavated Arena v1.0",null,null,143]
[507,"MAD-Fjords v1.0",null,null,669]
[508,"MAD-Flooded Beaches v1.0",null,null,968]
[509,"MAD-Forest Road v1.2",null,null,1153]
[510,"MAD-Fortified Acropolis v1.0",null,null,410]
[511,"MAD-Fortified Islands v1.0",null,null,1031]
[512,"MAD-Frozen Fjords v1.0",null,null,228]
[513,"MAD-Golden Cross v1.1",null,null,545]
[514,"MAD-Golden Ghost v1.0",null,null,35]
[515,"MAD-Golden Hill Arena v1.1",null,null,409]
[516,"MAD-Gorge v1.1",null,null,185]
[517,"MAD-Great Wall v1.2",null,null,1225]
[518,"MAD-Himalayas v2.1",null,null,509]
[519,"MAD-Ice Caps v1.2",null,null,924]
[520,"MAD-Ice Mound v1.1",null,null,152]
[521,"MAD-Inferno v1.0",null,null,376]
[522,"MAD-Isla Aurora v1.0",null,null,340]
[523,"MAD-Island Cities v1.0",null,null,384]
[524,"MAD-Isolated Rivers v2.0",null,null,935]
[525,"MAD-Jaguar Den v1.0",null,null,963]
[526,"MAD-Jungle Swamp v3.1",null,null,1189]
[527,"MAD-Kingless Hill v1.3",null,null,862]
[528,"MAD-Lagoon v1.1",null,null,766]
[529,"MAD-Landslide v1.0",null,null,511]
[530,"MAD-Lava Lakes v1.1",null,null,314]
[531,"MAD-Loch Ness v1.1",null,null,515]
[532,"MAD-Mad Random (12-22-14)",null,null,195]
[533,"MAD-Maelstrom v2.0",null,null,341]
[534,"MAD-Mangrove Swamp v1.0",null,null,233]
[535,"MAD-Marooned v1.1",null,null,802]
[536,"MAD-Marsh Pit v1.0",null,null,165]
[537,"MAD-Melting Fjords v1.0",null,null,1233]
[538,"MAD-Molten Moats v1.0",null,null,222]
[539,"MAD-Mount Fuji v1.0",null,null,902]
[540,"MAD-Mountainside v1.3",null,null,518]
[541,"MAD-Oases Bases v1.0",null,null,372]
[542,"MAD-Oasis Arena v1.0",null,null,870]
[543,"MAD-Oasis Island v1.4",null,null,255]
[544,"MAD-Outback v1.2",null,null,750]
[545,"MAD-Pacific Beach v1.3",null,null,1075]
[546,"MAD-Plateau v1.2",null,null,189]
[547,"MAD-Pondarena v1.1",null,null,1221]
[548,"MAD-Quarry v1.0",null,null,947]
[549,"MAD-Relic Borders Closed v1.0",null,null,1190]
[550,"MAD-Relic Borders Open v1.0",null,null,535]
[551,"MAD-Relic Ridge Closed v1.1",null,null,1112]
[552,"MAD-Relic Ridge Open v1.1",null,null,787]
[553,"MAD-Ripple v1.0",null,null,1082]
[554,"MAD-Rival Cities v1.0",null,null,21]
[555,"MAD-River Nile v2.0",null,null,772]
[556,"MAD-Rocky Ghost Lake v1.0",null,null,1170]
[557,"MAD-Rocky Gold Rush v1.0",null,null,333]
[558,"MAD-Rocky Oasis v1.0",null,null,981]
[559,"MAD-Rocky Pond v1.0",null,null,411]
[560,"MAD-Rocky Stone Rush v1.0",null,null,73]
[561,"MAD-Ruins v1.1",null,null,722]
[562,"MAD-Sahara v2.0",null,null,577]
[563,"MAD-Sand Paths v1.0",null,null,473]
[564,"MAD-Sand Pits v1.0",null,null,369]
[565,"MAD-Savanna v1.0",null,null,124]
[566,"MAD-Sealed Cross v1.1",null,null,1094]
[567,"MAD-Shallow Web v1.0",null,null,1202]
[568,"MAD-Shoals v1.2",null,null,214]
[569,"MAD-Silk Road v1.0",null,null,142]
[570,"MAD-Sonora v1.0",null,null,1091]
[571,"MAD-Stone Cross v1.1",null,null,1073]
[572,"MAD-Stone Pit v1.1",null,null,975]
[573,"MAD-Swallet v1.0",null,null,231]
[574,"MAD-Team Ambush v1.0",null,null,527]
[575,"MAD-Team B.G.R. v1.1",null,null,265]
[576,"MAD-Team Oases Bases v1.0",null,null,443]
[577,"MAD-Team Pondarena v1.1",null,null,1232]
[578,"MAD-Territorial Arena v1.0",null,null,47]
[579,"MAD-Territorial v1.2",null,null,1208]
[580,"MAD-Valley of Kings v1.0",null,null,612]
[581,"MAD-Vinlandsaga v1.5",null,null,393]
[582,"MAD-Volcano Nomad v1.0",null,null,926]
[583,"MAD-Volcano v1.0",null,null,267]
[584,"MAD-Wet Web v1.0",null,null,1150]
[585,"MAD-Wooden Cross v1.1",null,null,362]
[586,"MAD-Yukon v1.0",null,null,528]
[587,"Marsh_v4",null,null,382]
[588,"MC2-Arabia Legend",null,null,1197]
[589,"MC2-Ataronchronon",null,null,546]
[590,"MC2-Azores",null,null,481]
[591,"MC2-Battleground_v1.0",null,null,400]
[592,"MC2-Black Forest Gold Rush",null,null,94]
[593,"MC2-Cliff_Maze_1.0",null,null,898]
[594,"MC2-Countryside",null,null,244]
[595,"MC2-Deepwood_v2.1",null,null,1231]
[596,"MC2-Desert_Oases_v2.1",null,null,351]
[597,"MC2-Floodplain_v3.0",null,null,1109]
[598,"MC2-Gravel_Pit_1.1",null,null,91]
[599,"MC2-GW@ViolentOasis",null,null,402]
[600,"MC2-Hidden_Valleys_v1.1",null,null,544]
[601,"MC2-High Seas",null,null,623]
[602,"MC2-Hunger_G_75_v2.1",null,null,791]
[603,"MC2-Kyzyl Kum",null,null,136]
[604,"MC2-Low Countries",null,null,456]
[605,"MC2-Mount Fuji v1.1",null,null,1132]
[606,"MC2-Pangea_v2.1",null,null,229]
[607,"MC2-Paradise Cross (safe)",null,null,738]
[608,"MC2-Paradise Cross (unsafe)",null,null,645]
[609,"MC2-Pool Arena",null,null,1175]
[610,"MC2-Rainforest",null,null,588]
[611,"MC2-Reinforced Arena",null,null,903]
[612,"MC2-RockyIslands",null,null,754]
[613,"MC2-Scandry",null,null,304]
[614,"MC2-Schwarzwald",null,null,374]
[615,"MC2-Shorelands",null,null,998]
[616,"MC2-Team_Causeways_1.1",null,null,1088]
[617,"MC2-The Pit",null,null,27]
[618,"MC2-TheMeltingMountain",null,null,737]
[619,"MC2-Wet Sands",null,null,147]
[620,"Meatballs (LR) v2",null,null,429]
[621,"MegaRandom (WCL 7)",null,null,867]
[622,"Megarandom",null,null,490]
[623,"Mercenary_Camp",null,null,1067]
[624,"Merry-Go-Round",null,null,770]
[625,"MFO@Double Arabia",null,null,181]
[626,"MFO@Triple Arabia",null,null,1191]
[627,"Microphone (LR)",null,null,690]
[628,"Migration_Plus_v2",null,null,381]
[629,"Mongolia_v4",null,null,365]
[630,"NAC_Acropolis",null,null,776]
[631,"NAC_Arabia",null,null,68]
[632,"NAC_Coast_to_Mountains_v2",null,null,219]
[633,"NAC_Cross",null,null,582]
[634,"NAC_El Dorado",null,null,842]
[635,"NAC_Flooded Cross",null,null,1077]
[636,"NAC_Golden_Hill",null,null,474]
[637,"NAC_Gold_Rush",null,null,555]
[638,"NAC_Graveyards",null,null,974]
[639,"NAC_Land_Madness",null,null,660]
[640,"NAC_Mappack",null,null,279]
[641,"NAC_MappackQ2_v2",null,null,1106]
[642,"NAC_Mediterranean",null,null,363]
[643,"NAC_Pond_Arena",null,null,1089]
[644,"NAC_Prairie",null,null,220]
[645,"NAC_Prairie_v1",null,null,762]
[646,"NAC_RegiFortress",null,null,77]
[647,"NAC_Rehydration",null,null,399]
[648,"NAC_Rift_Island",null,null,817]
[649,"NAC_Seize_the_Hump",null,null,605]
[650,"NAC_Tidepool_v4.1",null,null,976]
[651,"nC-Decentring_v1",null,null,284]
[652,"nC-Fair_Salt_Marsh_v1",null,null,170]
[653,"nC-Forest_Arena_v1",null,null,657]
[654,"nC-Golden_Island_v1",null,null,389]
[655,"nC-Random_v2",null,null,831]
[656,"nC-Ring_Forest_v2",null,null,693]
[657,"nC-Veg_Zones_v2",null,null,119]
[658,"nC-Wide_Rivers_v1",null,null,291]
[659,"nC@arena_mappack_v2 final",null,null,861]
[660,"NoCut+Allied_Vision_BF",null,null,120]
[661,"Oasis_v4",null,null,734]
[662,"Ontario_v4",null,null,496]
[663,"OOS-Cheese",null,null,236]
[664,"OOS-El Dorado v3",null,null,7]
[665,"OOS-Knolls",null,null,248]
[666,"OOS-Pontoon",null,null,386]
[667,"OOS-PoppyField",null,null,117]
[668,"OOS-Vital River",null,null,1125]
[669,"OpenLandPack V1",null,null,562]
[670,"Palisade Arena",null,null,864]
[671,"Paved Highland (LR)",null,null,324]
[672,"Pizza_v4",null,null,928]
[673,"place-holder",null,null,796]
[674,"placeholder",null,null,171]
[675,"Plains_v4",null,null,70]
[676,"Pond Inspection v2",null,null,826]
[677,"PoppyField",null,null,375]
[678,"Precut_Michi_v2",null,null,818]
[679,"Pyramid_v2",null,null,598]
[680,"Quad_Lakes_v2",null,null,1244]
[681,"Reservoir (winter)",null,null,317]
[682,"Reservoir",null,null,488]
[683,"Reverse_Arena_v2",null,null,484]
[684,"Rooster (LR)",null,null,1174]
[685,"Sand Maze (LR)",null,null,1003]
[686,"Sealed Islands (LR)",null,null,895]
[687,"Sea_v4",null,null,310]
[688,"Shorelands",null,null,217]
[689,"Slippery Springs (LR)",null,null,824]
[690,"SLU_Map_Pack_v2",null,null,889]
[691,"Solid_Continent_v5",null,null,908]
[692,"Soul (LR)",null,null,811]
[693,"Square_Donut_v2",null,null,662]
[694,"Stardom (LR)",null,null,689]
[695,"Stranded",null,null,1096]
[696,"SY-Accessible_Oasis",null,null,1254]
[697,"SY-Acropolis",null,null,873]
[698,"SY-Atoll",null,null,1250]
[699,"SY-Bedouins_v2",null,null,1138]
[700,"SY-Boards_of_Canada",null,null,1196]
[701,"SY-Caribbean",null,null,742]
[702,"SY-Chaos_Pit_v3",null,null,672]
[703,"SY-Cliffy_Arena",null,null,216]
[704,"SY-Continental",null,null,988]
[705,"SY-Cross",null,null,730]
[706,"SY-Desertfox",null,null,370]
[707,"SY-Dry_Arabia",null,null,735]
[708,"SY-Hideout",null,null,839]
[709,"SY-Hippo's_Belly",null,null,469]
[710,"SY-JDGrossrox",null,null,478]
[711,"SY-Land_Nomad",null,null,129]
[712,"SY-MFOPlateau_v2",null,null,521]
[713,"SY-MFOWoogy",null,null,758]
[714,"SY-Nomad",null,null,877]
[715,"SY-Pilgrims_v2",null,null,425]
[716,"SY-Pond_Arena_v2",null,null,1215]
[717,"SY-Raft",null,null,349]
[718,"SY-Sahara",null,null,1085]
[719,"SY-Seize_The_Hump",null,null,778]
[720,"SY-Zero",null,null,1172]
[721,"SYNC_Arabia",null,null,835]
[722,"SYNC_Arena",null,null,625]
[723,"SYNC_Baltic",null,null,785]
[724,"SYNC_Bedouins",null,null,717]
[725,"SYNC_Black_Forest",null,null,67]
[726,"SYNC_Chaos_Pit",null,null,677]
[727,"SYNC_Continental",null,null,331]
[728,"SYNC_Cross",null,null,540]
[729,"SYNC_Decentring",null,null,1016]
[730,"SYNC_Fortress",null,null,1074]
[731,"SYNC_Ghost_Lake",null,null,148]
[732,"SYNC_Golden_Crater",null,null,1118]
[733,"SYNC_Golden_Hill",null,null,716]
[734,"SYNC_Hideout",null,null,403]
[735,"SYNC_Islands",null,null,675]
[736,"SYNC_JDGrossrox",null,null,576]
[737,"SYNC_Land_Nomad",null,null,19]
[738,"SYNC_Map_Pack",null,null,1194]
[739,"SYNC_Microphone",null,null,992]
[740,"SYNC_Migration",null,null,127]
[741,"SYNC_Mongolia",null,null,84]
[742,"SYNC_Nomad",null,null,771]
[743,"SYNC_Nomad_v2",null,null,628]
[744,"SYNC_Oasis",null,null,637]
[745,"SYNC_Rooster",null,null,480]
[746,"SYNC_Scandinavia",null,null,246]
[747,"SYNC_Seize_the_Hump",null,null,109]
[748,"SYNC_Shallow_Web",null,null,706]
[749,"SYNC_Team_Acropolis",null,null,457]
[750,"SYNC_Team_Islands",null,null,439]
[751,"SYNC_Twin_Puddles",null,null,121]
[752,"SYNC_Two_Rivers",null,null,408]
[753,"SYNC_Valley",null,null,1209]
[754,"SYNC_Windmill",null,null,845]
[755,"SYNC_Yucatan",null,null,668]
[756,"SY_Acropolis",null,null,560]
[757,"SY_Atoll_v2",null,null,868]
[758,"SY_Bedouins_v2",null,null,665]
[759,"SY_Boards_of_Canada",null,null,427]
[760,"SY_Caribbean_v2",null,null,869]
[761,"SY_Chaos_Pit_v4",null,null,1087]
[762,"SY_Cliffy_Arena",null,null,793]
[763,"SY_Continental_v2",null,null,1127]
[764,"SY_Cross",null,null,321]
[765,"SY_Desertfox",null,null,773]
[766,"SY_Dry_Arabia",null,null,965]
[767,"SY_Hideout",null,null,899]
[768,"SY_Hippo's_Belly",null,null,694]
[769,"SY_Houseboat",null,null,461]
[770,"SY_JDGrossrox",null,null,731]
[771,"SY_Land_Nomad",null,null,1023]
[772,"SY_Map_Pack_v4",null,null,1099]
[773,"SY_Map_Pack_v5",null,null,893]
[774,"SY_MFOPlateau_v2",null,null,1236]
[775,"SY_MFOWoogy",null,null,594]
[776,"SY_Nomad_v2",null,null,910]
[777,"SY_Pond_Arena_v2",null,null,711]
[778,"SY_Raft",null,null,1168]
[779,"SY_Ripples",null,null,701]
[780,"SY_Sahara",null,null,86]
[781,"SY_Seize_The_Hump",null,null,531]
[782,"SY_Wet Web",null,null,885]
[783,"SY_Zero",null,null,1062]
[784,"Team Acropolis",null,null,634]
[785,"Team Continents",null,null,54]
[786,"Team Island Hopping",null,null,1237]
[787,"Team Migration",null,null,932]
[788,"Teamislands_v4",null,null,685]
[789,"Team_Continents_v5",null,null,72]
[790,"TEC Light Random Pack",null,null,857]
[791,"Tentacle Isle (LR)",null,null,467]
[792,"Terra_Climazones_v5",null,null,912]
[793,"Terra_Continental_v5",null,null,593]
[794,"Terra_Iceage_v5",null,null,1140]
[795,"Terra_Pangea_v5",null,null,1139]
[796,"Tinylakes_v5",null,null,462]
[797,"TreasureIslands_v4",null,null,378]
[798,"Tsunami (LR)",null,null,790]
[799,"UltraRandom_v4",null,null,504]
[800,"UltraRandom_v5",null,null,705]
[801,"UR-Accessable_oasis_v5",null,null,1070]
[802,"UR-Amazonas_v5",null,null,346]
[803,"UR-Artificial_v5",null,null,584]
[804,"UR-Atlantic_v5",null,null,9]
[805,"UR-Blackforest_v5",null,null,158]
[806,"UR-Clearing_v5",null,null,805]
[807,"UR-Connected_islands_v5",null,null,16]
[808,"UR-Desert_arabia_v5",null,null,580]
[809,"UR-Emigration_v5",null,null,822]
[810,"UR-Fairrivers_v5",null,null,342]
[811,"UR-Gobi_v5",null,null,352]
[812,"UR-Greatlake_v5",null,null,1185]
[813,"UR-Homeland_v5",null,null,807]
[814,"UR-Lakes_v5",null,null,1054]
[815,"UR-Landbridge_v5",null,null,242]
[816,"UR-Landmass_v5",null,null,1004]
[817,"UR-Ontario_v5",null,null,541]
[818,"UR-Pizza_v5",null,null,1040]
[819,"UR-Plains_v5",null,null,973]
[820,"UR-Sea_v5",null,null,12]
[821,"UR-Solid_continent_v5",null,null,682]
[822,"UR-Team_continents_v5",null,null,1001]
[823,"UR-Terra_climazones_v5",null,null,3]
[824,"UR-Terra_continental_v5",null,null,1157]
[825,"UR-Terra_iceage_v5",null,null,813]
[826,"UR-Terra_landmass_v5",null,null,1152]
[827,"UR-Terra_pangea_v5",null,null,1155]
[828,"UR-Tinylakes_v5",null,null,1154]
[829,"UR-Treasure_islands_v5",null,null,814]
[830,"UR-Ultrarandom_v5",null,null,708]
[831,"UR-Vanishedlake_v5",null,null,447]
[832,"UR-Woodland_v5",null,null,543]
[833,"UR-Zero_v5",null,null,1146]
[834,"Valley_of_Gold_v3",null,null,945]
[835,"Vanishedlake_v4",null,null,1214]
[836,"Vital River",null,null,632]
[837,"Vulkankrater",null,null,514]
[838,"Water Horse",null,null,679]
[839,"Waterhole_v4",null,null,46]
[840,"Water_Wheel_v2.0",null,null,335]
[841,"WiC-Ancient Lake_v4",null,null,486]
[842,"WiC-AP_Two_Rivers_v2",null,null,1121]
[843,"WiC-Arabia",null,null,797]
[844,"WiC-Archipelago",null,null,112]
[845,"WiC-Arena",null,null,830]
[846,"WiC-Atacama",null,null,56]
[847,"WiC-Atacama_v2(MR)",null,null,175]
[848,"WiC-Bedouins",null,null,872]
[849,"WiC-Caribbean_v4",null,null,130]
[850,"WiC-Coastal",null,null,725]
[851,"WiC-Desertfox",null,null,729]
[852,"WiC-DM_GA",null,null,954]
[853,"WiC-Dry_Arabia",null,null,1064]
[854,"WiC-Duopoly_v2",null,null,96]
[855,"WiC-El_Dorado_v4",null,null,275]
[856,"WiC-El_Dorado_v5(MR)",null,null,163]
[857,"WiC-Flood_v2(MR)",null,null,1163]
[858,"WiC-Gold Rush(MR)",null,null,235]
[859,"WiC-Golden_Hill",null,null,326]
[860,"WiC-Highland_v2",null,null,709]
[861,"WiC-High_Seas_v2",null,null,741]
[862,"WiC-Hills",null,null,238]
[863,"WiC-Homeland",null,null,726]
[864,"WiC-Homeland_v2(MR)",null,null,221]
[865,"WiC-Islands",null,null,237]
[866,"WiC-Islands_v3(MR)",null,null,1107]
[867,"WiC-Land_Nomad",null,null,871]
[868,"WiC-Land_of_Lakes",null,null,646]
[869,"WiC-Map_Pack_v4",null,null,1161]
[870,"WiC-Merry_Go_Round",null,null,97]
[871,"WiC-MFOFourseas",null,null,164]
[872,"WiC-nC@Decentring_v1",null,null,344]
[873,"WiC-Nomad",null,null,651]
[874,"WiC-Oasis_v2(MR)",null,null,1241]
[875,"WiC-Ontario",null,null,1206]
[876,"WiC-Pond_Inspection",null,null,517]
[877,"WiC-Raft",null,null,1020]
[878,"WiC-Regicide_Fortress_v2",null,null,596]
[879,"WiC-Reservoir_v4",null,null,1059]
[880,"WiC-Rooster",null,null,583]
[881,"WiC-Sand_Maze_v2",null,null,661]
[882,"WiC-Scandinavia",null,null,1173]
[883,"WiC-Sealed_Islands",null,null,923]
[884,"WiC-Shorelands_v2",null,null,343]
[885,"WiC-Shorelands_v3(MR)",null,null,1005]
[886,"WiC-Team Islands_v3(MR)",null,null,812]
[887,"WiC-Team Migration_v2",null,null,1002]
[888,"WiC-Team_Acropolis_v3",null,null,1180]
[889,"WiC-Team_Continental_v3",null,null,200]
[890,"WiC-The Tribal Wars 2012",null,null,215]
[891,"WiC-TreasureIslands_v5",null,null,1218]
[892,"WiC-Twinpuddles_v3_GO",null,null,4]
[893,"WiC-Yucatan_v2(MR)",null,null,532]
[894,"WiC_Ancient Lake_v4",null,null,523]
[895,"WiC_AP_Two_Rivers_v2",null,null,1131]
[896,"WiC_Arabia",null,null,93]
[897,"WiC_Archipelago",null,null,655]
[898,"WiC_Arena",null,null,387]
[899,"WiC_Atacama",null,null,956]
[900,"WiC_Atacama_v2(MR)",null,null,810]
[901,"WiC_Bedouins",null,null,1226]
[902,"WiC_Caribbean_v4",null,null,946]
[903,"WiC_Coastal",null,null,145]
[904,"WiC_Desertfox",null,null,460]
[905,"WiC_DM_GA",null,null,756]
[906,"WiC_Dry_Arabia",null,null,1055]
[907,"WiC_Duopoly_v2",null,null,1123]
[908,"WiC_El_Dorado_v4",null,null,6]
[909,"WiC_El_Dorado_v5(MR)",null,null,1092]
[910,"WiC_Flood_v2(MR)",null,null,55]
[911,"WiC_Gold Rush(MR)",null,null,1230]
[912,"WiC_Golden_Hill",null,null,1129]
[913,"WiC_Highland_v2",null,null,1165]
[914,"WiC_High_Seas_v2",null,null,1124]
[915,"WiC_Hills",null,null,1187]
[916,"WiC_Homeland",null,null,676]
[917,"WiC_Homeland_v2(MR)",null,null,901]
[918,"WiC_Islands",null,null,224]
[919,"WiC_Islands_v3(MR)",null,null,190]
[920,"WiC_Land_Nomad",null,null,261]
[921,"WiC_Land_of_Lakes",null,null,339]
[922,"WiC_Map_Pack_v4",null,null,863]
[923,"WiC_Merry_Go_Round",null,null,1042]
[924,"WiC_MFOFourseas",null,null,225]
[925,"WiC_nC@Decentring_v1",null,null,253]
[926,"WiC_Nomad",null,null,880]
[927,"WiC_Oasis_v2(MR)",null,null,601]
[928,"WiC_Ontario",null,null,765]
[929,"WiC_Pond_Inspection",null,null,1017]
[930,"WiC_Raft",null,null,498]
[931,"WiC_Regicide_Fortress_v2",null,null,204]
[932,"WiC_Reservoir_v4",null,null,985]
[933,"WiC_Rooster",null,null,360]
[934,"WiC_Sand_Maze_v2",null,null,635]
[935,"WiC_Scandinavia",null,null,445]
[936,"WiC_Sealed_Islands",null,null,603]
[937,"WiC_Shorelands_v2",null,null,302]
[938,"WiC_Shorelands_v3(MR)",null,null,134]
[939,"WiC_Team Islands_v3(MR)",null,null,779]
[940,"WiC_Team Migration_v2",null,null,505]
[941,"WiC_Team_Acropolis_v3",null,null,60]
[942,"WiC_Team_Continental_v3",null,null,239]
[943,"WiC_The Tribal Wars 2012",null,null,597]
[944,"WiC_TreasureIslands_v5",null,null,1117]
[945,"WiC_Twinpuddles_v3_GO",null,null,405]
[946,"WiC_Yucatan_v2(MR)",null,null,1052]
[947,"WK_Full Random Allied Vision",null,null,1053]
[948,"WK_Full Random No Fire Galley",null,null,1224]
[949,"WK_Full Random",null,null,59]
[950,"WK_Shrublands",null,null,180]
[951,"Woodland_v4",null,null,278]
[952,"WSVG_Acropolis",null,null,487]
[953,"WSVG_Arena",null,null,617]
[954,"WSVG_Atacama",null,null,251]
[955,"WSVG_Baltic",null,null,295]
[956,"WSVG_Black Forest",null,null,955]
[957,"WSVG_Chaos Pit",null,null,475]
[958,"WSVG_Continental",null,null,132]
[959,"WSVG_Crater Lake_v2",null,null,586]
[960,"WSVG_Desert",null,null,878]
[961,"WSVG_Dry Arabia",null,null,52]
[962,"WSVG_Duopoly",null,null,65]
[963,"WSVG_El Dorado",null,null,536]
[964,"WSVG_Ghost Lake",null,null,1090]
[965,"WSVG_Gold Rush",null,null,561]
[966,"WSVG_Hamburger",null,null,1097]
[967,"WSVG_Hills",null,null,1100]
[968,"WSVG_Hippo's Belly",null,null,696]
[969,"WSVG_Homeland",null,null,1025]
[970,"WSVG_Islands",null,null,1105]
[971,"WSVG_Map_Pack_v2",null,null,626]
[972,"WSVG_Meatballs_v2",null,null,328]
[973,"WSVG_Mediterranean",null,null,565]
[974,"WSVG_MFO@Double Arabia",null,null,524]
[975,"WSVG_Migration",null,null,979]
[976,"WSVG_nC@Decentring",null,null,748]
[977,"WSVG_Nomad",null,null,1018]
[978,"WSVG_Oasis",null,null,412]
[979,"WSVG_Plains",null,null,138]
[980,"WSVG_Pond_Arena",null,null,896]
[981,"WSVG_Raft",null,null,300]
[982,"WSVG_Regicide_Fortress",null,null,452]
[983,"WSVG_Rooster",null,null,620]
[984,"WSVG_Sand_Maze",null,null,763]
[985,"WSVG_Team Islands",null,null,154]
[986,"Z-A Tale of Two Cities",null,null,638]
[987,"Z-Advanced Michi",null,null,1251]
[988,"Z-Aegean",null,null,110]
[989,"Z-Africa",null,null,497]
[990,"Z-After the Plague",null,null,537]
[991,"Z-AHFD@mapster",null,null,934]
[992,"Z-Alamort",null,null,423]
[993,"Z-Alaskan_Abundance",null,null,907]
[994,"Z-Alpine ll",null,null,581]
[995,"Z-Amazon 5",null,null,849]
[996,"Z-Amazonia",null,null,1186]
[997,"Z-Amusing Michi Plus",null,null,856]
[998,"Z-Antartide",null,null,126]
[999,"Z-Aoc League Michi",null,null,579]
[1000,"Z-Arabian Nomad",null,null,1081]
[1001,"Z-Arctic Islands",null,null,42]
[1002,"Z-Arctic Steppes",null,null,993]
[1003,"Z-Army",null,null,707]
[1004,"Z-Arutha10",null,null,847]
[1005,"Z-Atacama",null,null,1048]
[1006,"Z-Atlantean Relics",null,null,571]
[1007,"Z-Barent's Island",null,null,1128]
[1008,"Z-Barnyard Raider",null,null,972]
[1009,"Z-Basin",null,null,62]
[1010,"Z-Beauville Lite",null,null,745]
[1011,"Z-Beauville",null,null,740]
[1012,"Z-BestMichi(Flat)",null,null,1252]
[1013,"Z-Beyond The Horizon",null,null,564]
[1014,"Z-BF Donut2",null,null,20]
[1015,"Z-BigGameBeta",null,null,688]
[1016,"Z-Blackforest",null,null,1009]
[1017,"Z-Blizzard-multi",null,null,590]
[1018,"Z-Blue Arabia",null,null,568]
[1019,"Z-Boiling Lake",null,null,465]
[1020,"Z-Boomtown2",null,null,1049]
[1021,"Z-Bridge on the River",null,null,491]
[1022,"Z-Brinkface",null,null,687]
[1023,"Z-Brokenhead",null,null,266]
[1024,"Z-Butthole",null,null,888]
[1025,"Z-Canyonlands",null,null,670]
[1026,"Z-Capricious",null,null,1212]
[1027,"Z-Caravans",null,null,103]
[1028,"Z-Caribbean",null,null,551]
[1029,"Z-Carribean",null,null,123]
[1030,"Z-Cath?drale du pin",null,null,1068]
[1031,"Z-Center Lake",null,null,347]
[1032,"Z-Chess",null,null,482]
[1033,"Z-City On Hill",null,null,479]
[1034,"Z-City on the Lake",null,null,784]
[1035,"Z-Civic Arena",null,null,33]
[1036,"Z-Civic Forest",null,null,1120]
[1037,"Z-Civic Islands",null,null,733]
[1038,"Z-Civil War",null,null,379]
[1039,"Z-Coastal",null,null,1182]
[1040,"Z-Comm Islands",null,null,453]
[1041,"Z-Cove",null,null,611]
[1042,"Z-Covetest1",null,null,851]
[1043,"Z-Cross Lake",null,null,140]
[1044,"Z-Death Valley",null,null,798]
[1045,"Z-Desert Steppes",null,null,49]
[1046,"Z-Desert_Atoll",null,null,952]
[1047,"Z-Dog Fight",null,null,659]
[1048,"Z-Donut Desert 3",null,null,951]
[1049,"Z-DP@Lakes",null,null,1022]
[1050,"Z-DP@New_Dawn",null,null,210]
[1051,"Z-Early Warning",null,null,1255]
[1052,"Z-El Nino",null,null,1142]
[1053,"Z-Elbe Estuaries",null,null,322]
[1054,"Z-Enchanted Forest",null,null,25]
[1055,"Z-ES@Canals_v2",null,null,211]
[1056,"Z-ES@Capricious_v2",null,null,455]
[1057,"Z-ES@Dingos_v2",null,null,383]
[1058,"Z-ES@Graveyards_v2",null,null,162]
[1059,"Z-ES@Metropolis_v2",null,null,61]
[1060,"Z-ES@Moats_v2",null,null,373]
[1061,"Z-ES@ParadiseIsland_v2",null,null,836]
[1062,"Z-ES@Pilgrims_v2",null,null,1158]
[1063,"Z-ES@Prairie_v2",null,null,105]
[1064,"Z-ES@Seasons_v2",null,null,615]
[1065,"Z-ES@Sherwood_Forest_v2",null,null,1116]
[1066,"Z-ES@Sherwood_Heroes_v2",null,null,1181]
[1067,"Z-ES@Shipwreck_v2",null,null,417]
[1068,"Z-ES@Team_Glaciers_v2",null,null,720]
[1069,"Z-ES@The_Unknown_v2",null,null,647]
[1070,"Z-Evality Defined",null,null,50]
[1071,"Z-Everglades",null,null,663]
[1072,"Z-EXE@Bergwald",null,null,739]
[1073,"Z-Farmland",null,null,83]
[1074,"Z-Filename",null,null,966]
[1075,"Z-Flatlands",null,null,991]
[1076,"Z-FN3",null,null,396]
[1077,"Z-Fool's Stone",null,null,1021]
[1078,"Z-Forest Nothing 2",null,null,283]
[1079,"Z-Foresters",null,null,285]
[1080,"Z-Four Seas",null,null,359]
[1081,"Z-Frontier Outpost",null,null,179]
[1082,"Z-Frozen Atol",null,null,922]
[1083,"Z-Frozen Relic",null,null,329]
[1084,"Z-Funny",null,null,534]
[1085,"Z-Gemini",null,null,1126]
[1086,"Z-Ghost Scout",null,null,1011]
[1087,"Z-Ghostlake Summer",null,null,141]
[1088,"Z-Gladrms_v06_mixed",null,null,986]
[1089,"Z-Glittery Marsh_1.4",null,null,1227]
[1090,"Z-Gothic Holdings",null,null,114]
[1091,"Z-Grass Arabia",null,null,997]
[1092,"Z-Great Lakes",null,null,530]
[1093,"Z-Great Plains Hunters",null,null,364]
[1094,"Z-Green Arabia",null,null,919]
[1095,"Z-Gyoson",null,null,40]
[1096,"Z-Hallowed",null,null,64]
[1097,"Z-Hannibal Pass",null,null,542]
[1098,"Z-Hinterland",null,null,881]
[1099,"Z-Hit the beach",null,null,100]
[1100,"Z-Horseshoe Forest",null,null,1178]
[1101,"Z-Hunting Grounds",null,null,115]
[1102,"Z-Ice Barons",null,null,841]
[1103,"Z-Ice Station Zebra",null,null,401]
[1104,"Z-Island Hoppers",null,null,437]
[1105,"Z-Islands",null,null,983]
[1106,"Z-Isthmus",null,null,135]
[1107,"Z-Joan1.1",null,null,699]
[1108,"Z-Jungle Animals",null,null,846]
[1109,"Z-Jungle Atol",null,null,1080]
[1110,"Z-KoE@GA",null,null,522]
[1111,"Z-Koguryo",null,null,501]
[1112,"Z-Kush",null,null,1217]
[1113,"Z-Lagoonv1.6",null,null,1122]
[1114,"Z-Lake_Land_2",null,null,1164]
[1115,"Z-Land Nomad",null,null,1026]
[1116,"Z-Land_of_10000_Lakes",null,null,915]
[1117,"Z-Logging",null,null,621]
[1118,"Z-Lumberjack",null,null,274]
[1119,"Z-Manx",null,null,1050]
[1120,"Z-Megalegadegalopolis",null,null,559]
[1121,"Z-Mercenaries",null,null,666]
[1122,"Z-MFO@Caravans",null,null,298]
[1123,"Z-MFO@Central Sea",null,null,500]
[1124,"Z-MFO@Cove",null,null,548]
[1125,"Z-MFO@Crowded Carts",null,null,614]
[1126,"Z-MFO@DoubleBF",null,null,1253]
[1127,"Z-MFO@DoubleMed",null,null,806]
[1128,"Z-MFO@DoubleYucatan",null,null,825]
[1129,"Z-MFO@Gladiator",null,null,618]
[1130,"Z-MFO@Gyoson-b2",null,null,1201]
[1131,"Z-MFO@Its All Mine",null,null,858]
[1132,"Z-MFO@Nottingham",null,null,53]
[1133,"Z-MFO@Over The River",null,null,876]
[1134,"Z-MFO@RandomLand",null,null,1061]
[1135,"Z-MFO@RandomNewES",null,null,624]
[1136,"Z-MFO@RandomYucatan",null,null,999]
[1137,"Z-MFO@Shangri-La",null,null,616]
[1138,"Z-MFO@The Flush",null,null,533]
[1139,"Z-MFO@The Swamp",null,null,146]
[1140,"Z-MFO@Woogyland",null,null,678]
[1141,"Z-MFO@Yucatan-RF",null,null,1246]
[1142,"Z-Miles Velut Murus",null,null,563]
[1143,"Z-Mongolia Summer",null,null,345]
[1144,"Z-Mountain Trails",null,null,1104]
[1145,"Z-Mushkodayng",null,null,552]
[1146,"Z-Nahuel Huapi Lake",null,null,1043]
[1147,"Z-Naufragio",null,null,168]
[1148,"Z-Needed",null,null,1177]
[1149,"Z-New Green Arabia",null,null,357]
[1150,"Z-New Reg Type A",null,null,459]
[1151,"Z-New Reg Type BF",null,null,886]
[1152,"Z-New Reg Type RS",null,null,1006]
[1153,"Z-Non Rush River",null,null,904]
[1154,"Z-NonRushMountainV1",null,null,493]
[1155,"Z-Northlands",null,null,57]
[1156,"Z-Nottingham4",null,null,692]
[1157,"Z-Oasis Light",null,null,1032]
[1158,"Z-Open Continental",null,null,930]
[1159,"Z-Original Michi",null,null,492]
[1160,"Z-Outpost des Meeres",null,null,380]
[1161,"Z-Outward Bound",null,null,199]
[1162,"Z-Over The Gold River",null,null,155]
[1163,"Z-Over the River4",null,null,1192]
[1164,"Z-Pananma",null,null,125]
[1165,"Z-Par 4",null,null,420]
[1166,"Z-Peninsula",null,null,394]
[1167,"Z-Plain of Death2",null,null,640]
[1168,"Z-Plains",null,null,1037]
[1169,"Z-Plateau10",null,null,17]
[1170,"Z-PocketFishermen",null,null,587]
[1171,"Z-Ponderosa",null,null,157]
[1172,"Z-Post Apocalypse",null,null,1179]
[1173,"Z-Promontories_8",null,null,644]
[1174,"Z-Punk's Plain2",null,null,724]
[1175,"Z-Rain Forest",null,null,838]
[1176,"Z-Random Steppes",null,null,269]
[1177,"Z-randomizer2",null,null,727]
[1178,"Z-Random_New_ES",null,null,476]
[1179,"Z-Real Random B10",null,null,254]
[1180,"Z-Real Random II",null,null,1238]
[1181,"Z-Relic Jungle",null,null,259]
[1182,"Z-Riddlebox cliffs",null,null,316]
[1183,"Z-Ridge",null,null,470]
[1184,"Z-Ring Island",null,null,319]
[1185,"Z-Ring Map",null,null,989]
[1186,"Z-Ringworld8",null,null,550]
[1187,"Z-River Pirates",null,null,312]
[1188,"Z-Rock Slide",null,null,781]
[1189,"Z-RolfeLands",null,null,30]
[1190,"Z-Roman Roads",null,null,201]
[1191,"Z-Route 1",null,null,1235]
[1192,"Z-Samurai Lite2",null,null,767]
[1193,"Z-Santa Ricerca",null,null,837]
[1194,"Z-Saudi",null,null,897]
[1195,"Z-Savanah",null,null,636]
[1196,"Z-Scandanoid",null,null,557]
[1197,"Z-Scandinavia Summer",null,null,1145]
[1198,"Z-Sea Haven 2",null,null,943]
[1199,"Z-SeaTowerIsles",null,null,914]
[1200,"Z-Sexy Michi",null,null,471]
[1201,"Z-Shangri-La2",null,null,747]
[1202,"Z-Sharing Island",null,null,419]
[1203,"Z-Shipwrecked",null,null,892]
[1204,"Z-Siberia",null,null,853]
[1205,"Z-Steppes",null,null,971]
[1206,"Z-SuperFortress",null,null,1012]
[1207,"Z-Swamp",null,null,950]
[1208,"Z-Swamplob",null,null,288]
[1209,"Z-Team Fjord",null,null,75]
[1210,"Z-Tenoch",null,null,169]
[1211,"Z-Thanksgiving",null,null,569]
[1212,"Z-The Cowboy Way",null,null,398]
[1213,"Z-The River",null,null,1184]
[1214,"Z-TheKillingFields",null,null,697]
[1215,"Z-ThePocketFishermen101",null,null,969]
[1216,"Z-Traderts",null,null,1198]
[1217,"Z-Trapped",null,null,294]
[1218,"Z-Tub o Battles",null,null,260]
[1219,"Z-Turkey in the Straw",null,null,87]
[1220,"Z-Two Seas",null,null,891]
[1221,"Z-Ultima's Maps V1a",null,null,1239]
[1222,"Z-Ultimate Water Map10",null,null,258]
[1223,"Z-Undiscovered Worlds",null,null,769]
[1224,"Z-Urban Gold Rush",null,null,1160]
[1225,"Z-Valley of the Kings",null,null,29]
[1226,"Z-Volcanic Isles",null,null,38]
[1227,"Z-Water World",null,null,832]
[1228,"Z-West Indies",null,null,213]
[1229,"Z-Where is the Enemy",null,null,271]
[1230,"Z-Wolves",null,null,843]
[1231,"Z-Yukon",null,null,1159]
[1232,"Z-Zaire",null,null,828]
[1233,"Zero_v4",null,null,513]
[1234,"ZR@Anatolia",null,null,218]
[1235,"ZR@Andean_Mountains",null,null,680]
[1236,"ZR@Bog_Arabia_(Beta)",null,null,931]
[1237,"ZR@Bog_Forest",null,null,1095]
[1238,"ZR@ECL_Atoll",null,null,649]
[1239,"ZR@ECL_Bog",null,null,51]
[1240,"ZR@ECL_Bog_Islands",null,null,1229]
[1241,"ZR@ECL_Decentring",null,null,929]
[1242,"ZR@ECL_Eastern_Coastline",null,null,113]
[1243,"ZR@ECL_Enemy_Archipelago",null,null,887]
[1244,"ZR@ECL_Hillfort",null,null,282]
[1245,"ZR@ECL_Kilimanjaro",null,null,385]
[1246,"ZR@ECL_Riverbed",null,null,426]
[1247,"ZR@ECL_Serengeti",null,null,890]
[1248,"ZR@ECL_Southeast_Asia_Map_Pack",null,null,43]
[1249,"ZR@Frisia",null,null,650]
[1250,"ZR@Frisia_G",null,null,1110]
[1251,"ZR@Himalayan",null,null,804]
[1252,"ZR@Hourglass",null,null,1183]
[1253,"ZR@Hourglass_G",null,null,1222]
[1254,"ZR@Mangrove_Arena",null,null,13]
[1255,"ZR@Marooned_G",null,null,58]
[1256,"ZR@Paititi",null,null,262]
[1257,"ZR@Red Desert_G",null,null,173]
[1258,"ZR@Ridge_G",null,null,202]
[1259,"ZR@Seize_the_Hump_MS",null,null,1051]
[1260,"ZR@Valley of the Kings"]

{"sheet":"Kartenauswahl AoM","index":26,"n_rows":317,"n_cols":8,"rows_kept":317,"cut":false,"hidden":false,"merged":[]}
["Kartenliste und Auswahl",null,null,null,null,"Kartenauswahl"]
[null,"Karte"]
["Age of Mythology",null,null,null,{"$f":"+IF(D5=\"x\",RANDBETWEEN(A4,A318),0)","v":0}]
[1,"2015 random set 1-0",null,null,{"$f":"+_xlfn.SORTBY(_xlfn.SEQUENCE(COUNTIF(B4:B199,\"*\")),_xlfn.RANDARRAY(COUNTIF(B4:B199,\"*\")))","v":174}]
[2,"A. Tundra",null,null,109,null,null,"Nächste Karte (STRG-T)"]
[3,"acropolis",null,null,111]
[5,"acropolis-marsh",null,null,79]
[6,"acropolis-tropical",null,null,10]
[7,"aegean sea",null,null,176,null,null,"Zufall"]
[8,"alfheim",null,null,74,null,null,{"$f":"UPPER((LEFT(VLOOKUP($E$4,$A$4:$B$318,2),LEN(VLOOKUP($E$4,$A$4:$B$318,2)))))","v":"MARSH-TEMPERATE.XS"}]
[9,"alfheim-tundra",null,null,14]
[10,"Alps",null,null,62]
[11,"alternate-acropolis-v3",null,null,154]
[12,"alternate-anatolia-v3",null,null,41]
[13,"alternate-archipelago-v3",null,null,124]
[14,"alternate-erebus-v3",null,null,107]
[15,"alternate-highland-v3",null,null,98]
[16,"alternate-islands-v3",null,null,100]
[17,"alternate-marsh",null,null,166]
[18,"alternate-megalopolis-v3",null,null,49]
[19,"alternate-megaopolis-v3",null,null,32]
[20,"alternate-nomad-v3",null,null,125]
[21,"alternate-oasis-v2-vokedition",null,null,183]
[22,"alternate-random",null,null,138]
[23,"alternate-river nile-v3",null,null,101]
[25,"alternate-sea of worms-v3",null,null,102]
[26,"alternate-team migration-v3",null,null,99]
[27,"alternate-tundra-v3",null,null,117]
[28,"alternate-valley of kings-v3",null,null,4]
[29,"alternate-vinlandsaga-v3",null,null,1]
[31,"alternate-watering hole-v3",null,null,29]
[32,"amazon",null,null,68]
[33,"amazonas",null,null,141]
[34,"anatolia",null,null,83]
[35,"anatolia-gaias-forest",null,null,145]
[36,"anatolia-temperate",null,null,137]
[37,"AOM's Largest Supremecy",null,null,150]
[38,"arabia 1-0",null,null,147]
[39,"Archipel",null,null,53]
[40,"archipelago ii",null,null,193]
[41,"archipelago-temperate",null,null,113]
[42,"arctic craters",null,null,21]
[43,"Arctic Isles",null,null,112]
[44,"atlantis",null,null,167]
[45,"Bahamas",null,null,120]
[46,"basin",null,null,5]
[47,"biglin",null,null,44]
[48,"Black Forest M_P",null,null,56]
[49,"black-sea-gaias-forest",null,null,50]
[50,"canyon",null,null,90]
[51,"Cherimoya",null,null,7]
[52,"congo",null,null,131]
[53,"copy of fortress",null,null,3]
[54,"Crazy Islands",null,null,97]
[55,"danubius",null,null,45]
[56,"egyptian lake",null,null,139]
[57,"Erebos",null,null,89]
[58,"erebus",null,null,172]
[59,"fire void",null,null,91]
[60,"fourSeasons",null,null,122]
[61,"frostymountains v1-1",null,null,127]
[62,"furniheim",null,null,110]
[63,"Geistersee",null,null,149]
[64,"gelber fluss",null,null,64]
[65,"giant rlm",null,null,114]
[66,"giza",null,null,19]
[67,"gold forest",null,null,55]
[68,"Grand Marais",null,null,13]
[69,"Greece",null,null,38]
[70,"helvetia",null,null,162]
[71,"helvetien",null,null,169]
[72,"highlands",null,null,180]
[73,"highland-tundra",null,null,94]
[74,"Hochland",null,null,20]
[75,"horsky prusmyk",null,null,85]
[76,"iceworld",null,null,67]
[77,"Island Chain",null,null,186]
[78,"islands-arctic",null,null,108]
[79,"Jötunenheim",null,null,28]
[80,"jotunheim",null,null,86]
[81,"jotunheim-temperate",null,null,196]
[82,"jotunheim-tropical",null,null,184]
[83,"king of the hill",null,null,60]
[84,"Kithira",null,null,16]
[85,"lamia",null,null,191]
[86,"loki lake",null,null,140]
[87,"manaheim",null,null,105]
[88,"Marschland",null,null,51]
[89,"marsh",null,null,115]
[90,"marsh-temperate",null,null,130]
[91,"marsh-tropical",null,null,152]
[92,"mediterranean-tropical",null,null,72]
[93,"megalopolis",null,null,160]
[94,"megalopolis-gaias-forest",null,null,39]
[95,"megalopolis-jungle",null,null,11]
[96,"megalopolis-temperate",null,null,171]
[98,"megalopolis-tundra",null,null,175]
[99,"megaopolis-savannah",null,null,194]
[100,"megaopolis-tundra",null,null,185]
[101,"midgard",null,null,188]
[102,"midgard-temperate",6,null,34]
[103,"Midterrania",6,null,116]
[104,"Mittelmeer",6,null,135]
[105,"molde",6,null,24]
[106,"Monkey Valley Fair",6,null,84]
[107,"morovia",6,null,78]
[108,"mountain pass",6,null,12]
[109,"Nil",6,null,77]
[110,"Nile delta",6,null,87]
[111,"nomad",6,null,118]
[112,"nomad-gaias-forest",6,null,33]
[113,"nomad-temperate",6,null,61]
[114,"norselands",6,null,30]
[115,"norwegian forest v2",6,null,190]
[116,"oasis",6,null,54]
[117,"oasis-marsh",6,null,93]
[118,"oasis-temperate",6,null,163]
[119,"olymp",6,null,81]
[120,"painted desert 1-0",6,null,189]
[121,"Paradiso",6,null,80]
[122,"pv_northamerica",6,null,75]
[123,"Rifulheim",6,null,42]
[124,"ring of fire",6,null,187]
[125,"Ring of Ice",6,null,6]
[126,"river island",6,null,40]
[127,"river styx",6,null,148]
[128,"riverland",6,null,57]
[129,"river-nile-marsh",6,null,158]
[130,"sacred lake",6,null,181]
[131,"sacred pond 1-0",6,null,96]
[132,"savannah-marsh",6,null,2]
[133,"schluchten",6,null,182]
[134,"sea-of-worms-tropical",6,null,119]
[135,"settlement war",6,null,153]
[136,"Siwah",6,null,9]
[137,"Styx",6,null,76]
[138,"sudden death",6,null,133]
[139,"sudden-death-tropical",6,null,123]
[140,"Tal der Könige",6,null,25]
[141,"tarlin",6,null,106]
[142,"team migration",6,null,170]
[143,"team-migration-marsh",6,null,69]
[144,"the fallen world",6,null,36]
[145,"thessalien plain",6,null,156]
[146,"TimberLand",6,null,104]
[147,"Tiny2",6,null,144]
[148,"tos_northamerica-v1-1",6,null,71]
[149,"tos_vesuvius-v1",6,null,37]
[150,"tos_vesuvius-v1mm",6,null,164]
[151,"tropical mirage",6,null,31]
[152,"truerandom",6,null,129]
[153,"tundra",6,null,103]
[156,"tundra-temperate",6,null,178]
[157,"valley-of-kings-gaias-forest",6,null,146]
[158,"valley-of-kings-tundra",6,null,23]
[159,"Vinlandsaga II",6,null,192]
[160,"vinlandsaga-tropical",6,null,95]
[161,"volcano",6,null,88]
[162,"Wasserloch",6,null,27]
[163,"watering-hole-temperate",6,null,73]
[164,"watering-hole-tundra",6,null,17]
[165,"loki lake",6,null,92]
[166,"loki lake.xs",6,null,173]
[167,"Macedonia.xs",6,null,15]
[168,"manaheim",6,null,168]
[169,"Manaheim.xs",6,null,128]
[170,"Marschland.xs",6,null,43]
[171,"marsh",6,null,155]
[172,"marsh-gaias-forest.xs",6,null,58]
[173,"marsh-temperate",6,null,66]
[174,"marsh-temperate.xs",6,null,143]
[175,"marsh-tropical.xs",6,null,82]
[176,"mediterranean-arctic.xs",6,null,65]
[177,"mediterranean-tropical",6,null,179]
[178,"mediterranean-tropical.xs",6,null,121]
[179,"megalopolis.xs",6,null,63]
[180,"megalopolis-gaias-forest",6,null,46]
[181,"megalopolis-gaias-forest.xs",6,null,142]
[182,"megalopolis-jungle.xs",6,null,195]
[183,"megalopolis-jungle.xs",6,null,126]
[184,"megalopolis-savannah",6,null,47]
[185,"megalopolis-savannah.xs",6,null,151]
[186,"megalopolis-savannah.xs",6,null,35]
[187,"megalopolis-temperate.xs",6,null,134]
[188,"megalopolis-temperate.xs",6,null,22]
[189,"megalopolis-tundra",6,null,70]
[190,"megalopolis-tundra.xs",6,null,59]
[191,"megalopolis-tundra.xs",6,null,18]
[192,"megaopolis-savannah",6,null,132]
[193,"megaopolis-tundra",6,null,165]
[194,"midgard",6,null,161]
[195,"midgard.xs",null,null,159]
[196,"midgard-temperate",null,null,157]
[197,"midgard-temperate.xs",null,null,26]
[198,"midgard-tropical.xs",null,null,52]
[199,"Midterrania.xs",null,null,177]
[200,"Mittelmeer.xs",null,null,136]
[201,"molde",null,null,48]
[202,"Molde.xs",null,null,8]
[203,"monkey isle"]
[204,"Monkey Isle.xs"]
[205,"Monkey Valley Fair.xs"]
[206,"morovia"]
[207,"Morovia.xs"]
[208,"mountain pass"]
[209,"Mountain Pass.xs"]
[210,"newworld.xs"]
[211,"Nil"]
[212,"nile delta 1-0"]
[213,"nile delta 1-0.xs"]
[214,"Nile delta.xs"]
[215,"nomad.xs"]
[216,"nomad-gaias-forest"]
[217,"nomad-gaias-forest.xs"]
[218,"nomad-temperate.xs"]
[219,"nomad-tundra"]
[220,"nomad-tundra.xs"]
[221,"norselands"]
[222,"Norselands.xs"]
[223,"norwegian forest v2"]
[224,"Norwegian Forest v2.xs"]
[225,"oasis"]
[226,"oasis.xs"]
[227,"oasis-marsh.xs"]
[228,"oasis-temperate.xs"]
[229,"olymp"]
[230,"olympus"]
[231,"Olympus.xs"]
[232,"painted desert 1-0.xs"]
[233,"paradise island"]
[234,"Paradise Island.xs"]
[235,"Paradiso.xs"]
[236,"pv_northamerica"]
[237,"PV_NorthAmerica.xs"]
[238,"Rifulheim.xs"]
[239,"ring of fire"]
[240,"Ring of Fire.xs"]
[241,"Ring of Ice.xs"]
[242,"river island"]
[243,"River Island.xs"]
[244,"river nile.xs"]
[245,"river styx"]
[246,"riverland"]
[247,"riverland.xs"]
[248,"river-nile-marsh.xs"]
[249,"Rocky Mountains v1.xs"]
[250,"sacred lake"]
[251,"sacred pond 1-0.xs"]
[252,"savannah"]
[253,"savannah.xs"]
[254,"savannah-marsh"]
[255,"savannah-marsh.xs"]
[256,"savannah-temperate.xs"]
[257,"schluchten"]
[258,"Schneller Tod.xs"]
[259,"sea-of-worms-temperate"]
[260,"sea-of-worms-temperate.xs"]
[261,"sea-of-worms-tropical.xs"]
[262,"See der Würmer.xs"]
[263,"settlement war"]
[264,"Settlement War.xs"]
[265,"Siberian Winter.xs"]
[266,"sihur"]
[267,"Sihur.xs"]
[268,"Siwah.xs"]
[269,"Styx.xs"]
[270,"sudden death"]
[271,"sudden-death-gaias-forest.xs"]
[272,"sudden-death-tropical"]
[273,"sudden-death-tropical.xs"]
[274,"Suez.xs"]
[275,"Tal der Könige.xs"]
[276,"tarlin"]
[277,"Tarlin.xs"]
[278,"team migration"]
[279,"team migration.xs"]
[280,"team-migration-marsh.xs"]
[281,"Terra Incognita"]
[282,"the fallen world"]
[283,"The fallen World.xs"]
[284,"the unknown.xs"]
[285,"thessalien plain"]
[286,"TimberLand.xs"]
[287,"tiny"]
[288,"Tiny2.xs"]
[289,"TOS_Mediterranean-v1.xs"]
[290,"tos_northamerica-v1-1"]
[291,"TOS_NorthAmerica-v1-1.xs"]
[292,"tos_vesuvius-v1"]
[293,"tos_vesuvius-v1mm"]
[294,"TOS_Vesuvius-v1mm.xs"]
[295,"Treasure Island.xs"]
[296,"tropical mirage"]
[297,"truerandom.xs"]
[298,"tundra"]
[299,"tundra.xs"]
[300,"tundra-gaias-forest"]
[301,"tundra-gaias-forest.xs"]
[302,"tundra-temperate.xs"]
[303,"valley-of-kings-gaias-forest"]
[304,"valley-of-kings-gaias-forest.xs"]
[305,"valley-of-kings-marsh.xs"]
[306,"valley-of-kings-tundra"]
[307,"valley-of-kings-tundra.xs"]
[308,"vinlandsaga"]
[309,"Vinlandsaga II.xs"]
[310,"vinlandsaga.xs"]
[311,"vinlandsaga-marsh"]
[312,"vinlandsaga-marsh.xs"]
[313,"vinlandsaga-tropical.xs"]
[314,"Volcanic Island.xs"]
[315,"volcano"]
[316,"Wasserloch.xs"]
[317,"watering-hole-temperate"]
[318,"watering-hole-temperate.xs"]
[319,"watering-hole-tundra.xs"]
[320,"yellow river"]

{"sheet":"Kartenauswahl RA","index":27,"n_rows":2112,"n_cols":8,"rows_kept":2112,"cut":false,"hidden":false,"merged":[]}
["Kartenliste und Auswahl",null,null,null,null,"Kartenauswahl"]
[null,"Karte",{"$f":"+IF(D5=\"x\",RANDBETWEEN(A4,A2112),0)","v":1825}]
["RA"]
[1,"Ore Garden",null,null,{"$f":"+_xlfn.SORTBY(_xlfn.SEQUENCE(COUNTIF(B4:B2112,\"*\")),_xlfn.RANDARRAY(COUNTIF(B4:B2112,\"*\")))","v":924}]
[2,"The Web",null,"x",764,null,null,"Nächste Karte (STRG-N)"]
[3,"Arctic Wasteland",null,null,1160]
[4,"The Keyes",null,null,160]
[5,"Lakeland",null,null,1506,null,null,{"$f":"VLOOKUP($C$2,$A$4:$C$123,3)","v":0}]
[6,"Gold Coast",null,null,871,null,null,{"$f":"VLOOKUP($E$4,$A$4:$B$2112,2)","v":"Wicked White G.T."}]
[7,"Kananga",null,null,26]
[8,"Warmageddon",null,null,1090]
[9,"Naval Supremacy",null,null,1956]
[10,"River Rapids",null,null,2018]
[11,"3vs3",null,null,1802]
[12,"Innocents?",null,null,1918]
[13,"Frost Bitten",null,null,967]
[14,"A Pattern of Islands",null,null,1876]
[15,"Random Violence",null,null,1215]
[16,"Islands",null,null,877]
[17,"Twilight Flame 1940",null,null,2039]
[18,"Ashes to Ashes",null,null,402]
[19,"Arena Valley Extreme",null,null,282]
[20,"Naval Conquests",null,null,1935]
[21,"Combat Zones",null,null,2026]
[22,"Damnation Alley",null,null,1691]
[23,"Lanes",null,null,564]
[24,"Waterloo Revisitied",null,null,1870]
[25,"Bridgehead",null,null,1430]
[26,"Watch your Step Extreme",null,null,836]
[27,"7 Islands Battle!",null,null,1909]
[28,"The Struggle continues",null,null,545]
[29,"Central Conflict",null,null,601]
[30,"Bitter Lake",null,null,2054]
[31,"8 Ways to die",null,null,1536]
[32,"The Neck",null,null,2000]
[33,"Asmugglers Cove",null,null,430]
[34,"Super Bridgehead",null,null,1447]
[35,"Arctic Trev",null,null,459]
[36,"Arctic Tundra",null,null,886]
[37,"Auf Gates",null,null,630]
[38,"Balance",null,null,109]
[39,"Super Battle Arena",null,null,152]
[40,"The Finger",null,null,437]
[41,"bomber tank",null,null,1272]
[42,"bumerang",null,null,1571]
[43,"Central Island",null,null,216]
[44,"Fury Islands",null,null,265]
[45,"Docklands 2",null,null,362]
[46,"Big Fish, Small Pound",null,null,436]
[47,"Super Mekong",null,null,444]
[48,"Europe",null,null,616]
[49,"Naval Heaven",null,null,1961]
[50,"Circles of Death",null,null,55]
[51,"Baptism of Fire",null,null,2107]
[52,"Deep Six",null,null,1839]
[53,"Forest Diamond",null,null,183]
[54,"Fortress 8",null,null,1764]
[55,"Gateway to hell",null,null,1485]
[56,"Mega Map 1",null,null,1697]
[57,"Mega Map 3",null,null,2067]
[58,"Mega Map 4",null,null,1927]
[59,"Hills between two rivers",null,null,1260]
[60,"Island Wars Extreme 2",null,null,1533]
[61,"Karte 11",null,null,95]
[62,"Karte 14",null,null,161]
[63,"Karte 19",null,null,243]
[64,"Karte 2",null,null,60]
[65,"Karte 22",null,null,1343]
[66,"Karte 21",null,null,1297]
[67,"Karte 26",null,null,1559]
[68,"Karte 29",null,null,1464]
[69,"Karte 30",null,null,769]
[70,"Karte 31",null,null,302]
[71,"Lake Wars",null,null,98]
[72,"Megafight",null,null,1589]
[73,"Money",null,null,304]
[74,"Navy Squares",null,null,1793]
[75,"Path beyond revisited",null,null,1053]
[76,"Remagen, 1945",null,null,215]
[77,"Ring of Fire",null,null,1528]
[78,"Roar Shock",null,null,1997]
[79,"satan's revenge",null,null,1322]
[80,"Sea Wraps",null,null,23]
[81,"Soviet Lake",null,null,347]
[82,"Ted's",null,null,1201]
[83,"Things to come 2",null,null,327]
[84,"The Lake",null,null,59]
[85,"Volcano II",null,null,1998]
[86,"WarStar",null,null,976]
[87,"Water World",null,null,78]
[88,"1000 Lakes",null,null,1363]
[89,2000100,null,null,1828]
[90,"7 Islands Battle",null,null,927]
[91,"7 Man no Bridges",null,null,2009]
[92,"8-1-1",null,null,998]
[93,"Man Mountain",null,null,958]
[94,"8w",null,null,779]
[95,"8 Ways to Die",null,null,1427]
[96,"9 Isles of Greed",null,null,961]
[97,"A Pattern of Islands Extreme",null,null,1276]
[98,"Abandoned Battlefield",null,null,1660]
[99,"Across the Bridge",null,null,1553]
[100,"Alctraz",null,null,1891]
[101,"All Wet 2",null,null,278]
[102,"Artic Trev",null,null,1166]
[103,"A Time to Die",null,null,305]
[104,"Auf Gates",null,null,1510]
[105,"Bitter Lake",null,null,227]
[106,"Central Island",null,null,344]
[107,"Europe",null,null,584]
[108,"Forest Diamond",null,null,922]
[109,"Fortress ",null,null,2069]
[110,"garden idyll",null,null,587]
[111,"Gateway to Hell",null,null,442]
[112,"Mega Map 1",null,null,890]
[113,"Mega Map 3",null,null,1550]
[114,"Mega Map 4",null,null,355]
[115,"Hills Between",null,null,1002]
[116,"Island Wars Extreme 2",null,null,121]
[117,"Lake Wars",null,null,1387]
[118,"Megafight",null,null,880]
[119,"Money hard",null,null,1025]
[120,"Navy Squares",null,null,1518]
[121,"North America",null,null,1337]
[122,"Remagen",null,null,818]
[123,"Ring of Fire",null,null,911]
[124,"Roar Shock 8",null,null,1830]
[125,"Rocky Mouatin",null,null,807]
[126,"Sea Invasion",null,null,1786]
[127,"Super Ore Gardens 2",null,null,6]
[128,"Ted's",null,null,229]
[129,"Things to Come 2",null,null,226]
[130,"Volcano II",null,null,1853]
[131,"War Star",null,null,1688]
[132,"WaterWorld",null,null,1456]
[133,"Frozen Valley",null,null,37]
[134,"Icebergs",null,null,1419]
[135,"Islands",null,null,1663]
[136,"Mekong",null,null,412]
[137,"The Lakes",null,null,1117]
[138,"The Neck",null,null,345]
[139,"Blue Lakes",null,null,953]
[140,"$1,000,000",null,null,826]
[141,"Battle Clover: Raze",null,null,1968]
[142,"Buck's map (2-8)",null,null,1088]
[143,"Mountian Pass - www.dgsys.com/~baba",null,null,1878]
[144,"Lake of the Pines (126 x 64)",null,null,659]
[145,"Mountian Pass Part Duex",null,null,1056]
[146,"Mountian Pass Part Duex",null,null,1798]
[147,"Move It JT",null,null,324]
[148,"44 (64:126) W/4/LW/1147 by Extract ",null,null,1627]
[149,"MOVIN' FAST (4 PLAYERS)(DJL-SML)",null,null,472]
[150,"msp2",null,null,466]
[151,"msp3",null,null,1883]
[152,"msp4",null,null,1030]
[153,"02 (126:64) T/2/LW/944 by Extract 1",null,null,536]
[154,"Mount Doom",null,null,803]
[155,"Mthelen",null,null,1284]
[156,"Lake of Death - www.dgsys.com/~baba",null,null,423]
[157,"Mt. Helen - www.dgsys.com/~babak",null,null,214]
[158,"mthelen",null,null,916]
[159,"muddy delta (LG) (8)",null,null,1479]
[160,"MULTI-PLAYER (MEDIUM) (7 PLAYERS)",null,null,704]
[161,"+American Battle - www.dgsys.com/~b",null,null,1873]
[162,"45 (94:94) T/2/LW/310 by Extract 2/",null,null,1042]
[163,"MULTI-PLAYER (7 PLAYERS) (RAMP2.0)",null,null,283]
[164,"Map Number One",null,null,1476]
[165,"Mysterious Island - Dist. by Madnes",null,null,1715]
[166,"Mystery Island - www.dgsys.com/~bab",null,null,172]
[167,"Lake of Pines - www.dgsys.com/~baba",null,null,2088]
[168,"n) hjk 4",null,null,900]
[169,"n) New Southern California 1947",null,null,1271]
[170,"47 (70:84) T/2/LW/614 by Extract 3/",null,null,462]
[171,"48 (126:64) T/5/LW/779 by Extract 3",null,null,1217]
[172,"N vs S",null,null,1355]
[173,"Naval Access(4 players)",null,null,671]
[174,"Lakeside - www.dgsys.com/~babak",null,null,1083]
[175,"BUCK'S RIVER (MEDIUM) (7 PLAYERS)",null,null,1130]
[176,"Naval Assault",null,null,470]
[177,"Naval Battles",null,null,626]
[178,"NAVAL COMBAT (8 PLAYERS) (RAMP2.0)",null,null,898]
[179,"NAVAL COMBAT (MEDIUM) (8 PLAYERS)",null,null,1257]
[180,"Naval Fortresses",null,null,1461]
[181,"NAVAL FORTRESSES (MEDIUM) (6 PLAYER",null,null,1425]
[182,"Naval Heaven - www.dgsys.com/~babak",null,null,343]
[183,"Naval Heaven - Distributed by Madne",null,null,1232]
[184,"49 (64:126) T/4/LW/777 by Extract 0",null,null,723]
[185,"Naval Heaven",null,null,1984]
[186,"Buck's River - www.dgsys.com/~babak",null,null,1615]
[187,"37 (96:96) T/4/LW/1455 by Extract 0",null,null,1896]
[188,"Naval Nightmare - www.dgsys.com/~ba",null,null,1752]
[189,"Naval War",null,null,122]
[190,"NAVEL ASSAULT (6 PLAYERS) (RAMP2.0)",null,null,1378]
[191,"Navy Squares",null,null,286]
[192,"Navy Train (Lg)",null,null,2024]
[193,"Nazi Return - www.dgsys.com/~babak",null,null,879]
[194,"Nazi Return",null,null,2100]
[195,"Neighbors (c)M",null,null,246]
[196,"NEIGHBORING PROBLEMS (SMALL) (3 PLA",null,null,1435]
[197,"Buck's River - www.dgsys.com/~babak",null,null,1155]
[198,"IFormat=3",null,null,395]
[199,"Lakes'n'rivers aww maaate!!!",null,null,1800]
[200,"Netz1",null,null,16]
[201,"new dawn (by kleaner and bud-foxx)",null,null,1666]
[202,"New Southern California 1947",null,null,1055]
[203,"IFormat=3",null,null,2028]
[204,"New stuff which youcan copy in your",null,null,1721]
[205,"New Thingy",null,null,1598]
[206,"NEW WAVE (8 PLAYERS)(DJL-LG)",null,null,861]
[207,"Niceland: Skotta",null,null,1492]
[208,"Bukovina Battlefield (LG)(8)",null,null,966]
[209,"The Nile",null,null,917]
[210,"No Corners",null,null,1197]
[211,"lake superior *(tequila)*",null,null,1916]
[212,"4 Cornered World - www.dgsys.com/~b",null,null,1459]
[213,"No No No",null,null,2103]
[214,"No Other Way - www.dgsys.com/~babak",null,null,150]
[215,"No Other Way",null,null,1325]
[216,"No problemo!",null,null,554]
[217,"No Problemo - www.dgsys.com/~babak",null,null,1542]
[218,"Nordland Winter - www.dgsys.com/~ba",null,null,1416]
[219,"Bull's Eye - www.dgsys.com/~babak",null,null,950]
[220,"Nordland - www.dgsys.com/~babak",null,null,1234]
[221,"Nordland",null,null,157]
[222,"LAKE TAHOE (MEDIUM) (4 PLAYERS)",null,null,1595]
[223,"No Room (c)S",null,null,1488]
[224,"Four Islands (med)",null,null,1767]
[225,"No Room Snow (c)S",null,null,1280]
[226,"north&south",null,null,184]
[227,"Northern Utah 5050",null,null,698]
[228,"North -n- South (c)M",null,null,2037]
[229,"Bull's Eye - www.dgsys.com/~babak",null,null,676]
[230,"North America",null,null,1174]
[231,"northern cross",null,null,68]
[232,"Northern Hatu 7602",null,null,1568]
[233,"North-South",null,null,1806]
[234,"Lake Tahoe - www.dgsys.com/~babak",null,null,247]
[235,"North vs. South (LG)",null,null,193]
[236,"NORWEGIAN FIELDS (4 PLAYERS) (RAMP2",null,null,2008]
[237,"4 Isles",null,null,1951]
[238,"Norwegian Fjords (1) (Snow/Lg-8pl.)",null,null,1014]
[239,"Nowhere Rd.",null,null,1902]
[240,"Bull's Eye Vally - Dist. by Madness",null,null,1417]
[241,"Now This Is War",null,null,1524]
[242,"Now This Is War",null,null,903]
[243,"NSC, exodus to",null,null,90]
[244,"NSC  Niklas",null,null,43]
[245,"Nuclear Annihilation (2-8)",null,null,2086]
[246,"35 (96:96) W/5/LW/662 by Extract 01",null,null,973]
[247,"Lakes of Hell",null,null,736]
[248,"NUCLEAR FALLOUT (4 PLAYERS) (RAMP2.",null,null,583]
[249,"Nukedude Rage Ver 1.0",null,null,387]
[250,"Battle for Gem Island (Lg)",null,null,1080]
[251,"BULL'S EYE VALLEY (LARGE) (8 PLAYER",null,null,1659]
[252,"4 Isle War",null,null,1431]
[253,"Nuke Wars",null,null,51]
[254,"N vs S",null,null,47]
[255,"N vs S",null,null,427]
[256,"Northern Hatu 7602",null,null,1612]
[257,"Obstacle",null,null,1871]
[258,"OCCUPIED EUROPE (8 PLAYERS) (RAMP2.",null,null,1594]
[259,"Land, Air, Sea - www.dgsys.com/~bab",null,null,821]
[260,"ocean",null,null,314]
[261,"ocean1",null,null,1480]
[262,"bullseye ***biggert***",null,null,579]
[263,"ocean combat (lg)",null,null,603]
[264,"+Ardennes - www.dgsys.com/~babak",null,null,1314]
[265,"4 Isle War",null,null,219]
[266,"Ocean Meadows",null,null,1728]
[267,"Off-Ramp to Hell 4",null,null,792]
[268,"Name=olah",null,null,675]
[269,"Old McDonald",null,null,1980]
[270,"Olenek River",null,null,952]
[271,"map1",null,null,298]
[272,"one bridge too far (by mmv) V0.99",null,null,930]
[273,"Bunker (Gr.)",null,null,1036]
[274,"One Man Standing (c)",null,null,1074]
[275,"One Must Win - www.dgsys.com/~babak",null,null,718]
[276,"ONE ON ONE (2)",null,null,863]
[277,"One River -to death",null,null,701]
[278,"ONE TWO SIX * ONE TWO SIX",null,null,1028]
[279,"One Way (LG)",null,null,25]
[280,"one way",null,null,1054]
[281,"One Way on (c)S",null,null,1507]
[282,"Land Bridges - RC Map Pack v1.0",null,null,1784]
[283,"Blue Lagoons 1.0 (Lg2-4plr)",null,null,742]
[284,"One Way Street",null,null,1259]
[285,"ON HOLIDAY (8 PLATERS)(DJL-LG)",null,null,1145]
[286,"only one way",null,null,1953]
[287,"On Top Of It All",null,null,1735]
[288,"oompah's Last Stand: oompah",null,null,935]
[289,"Open House (c)M",null,null,948]
[290,"4 Player Winter (c)S",null,null,885]
[291,"Operation 'Lake Thunderdome'",null,null,651]
[292,"shores",null,null,1929]
[293,"ore island Map1",null,null,1349]
[294,"Map Number Two",null,null,713]
[295,"Land Bridges",null,null,574]
[296,"Ore Island 2:Megatime",null,null,421]
[297,"Ore Island 3:The Third Conflict",null,null,1731]
[298,"Ore Island 4:Final Conflict",null,null,380]
[299,".Ore Island 5:The Gems Shall Guide ",null,null,974]
[300,"Ore Island 6:A Good Day To Kill",null,null,1489]
[301,"Ore Island 7:Jet Fighters",null,null,946]
[302,"Ore and more",null,null,1177]
[303,"4 Player Summer (c)S",null,null,926]
[304,"Ore Beach",null,null,419]
[305,"02b (126:64) T/3/LW/922 by Extract ",null,null,1966]
[306,"Ore Beach (C)Pixel Scenarios (LG)",null,null,1162]
[307,"Land Bridge",null,null,876]
[308,"Ore Fields - www.dgsys.com/~babak",null,null,1134]
[309,"Ore Galore 5555: leatherneck",null,null,1603]
[310,"Ore Galore JT",null,null,1185]
[311,"Name=Ore Garden(mod.)",null,null,772]
[312,"Ore Garden - www.dgsys.com/~babak",null,null,1651]
[313,"Ore Gardens",null,null,860]
[314,"Ore Gardens - www.dgsys.com/~babak",null,null,1470]
[315,"Ore Guarder (Lg)",null,null,1573]
[316,"Bunker Wars Extreme",null,null,1142]
[317,"4 Ponds Plus",null,null,535]
[318,"Ore Guarder 2 (Lg)",null,null,613]
[319,"38 (96:96) T/6/LW/861 by Extract 02",null,null,1675]
[320,"Ore Guarder 3 (Lg)",null,null,655]
[321,"Ore in the middle",null,null,1312]
[322,"Ore Island 2:Megatime",null,null,1723]
[323,"Ore Landing (T)",null,null,296]
[324,"ore madness *(tequila&ouzo)*",null,null,1452]
[325,"Ore Mountain",null,null,1386]
[326,"Ore Mountain - www.dgsys.com/~babak",null,null,1683]
[327,"Busab River Delta (lg--Sabot909)",null,null,39]
[328,"Ore Mountian [Revolution-X aka Long",null,null,268]
[329,"Ore Of The Mountains (Sm/1-7 P./SNO",null,null,1704]
[330,"4 Ponds Plus",null,null,1344]
[331,"Land Experiment II: Professor",null,null,1970]
[332,"Ore Of The Mountains II (SM)",null,null,2080]
[333,"ORE PAVILLION (6 PLAYERS) (RAMP2.0)",null,null,273]
[334,"ore pit",null,null,315]
[335,"ORE PLAINS (MEDIUM) (7 PLAYERS)",null,null,75]
[336,"ORE PLAINS (7 PLAYERS) (RAMP2.0)",null,null,1149]
[337,"Ore Plateau",null,null,775]
[338,"X) Bush Whackin'",null,null,1274]
[339,"Ore Plateau",null,null,969]
[340,"Ore Swamp (lg) <HRF>",null,null,33]
[341,"OREth of July - www.dgsys.com/~baba",null,null,1608]
[342,"Ore Trucks Nightmare EB3",null,null,932]
[343,"Land of 1000 Lakes - Dist. by Madne",null,null,882]
[344,"4Way Maneuvers: Romo",null,null,467]
[345,"bump",null,null,1864]
[346,"Ore Warz 2057",null,null,1587]
[347,"ore whore",null,null,1813]
[348,"ORE WORLD (LARGE) (4 PLAYERS)",null,null,912]
[349,"BUTTERFLY (4 PLAYERS) (RAMP2.0)",null,null,1616]
[350,"ORE WORLD (4 PLAYERS) (RAMP2.0)",null,null,1730]
[351,"Overlord's Haven",null,null,1736]
[352,"Overlord's Haven",null,null,1191]
[353,"Over Seas War",null,null,738]
[354,"Jonmap",null,null,2051]
[355,"land of freedom",null,null,457]
[356,"Over The Pass - www.dgsys.com/~baba",null,null,1436]
[357,"4X's Mountains",null,null,264]
[358,"Over The River - www.dgsys.com/~bab",null,null,41]
[359,"PACIFIC COMBAT (LARGE) (4 PLAYERS)",null,null,1649]
[360,"Battle Field 2 (c)M",null,null,1622]
[361,"pacific war",null,null,858]
[362,"Pacific Island (8) (XLG)",null,null,1645]
[363,"PACO'S WAR COLLEGE (MEDIUM) (7 PLAY",null,null,325]
[364,"Paco's War Colledge",null,null,1493]
[365,"paradise (LGE)",null,null,1863]
[366,"Passes of Fate",null,null,787]
[367,"Kumbaya - www.dgsys.com/~babak",null,null,1265]
[368,"Land of Lakes (c)M",null,null,1994]
[369,"Paul Bunyon",null,null,1928]
[370,"5) Battle Central (96x96)",null,null,236]
[371,"By Air Or By Sea (Up to 8) AMANAMAN",null,null,825]
[372,"Peace of War (Lg)",null,null,369]
[373,"Pearl Harbour II (Lg)",null,null,94]
[374,"Peasant Valley",null,null,989]
[375,"Peasant Valley: Aceman",null,null,606]
[376,"Penetration - www.dgsys.com/~babak",null,null,73]
[377,"Penis Envy",null,null,1672]
[378,"Peninsula (Lg) -Asp",null,null,1118]
[379,"People Eater G.T.",null,null,2096]
[380,"Land of Binx",null,null,1021]
[381,"Perturbo",null,null,700]
[382,"Caldera GOLD (Lg)",null,null,1602]
[383,"PhantasmaOREria - www.dgsys.com/~ba",null,null,1829]
[384,"50 (64:64) T/2/LW/208 by Extract 3/",null,null,660]
[385,"PhantasmaOREria - Dist. by Madness",null,null,734]
[386,"phatcat",null,null,981]
[387,"phatcock-modem.map",null,null,1123]
[388,"Phenomenom (C) Pixel Scenarios (LG)",null,null,970]
[389,"Philidelphia (Lg)(8) by Tiberman",null,null,1820]
[390,"phukawee...the lost tribe",null,null,1071]
[391,"PHYRRIC VICTORY (6 PLAYERS) (RAMP2.",null,null,1503]
[392,"Land Rush - www.dgsys.com/~babak",null,null,1835]
[393,"CALDERA GOLD (MEDIUM) (8 PLAYERS)",null,null,897]
[394,"Pick-a-Spot (c)S",null,null,21]
[395,"Pick a Pot",null,null,1045]
[396,"Picnic for Two: Ironpack",null,null,382]
[397,"+Bloody Rivers - www.dgsys.com/~bab",null,null,1748]
[398,"Pirate's Ore - www.dgsys.com/~babak",null,null,178]
[399,"PIRATE ISLAND (8 PLAYERS) (RAMP2.0)",null,null,333]
[400,"Pirates Bight: Ironside",null,null,258]
[401,"Plague of War - www.dgsys.com/~baba",null,null,873]
[402,"Plague of War",null,null,949]
[403,"Caldera GOLD (Lg)",null,null,489]
[404,"Land Superiority (Lg)",null,null,814]
[405,"Plains of Snow (c)M",null,null,454]
[406,"plateu grande",null,null,200]
[407,"Plinko",null,null,36]
[408,"PLAINS of MAZE",null,null,1067]
[409,"Pockets (c)S",null,null,643]
[410,"5 Squares: Sun-tsu",null,null,1776]
[411,"Point Blank (Lg)",null,null,1326]
[412,"POINT FIVE",null,null,526]
[413,"poison never tasted so sweet (sm)",null,null,360]
[414,"California - The Project Map Pack",null,null,148]
[415,"Polar Extreme(Lg)",null,null,79]
[416,"Land War - www.dgsys.com/~babak",null,null,672]
[417,"POLAR TREK (4 PLAYERS) (RAMP2.0)",null,null,1442]
[418,"Pond",null,null,776]
[419,"Pond Battle - www.dgsys.com/~babak",null,null,1114]
[420,"Battle of the pond",null,null,1947]
[421,"Ports  of  Death",null,null,390]
[422,"Port Stephens (NSW, Australia)",null,null,245]
[423,"5th Ring - www.dgsys.com/~babak",null,null,276]
[424,"Possum Kingdom",null,null,1499]
[425,"03 (126:64) T/2/LW/967 by Extract 1",null,null,1500]
[426,"Potential By JEHU2",null,null,638]
[427,"Pot holes (c)M",null,null,405]
[428,"Power commando (126x64)",null,null,351]
[429,"Power commando (126x64)",null,null,206]
[430,"Power Is The Key",null,null,1591]
[431,"Power to the people(sm)",null,null,2045]
[432,"Pray For Escape (MD)",null,null,715]
[433,"Professor's Land Experiment: Profes",null,null,290]
[434,"Protection verson 1.2",null,null,446]
[435,"Pure Hell (Lg)",null,null,753]
[436,"Cambridge",null,null,1303]
[437,"6) This Means War!!! (96x96)",null,null,1454]
[438,"Pyramid Wars...(Four Players)",null,null,2083]
[439,"Pyramid Wars - www.dgsys.com/~babak",null,null,1973]
[440,"lan of freedom upgrade by termanate",null,null,590]
[441,"pyramid",null,null,541]
[442,"Quad Cities (4 Player 96x96)",null,null,1791]
[443,"Quadruple island battle(Lg)",null,null,330]
[444,"quartersRA (LG) (2-4)",null,null,1498]
[445,"QuartersRA - www.dgsys.com/~babak",null,null,611]
[446,"QuartersRA",null,null,1405]
[447,"Campagne",null,null,1990]
[448,"quartersRA",null,null,1440]
[449,"Quest For Rest (Med)",null,null,539]
[450,"7) If U can't swim - U die!!! (96x9",null,null,1724]
[451,"QUICK BUCK (4 PLAYERS)(DJL-SML)",null,null,1073]
[452,"39 (96:96) W/4/L/897 by Extract 02/",null,null,848]
[453,"V) ares*** No good",null,null,1515]
[454,"7th Heaven",null,null,384]
[455,"7th Heaven (Lg)",null,null,140]
[456,"RABID FIELDS (6 PLAYERS) (RAMP2.0)",null,null,1113]
[457,"RA Friends (c)",null,null,1023]
[458,"Campagne",null,null,321]
[459,"The Raging battle (4 Players)",null,null,592]
[460,"Raging River of Ore - Dist. by Madn",null,null,1100]
[461,"8) The Battle for Artic (126x64)",null,null,1255]
[462,"rain and thunder (2-8)",null,null,1264]
[463,"Raming Speed",null,null,1052]
[464,"last resort (lg)",null,null,1279]
[465,"RamJet Summer (c)M",null,null,259]
[466,"RamJet Winter (c)M",null,null,424]
[467,"Range war (lrg)",null,null,1963]
[468,"RAPID RIVERS (MEDIUM) (4 PLAYERS)",null,null,35]
[469,"Battle Field 3 (c)M",null,null,571]
[470,"Canal Walls",null,null,1347]
[471,"RAPID RIVERS (4 PLAYERS) (RAMP2.0)",null,null,760]
[472,"RAPID WATER (SMALL) (3 PLAYERS)",null,null,1846]
[473,"RAPID WATER (3 PLAYERS) (RAMP2.0)",null,null,1278]
[474,"River Ravage (64x128)",null,null,1082]
[475,"Eight Islands (by SQLman)",null,null,1441]
[476,"Razoredge Canyon",null,null,119]
[477,"last resort (lg)",null,null,474]
[478,"Road to Hell",null,null,209]
[479,"Red Alert's Baby",null,null,1775]
[480,"red on white G.T. 126*126",null,null,1520]
[481,"Candy Valley",null,null,888]
[482,"Red Passible (8) (MED)",null,null,407]
[483,"Redwatch River Rush",null,null,856]
[484,"Red Rivers Cold Canyons",null,null,937]
[485,"RED WARRIORS G.T.",null,null,809]
[486,"Redwatch River Rush",null,null,337]
[487,"Redwatch Winter Rally",null,null,712]
[488,"8 way DM",null,null,1631]
[489,"La Isla de los Huitis (Lg)",null,null,711]
[490,"LAST STAND (2 PLAYERS) (RAMP2.0)",null,null,2048]
[491,"Redwatch Winter Rally",null,null,1129]
[492,"CAN TELL (7 PLAYERS)(DJL-LG)",null,null,1624]
[493,"regulatis 1",null,null,497]
[494,"Resistance - www.dgsys.com/~babak",null,null,1434]
[495,"Rich & Simple 2",null,null,346]
[496,"riches of jewels",null,null,1895]
[497,"Rich Ore, Rich Hell",null,null,131]
[498,"king of the hill",null,null,765]
[499,"A Ridge To Far....(two player map)",null,null,1759]
[500,"Ridge Runner",null,null,197]
[501,"Ridges - www.dgsys.com/~babak",null,null,1223]
[502,"Latimerland",null,null,559]
[503,"Capital \"S\" (lg--Sabot909)",null,null,1393]
[504,"+Caldera Gold - www.dgsys.com/~baba",null,null,663]
[505,"8 X 6 Farm",null,null,2021]
[506,"Ridges To Babylon 1-Euphrates",null,null,1328]
[507,"Righteous Power (lg)",null,null,1535]
[508,"Right of Passage (sm)",null,null,352]
[509,"Ring Of Fire (126)",null,null,1907]
[510,"RIVER (6 PLAYERS) (RAMP2.0)",null,null,1060]
[511,"RIVER (MEDIUM) (6 PLAYERS)",null,null,115]
[512,"River",null,null,482]
[513,"River",null,null,1799]
[514,"Capitol Eclipse",null,null,153]
[515,"Let Love be our Guide",null,null,281]
[516,"Riverboat Gambler",null,null,1178]
[517,"River Crossings - www.dgsys.com/~ba",null,null,370]
[518,"9) The fight for freedom (96x96)",null,null,708]
[519,"River Crossings - Dist. by Madness",null,null,1359]
[520,"River Crossing",null,null,88]
[521,"River Death JT",null,null,1112]
[522,"River Gorge (64x126)",null,null,1050]
[523,"River in the middle - Dist. by Madn",null,null,1007]
[524,"Riverlake Drive (Lg)",null,null,1005]
[525,"mark",null,null,3]
[526,"River Madness - www.dgsys.com/~baba",null,null,1593]
[527,"LIKE SAILIN' (7 PLAYERS)(DJL-LG)",null,null,422]
[528,"River of Ore - www.dgsys.com/~babak",null,null,300]
[529,"River Of Mithir (96x96)(2-4)",null,null,510]
[530,"RIVER RAGE (MEDIUM) (4 PLAYERS)",null,null,693]
[531,"9 Isles of Greed - www.dgsys.com/~b",null,null,1733]
[532,"River Raid (Sm)",null,null,1703]
[533,"RIVER RIOT 2 (4 PLAYERS) (RAMP2.0)",null,null,1877]
[534,"RIVER RIOT 2 (4 PLAYERS) (RAMP2.0)",null,null,2091]
[535,"River Runs Wide - Dist. by Madness",null,null,1226]
[536,"CAPITOL ECLIPSE (4 PLAYERS) (RAMP2.",null,null,874]
[537,"River Runs Wide - www.dgsys.com/~ba",null,null,252]
[538,"Rivers & Lakes (Lg)",null,null,992]
[539,"L'ILE AU TRESOR (2 PLAYERS) (RAMP2.",null,null,696]
[540,"Rivers",null,null,531]
[541,"River's Edge",null,null,1560]
[542,"Rivers (Lg)",null,null,1653]
[543,"Rivers And Canyons: Ironpack",null,null,831]
[544,"A 3 Country War",null,null,1065]
[545,"Rivers Cross",null,null,1780]
[546,"Riverside - www.dgsys.com/~babak",null,null,1146]
[547,"Capture the Islands",null,null,1016]
[548,"River Strands - www.dgsys.com/~baba",null,null,266]
[549,"River Wars (Med)",null,null,528]
[550,"RIVER WILD (6 PLAYER) (RAMP2.0)",null,null,756]
[551,"L'ile au Tresor - www.dgsys.com/~ba",null,null,714]
[552,"River Wild (Lg)",null,null,239]
[553,"Riverworld - Distributed by Madness",null,null,19]
[554,"Riverworld - www.dgsys.com/~babak",null,null,699]
[555,"River and ORE",null,null,1398]
[556,"ROAD TO MOSCOW (4 PLAYERS) (RAMP2.0",null,null,2076]
[557,"a 3 country war (Lg)",null,null,1574]
[558,"04 (96:96) W/4/L/1119 by Extract 12",null,null,11]
[559,"Road To Zion (Sm)",null,null,1250]
[560,"Roast Em' - www.dgsys.com/~babak",null,null,1413]
[561,"Rock and woods",null,null,517]
[562,"rockey mountains",null,null,1679]
[563,"Lithium(Lg)",null,null,942]
[564,"Rock Garden: Capture the Flag",null,null,813]
[565,"ROCKS",null,null,1706]
[566,"Rocky Mouatin",null,null,1352]
[567,"Rocky Ridge",null,null,1180]
[568,"ROCKY RIDGE (MEDIUM) (8 PLAYERS)",null,null,248]
[569,"card10 126 X 64",null,null,1224]
[570,"Rought Terrain",null,null,1639]
[571,"Abandoned Battlefield",null,null,1119]
[572,"Round House (c)M",null,null,1407]
[573,"RUBY RIDGE (4 PLAYERS) (RAMP2.0)",null,null,514]
[574,"Ruhm & Ehre (8)",null,null,1251]
[575,"Little House on the Praire",null,null,5]
[576,"Runamuck - www.dgsys.com/~babak",null,null,972]
[577,"Run for the Money",null,null,1762]
[578,"RUNNING RIVER (7 PLAYERS) (RAMP2.0)",null,null,354]
[579,"Mamoth Lake Summer",null,null,1382]
[580,"27) Naval Assault (96x96)",null,null,632]
[581,"Abandoned Battlefield",null,null,1713]
[582,"A Big, Big War",null,null,1035]
[583,"About those trees",null,null,234]
[584,"+Diablo's Island - www.dgsys.com/~b",null,null,1974]
[585,"A Bridge Too Far (lg)",null,null,1366]
[586,"A Bridge 2 Far",null,null,682]
[587,"3 Bridges to Victory",null,null,798]
[588,"across the sea",null,null,1020]
[589,"Across the Rhine",null,null,500]
[590,"Across the Rhine",null,null,1275]
[591,"card11 96 X 96",null,null,1668]
[592,"Sabotage (lg--Sabot909)",null,null,971]
[593,"Sanctuary",null,null,1693]
[594,"sancturary (sm)",null,null,951]
[595,"Sanfraniso (LG)",null,null,279]
[596,"Sanibel vs. Captiva     *by Digital",null,null,1626]
[597,"Emiel1",null,null,1415]
[598,"CARD12 64 x 126",null,null,1200]
[599,"Africa Missions-Zaire",null,null,1763]
[600,"sea and land",null,null,710]
[601,"SEA OF GALALAE (8 PLAYERS) (RAMP2.0",null,null,1948]
[602,"Search-N-Take (Lg) by Laxx",null,null,192]
[603,"Lake Laatokka (96x96) ~jn}",null,null,1801]
[604,"Little God's Garden: Gilmore",null,null,1971]
[605,"card13",null,null,1565]
[606,"Seawar!!!!!!!!!!! (Lg)",null,null,93]
[607,"Sections 2",null,null,1321]
[608,"Sections",null,null,1076]
[609,"Sections",null,null,599]
[610,"A German Wargame",null,null,1976]
[611,"Sections 3: Rebirth",null,null,1183]
[612,"Sector 384: Romo",null,null,1556]
[613,"Seek-n-Destroy (c)S",null,null,1690]
[614,"Selenge River",null,null,1263]
[615,"Shadows of the Snow J.T.",null,null,316]
[616,"card14 96 x 96",null,null,449]
[617,"Land Strip 1, 2, or 3?(Med) J.L.HEG",null,null,2073]
[618,"Sheffield Wenesday",null,null,1342]
[619,"SHINNING (5 PLAYERS)(DJL-MED)",null,null,491]
[620,"Shipyard: Mongolian",null,null,1450]
[621,"Shipyard: Mongolian",null,null,1395]
[622,"shipyard",null,null,889]
[623,"A German Wargame",null,null,329]
[624,"Shoken Isle",null,null,1385]
[625,"siberia",null,null,1367]
[626,"Siberian Delta Ver 1.1 By:UNKNOWN",null,null,477]
[627,"CARD1 96 x 96",null,null,396]
[628,"Siberian Beach (96x96)",null,null,1950]
[629,"Lochs More by JonG 126x64",null,null,749]
[630,"Siege",null,null,493]
[631,"Sierra Nevada 1996: Groundzero",null,null,1334]
[632,"Simle, Yet Complicated, Easy, Yet H",null,null,335]
[633,"sinkhole",null,null,884]
[634,"Sixty Chambers (lg--Sabot909)",null,null,1717]
[635,"Six Ways to Hell: SpeedySD",null,null,195]
[636,"Agto Shore",null,null,1834]
[637,"SLAUGHTER FIELDS (8 PLAYERS) (RAMP2",null,null,1091]
[638,"Small War (c)S",null,null,1940]
[639,"Smally Lake (c)S",null,null,1399]
[640,"LOCK & LOAD (4 PLAYERS) (RAMP2.0)",null,null,391]
[641,"SNAKE-CHARMER (8 PLAYERS) (RAMP2.0)",null,null,1987]
[642,"Snake Canyon",null,null,149]
[643,"Snake River: THE CARTEL",null,null,1406]
[644,"Snow Bit (c)S",null,null,1032]
[645,"Snow-charge",null,null,1401]
[646,"Snowdrift",null,null,2052]
[647,"Snowed In: THE CARTEL",null,null,331]
[648,"CARD2 64 x 64",null,null,785]
[649,"+Epsilon Quad - www.dgsys.com/~baba",null,null,523]
[650,"air and sea",null,null,146]
[651,"Snow Peaks (c)L",null,null,1995]
[652,"LOCK & LOAD (4 PLAYERS) (RAMP2.0)",null,null,1075]
[653,"Snow Ports (c)L",null,null,1109]
[654,"Snow River (c)M",null,null,1205]
[655,"Snow Trap",null,null,575]
[656,"Snowy Center (c)L",null,null,1682]
[657,"Snowy Slaughter JT",null,null,447]
[658,"Snowy Times (c)S",null,null,960]
[659,"CARD3 126 x 64",null,null,30]
[660,"Snowy Way On (c)S",null,null,2063]
[661,"Hills of Solomons (Four Player Map)",null,null,1237]
[662,"Southern CA - www.dgsys.com/~babak",null,null,1669]
[663,"Air Attack - www.dgsys.com/~babak",null,null,1124]
[664,"Locol - www.dgsys.com/~babak",null,null,520]
[665,"Special",null,null,102]
[666,"Spiders Lake",null,null,165]
[667,"Spiders Lake",null,null,824]
[668,"SPIFFY (7 PLAYERS) (RAMP2.0)",null,null,573]
[669,"spiffy sphincter",null,null,1171]
[670,"CARD4 64 x 64",null,null,1281]
[671,"spilt",null,null,850]
[672,"SPLIT EDGE (6 PLAYERS) (RAMP2.0)",null,null,1879]
[673,"Squares: Drunknmstr",null,null,829]
[674,"Squares: Drunknmstr",null,null,2019]
[675,"stalingrad",null,null,1757]
[676,"Lodoss - www.dgsys.com/~babak",null,null,1373]
[677,"Air Attack",null,null,654]
[678,"Stand Off (c)M",null,null,1483]
[679,"Steve2",null,null,1922]
[680,"Stolen Territory",null,null,1384]
[681,"+Tiberman 8 - www.dgsys.com/~babak",null,null,1824]
[682,"CARD5 64 x 64",null,null,12]
[683,"Straights of Sabot(lg--Sabot909)",null,null,703]
[684,"Stronghold: Ironpack",null,null,1701]
[685,"Summer Battle (c)S",null,null,855]
[686,"Summer Corners (c)M",null,null,1874]
[687,"Summer Fun (c)S",null,null,403]
[688,"summer passes",null,null,724]
[689,"Sunbeam (4)",null,null,1331]
[690,"Air Base",null,null,977]
[691,"Sunset Strip: Old-Ironside",null,null,1773]
[692,"Super CO OP SPECIAL (LG)",null,null,1747]
[693,"05 (126:64) T/3/LW/929 by Extract 1",null,null,189]
[694,"Swamp Rage (126x64)",null,null,1370]
[695,"Symertric Island",null,null,1887]
[696,"SYSTEM LOCKDOWN (6 PLAYERS) (RAMP2.",null,null,202]
[697,"TAGTEAM (LG)",null,null,1316]
[698,"Lake Tahoe (Lg)",null,null,2031]
[699,"Take it to the seas!",null,null,566]
[700,"Loial",null,null,198]
[701,"Take the Bridge",null,null,707]
[702,"Tank Heaven N/S: Romo",null,null,375]
[703,"Air/Sea/Land",null,null,1463]
[704,"CARD6 64 x 126",null,null,2029]
[705,"tanks no more :)",null,null,2060]
[706,"Tanx (Sm 4 Players)",null,null,99]
[707,"Tanx Extreme(Lg 6 Players)",null,null,1983]
[708,"Tanx Fighting Ground(Lg 8 Players)",null,null,1753]
[709,"Tanx Islands (Lg 6 Players)",null,null,104]
[710,"Tanx Valley(Mega 8 Players)",null,null,906]
[711,"Team Play (c)S",null,null,1034]
[712,"Team Play Winter (c)S",null,null,1041]
[713,"Ted2snow",null,null,1569]
[714,"CARD7 64 x 64",null,null,1451]
[715,"Terra Morph HELL!",null,null,1420]
[716,"Air Superiority (Lg)",null,null,648]
[717,"Terraced Mekong Passage 1",null,null,1256]
[718,"Territories: Digital Man",null,null,294]
[719,"The 2 Rivers",null,null,1572]
[720,"The Battle of Gracewood",null,null,867]
[721,"The Black Forest: Ironside",null,null,2094]
[722,"Labyrinth (lg) <HRF>",null,null,1804]
[723,"Long Beach (c)M",null,null,350]
[724,"CARD8 96 x 96",null,null,608]
[725,"The Black Forest: Old-Ironside",null,null,2023]
[726,"The Bridge",null,null,2056]
[727,"The Canal",null,null,719]
[728,"The Cliffs: jayt1",null,null,1509]
[729,"A Lake Divided",null,null,1231]
[730,"The Cross: mp5",null,null,1239]
[731,"the Crow",null,null,797]
[732,"The Crystal Mountains (Lg)",null,null,1797]
[733,"The Final Frontier 1",null,null,1137]
[734,"card9 96 X 96",null,null,781]
[735,"Longing Rivers - www.dgsys.com/~bab",null,null,582]
[736,"The Forgotten Fight: Latta",null,null,76]
[737,"THE FRONT (4 PLAYERS) (RAMP2.0)",null,null,923]
[738,"The Gauntlet",null,null,123]
[739,"THE GORGE (6 PLAYERS) (RAMP2.0)",null,null,2082]
[740,"The Greatest Naval Battle (Lg)",null,null,518]
[741,"Alaskan ghost town",null,null,2070]
[742,"The Green Plains 126 126 JT",null,null,1170]
[743,"The Island (c)S",null,null,275]
[744,"The Jaws Of Death JT",null,null,1818]
[745,"Power Card Guni",null,null,125]
[746,"KONNEX (LARGE) (8 PLAYERS)",null,null,1967]
[747,"Long River - www.dgsys.com/~babak",null,null,2050]
[748,"The Last Jam",null,null,1169]
[749,"The Long Haul: Ironpack",null,null,570]
[750,"The lopsided map",null,null,224]
[751,"The Passage (c)",null,null,1636]
[752,"The Pass",null,null,174]
[753,"The Passage (c)",null,null,928]
[754,"Albaron",null,null,2022]
[755,"The real treasure has yet to be fou",null,null,524]
[756,"3 places, no aces ,3rd by ~->chefen",null,null,666]
[757,"X) The Red Sea",null,null,2035]
[758,"The River: Ironpack",null,null,471]
[759,"Long Road Home (C&C Time Warped)",null,null,74]
[760,"The River Runs Thru It",null,null,1188]
[761,"The Scenic Route",null,null,2101]
[762,"The Seven Year War (c)M",null,null,607]
[763,"THE SNOWMAN (5 PLAYERS) (RAMP2.0)",null,null,1380]
[764,"THE STEPPES (4 PLAYERS) (RAMP2.0)",null,null,1977]
[765,"The Ultimate Choke",null,null,1086]
[766,"THE very first map [Kirill Yurchenk",null,null,2104]
[767,"Caribbean Rage: JediKnight",null,null,1607]
[768,"Alcatraz",null,null,766]
[769,"The War Canal (c)M",null,null,1844]
[770,"The War of Ore[Revolution-XakaLongD",null,null,1965]
[771,"Long Road - www.dgsys.com/~babak",null,null,1305]
[772,"The Water Hole: Latta",null,null,2090]
[773,"The Waterway",null,null,1588]
[774,"this is a good map",null,null,129]
[775,"Thorns Garden",null,null,1847]
[776,"Thorns Winter",null,null,353]
[777,"THREE-BRIDGES (4 PLAYERS) (RAMP2.0)",null,null,767]
[778,"CARIBBEAN BATTLE (4 PLAYERS) (RAMP2",null,null,983]
[779,"Three Lakes: TAT",null,null,1777]
[780,"THREE PINES (4 PLAYERS) (RAMP2.0)",null,null,1749]
[781,"+Far North - www.dgsys.com/~babak",null,null,1079]
[782,"Alcatraz - www.dgsys.com/~babak",null,null,1750]
[783,"Long Shot",null,null,1432]
[784,"Thunder Plains (Mega 8, 126x126)ss",null,null,640]
[785,"Tiberian Jungle (Lg)",null,null,1700]
[786,"Tiberium Garden ][: Ironpack",null,null,1189]
[787,"Tiberium Center(1-8)",null,null,1362]
[788,"Tiberman",null,null,1424]
[789,"Battlements 1",null,null,1720]
[790,"Caribbean Rage",null,null,735]
[791,"Tiberman 2",null,null,686]
[792,"Tiberman Level 3 (8) (LG)",null,null,509]
[793,"Tiberman 5 (LG)(8)",null,null,627]
[794,"Tiberman Level 1(2-7)",null,null,1544]
[795,"Tiberium Gardens 2",null,null,1460]
[796,"Long Shot - www.dgsys.com/~babak",null,null,1862]
[797,"Alf",null,null,326]
[798,"Tight Fit (xsm Sabot909)",null,null,228]
[799,"TIME GOES ON... EXTREME",null,null,1673]
[800,"carloso",null,null,166]
[801,"Tomato Fields: THE CARTEL",null,null,1350]
[802,"toms really cool map",null,null,211]
[803,"Ton O Fun (LG)",null,null,158]
[804,"TOO BIG (6 PLAYERS)(DJL-MED)",null,null,70]
[805,"Too Much Ore (Lg)",null,null,1646]
[806,"Top -vs- Bottom (c)M",null,null,1576]
[807,"Loon Lake (c)S",null,null,729]
[808,"Total Destruction: Ironpack",null,null,133]
[809,"All Equal",null,null,1857]
[810,"To Your Corners (c)S",null,null,902]
[811,"Carrack's Line (xtra sm -- Sabot909",null,null,694]
[812,"TRACKS (7 PLAYERS)(DJL-LG)",null,null,383]
[813,"TRACKS_2 (6 PLAYERS)(DJL-LG)",null,null,1026]
[814,"Trade off",null,null,127]
[815,"tras_special",null,null,556]
[816,"Treasure Hunt: Ironpack",null,null,1654]
[817,"Trees (c)M",null,null,744]
[818,"Tri Area Conflict: Rob",null,null,1392]
[819,"LOST CITY (8 PLAYERS) (RAMP2.0)",null,null,1313]
[820,"Tricky",null,null,118]
[821,"Emerald Alleys (Med) (2-6)",null,null,1548]
[822,"TRI ISLAND MAYHEM EXTREME",null,null,29]
[823,"True Lies (Med)",null,null,1783]
[824,"True Lies (Med)",null,null,8]
[825,"TRY & SEE (6 PLAYERS)(DJL-MED)",null,null,334]
[826,"Tundra Terror: Old-Ironside",null,null,1306]
[827,"two bridges",null,null,2072]
[828,"two on two (sml)",null,null,31]
[829,"Lost City",null,null,527]
[830,"Two Player (c)S",null,null,318]
[831,"06 (96:96) T/5/L/998 by Extract 12/",null,null,1375]
[832,"Two Rivers",null,null,1087]
[833,"U-ISLE (8 PLAYERS) (RAMP2.0)",null,null,1457]
[834,"allgrass",null,null,1761]
[835,"U-Isle",null,null,1394]
[836,"KONNEX (8 PLAYERS) (RAMP2.0)",null,null,2071]
[837,"Unbreached",null,null,1722]
[838,"Union Break (lg)",null,null,64]
[839,"UNION BREAK (8 PLAYERS) (RAMP2.0)",null,null,441]
[840,"UNITED STATES (7 PLAYERS) (RAMP2.0)",null,null,1128]
[841,"Ladder and Snake - Dist. by Madness",null,null,92]
[842,"CARRIBEAN CRUISE (4 PLAYERS) (RAMP2",null,null,1794]
[843,"3 Island Battles Ver. 1997",null,null,256]
[844,"UP THE CREEK (7 PLAYERS)(DJL-LG)",null,null,1643]
[845,"The United States Of America",null,null,899]
[846,"U.S.S. ENTERPRISE 126*126 JT",null,null,28]
[847,"V3-Rashowdown",null,null,188]
[848,"Allied Base - www.dgsys.com/~babak",null,null,702]
[849,"V3-Snowbound",null,null,53]
[850,"V3-Splashdown by Laxx",null,null,521]
[851,"VALINTINO (5 PLAYERS) (RAMP2.0)",null,null,1245]
[852,"Vallejo  '96: CalifLove",null,null,386]
[853,"Carthax Lake - www.dgsys.com/~babak",null,null,1203]
[854,"Vallejo  '96 (2playa): CalifLove",null,null,1346]
[855,"Lostmans River: Ironside",null,null,1246]
[856,"Valleys of Destruction",null,null,1004]
[857,"Vanguard",null,null,1586]
[858,"Vietnam",null,null,1744]
[859,"VIETNOW (8 PLAYERS) (RAMP2.0)",null,null,445]
[860,"VikWorld: ViK",null,null,1949]
[861,"Allied VS Soviet (Blue and Red only",null,null,982]
[862,"VILLAGE PEOPLE (8 PLAYERS) (RAMP 2.",null,null,662]
[863,"VORTEX MOUNTAIN (8 PLAYERS) (RAMP2.",null,null,1881]
[864,"Casca-Grossa map! - 2-6 Players (LG",null,null,1466]
[865,"Walls of Jericho DM",null,null,1930]
[866,"War",null,null,811]
[867,"LOT 'o' ORE",null,null,83]
[868,"War",null,null,1531]
[869,"war for the world",null,null,272]
[870,"War In December (extended)",null,null,1443]
[871,"War in december",null,null,420]
[872,"Warlock's Heaven",null,null,1585]
[873,"warm split",null,null,1739]
[874,"Allies Only (c)M",null,null,887]
[875,"Maroonism",null,null,1944]
[876,"War Of The World (Lg)",null,null,52]
[877,"Warriors Reckoning JT",null,null,691]
[878,"Warsaw 1942: Booyaka",null,null,957]
[879,"Lots of Forest to Burn",null,null,639]
[880,"War Time 3 (c)M",null,null,688]
[881,"War Time (c)",null,null,363]
[882,"Washed Out: ksquared",null,null,1268]
[883,"Watch your Spending (c)S",null,null,687]
[884,"Water & $$$",null,null,1181]
[885,"Water is the Way",null,null,232]
[886,"Cash",null,null,2066]
[887,"WATERLAND (4 PLAYERS) (RAMP2.0)",null,null,1115]
[888,"All is Fair",null,null,1530]
[889,"WATERLAND (8 PLAYERS)(DJL-LG)",null,null,1620]
[890,"Waterland",null,null,91]
[891,"LOTS OF ROADS (6 PLAYERS)(DJL-MED)",null,null,14]
[892,"Water Pass II - Split  (Lg) by Laxx",null,null,1546]
[893,"Water Thingny",null,null,1017]
[894,"water war",null,null,1085]
[895,"WaterWorld",null,null,1617]
[896,"Water Worries (Lg)",null,null,1923]
[897,"Battlements 1 (Lg) (8) by Tiberman",null,null,2007]
[898,"CASH 1",null,null,413]
[899,"Watery Grave",null,null,1411]
[900,"Watery Grave II",null,null,508]
[901,"WayWard Warriors JT",null,null,1554]
[902,"Allister",null,null,15]
[903,"wdc          (sabot909)",null,null,34]
[904,"Love Thy Neighbor: Romo",null,null,588]
[905,"Weedlands: Ironpack",null,null,1048]
[906,"We must kill",null,null,979]
[907,"Wetlands: Ironpack",null,null,1135]
[908,"Wetland's Destruction (Mega) ss",null,null,843]
[909,"Cash 1",null,null,865]
[910,"angela",null,null,45]
[911,"Where the Rivers Flow (Med)",null,null,1619]
[912,"White Dawn G.T.",null,null,1040]
[913,"White Lion G.T.",null,null,786]
[914,"1) Island of Doom (126x126)",null,null,1504]
[915,"25) Ocean Inlet (96x96)",null,null,956]
[916,"Over Land, Sea and Air (LG)",null,null,317]
[917,"White Owl's Blood GT 126*126",null,null,162]
[918,"+Go Out To Fight - www.dgsys.com/~b",null,null,1712]
[919,"All Roads Lead To Death",null,null,1858]
[920,"CASH 2",null,null,1473]
[921,"White Wolf G.T.",null,null,1861]
[922,"White Lies",null,null,62]
[923,"Whose Gems Are They? |Vo0d0o|",null,null,1860]
[924,"Wicked White G.T.",null,null,1580]
[925,"Wide Open Space (c)S",null,null,1611]
[926,"X) Widge Roar",null,null,1008]
[927,"wieserl",null,null,1781]
[928,"LUPO",null,null,910]
[929,"Wilderland",null,null,1978]
[930,"Winding RIvers",null,null,1898]
[931,"cash flow",null,null,645]
[932,"winkel",null,null,1081]
[933,"Almost Adult",null,null,297]
[934,"Winter Mayham",null,null,828]
[935,"Winter Desert Maddness: Groundzero",null,null,522]
[936,"Winter Friends (c)L",null,null,1842]
[937,"Winter Fun (c)S",null,null,1890]
[938,"Winter Foot Hold (c)S",null,null,1455]
[939,"WINTER IN ENGLAND (6 PLAYERS) (RAMP",null,null,1705]
[940,"Lyvarion - www.dgsys.com/~babak",null,null,1514]
[941,"Winter Neighbors (c)M",null,null,1880]
[942,"CASPIAN SEA (MEDIUM) (4 PLAYERS)",null,null,1869]
[943,"Winter Pick-a-Spot (c)S",null,null,1840]
[944,"winter passes",null,null,999]
[945,"Winter Round House (c)M",null,null,63]
[946,"Alpen - www.dgsys.com/~babak",null,null,1999]
[947,"WINTER ROADS (8 PLAYERS) (RAMP2.0)",null,null,159]
[948,"Winter Seek (c)S",null,null,223]
[949,"Winter Space (c)S",null,null,1522]
[950,"Winter Trees (c)M",null,null,938]
[951,"WINTER THUNDERLAND (4 PLAYERS)(RAMP",null,null,1885]
[952,"Mac Daddy Map......................",null,null,637]
[953,"caspian sea",null,null,496]
[954,"Winter WonderLand (c)",null,null,313]
[955,"Winter War (c)S",null,null,110]
[956,"joe3",null,null,913]
[957,"World",null,null,1153]
[958,"world war 2",null,null,804]
[959,"Alpine Pass",null,null,1610]
[960,"Wrong turning for Moscow Pt3 (8)",null,null,1243]
[961,"Wrong turning for Moscow Pt3 (8)",null,null,1403]
[962,"WTF...No Tank Rush: Ironpack",null,null,253]
[963,"Amazing",null,null,1768]
[964,"06b (96:96) T/5/L/979 by Extract 2/",null,null,1888]
[965,"Ladder and Snake - www.dgsys.com/~b",null,null,1487]
[966,"Mac Daddy Map......................",null,null,1732]
[967,"X'd in",null,null,1]
[968,"Ambush from the seas (LG)",null,null,859]
[969,"X: Ironpack",null,null,537]
[970,"X-Mas Mayhem (C)Pixel Scenarios (LG",null,null,1116]
[971,"The Exellence of Execution",null,null,171]
[972,"xxDuDexx's Island",null,null,2075]
[973,"XXL Wiese",null,null,27]
[974,"Cates 1",null,null,349]
[975,"Yellow Peril G.T.",null,null,901]
[976,"YING-YANG (5 PLAYERS) (RAMP2.0)",null,null,458]
[977,"3 Passes Fit All - www.dgsys.com/~b",null,null,852]
[978,"Yin-Yang",null,null,777]
[979,"Yosemite",null,null,2012]
[980,"+American Battle - www.dgsys.com/~b",null,null,538]
[981,"cool daddio",null,null,921]
[982,"Z-5,000,000 Mehrspieler by ELSTEFAN",null,null,170]
[983,"CATTLE RUNN (8 PLAYERS) (RAMP2.0)",null,null,1738]
[984,"Zeeks Island War",null,null,944]
[985,"Zstle",null,null,612]
[986,"AMERCIAN BATTLE (LARGE) (4 PLAYERS)",null,null,817]
[987,"Mac Daddy Map......................",null,null,147]
[988,"$1,000,000 Map - www.dgsys.com/~bab",null,null,619]
[989,"+Killing Fields - www.dgsys.com/~ba",null,null,2108]
[990,"26) Dragonsholme Isle (64x64)",null,null,1854]
[991,"AMERCIAN BATTLE (4 PLAYERS) (RAMP2.",null,null,1037]
[992,"American Battle - www.dgsys.com/~ba",null,null,1391]
[993,"American Battle - Dist. by Madness",null,null,270]
[994,"Maroonism",null,null,1906]
[995,"Amphib Assault",null,null,1772]
[996,"Amphib Assualt: Jammer",null,null,673]
[997,"Amphibious Assault",null,null,293]
[998,"Anarchy UK Style",null,null,796]
[999,"Mac Daddy Map......................",null,null,511]
[1000,"Anastomosing Channel",null,null,936]
[1001,"Animal Instinct",null,null,176]
[1002,"+L'ile au Tresor - www.dgsys.com/~b",null,null,1537]
[1003,"Any Bridge Will Do",null,null,990]
[1004,"Battle of Midway (Lg)",null,null,303]
[1005,"Cat Walk",null,null,519]
[1006,"Artic Battlefront",null,null,2095]
[1007,"Archipelago of Dream (for 8 players",null,null,1396]
[1008,"Archipelago of Dream",null,null,1808]
[1009,"Arctic Antics",null,null,1383]
[1010,"ARCTIC FRONTIER (4 PLAYERS) (RAMP2.",null,null,473]
[1011,"Mac Daddy Map......................",null,null,1397]
[1012,"Arctic Frontier V1.0",null,null,1644]
[1013,"Arctic Wolf 359",null,null,1300]
[1014,"Ardennes - www.dgsys.com/~babak",null,null,1192]
[1015,"Ardennes",null,null,1199]
[1016,"Caution Bridge unsafe.",null,null,191]
[1017,"+Long Shot - www.dgsys.com/~babak",null,null,96]
[1018,"Area 51 (Sm)",null,null,1741]
[1019,"Area Alert - www.dgsys.com/~babak",null,null,591]
[1020,"Arena (Med)",null,null,342]
[1021,"arena da porradaria - 2-4 players (",null,null,501]
[1022,"A River Between Us*",null,null,1740]
[1023,"A River Runs Thru It",null,null,941]
[1024,"wide Ring around the Posey",null,null,392]
[1025,"Around the Bend: Romo",null,null,1318]
[1026,"Artic Rivers (Lg)",null,null,277]
[1027,"in the center",null,null,595]
[1028,"Artic Tundra of Desolation (Mega) s",null,null,394]
[1029,"+Lyvarion - www.dgsys.com/~babak",null,null,1136]
[1030,"Assimilation  J.T.",null,null,20]
[1031,"A Time to Die: Romo",null,null,1592]
[1032,"attack",null,null,1575]
[1033,"ATucks best map (Large)",null,null,1903]
[1034,"Mac Daddy Map......................",null,null,464]
[1035,"Auf Gates",null,null,1151]
[1036,"aw2",null,null,1540]
[1037,"in the center 2",null,null,42]
[1038,"AW3-Seefahrt-4Spieler",null,null,1001]
[1039,"awesome",null,null,533]
[1040,"Axiom's Aquifer",null,null,404]
[1041,"+Miners Delight - www.dgsys.com/~ba",null,null,1991]
[1042,"Axiom's Around the Bend",null,null,414]
[1043,"Axiom's Naval Winter",null,null,372]
[1044,"Danger Island Pt1 (8)",null,null,1287]
[1045,"Back to Danger island Pt2 (8)",null,null,2078]
[1046,"Back on the road to Moscow Pt4 (8)",null,null,1805]
[1047,"Center Death Winter (c)S",null,null,1453]
[1048,"Back on the road to Moscow Pt4 (8)",null,null,1101]
[1049,"Back to Danger island Pt2 (8)",null,null,81]
[1050,"badbat1",null,null,1206]
[1051,"BAD BOYS (6 PLAYERS) (DJL-96X96)",null,null,126]
[1052,"The Badlands (2 Players)",null,null,1756]
[1053,"+OREth of July - www.dgsys.com/~bab",null,null,108]
[1054,"Maize (Sm)",null,null,1563]
[1055,"Bandit's Getaway - www.dgsys.com/~b",null,null,1015]
[1056,"Center Death (c)S",null,null,788]
[1057,"Bandit's Getaway - www.dgsys.com/~b",null,null,1513]
[1058,"Bandit's Getaway (sm) (2 player)",null,null,658]
[1059,"B.A.O.U.D",null,null,532]
[1060,"Baron Lakes",null,null,1630]
[1061,"Barriers",null,null,1098]
[1062,"Bart's Party",null,null,1833]
[1063,"Base Builder's Delight (Med)",null,null,1187]
[1064,"+The Bridge - www.dgsys.com/~babak",null,null,1332]
[1065,"BASIC INSTINCT (SMALL) (4 PLAYERS)",null,null,1931]
[1066,"Maleficium",null,null,1168]
[1067,"CENTER ISLE II",null,null,546]
[1068,"BASIC INSTINCT (4 PLAYERS) (RAMP2.0",null,null,367]
[1069,"Bat Bat 1",null,null,1277]
[1070,"BAtlantic",null,null,311]
[1071,"Battle Alley III (By Sean)",null,null,156]
[1072,"Battle Alley VIII.I (By Sean)",null,null,1388]
[1073,"battle",null,null,1019]
[1074,"Battle Alley I (By Sean)",null,null,1985]
[1075,"Battle Alley II.I (Winter)(By Sean)",null,null,1648]
[1076,"Battle Alley II (By Sean)",null,null,1584]
[1077,"+Tiberman - www.dgsys.com/~babak",null,null,85]
[1078,"CENTER ISLE III",null,null,1538]
[1079,"07 (126:64) T/2/L/857 by Extract 12",null,null,2041]
[1080,"CENTER ISLE EXTREME",null,null,1958]
[1081,"Battle of Midway",null,null,1955]
[1082,"Master Island (c)M",null,null,1787]
[1083,"Center of Destruction (Lg)",null,null,1011]
[1084,"Center Rush: oddball",null,null,1244]
[1085,"Center Rush: oddball",null,null,1368]
[1086,"Center Square",null,null,50]
[1087,"Central Park",null,null,801]
[1088,"Central Park - www.dgsys.com/~babak",null,null,2040]
[1089,"Central Lake - www.dgsys.com/~babak",null,null,562]
[1090,"Centre Of Attention (Lg)",null,null,1438]
[1091,"Chad's Haven",null,null,1981]
[1092,"Ladder Proving Grounds",null,null,1836]
[1093,"BATTLE OF THE POND (MEDIUM) (7 PLAY",null,null,634]
[1094,"08 (96:96) T/5/L/1002 by Extract 12",null,null,759]
[1095,"Master Plan (c)M",null,null,978]
[1096,"ChainSaw",null,null,1147]
[1097,"Chaotic Confrontation",null,null,1165]
[1098,"Checkmate! (64x126/Lge - 2/4 player",null,null,933]
[1099,"CheckOREs - www.dgsys.com/~babak",null,null,1138]
[1100,"Cheek-O's Island of Fury",null,null,1013]
[1101,"ents Welcome ",null,null,629]
[1102,"ents Welcome ",null,null,1163]
[1103,"Chess: Drunknmstr",null,null,993]
[1104,"Battle Rats (c)S",null,null,1446]
[1105,"chez pas",null,null,1140]
[1106,"China Escapade: \\/\\/arpig",null,null,393]
[1107,"Master Plan Winter (c)M",null,null,1069]
[1108,"09 (96:96) T/4/LW/990 by Extract 12",null,null,653]
[1109,"Chinky Chong",null,null,416]
[1110,"choke points (snow)",null,null,774]
[1111,"Chronosphere - www.dgsys.com/~babak",null,null,891]
[1112,"Circle of Fate",null,null,1377]
[1113,"Citadal 1",null,null,1211]
[1114,"Battlescape (LG) 2 Player - By HSVD",null,null,1996]
[1115,"Maximum=5000",null,null,652]
[1116,"CLASH OF THE TITANS",null,null,1650]
[1117,"Cleanup - www.dgsys.com/~babak",null,null,429]
[1118,"LAKE CONSCIENCE (MEDIUM) (4 PLAYERS",null,null,1262]
[1119,"Matt's Death On A Stick (Ladder)",null,null,1033]
[1120,"Cliffs of Dover",null,null,1670]
[1121,"1) Island of Doom (126x126)",null,null,565]
[1122,"Close Encounters",null,null,1497]
[1123,"Close Encounters (Lg)",null,null,604]
[1124,"Close Proximity: Romo",null,null,1676]
[1125,"battlezone bromma (LG)",null,null,426]
[1126,"Cloverleaf Island (Lg)",null,null,838]
[1127,"Coastal Islands (Lg)",null,null,1222]
[1128,"Coastal Islands - Dist. by Madness",null,null,572]
[1129,"Coastal Isle - www.dgsys.com/~babak",null,null,543]
[1130,"CODENAME: AREA 24",null,null,689]
[1131,"Matt's Easy In, Easy Out",null,null,1212]
[1132,"codename: Dumpyard (by bvdk)",null,null,82]
[1133,"Cold Beach (c)M",null,null,1633]
[1134,"10 (96:96) T/6/L/1937 by Extract 12",null,null,908]
[1135,"Cold Hard Cash 2",null,null,233]
[1136,"Baykal Ridges",null,null,218]
[1137,"Cold Day in Hell - Dist. by Madness",null,null,1671]
[1138,"Cold Day in Hell - www.dgsys.com/~b",null,null,1539]
[1139,"cold night",null,null,287]
[1140,"Colonel Crusher's DM IV",null,null,1324]
[1141,"Come and Get Me (c)S",null,null,2017]
[1142,"Come get some!",null,null,1635]
[1143,"Matt's In the Navy (Large)",null,null,399]
[1144,"COMMUNIST REGIME (4 PLAYERS) (RAMP2",null,null,598]
[1145,"Conflict Haven",null,null,1613]
[1146,"Connected Isles (LG)",null,null,1010]
[1147,"Three Pines",null,null,568]
[1148,"10) Battle Zone (96x96)",null,null,2053]
[1149,"conquer me",null,null,1601]
[1150,"28) Area 51 (64x64)",null,null,1754]
[1151,"Conquer Island: Conquer Kid",null,null,816]
[1152,"Conquer Island: conquer Kid",null,null,1577]
[1153,"cool",null,null,1095]
[1154,"Super Co-op",null,null,212]
[1155,"Matt's Impossible Ore (Large)",null,null,1372]
[1156,"coop",null,null,1851]
[1157,"CO OP SPECIAL (LG)",null,null,1905]
[1158,"Bay (Lg) -Asp",null,null,1144]
[1159,"Coop - www.dgsys.com/~babak",null,null,1204]
[1160,"Coo - www.dgsys.com/~babak",null,null,1698]
[1161,"Corner Market (c)M",null,null,980]
[1162,"1000 Lakes - www.dgsys.com/~babak",null,null,2043]
[1163,"Cost Battles - www.dgsys.com/~babak",null,null,1714]
[1164,"country side",null,null,1317]
[1165,"Country Crossing (c)L",null,null,1921]
[1166,"Country War (by Marxx)",null,null,238]
[1167,"Matt's Island Battle",null,null,1423]
[1168,"Countryside Christmas (Lg)",null,null,1190]
[1169,"+Tiberman 5 - www.dgsys.com/~babak",null,null,1468]
[1170,"County Prison",null,null,368]
[1171,"Courtyard (Med)",null,null,425]
[1172,"Covered - www.dgsys.com/~babak",null,null,1213]
[1173,"Crax Creamatorium",null,null,996]
[1174,"crazy jungle",null,null,841]
[1175,"11 (64:126) T/3/L/1082 by Extract 1",null,null,381]
[1176,"Critical Decision - Dist. by Madnes",null,null,1932]
[1177,"Critical Decision (Sm)",null,null,1494]
[1178,"Critical Decision (Sm)",null,null,1484]
[1179,"3 Rivers (lg) <HRF>",null,null,2032]
[1180,"Bay of Piggs",null,null,168]
[1181,"Cross & Conquer",null,null,1369]
[1182,"Cross Country (Med)",null,null,320]
[1183,"Cross of death!",null,null,84]
[1184,"Crossroads (L) BR",null,null,1475]
[1185,"Crosswalk",null,null,1150]
[1186,"CROSSWALK (4 PLAYERS) (RAMP2.0)",null,null,450]
[1187,"crucified",null,null,1726]
[1188,"11) The Promise Land (96x96)",null,null,366]
[1189,"CRUCIFIED (MEDIUM) (4 PLAYERS)",null,null,44]
[1190,"10) Battle Zone (96x96)",null,null,1107]
[1191,"Matt's Island Wars",null,null,656]
[1192,"cruiser war (LG)",null,null,622]
[1193,"Crystal Garden (Lg)",null,null,1642]
[1194,"Crystal Garden",null,null,920]
[1195,"Crystal Land - www.dgsys.com/~babak",null,null,1986]
[1196,"Crystal Isle (Lg)",null,null,589]
[1197,"Crystal Garden #2",null,null,790]
[1198,"CUBAN ASSAULT (3 PLAYERS) (RAMP2.0)",null,null,1141]
[1199,"Cut-Throat Island (Med)",null,null,263]
[1200,"Cyberia",null,null,1225]
[1201,"Maleficium - www.dgsys.com/~babak",null,null,1294]
[1202,"bazzer 0.9",null,null,602]
[1203,"12 (126:64) T/4/L/412 by Extract 12",null,null,815]
[1204,"Matt's Mega Moolah",null,null,310]
[1205,"CYBERIA (MEDIUM) (6 PLAYERS)",null,null,1924]
[1206,"Cyclone (MED)",null,null,728]
[1207,"DA$H FOR CA$H (MEDIUM) (8 PLAYERS)",null,null,1938]
[1208,"DA$H FOR CA$H (8 PLAYERS) (RAMP2.0)",null,null,697]
[1209,"Daemon",null,null,432]
[1210,"dagorlad (2 teams/up to 6)",null,null,1823]
[1211,"Damnation",null,null,1258]
[1212,"Damnation",null,null,312]
[1213,"Beachead!",null,null,1564]
[1214,"DangeOREous Passage - Dist. By Madn",null,null,743]
[1215,"Danger Island Pt1 (8)",null,null,778]
[1216,"Matt's Maze (Small, 2 players)",null,null,124]
[1217,"12) Battle for Oceanic (64x126)",null,null,1029]
[1218,"DANGER ISLAND (MEDIUM) (8 PLAYERS)",null,null,1790]
[1219,"DANGER ISLAND 2 (4 PLAYERS) (RAMP2.",null,null,1725]
[1220,"Danger Passage - www.dgsys.com/~bab",null,null,463]
[1221,"Da River",null,null,726]
[1222,"Dark Forest - www.dgsys.com/~babak",null,null,1266]
[1223,"Dark Side",null,null,17]
[1224,"Beachhead Assault (64x64)",null,null,1003]
[1225,"Dark woods (LG)",null,null,1614]
[1226,"Day Of Doom (Med)",null,null,138]
[1227,"D-DAY (forest)",null,null,503]
[1228,"Matt's Naval Corners (Small)",null,null,230]
[1229,"D-Day (Lg)",null,null,2011]
[1230,"126x126(temperate)",null,null,1365]
[1231,"D-Day",null,null,624]
[1232,"D-DAY (snow)",null,null,187]
[1233,"D-Day (RED-EYE)",null,null,1291]
[1234,"D-Day",null,null,255]
[1235,"BEACH-HEAD (6 PLAYERS) (RAMP2.0)",null,null,544]
[1236,"D-Day - Distributed by Madness",null,null,1822]
[1237,"D-DAY (forest)",null,null,112]
[1238,"D-Day II (Lg)",null,null,460]
[1239,"Lake Conscience - www.dgsys.com/~ba",null,null,235]
[1240,"Matt's Ridge Wars:Total Funk (Ladde",null,null,1068]
[1241,"D-Day",null,null,1647]
[1242,"D-DAY (snow)",null,null,406]
[1243,"126x126(snow)",null,null,1357]
[1244,"D-Day - www.dgsys.com/~babak",null,null,2004]
[1245,"Ben's World",null,null,782]
[1246,"DEADLY ISLE (6 PLAYERS) (RAMP2.0)",null,null,504]
[1247,"Dead Sea: Bodi",null,null,683]
[1248,"Dead simple",null,null,833]
[1249,"Death & Destruction (C) Pixel Scena",null,null,1707]
[1250,"Death & Destruction (C) Pixel Sc. (",null,null,791]
[1251,"Death Becomes You",null,null,1641]
[1252,"Matt's Ridge Wars: South Pass (Larg",null,null,721]
[1253,"Death by Water (c)S",null,null,222]
[1254,"Death by Ice (c)S",null,null,175]
[1255,"Deathly White G.T.",null,null,940]
[1256,"Bermuda triangle 2/8 pl",null,null,844]
[1257,"126x126",null,null,465]
[1258,"Deathmatch II",null,null,2034]
[1259,"Death Or Destiny",null,null,1218]
[1260,"Death Spiral",null,null,991]
[1261,"Death Toll",null,null,685]
[1262,"Death Valley",null,null,203]
[1263,"Matt's Ridge Wars: Extreme (Small)",null,null,40]
[1264,"Death Valley",null,null,853]
[1265,"Deathwing 2 (Lg)",null,null,1429]
[1266,"Manifest Destiny II",null,null,100]
[1267,"Decadence",null,null,985]
[1268,"DEEP COUNTRY (8 PLAYERS)(DJL-96X96)",null,null,1831]
[1269,"13 (96:96) W/4/LW/1495 by Extract 1",null,null,1841]
[1270,"DEFCON (6 PLAYERS) (RAMP2.0)",null,null,1400]
[1271,"29) A German Wargame (96x96)",null,null,418]
[1272,"Defcon - www.dgsys.com/~babak",null,null,896]
[1273,"Defcon 1 (Gamma Quadrant)",null,null,763]
[1274,"Defcon 1 (Gamma Quadrant)",null,null,2030]
[1275,"Matt's River Wars (Large)",null,null,1843]
[1276,"DEFCON1 (LARGE) (4 PLAYERS)",null,null,615]
[1277,"Betuwe Bridges: Dushi",null,null,244]
[1278,"Defcon 3 (c)L",null,null,553]
[1279,"Defcon 3",null,null,1102]
[1280,"Defcon 4",null,null,988]
[1281,"Defcon 5 (LG)(4)",null,null,257]
[1282,"Delta Crossing - www.dgsys.com/~bab",null,null,378]
[1283,"13) Real Island Wars 2 (126x64)",null,null,77]
[1284,"Delta Crossing",null,null,883]
[1285,"Delta Quadrant",null,null,1989]
[1286,"Delta Quadrant - www.dgsys.com/~bab",null,null,135]
[1287,"Matt's Six Million Dollar Map",null,null,773]
[1288,"The Land Between Us",null,null,1855]
[1289,"Delta Quadrant",null,null,954]
[1290,"Delta (Lg) -Asp",null,null,1058]
[1291,"Der Wahn",null,null,1562]
[1292,"Deth Row",null,null,674]
[1293,"Devided Land - www.dgsys.com/~babak",null,null,1261]
[1294,"Devided Land (64x64)",null,null,428]
[1295,"Devil's End",null,null,48]
[1296,"14 (96:96) T/2/LW/376 by Extract 12",null,null,481]
[1297,"Diablo's Island - www.dgsys.com/~ba",null,null,633]
[1298,"Diablo's Island",null,null,1702]
[1299,"Beyond Destruction",null,null,842]
[1300,"Matt's Tree Barrier (H. Ladder)",null,null,1290]
[1301,"Diamond's River",null,null,839]
[1302,"Diamond Valley (LG)",null,null,1286]
[1303,"Diamond Grove (LG)",null,null,1578]
[1304,"Diamond Gardens (SM)",null,null,1495]
[1305,"Diechotomy",null,null,1241]
[1306,"Diechotomy",null,null,550]
[1307,"Glen 1 Finished",null,null,805]
[1308,"Dirty Water (by:Mplayer)",null,null,1184]
[1309,"14) Land of Many Isles (96x96)",null,null,2044]
[1310,"Battle Alley VI (By Sean)",null,null,1132]
[1311,"$500,000 (Lg)",null,null,1490]
[1312,"Divide & Conquer (2-4)",null,null,635]
[1313,"3 SISTERS (8 PLATERS)(DJL-LG)",null,null,479]
[1314,"DIVIDE & CONQUER (4 PLAYERS) (RAMP2",null,null,86]
[1315,"Divide",null,null,947]
[1316,"Divide1",null,null,1692]
[1317,"DIVIDED ATTACK (6 PLAYERS) (DJL-96X",null,null,1248]
[1318,"DIVORCED LANDS (4 PLAYERS) (RAMP2.0",null,null,594]
[1319,"Dont destroy the bridge",null,null,1911]
[1320,"Doomed Valley - www.dgsys.com/~baba",null,null,1418]
[1321,"Double Infiltration: Ironpack",null,null,1374]
[1322,"+Vanguard - www.dgsys.com/~babak",null,null,892]
[1323,"Double Penetration",null,null,1827]
[1324,"maxman",null,null,1270]
[1325,"15 (96:96) T/4/LW/2380 by Extract 1",null,null,505]
[1326,"DOWNWARD SPIRAL (8 PLAYERS) (RAMP2.",null,null,1167]
[1327,"Dragon's Way: Ironpack",null,null,377]
[1328,"Dragon - www.dgsys.com/~babak",null,null,1655]
[1329,"Dragonshome Isle - www.dgsys.com/~b",null,null,1960]
[1330,"Dragonshome Isle (Sm) (2-4)",null,null,542]
[1331,"drie wars V",null,null,461]
[1332,"Beyrouth",null,null,1523]
[1333,"dry wars IV",null,null,249]
[1334,"Dueling Ports (c)L",null,null,1555]
[1335,"Dungeons of Hell (8) (LG) (Scropion",null,null,196]
[1336,"maxman3",null,null,563]
[1337,"Dutch Bat",null,null,665]
[1338,"15) Skull Island (96x96)",null,null,1681]
[1339,"Dutch Bat",null,null,1852]
[1340,"East-n-West (c)L",null,null,869]
[1341,"Easter Island",null,null,262]
[1342,"East vs West: Ironpack",null,null,794]
[1343,"Beyrouth (snow)",null,null,301]
[1344,"Echo Quadrant",null,null,1972]
[1345,"Echo Quadrant (The Apocolypse)",null,null,614]
[1346,"Eight Islands",null,null,1209]
[1347,"Eklundia",null,null,569]
[1348,"maxman4",null,null,1269]
[1349,"El Corazon (lg) <HRF>",null,null,1448]
[1350,"Eldorado Park - www.dgsys.com/~baba",null,null,1618]
[1351,"16 (96:96) W/4/L/1002 by Extract 01",null,null,1771]
[1352,"elmo's cold map",null,null,1379]
[1353,"elmo's map of hugs",null,null,1474]
[1354,"Bibby",null,null,1242]
[1355,"Emerald Alleys",null,null,730]
[1356,"Emerald Islands (Sm)",null,null,356]
[1357,"Emerald Islands (Sm)",null,null,1061]
[1358,"Emerald Islands",null,null,1084]
[1359,"Encino 2",null,null,2001]
[1360,"36 (96:96) T/4/LW/1193 by Extract 0",null,null,875]
[1361,"maxman2",null,null,1526]
[1362,"Winter in New England",null,null,1505]
[1363,"Entscheidung",null,null,485]
[1364,"Epsilon Quadrant - www.dgsys.com/~b",null,null,137]
[1365,"Big Bases Small Bases",null,null,872]
[1366,"16 PARZELLEN fair",null,null,745]
[1367,"Epsilon Quadrant",null,null,141]
[1368,"Epsilon Quadrant",null,null,593]
[1369,"Equal Opera Tune Ditty",null,null,986]
[1370,"Erik Chr 2",null,null,1711]
[1371,"Eternity(Lg)",null,null,1521]
[1372,"Trouble in Europe",null,null,2081]
[1373,"MayBury",null,null,1969]
[1374,"Europe 1",null,null,71]
[1375,"Eva Braun's Muffin",null,null,139]
[1376,"Big Battle (c)L",null,null,1467]
[1377,"Even",null,null,1623]
[1378,"Even Greater Naval Battles (Lg)",null,null,411]
[1379,"17 (96:96) W/4/LW/835 by Extract 01",null,null,269]
[1380,"Extreme Limits",null,null,1381]
[1381,"F_2v2",null,null,225]
[1382,"Fair Game: Boomch",null,null,577]
[1383,"Fantasy Islands",null,null,1412]
[1384,"Fantasy Islands (4 Players)",null,null,1421]
[1385,"MEANDER (8 PLAYERS) (RAMP2.0)",null,null,904]
[1386,"Farmer's Paradise - Dist. by Madnes",null,null,515]
[1387,"Manifest Destiny",null,null,65]
[1388,"Farmer's Paradise: Latta",null,null,1718]
[1389,"FARMER'S PARADISE (MEDIUM) (4 PLAYE",null,null,1208]
[1390,"Farmers Paradise",null,null,2092]
[1391,"Farmer's Paradise",null,null,1302]
[1392,"17b (96:96) W/4/LW/821 by Extract 2",null,null,2003]
[1393,"Farmer's Fields (lg)",null,null,1059]
[1394,"3) Super Red Alert (96x96)",null,null,2036]
[1395,"fences",null,null,1640]
[1396,"Mega 126-126",null,null,1439]
[1397,"big, bigger, bigg-ore-st (by mmv)",null,null,512]
[1398,"Field of death",null,null,1089]
[1399,"fields of harvest",null,null,1353]
[1400,"Fields of Norway (Lg)",null,null,1304]
[1401,"FIERCE FIGHT (4 PLAYERS) (RAMP2.0)",null,null,1299]
[1402,"Fight for Territory (Lg)",null,null,893]
[1403,"Fighting Grounds",null,null,142]
[1404,"FIGHTING GROUNDS (LARGE) (4 PLAYERS",null,null,154]
[1405,"18 (96:96) T/7/LW/1165 by Extract 0",null,null,1551]
[1406,"Finale Quadrant (finis)",null,null,919]
[1407,"Finale Quadrant - www.dgsys.com/~ba",null,null,1743]
[1408,"Big Blue",null,null,181]
[1409,"Megafight",null,null,338]
[1410,"Final Fight: Ironpack",null,null,1307]
[1411,"Firespit {Lg Ocean}",null,null,498]
[1412,"Firstblood - www.dgsys.com/~babak",null,null,1547]
[1413,"First Contact",null,null,1689]
[1414,"First Contact - www.dgsys.com/~baba",null,null,750]
[1415,"First Contact(LG,One quarter water)",null,null,1298]
[1416,"First Contact(LG,One quarter water)",null,null,365]
[1417,"FIRST STRIKE (6 PLAYERS) (RAMP2.0)",null,null,1866]
[1418,"19 (96:96) W/4/LW/1019 by Extract 0",null,null,2106]
[1419,"Battle Alley V (By Sean)",null,null,1295]
[1420,"Big Isle...Big Reward",null,null,963]
[1421,"First there's rich!",null,null,628]
[1422,"Mega NSC",null,null,857]
[1423,"fishing pond",null,null,1329]
[1424,"FISH POND (6 PLAYERS) (RAMP2.0)",null,null,1875]
[1425,"Fish pond (Med)",null,null,680]
[1426,"POINT FIVE",null,null,1859]
[1427,"Fives Islands",null,null,854]
[1428,"Flatlands",null,null,1293]
[1429,"Flower 3",null,null,173]
[1430,"Flower 3",null,null,1892]
[1431,"Big Isle...Big Reward",null,null,2014]
[1432,"Focused Power",null,null,308]
[1433,"1942 Coeur de la France",null,null,943]
[1434,"Megastripes",null,null,1315]
[1435,"Foggy Salvation",null,null,610]
[1436,"Follow the Road - www.dgsys.com/~ba",null,null,1159]
[1437,"Follow the Road - Dist. by Madness",null,null,1402]
[1438,"Follow The Arrow (2 Players)",null,null,2098]
[1439,"Foot Hold (c)S",null,null,1758]
[1440,"Forest Maze (Lg)",null,null,525]
[1441,"Forest",null,null,907]
[1442,"Big Lake (c)S",null,null,143]
[1443,"forest",null,null,806]
[1444,"Forest Arena",null,null,415]
[1445,"Forest Clearing - RC Map Pack v1.0",null,null,359]
[1446,"3way: Raze",null,null,1914]
[1447,"forest of shadows",null,null,631]
[1448,"Forests Of Gold",null,null,636]
[1449,"Forest War",null,null,1158]
[1450,"Forgotten Vortex (Lg)",null,null,4]
[1451,"Forgotten Fight - www.dgsys.com/~ba",null,null,1047]
[1452,"+Waterworld - www.dgsys.com/~babak",null,null,1172]
[1453,"Forests Of Gold",null,null,182]
[1454,"Fort Apache(large)",null,null,1097]
[1455,"Fort Apache(large)",null,null,1046]
[1456,"Fortress",null,null,1009]
[1457,"megastripes2",null,null,2047]
[1458,"Fortress",null,null,1070]
[1459,"One must win",null,null,746]
[1460,"Fortress",null,null,1105]
[1461,"Fortress for Four",null,null,968]
[1462,"Big Mama 126 126 GT",null,null,2025]
[1463,"Foul Play: Romo",null,null,618]
[1464,"Fourapoc",null,null,1579]
[1465,"fourapoc",null,null,2074]
[1466,"Four-corners (lg)",null,null,164]
[1467,"Four Corners (Lg)",null,null,1161]
[1468,"Mercenary Clash",null,null,452]
[1469,"Four Corners (L) BR",null,null,2057]
[1470,"Four Isles - www.dgsys.com/~babak",null,null,1249]
[1471,"Four isles (By Spy-R)",null,null,288]
[1472,"1on1 with gold",null,null,1175]
[1473,"Big Snow Battle (c)L",null,null,1954]
[1474,"Four Rivers (c)M",null,null,1819]
[1475,"Fratricide",null,null,802]
[1476,"Fratricide (Lg)(8) by Tiberman",null,null,1796]
[1477,"In the land of the free",null,null,2046]
[1478,"Friends",null,null,762]
[1479,"Friends of War: JediKnight",null,null,1770]
[1480,"Lake Conscience (Snow)",null,null,878]
[1481,"MerLn's Channel",null,null,1096]
[1482,"Frontline Assembly",null,null,832]
[1483,"Frontline Assembly - Dist. by Madne",null,null,1716]
[1484,"THE BIG X",null,null,1338]
[1485,"Frontline Assembly",null,null,530]
[1486,"Froot Loop: FallenPagan",null,null,1062]
[1487,"1on1 With Gold",null,null,692]
[1488,"Frostbite Plains",null,null,2059]
[1489,"Frosty: SpeedySD",null,null,1044]
[1490,"Frosty: SpeedySD",null,null,117]
[1491,"frozen islands (med)",null,null,1247]
[1492,"Frozen Steppes (med Sabot909)",null,null,1919]
[1493,"michigan",null,null,609]
[1494,"Fucking Bridge",null,null,199]
[1495,"Bismark",null,null,984]
[1496,"Fury Islands (8) (LG) (Scorpion)",null,null,1219]
[1497,"The Fury of Winter (96x96)",null,null,1566]
[1498,"Fylar Islands",null,null,185]
[1499,"1Pass(2Player)",null,null,2016]
[1500,"Gabberalysator #5",null,null,398]
[1501,"Gabberalysator",null,null,374]
[1502,"Gabberalysator #4 (Lg)",null,null,1596]
[1503,"Gabberalysator #3 (Sm)",null,null,56]
[1504,"MicOREsoft - www.dgsys.com/~babak",null,null,1913]
[1505,"MANIFEST DESTINY (4 PLAYERS) (RAMP2",null,null,1945]
[1506,"GANZ 1",null,null,1469]
[1507,"Ganz 2",null,null,61]
[1508,"GANZ 2",null,null,213]
[1509,"Ganz 3",null,null,116]
[1510,"GANZ 3",null,null,2042]
[1511,"Ganz 4",null,null,771]
[1512,"Firstblood",null,null,220]
[1513,"GANZ 4",null,null,2097]
[1514,"30) Invasion (64x126)",null,null,1288]
[1515,"GANZ 5",null,null,289]
[1516,"Bismark",null,null,507]
[1517,"River in the middle",null,null,1964]
[1518,"garden idyll",null,null,106]
[1519,"Garden of War",null,null,727]
[1520,"Garden of War - www.dgsys.com/~baba",null,null,740]
[1521,"Gateway",null,null,208]
[1522,"GeisterSTADT 64 x 64",null,null,201]
[1523,"Gem Corners (arctic)",null,null,1152]
[1524,"gem garden",null,null,748]
[1525,"gem garden (med) (2-6)",null,null,1039]
[1526,"2) The Final Conquest (96x96)",null,null,1865]
[1527,"Battle Alley IV (By Sean)",null,null,476]
[1528,"Bismark",null,null,1570]
[1529,"Gem Island Battle - Dist. by Madnes",null,null,57]
[1530,"Middle Gems - www.dgsys.com/~babak",null,null,1937]
[1531,"Gem Island - www.dgsys.com/~babak",null,null,285]
[1532,"Gem River Gorge: Mr.MOJO",null,null,1376]
[1533,"Gems Freakout - www.dgsys.com/~baba",null,null,66]
[1534,"GEMSGALORE",null,null,1449]
[1535,"gemstone river",null,null,1335]
[1536,"Gems Upon The Shore GT",null,null,1235]
[1537,"German's home field",null,null,1478]
[1538,"GERMAN WAR GAME (4 PLAYERS) (RAMP2.",null,null,1765]
[1539,"Bitter Lake",null,null,1779]
[1540,"Germany",null,null,667]
[1541,"20 (96:96) T/5/LW/1045 by Extract 0",null,null,1710]
[1542,"Middle Isle - www.dgsys.com/~babak",null,null,1330]
[1543,"GERMANY (4 PLAYERS) (RAMP2.0)",null,null,997]
[1544,"Germany - www.dgsys.com/~babak",null,null,840]
[1545,"A German Wargame",null,null,1769]
[1546,"Get Out to Fight - www.dgsys.com/~b",null,null,1816]
[1547,"Getting closer to Moscow Pt2 (8)",null,null,1628]
[1548,"Getting closer to Moscow Pt2 (8)",null,null,469]
[1549,"Gettysburg Day3",null,null,1848]
[1550,"Black and Blue J.T.",null,null,915]
[1551,"gi",null,null,835]
[1552,"GILIGAN ISLANDS (4 PLAYERS) (RAMP2.",null,null,1156]
[1553,"GILIGAN ISLANDS (LARGE) (4 PLAYERS)",null,null,388]
[1554,"Middle Wins [Revolution-X aka LongD",null,null,1389]
[1555,"20th Century Valley Forge",null,null,1198]
[1556,"Gilligan's Isle - www.dgsys.com/~ba",null,null,647]
[1557,"Gilligan's Island - Dist. by Madnes",null,null,1228]
[1558,"GLacial island (96*96) ~jn}",null,null,194]
[1559,"glacier",null,null,280]
[1560,"Black Forest",null,null,567]
[1561,"Glaciers",null,null,7]
[1562,"Glory River (Lg)",null,null,625]
[1563,"Glowskuligan's Mainland: GlowSkull",null,null,1532]
[1564,"Glowskuligan's Mainland (2-4 player",null,null,1746]
[1565,"Middle Wins [Revolution-X aka LongD",null,null,513]
[1566,"gems freakout ver 1.0 (by Slon)",null,null,9]
[1567,"21 (96:96) T/2/LW/1559 by Extract 0",null,null,1900]
[1568,"God's Country: MORIKYE",null,null,578]
[1569,"God vs Allah --By High Havoc--",null,null,945]
[1570,"Golden Cross (Lg)",null,null,1371]
[1571,"Black Forest",null,null,448]
[1572,"Golden Hills",null,null,929]
[1573,"Golden Hills",null,null,180]
[1574,"Golden Land",null,null,1667]
[1575,"Golden Land - www.dgsys.com/~babak",null,null,364]
[1576,"golden land",null,null,1006]
[1577,"4) Nuke Death 007 (96x96)",null,null,732]
[1578,"Goldmine",null,null,1148]
[1579,"GoldRush(Lg)",null,null,1230]
[1580,"22 (96:96) W/5/LW/400 by Extract 01",null,null,870]
[1581,"golds r us II",null,null,490]
[1582,"+X - www.dgsys.com/~babak",null,null,1687]
[1583,"golds r us",null,null,1289]
[1584,"stefruj som max har bettrat",null,null,716]
[1585,"Good Day to Die (96x96)",null,null,2085]
[1586,"Good Luck",null,null,1959]
[1587,"GOOO! BAMA (LARGE) (8 PLAYERS)",null,null,1127]
[1588,"GOOO! BAMA (8 PLAYERS) (RAMP2.0)",null,null,2105]
[1589,"Midway (Lg)(2-4)",null,null,357]
[1590,"Got water?(Lg)",null,null,1229]
[1591,"Grateful Dead: THE CARTEL",null,null,2077]
[1592,"Great Island: Ironpack",null,null,1832]
[1593,"Black Hole",null,null,484]
[1594,"23 (64:126) W/2/LW/785 by Extract 0",null,null,299]
[1595,"Great Lake (lg) <HRF>",null,null,1665]
[1596,"Great Lakes (Med)",null,null,1737]
[1597,"Great Naval Battles (Lg)",null,null,800]
[1598,"The Great \"War\"",null,null,1511]
[1599,"Green And Pleasant Land GT",null,null,642]
[1600,"LAKE FOREST PARK (LARGE) (8 PLAYERS",null,null,410]
[1601,"Miele's Island: miele",null,null,1529]
[1602,"Green, Blue and White",null,null,1993]
[1603,"Black Sea  By: Mel",null,null,2084]
[1604,"Green Dawn Rising: Ironpack",null,null,1512]
[1605,"Green Grave",null,null,784]
[1606,"Green Island for seven players",null,null,97]
[1607,"greenland: the first strike",null,null,2038]
[1608,"24 (64:126) T/2/LW/386 by Extract 0",null,null,1904]
[1609,"GreenLand: The Battle Front",null,null,1077]
[1610,"Green Tiger G.T.",null,null,1320]
[1611,"Green to Red GT",null,null,1104]
[1612,"Green valley (lg) gc",null,null,1778]
[1613,"Might Makes Right (96x96)",null,null,1139]
[1614,"Blaster 1",null,null,495]
[1615,"Grundle World: Grundleful",null,null,834]
[1616,"Guard the Shore!-RC",null,null,1782]
[1617,"Guard the Shore! - RC Map Pack v1.0",null,null,1186]
[1618,"Guerilla Warfare - www.dgsys.com/~b",null,null,1664]
[1619,"Guerilla Warfare (lrg)",null,null,1941]
[1620,"Gumby's Four",null,null,822]
[1621,"25 (64:64) T/2/LW/217 by Extract 01",null,null,492]
[1622,"Half The World       *by Digital Ma",null,null,722]
[1623,"Half The World: Digital Man",null,null,799]
[1624,"Happy Holidays - www.dgsys.com/~bab",null,null,751]
[1625,"Man that you fear",null,null,1534]
[1626,"Might Makes Right (Lg)",null,null,1195]
[1627,"happy hunting grounds",null,null,358]
[1628,"Happy Land",null,null,1273]
[1629,"Harbored Grudges",null,null,1426]
[1630,"Hard Ground",null,null,661]
[1631,"Hard Times (c)S",null,null,1803]
[1632,"Hard To Kill!",null,null,231]
[1633,"Hard to reach",null,null,1788]
[1634,"26 (96:96) W/7/LW/307 by Extract 01",null,null,1194]
[1635,"HARVARD LOCKDOWN (6 PLAYERS) (RAMP2",null,null,1637]
[1636,"Battle Alley VII (By Sean)",null,null,918]
[1637,"Blind Destruction",null,null,1358]
[1638,"31) The Lost Island (96x96)",null,null,641]
[1639,"mike",null,null,1814]
[1640,"Ho Chi Ming Trail",null,null,1049]
[1641,"Headbang",null,null,417]
[1642,"Head to Head",null,null,1727]
[1643,"Hege Lake(Lg) J.L.HEGE",null,null,1108]
[1644,"Hellfire Island",null,null,812]
[1645,"Hell March (LG)",null,null,1695]
[1646,"Hell Maze (Med)",null,null,552]
[1647,"Hell's Cold Fury - Dist. by Madness",null,null,1310]
[1648,"Blind Destruction",null,null,670]
[1649,"Hell's Cold Fury",null,null,1558]
[1650,"27 (126:64) T/2/LW/637 by Extract 0",null,null,534]
[1651,"Millenium",null,null,1164]
[1652,"Hell's Cold Fury",null,null,151]
[1653,"HELLS COLD FURY (MEDIUM) (6 PLAYERS",null,null,617]
[1654,"HELLS COLD FURY (6 PLAYERS) (RAMP2.",null,null,2049]
[1655,"HELL'S DOORSTEP (8 PLAYERS) (RAMP2.",null,null,1600]
[1656,"Hell's Fury - www.dgsys.com/~babak",null,null,706]
[1657,"Hell's Fury - www.dgsys.com/~babak",null,null,1810]
[1658,"Hell's Revenge - RC Map Pack v1.0",null,null,1422]
[1659,"Block It",null,null,1154]
[1660,"Hell's Revenge",null,null,1481]
[1661,"HIGHER GROUNDS (SMALL) (5 PLAYERS)",null,null,1064]
[1662,"HIGHER GROUNDS (5 PLAYERS) (RAMP2.0",null,null,1409]
[1663,"Mine Mountain (LG)",null,null,557]
[1664,"28 (126:64) T/2/LW/288 by Extract 0",null,null,1018]
[1665,"High Seas Combat (c)L",null,null,319]
[1666,"War",null,null,114]
[1667,"High Sierras \"Summer\"",null,null,1680]
[1668,"High Steaks (lg,No water, Snow)",null,null,1110]
[1669,"High Water Snow (c)L",null,null,1471]
[1670,"Bloody Park w/Bridges: Pimp Daddy",null,null,1094]
[1671,"HISTORY IS WRITTEN BY THE VICTORS",null,null,480]
[1672,"HISTORY IS WRITTEN BY THE VICTORS I",null,null,54]
[1673,"HISTORY IS WRITTEN BY THE VICTORS I",null,null,1078]
[1674,"HISTORY IS WRITTEN BY THE VICTORS E",null,null,506]
[1675,"miner49r (8p) (-=<HeX>=-)",null,null,1657]
[1676,"hjk2",null,null,657]
[1677,"29 (96:96) W/6/LW/1129 by Extract 0",null,null,1428]
[1678,"HO CHI MINH TRAIL (LARGE) (4 PLAYER",null,null,1708]
[1679,"HO CHI MINH TRAIL (4 PLAYERS) (RAMP",null,null,1583]
[1680,"Hold The Pass (LG)",null,null,717]
[1681,"Bloody Park - www.dgsys.com/~babak",null,null,1027]
[1682,"Holiday In Cambodia(LG)",null,null,1795]
[1683,"Holiday In Cambodia - Dist. by Madn",null,null,2068]
[1684,"holland in war...... (96x96)",null,null,1604]
[1685,"Holland terror",null,null,1962]
[1686,"holy cross 1",null,null,1933]
[1687,"Mineral Garden - www.dgsys.com/~bab",null,null,409]
[1688,"honduras",null,null,1354]
[1689,"Honor Bound",null,null,1872]
[1690,"2 and 2 (4-8) (126x64)",null,null,1943]
[1691,"Hostile Island (by Marxx)",null,null,709]
[1692,"Bloody Rivers - www.dgsys.com/~baba",null,null,1899]
[1693,"Hot Chilli GT",null,null,585]
[1694,"HOUSATONIC (MEDIUM) (3 PLAYERS)",null,null,1982]
[1695,"HOUSATONIC (4 PLAYERS) (RAMP2.0)",null,null,1979]
[1696,"Crossing the Housatonic! (Small Map",null,null,1111]
[1697,"Humper's River: Humper",null,null,49]
[1698,"Humpher's River: Humpher",null,null,371]
[1699,"Mineral Garden",null,null,1755]
[1700,"Hunter's Forest",null,null,179]
[1701,"Hunter's Forest - www.dgsys.com/~ba",null,null,254]
[1702,"Hunt For Red October",null,null,1309]
[1703,"BLUE MOUNTAINS (8 PLAYERS) (DJL-96X",null,null,169]
[1704,"2 BRIDGES (8 PLAYERS) (DJL-96X96)",null,null,1462]
[1705,"X) Iced Gems",null,null,820]
[1706,"Ice Holes (c)M",null,null,939]
[1707,"Ice House (c)M",null,null,250]
[1708,"Ice Island (c)S",null,null,1992]
[1709,"Icewind Dale",null,null,768]
[1710,"Icy Grave",null,null,1323]
[1711,"40 (126:64) T/8/LW/1157 by Extract ",null,null,155]
[1712,"ICY RIDGES (4 PLAYERS) (RAMP2.0)",null,null,1477]
[1713,"icy ridges",null,null,1057]
[1714,"01 (96:96) W/2/L/747 by Extract 11/",null,null,1414]
[1715,"Icy Ridges",null,null,468]
[1716,"IIF2 (Med)",null,null,678]
[1717,"2 Bridges",null,null,851]
[1718,"II Mountain Pass",null,null,2102]
[1719,"impassable dreams5:-)",null,null,260]
[1720,"Independence - www.dgsys.com/~babak",null,null,2006]
[1721,"Infernal Dire",null,null,881]
[1722,"Infernal Dire2",null,null,1590]
[1723,"LAKE FOREST PARK (8 PLAYERS) (RAMP2",null,null,328]
[1724,"MINERS DELIGHT (MEDIUM) (8 PLAYERS)",null,null,1856]
[1725,"Blue Yonder",null,null,1202]
[1726,"Inferno - www.dgsys.com/~babak",null,null,516]
[1727,"Initial engagement(slk)",null,null,348]
[1728,"Inseln",null,null,909]
[1729,"INSIDE OUT (MEDIUM) (4 PLAYERS)",null,null,1815]
[1730,"INSIDE OUT (4 PLAYERS) (RAMP2.0)",null,null,101]
[1731,"il: klovn@online.no  Website: http:",null,null,1606]
[1732,"InSideOut (Lg)",null,null,291]
[1733,"InSideOut (Lg)",null,null,649]
[1734,"Instinct - www.dgsys.com/~babak",null,null,1939]
[1735,"Miners Delight - www.dgsys.com/~bab",null,null,994]
[1736,"Intense by JonG 96x96",null,null,438]
[1737,"In the Center - www.dgsys.com/~baba",null,null,1066]
[1738,"In the middle we meet",null,null,1404]
[1739,"Intrenched Meander (Lg)",null,null,783]
[1740,"Invasion of Hoth: Ironpack",null,null,1000]
[1741,"island forest",null,null,793]
[1742,"Battle Alley VIII (By Sean)",null,null,737]
[1743,"L'ile au tresor (2-8)",null,null,397]
[1744,"Isiland conflict: the bridge to des",null,null,623]
[1745,"Miners Delight (Lg)",null,null,1925]
[1746,"Isiland conflict: The time to attac",null,null,1792]
[1747,"Isiland conflict: nuclear war",null,null,1662]
[1748,"Karte 1",null,null,1340]
[1749,"ISLAND-COMMAND (LARGE) (6 PLAYERS)",null,null,830]
[1750,"island1",null,null,823]
[1751,"ISLAND BRIDGES (4 PLAYERS) (RAMP2.0",null,null,1552]
[1752,"Island Battle - www.dgsys.com/~baba",null,null,373]
[1753,"Island Bridges  (2-4)",null,null,1897]
[1754,"BOW-TIE BATTLE (8 PLAYERS) (RAMP2.0",null,null,1311]
[1755,"2 Mountain Pass",null,null,431]
[1756,"Island Conquer I (LG 7 Player)",null,null,605]
[1757,"Mirror Image (lg) <HRF>",null,null,905]
[1758,"33)Greater Lakes (96x96)",null,null,650]
[1759,"Island fight",null,null,271]
[1760,"Island Kings - www.dgsys.com/~babak",null,null,868]
[1761,"Island Kings (Lg)",null,null,600]
[1762,"Island of DOOM (Sm)J.L.HEGE",null,null,847]
[1763,"Island Proxy - www.dgsys.com/~babak",null,null,261]
[1764,"IslandProxy",null,null,1496]
[1765,"BRAIN ISLAND (SMALL) (3 PLAYERS)",null,null,1867]
[1766,"islands",null,null,1207]
[1767,"Islands of Doom2 (Mega/S/2-6/Nvl)",null,null,1699]
[1768,"Island Vs Island (L) BR",null,null,103]
[1769,"mississippi River",null,null,551]
[1770,"2 Player Winter (c)S",null,null,580]
[1771,"ISLAND WARS (8 PLAYERS)",null,null,866]
[1772,"Island Wars - www.dgsys.com/~babak",null,null,1811]
[1773,"Island Wars - Distributed by Madnes",null,null,1339]
[1774,"Island Wars",null,null,1022]
[1775,"Isles for all (lg)",null,null,1125]
[1776,"BRAIN ISLAND (3 PLAYERS) (RAMP2.0)]",null,null,837]
[1777,"Isle Of Death And Destruction (Sm)",null,null,2015]
[1778,"Isle of Ore",null,null,190]
[1779,"Isle of Ore",null,null,408]
[1780,"Isle of Pines: THE CARTEL",null,null,621]
[1781,"Mississippi Burning: Igelcott",null,null,795]
[1782,"Isle of RiVeN",null,null,1482]
[1783,"3) Super Red Alert (96x96)",null,null,1285]
[1784,"Isles of Snow",null,null,1133]
[1785,"Islands Under Siege",null,null,1361]
[1786,"Isles for all (lg)",null,null,741]
[1787,"brak2",null,null,240]
[1788,"Isles of Snow - Distributed by Madn",null,null,1549]
[1789,"Isles of Snow - www.dgsys.com/~baba",null,null,1437]
[1790,"Isthmus (Lg) -Asp",null,null,1597]
[1791,"It's a good day to die",null,null,67]
[1792,"it'sasmallworldafterall: macel",null,null,1527]
[1793,"Mississippi Winters (Mega Map) v 2.",null,null,267]
[1794,"It Seperates",null,null,1092]
[1795,"30 (96:96) T/7/LW/1011 by Extract 0",null,null,1038]
[1796,"It Seperates",null,null,488]
[1797,"jab",null,null,87]
[1798,"BreadBasket",null,null,558]
[1799,"Straightjacket (20x126 -- Sabot909)",null,null,529]
[1800,"Jackpot - www.dgsys.com/~babak",null,null,58]
[1801,"Jargen Kif: Fectsen",null,null,1952]
[1802,"Jason 1 - www.dgsys.com/~babak",null,null,1567]
[1803,"jau1",null,null,217]
[1804,"Jazz001(Lrg)",null,null,1850]
[1805,"Mississippi River (Mega Map) v. 1.0",null,null,1807]
[1806,"Jazz002(lrg)",null,null,560]
[1807,"Jefferson&Adamstown(2player)",null,null,1686]
[1808,"31 (96:96) W/5/L/621 by Extract 01/",null,null,540]
[1809,"Bridge Battle - www.dgsys.com/~baba",null,null,1889]
[1810,"JERKOFF (8 PLAYERS) (RAMP2.0)",null,null,1652]
[1811,"jeroen2",null,null,789]
[1812,"Jewel Box",null,null,1882]
[1813,"Jewels and Fools",null,null,1605]
[1814,"Jewels Of The Sea (2 Players)",null,null,210]
[1815,"Jewels 2",null,null,389]
[1816,"Jewels 2",null,null,322]
[1817,"Misty Mountain Top (lrg dif)",null,null,1988]
[1818,"Jewels and Fools",null,null,1486]
[1819,"Jew's House 4",null,null,177]
[1820,"Bridge It - www.dgsys.com/~babak",null,null,284]
[1821,"Jews House 2",null,null,237]
[1822,"32 (96:96) W/4/LW/1093 by Extract 0",null,null,808]
[1823,"JFC (2): Humpher",null,null,1609]
[1824,"JFC (2): Humper",null,null,120]
[1825,"JFK1",null,null,1296]
[1826,"JFK2 2 Player vinter",null,null,1581]
[1827,"jfk Narvik Fjords 2/4 pl",null,null,361]
[1828,"JFK River runs wild 2 pl 96x96",null,null,241]
[1829,"Misty Mountain Top - Dist. by Madne",null,null,1734]
[1830,"jfk ruby ridge 2/4 pl 96x96",null,null,1220]
[1831,"Bridge it (Med)",null,null,1253]
[1832,"JFK Witwaserrand 2/6 pl",null,null,1674]
[1833,"Judgement Day: Defiant",null,null,2027]
[1834,"Just a LIttle bit (c)S",null,null,1629]
[1835,"33 (126:64) W/2/LW/559 by Extract 0",null,null,780]
[1836,"Just a plain old GOOD map.",null,null,849]
[1837,"Just Built Fast",null,null,242]
[1838,"Just messing around",null,null,684]
[1839,"K)times turn (Mega)",null,null,13]
[1840,"Kansas City 1999 (Reeder)",null,null,1502]
[1841,"Lakefront Clash: Old-Ironside",null,null,2093]
[1842,"01b (96:96) W/2/L/795 by Extract 02",null,null,995]
[1843,"41 (96:96) T/4/LW/795 by Extract 2/",null,null,1845]
[1844,"Kaperz1",null,null,1942]
[1845,"KAPERZ1 (MEDIUM) (4 PLAYERS)",null,null,1621]
[1846,"KEEPS AND CASTLES (LG)",null,null,1348]
[1847,"Killer (Lg)",null,null,2065]
[1848,"Killer - www.dgsys.com/~babak",null,null,1920]
[1849,"34 (96:96) T/4/LW/1602 by Extract 0",null,null,443]
[1850,"Kill Zone",null,null,1946]
[1851,"Kill Zone",null,null,1696]
[1852,"BATTLE CANYONS (4 PLAYERS) (RAMP2.0",null,null,965]
[1853,"BRIDGES 2 VICTORY (LARGE) (2 PLAYER",null,null,819]
[1854,"Kilrah (Lg)",null,null,1193]
[1855,"Misty Mountain Top (lrg dif)",null,null,1458]
[1856,"Klamarth 1 - Distributed by Madness",null,null,1173]
[1857,"Klamarth 1 - www.dgsys.com/~babak",null,null,681]
[1858,"KLARMUTH (4 PLAYERS) (RAMP2.0)",null,null,1894]
[1859,"KLARMUTH (MEDIUM) (4 PLAYERS)",null,null,555]
[1860,"18) Crossroads (96x96)",null,null,1327]
[1861,"34)A Lost World (64x64)",null,null,456]
[1862,"35)2 on 2 (64x64)",null,null,1886]
[1863,"36)Hyper Coastlands (64x64)",null,null,1176]
[1864,"map1",null,null,2010]
[1865,"11) The Promise Land (96x96)",null,null,400]
[1866,"37)Air Wars (96x96)",null,null,1975]
[1867,"Misty Mt. Top - www.dgsys.com/~baba",null,null,1729]
[1868,"38)Crush it - the Duel!!! (20x16)",null,null,644]
[1869,"39)Christmas Islands (96x96)",null,null,1012]
[1870,"4) Nuke Death 007 (96x96)",null,null,2061]
[1871,"40)Fields of Battle (96x96)",null,null,1122]
[1872,"41)The Great Wall of China (96x96)",null,null,1809]
[1873,"19) MegaMongo Island (96x96)",null,null,379]
[1874,"42)River Crossroads (96x96)",null,null,1240]
[1875,"Bridges Over Troubled Waters",null,null,1766]
[1876,"43)Naval Battles at Atlantic (96x96",null,null,1742]
[1877,"44)Country Wars (64x126)",null,null,478]
[1878,"45)Blind Destruction (96x96)",null,null,1216]
[1879,"mitt",null,null,332]
[1880,"12) Battle for Oceanic (64x126)",null,null,89]
[1881,"46)The Beast (96x96)",null,null,1408]
[1882,"47)Philadelphia (96x96)",null,null,1364]
[1883,"48)Face off (96x96)",null,null,130]
[1884,"49)Treachery & Strategy (126x64)",null,null,664]
[1885,"5) Battle Central (96x96)",null,null,549]
[1886,"Bridge the Gap",null,null,1182]
[1887,"2) The Final Conquest (96x96)",null,null,1063]
[1888,"50)Tiberman 5 (96x96)",null,null,975]
[1889,"6) This Means War!!! (96x96)",null,null,1893]
[1890,"7) If U can't swim - U die!!! (96x9",null,null,2062]
[1891,"MixedTerrain",null,null,1684]
[1892,"8) The Battle for Artic (126x64)",null,null,548]
[1893,"9) The fight for freedom (96x96)",null,null,1868]
[1894,"13) Real Island Wars 2 (126x64)",null,null,221]
[1895,"aaron map archertype",null,null,1143]
[1896,"aaron map",null,null,752]
[1897,"Bridgeville - www.dgsys.com/~babak",null,null,864]
[1898,"aaron map archertype2",null,null,1934]
[1899,"Aarontype",null,null,1103]
[1900,"20) Paradise (126x64)",null,null,336]
[1901,"aarontype Cpu#2 Low $",null,null,435]
[1902,"aarontype CPU#2",null,null,733]
[1903,"Mo Money",null,null,1051]
[1904,"Alaska",null,null,827]
[1905,"ArcherMap2",null,null,1301]
[1906,"ArcherMap",null,null,69]
[1907,"archermap4 cpu#2",null,null,1179]
[1908,"BRIDGING (PLAYERS 6) (DJL-64X126)",null,null,46]
[1909,"14) Land of Many Isles (96x96)",null,null,1319]
[1910,"ArcherMap2 Air Attack",null,null,646]
[1911,"archermap2 small",null,null,1233]
[1912,"Arctic Circle",null,null,755]
[1913,"21) Cleanup (96x96)",null,null,1360]
[1914,"A Twisted Game of Chess",null,null,576]
[1915,"mo money",null,null,931]
[1916,"Bridge War",null,null,1561]
[1917,"Colony War MK  A Really Big No.",null,null,1826]
[1918,"D-Day Landings",null,null,339]
[1919,"Broken Arrow (MD)",null,null,306]
[1920,"Japan - Bordered and with Bridges",null,null,962]
[1921,"15) Skull Island (96x96)",null,null,1254]
[1922,"Land Battle aarontype",null,null,111]
[1923,"Land Battle",null,null,547]
[1924,"Land Battle aarontype Snow",null,null,1625]
[1925,"Mega Fort",null,null,80]
[1926,"22) Fortress (96x96)",null,null,2005]
[1927,"money",null,null,401]
[1928,"mippippi",null,null,1308]
[1929,"naval wars",null,null,1817]
[1930,"Brooklyn Bridge (Lg)",null,null,1582]
[1931,"North Africa MK2000 or sumfing i fi",null,null,677]
[1932,"North Africa MKIII - Without Water",null,null,810]
[1933,"16) Circle of Death (96x96)",null,null,1236]
[1934,"rollin12",null,null,295]
[1935,"Separate Isles MK II - Equality ver",null,null,32]
[1936,"17) Xtreme Maze (96x96)",null,null,1390]
[1937,"23) Vision of Marx (96x96)",null,null,914]
[1938,"24) Alf (96x96)",null,null,758]
[1939,"Moneyheaven",null,null,1517]
[1940,"Money Land v.3",null,null,2002]
[1941,"brunza's best (flag map)",null,null,620]
[1942,"Lakefront Clash: Ironside",null,null,1227]
[1943,"Money Land v.3",null,null,1656]
[1944,"42 (96:96) T/6/LW/1239 by Extract 0",null,null,1632]
[1945,"Money Time (Sm)",null,null,690]
[1946,"Money Valley - RC Map Pack v1.0",null,null,754]
[1947,"Money Winter Wonder Land (LG)",null,null,2]
[1948,"Money yard(Lg)",null,null,934]
[1949,"Moscow here we come Pt1 (8)",null,null,1541]
[1950,"35 (96:96) W/5/LW/662 by Extract 01",null,null,1599]
[1951,"BRYAN",null,null,1821]
[1952,"LAKE MICHIGAN (4 PLAYERS) (RAMP2.0)",null,null,439]
[1953,"Moscow here we come Pt1 (8)",null,null,1283]
[1954,"Mother_Load(2)",null,null,1292]
[1955,"43 (96:96) T/7/LW/1352 by Extract 0",null,null,1501]
[1956,"Mother_Load(2)",null,null,679]
[1957,"Mother Lode 2 - www.dgsys.com/~baba",null,null,494]
[1958,"Mother Lode R.A. (By DeZire)",null,null,1545]
[1959,"Mount Crimson",null,null,1267]
[1960,"MOUNT DOOM (MEDIUM) (8 PLAYERS)",null,null,596]
[1961,"Mount Doom (The Crystal Feud)",null,null,770]
[1962,"$$4Corners (Lg-GSB)",null,null,205]
[1963,"aaron map archertype2",null,null,1099]
[1964,"V3 twoplayer",null,null,1910]
[1965,"War For Money www.redalertmaps.cjb.",null,null,10]
[1966,"22) Fortress (96x96)",null,null,2089]
[1967,"Water World2",null,null,1131]
[1968,"wieserl",null,null,955]
[1969,"Japan - Bordered and with Bridges",null,null,128]
[1970,"winkel",null,null,1825]
[1971,"Without Mercy (Med 4 Players)",null,null,167]
[1972,"X Terrain By www.redalertmaps.cjb.n",null,null,845]
[1973,"Zig Zag",null,null,1491]
[1974,"Aarontype",null,null,2079]
[1975,"23) Vision of Marx (96x96)",null,null,757]
[1976,"Zulu's at Isanduwana! (Lg)",null,null,487]
[1977,"24) Alf (96x96)",null,null,22]
[1978,"25) Ocean Inlet (96x96)",null,null,586]
[1979,"1) Island of Doom (126x126)",null,null,987]
[1980,"26) Dragonsholme Isle (64x64)",null,null,1157]
[1981,"Lake War (Lg)",null,null,107]
[1982,"27) Naval Assault (96x96)",null,null,1838]
[1983,"28) Area 51 (64x64)",null,null,1238]
[1984,"29) A German Wargame (96x96)",null,null,1196]
[1985,"aarontype Cpu#2 Low $",null,null,1031]
[1986,"3) Super Red Alert (96x96)",null,null,1356]
[1987,"30) Invasion (64x126)",null,null,1678]
[1988,"31) The Lost Island (96x96)",null,null,451]
[1989,"33)Greater Lakes (96x96)",null,null,739]
[1990,"34)A Lost World (64x64)",null,null,376]
[1991,"35)2 on 2 (64x64)",null,null,862]
[1992,"10) Battle Zone (96x96)",null,null,251]
[1993,"Land Battle aarontype",null,null,132]
[1994,"36)Hyper Coastlands (64x64)",null,null,1638]
[1995,"37)Air Wars (96x96)",null,null,597]
[1996,"18) Crossroads (96x96)",null,null,475]
[1997,"38)Crush it - the Duel!!! (20x16)",null,null,1341]
[1998,"39)Christmas Islands (96x96)",null,null,2033]
[1999,"4) Nuke Death 007 (96x96)",null,null,1849]
[2000,"40)Fields of Battle (96x96)",null,null,747]
[2001,"41)The Great Wall of China (96x96)",null,null,24]
[2002,"42)River Crossroads (96x96)",null,null,894]
[2003,"43)Naval Battles at Atlantic (96x96",null,null,705]
[2004,"44)Country Wars (64x126)",null,null,144]
[2005,"Land Battle",null,null,186]
[2006,"11) The Promise Land (96x96)",null,null,72]
[2007,"aarontype CPU#2",null,null,695]
[2008,"45)Blind Destruction (96x96)",null,null,1106]
[2009,"46)The Beast (96x96)",null,null,1634]
[2010,"47)Philadelphia (96x96)",null,null,1519]
[2011,"48)Face off (96x96)",null,null,1516]
[2012,"49)Treachery & Strategy (126x64)",null,null,964]
[2013,"4-ports",null,null,113]
[2014,"5) Battle Central (96x96)",null,null,1333]
[2015,"50)Tiberman 5 (96x96)",null,null,1661]
[2016,"6) This Means War!!! (96x96)",null,null,1445]
[2017,"Abandoned Battlefield",null,null,145]
[2018,"13) Real Island Wars 2 (126x64)",null,null,1936]
[2019,"A Bridge Too Far.(large)",null,null,1093]
[2020,"Act Of Aggression (Lg)",null,null,1221]
[2021,"African Storm (Lg)",null,null,1837]
[2022,"Land Battle aarontype Snow",null,null,1760]
[2023,"Air Attack",null,null,1785]
[2024,"A Lake Divided",null,null,292]
[2025,"Alaska",null,null,2013]
[2026,"A Little Island (Sm)",null,null,1410]
[2027,"Let The War Begin (snow) (Lg) 8 Pla",null,null,1351]
[2028,"Animal Instinct",null,null,18]
[2029,"An Unlucky Lake (Large 4 Player)",null,null,307]
[2030,"14) Land of Many Isles (96x96)",null,null,340]
[2031,"ArcherMap2",null,null,274]
[2032,"ArcherMap",null,null,731]
[2033,"7) If U can't swim - U die!!! (96x9",null,null,385]
[2034,"archermap4 cpu#2",null,null,1926]
[2035,"ArcherMap2 Air Attack",null,null,846]
[2036,"archermap2 small",null,null,434]
[2037,"Mega Fort",null,null,1812]
[2038,"Arctic Circle",null,null,1252]
[2039,"A river divides us... (Med)",null,null,1912]
[2040,"A River Runs Thru It",null,null,1121]
[2041,"Around the Bend",null,null,668]
[2042,"15) Skull Island (96x96)",null,null,499]
[2043,"A Twisted Game of Chess",null,null,925]
[2044,"12) Battle for Oceanic (64x126)",null,null,1915]
[2045,"BattleFieldExtreme",null,null,720]
[2046,"BEE 1 vs 1 no.3 sweat",null,null,2055]
[2047,"Beyond Destruction",null,null,1774]
[2048,"mippippi",null,null,1901]
[2049,"Big Isle...Big Reward",null,null,483]
[2050,"Black Forest",null,null,1472]
[2051,"Bridge War",null,null,433]
[2052,"Central Conflict II (Lg) 6 Players",null,null,1508]
[2053,"16) Circle of Death (96x96)",null,null,455]
[2054,"Colony War MK  A Really Big No.",null,null,2087]
[2055,"8) The Battle for Artic (126x64)",null,null,105]
[2056,"Crossed Fire www.redalertmaps.cjb.n",null,null,1745]
[2057,"D-Day Landings",null,null,1751]
[2058,"Der Wahn",null,null,204]
[2059,"Echo Quadrant (The Apocolypse)",null,null,1210]
[2060,"Money Land",null,null,38]
[2061,"Facu (Lg)",null,null,1072]
[2062,"Five islands",null,null,486]
[2063,"Freeze Extreme www.redalertmaps.cjb",null,null,1126]
[2064,"naval wars",null,null,725]
[2065,"Netz1",null,null,2058]
[2066,"9) The fight for freedom (96x96)",null,null,1677]
[2067,"North Africa MK2000 or sumfing i fi",null,null,581]
[2068,"17) Xtreme Maze (96x96)",null,null,1917]
[2069,"19) MegaMongo Island (96x96)",null,null,1685]
[2070,"North Africa MKIII - Without Water",null,null,1120]
[2071,"NSC  Niklas",null,null,1957]
[2072,"Okanagan Lake",null,null,1543]
[2073,"On Thin Ice (Lg 6 Players)",null,null,1719]
[2074,"Peninsula of death (Med)",null,null,323]
[2075,"Nightmare on Islestreet (Lg)",null,null,1557]
[2076,"Red Zone By www.redalertmaps.cjb.ne",null,null,502]
[2077,"a 3 country war (Lg)",null,null,1709]
[2078,"Ridge Fire",null,null,959]
[2079,"2) The Final Conquest (96x96)",null,null,163]
[2080,"Fresh Tracks (Lg) 8 Players",null,null,1465]
[2081,"River Beta (Lg) 6 Players",null,null,1884]
[2082,"River Extreme (Large 2, 4 Player)",null,null,2020]
[2083,"rollin12",null,null,1043]
[2084,"Ruhm & Ehre (8)",null,null,561]
[2085,"Russia...Mother Russia (Lg)",null,null,2064]
[2086,"Separate Isles MK II - Equality ver",null,null,1908]
[2087,"sl: arena of death",null,null,341]
[2088,"aaron map archertype",null,null,1345]
[2089,"sl: circle sea",null,null,207]
[2090,"20) Paradise (126x64)",null,null,1282]
[2091,"sl: connect the dots",null,null,309]
[2092,"Genocide (Lg) by Daemoc & Sinioth",null,null,1658]
[2093,"sl: equal opportunity",null,null,453]
[2094,"sl: featureless",null,null,136]
[2095,"sl: pondhopping",null,null,1789]
[2096,"sl: quadrants",null,null,895]
[2097,"sl: snow maze",null,null,1336]
[2098,"Stas Map 01 (LG)",null,null,1444]
[2099,"aaron map",null,null,440]
[2100,"SuezCannal co-op",null,null,1433]
[2101,"Sunbeam (4)",null,null,1214]
[2102,"Super Ore Acres (Large 4 Player)",null,null,1024]
[2103,"21) Cleanup (96x96)",null,null,134]
[2104,"hjk2",null,null,669]
[2105,"Test Match for Denham Isl (Lg)",null,null,1694]
[2106,"The Front Line by Borrish (lg)",null,null,761]
[2107,"Trapped 2 (Sm) 3 Players",null,null,2099]
[2108,"Twins Islands (Med)",null,null,1525]
[2109,"V3-Rashowdown"]

{"sheet":"Kartenauswahl AoE III","index":28,"n_rows":357,"n_cols":8,"rows_kept":357,"cut":false,"hidden":false,"merged":[]}
["Kartenliste und Auswahl",null,null,null,null,"Kartenauswahl"]
[null,"Karte"]
["AoE III"]
[1,"Zufall"]
[2,"Zufall",null,null,{"$f":"+_xlfn.SORTBY(_xlfn.SEQUENCE(COUNTIF(B4:B8,\"*\")),_xlfn.RANDARRAY(COUNTIF(B4:B8,\"*\")))","v":4},null,null,"Nächste Karte (STRG-T)"]
[3,"Zufall",null,null,5]
[4,"Zufall",null,null,1]
[5,"Zufall",null,null,3]
[6,null,null,null,2,null,null,{"$f":"+VLOOKUP(E5,$A$4:$B$8,2)","v":"Zufall"}]
[7]
[8]
[9]
[10]
[11]
[12]
[13]
[14]
[15]
[16]
[17]
[18]
[19]
[20]
[21]
[22]
[23]
[24]
[25]
[26]
[27]
[28]
[29]
[30]
[31]
[32]
[33]
[34]
[35]
[36]
[37]
[38]
[39]
[40]
[41]
[42]
[43]
[44]
[45]
[46]
[47]
[48]
[49]
[50]
[51]
[52]
[53]
[54]
[55]
[56]
[57]
[58]
[59]
[60]
[61]
[62]
[63]
[64]
[65]
[66]
[67]
[68]
[69]
[70]
[71]
[72]
[73]
[74]
[75]
[76]
[77]
[78]
[79]
[80]
[81]
[82]
[83]
[84]
[85]
[86]
[87]
[88]
[89]
[90]
[91]
[92]
[93]
[94]
[95]
[96]
[97]
[98]
[99]
[100]
[101]
[102]
[103]
[104]
[105]
[106]
[107]
[108]
[109]
[110]
[111]
[112]
[113]
[114]
[115]
[116]
[117]
[118]
[119]
[120]
[121]
[122]
[123]
[124]
[125]
[126]
[127]
[128]
[129]
[130]
[131]
[132]
[133]
[134]
[135]
[136]
[137]
[138]
[139]
[140]
[141]
[142]
[143]
[144]
[145]
[146]
[147]
[148]
[149]
[150]
[151]
[152]
[153]
[155]
[156]
[157]
[158]
[159]
[160]
[161]
[162]
[163]
[164]
[165]
[166]
[167]
[168]
[169]
[170]
[171]
[172]
[173]
[174]
[175]
[176]
[177]
[178]
[179]
[180]
[181]
[182]
[183]
[184]
[185]
[186]
[187]
[188]
[189]
[190]
[191]
[192]
[193]
[194]
[195]
[196]
[197]
[198]
[199]
[200]
[201]
[202]
[203]
[204]
[205]
[206]
[207]
[208]
[209]
[210]
[211]
[212]
[213]
[214]
[215]
[216]
[217]
[218]
[219]
[220]
[221]
[222]
[223]
[224]
[225]
[226]
[227]
[228]
[229]
[230]
[231]
[232]
[233]
[234]
[235]
[236]
[237]
[238]
[239]
[240]
[241]
[242]
[243]
[244]
[245]
[246]
[247]
[248]
[249]
[250]
[251]
[252]
[253]
[254]
[255]
[256]
[257]
[258]
[259]
[260]
[261]
[262]
[263]
[264]
[265]
[266]
[267]
[268]
[269]
[270]
[271]
[272]
[273]
[274]
[275]
[276]
[277]
[278]
[279]
[280]
[281]
[282]
[283]
[284]
[285]
[286]
[287]
[288]
[289]
[290]
[291]
[292]
[293]
[294]
[295]
[296]
[297]
[298]
[299]
[300]
[301]
[302]
[303]
[304]
[305]
[306]
[307]
[308]
[309]
[310]
[311]
[312]
[313]
[314]
[315]
[316]
[317]
[318]
[319]
[320]
[321]
[322]
[323]
[324]
[325]
[326]
[327]
[328]
[329]
[330]
[331]
[332]
[333]
[334]
[335]
[336]
[337]
[338]
[339]
[340]
[341]
[342]
[343]
[344]
[345]
[346]
[347]
[348]
[349]
[350]
[351]
[352]
[353]
[354]
[355]